{"text_format":"2","workbook":"xlsx","n_sheets":17,"sheets":["To Do","Legenda","Modellering Combinaties","Invoerblad","MKI Resultaten","Hotspot","Milieuprofielen","MP per Liter","MP per GJ","Figuren Werken Zoet","Figuren Zout Resultaten","Record Selection","PM_NOx","Liters","Modellering","RWS Dataset V1","Weighting Set"],"not_rendered":{"charts":18,"images":1,"macros":0,"external_links":1,"defined_names":2,"comments":2,"pivot_tables":0},"unopened":[],"bounds":{"document_bytes":16777216,"sheet_cells":100000,"run_cost":"one","rows_first":2000,"rows_last":500,"rows_between":2000,"halvings":0,"cell_chars":16384,"cell_head_chars":4096},"cells_cut":0,"cells_raw":0,"read":"whole","date_system":"1900"}

{"sheet":"To Do","index":0,"n_rows":63,"n_cols":6,"rows_kept":63,"cut":false,"hidden":true,"merged":[]}
[]
[]
[null,"#","Onderdeel","Uitleg","Status","Comments"]
[null,1,"Kapitaalgoed Motor Selecteren","Het lijkt er nu op dat er onderscheid gemaakt gaat worden tussen type brandstocellen op het gebied van kapitaalgoederen. Dit zit nu niet slim in de lookup. Hier dus nog naar kijken.","Gesloten"]
[null,2,"NOx & PM Emissies","Ik heb nu een lookup gebouwd voor NOx en PM, maar deze halen alleen de gr/kWh waarde naar boven. Dit moet nog worden doorberekend. ","Gesloten"]
[null,3,"Calculation Setup V2","Calculation Setup Inladen & Invullen (overschrijven waardes)","Gesloten"]
[null,4,"Referenties Selecteren V2","Opsturen Calc Setup Stijn (voor Check)","Gesloten"]
[null,5,"NOx & PM Emissie Tabellen","Stijn Check op Combinaties (o.b.v. PM/NOx)","Gesloten"]
[null,6,"Brandstofcel Waterstof","Brandstofcel Waterstof (toepassen) voor alle brandstofcellen.","Gesloten"]
[null,7,"AdBlue Tabel","Adblue Tabel Opsturen","Gesloten"]
[null,8,"AdBlue Toevoegen","Ad Blue Mee Modelleren","Gesloten"]
[null,9,"PM & NOx tabellen opsturen","PM & NOx tabellen Opsturen","Gesloten"]
[null,10,"Arbeid Tabel","Arbeid Tabel Check (kloppen deze waardes) - Combinaties - Schaling Energiedragers","Gesloten"]
[null,11,"Motor / Accu / Brandsstofcel","Type Motor (Electromotor/Brandstofcel) moet aanvullen en niet of of","Gesloten"]
[null,12,"Milieuprofielen Opmaken","Losse Results (Milieuprofielen)","Gesloten"]
[null,13,"Dashboard Results met Grafieken","Dashboard Result Overzicht met Grafieken","Gesloten"]
[null,14,"Omrekening per MJ","Omrekening per MJ","Gesloten"]
[null,15,"Diesel Elektrisch Combinatie","Combinatie Toevoegen","In Behandeling"]
[null,16,"Groene Mix SMR Toevoegen (Waterstof)","Nieuwe Combinatie van Stijn","Gesloten"]
[null,17,"Hotspot","Uitdraaien van Analyse voor Stijn. ","Gesloten"]
[null,18,"Calculation Setup V3","Calculation Setup Inladen & Invullen (overschrijven waardes)","Gesloten"]
[null,19,"Referenties Selecteren V3","Opsturen Calc Setup Stijn (voor Check)","Gesloten"]
[null,20,"Electra/Waterstof Kapitaalgoederen Etc.","Bespreken met Stijn na afronden inventarisatie","Gesloten"]
[null,21,"Tabellen PM, NOx & AdBlue Stijn","Stijn gaat mij updates geven","Gesloten"]
[null,22,"Blends / Projectberekening","Klanten kunnen nu van verschillende brandstoftypes een milieuprofiel uitdraaien. Daarmee kunne ze ook hun eigen blends uitrekenen. Wil de klant echt een blend maken (bijv. 40% Diesel en 60% MGO, of 200 liter Diesel en 300 liter MGO) dan zullen ze dit nu handmatig moeten doen buiten de tool. De reden hiervoor, is, omdat deze functie inbouwen een projectberekeningsfunctie omvat. Dit is niet in scope, maar kan nog in scope komen. ","In Behandeling"]
[null,23,"Biogeen Methanol Emissies","Er moeten de mogenlijkheid komen om te onderscheiden tussen methanol en bio-methanol in de context van emissies","Gesloten"]
[null,24,"Nieuw Wind Mix Referentie Toevoegen",null,"Gesloten"]
[null,25,"AdBlue + Opslag AdBlue",null,"Gesloten"]
[null,26,"Waterstof (Zijn alle Opties Gedekt)",null,"Gesloten"]
[null,27,"Elec Wind Mix Selectie",null,"Gesloten"]
[null,28,"PM & NOx Lookup","Bio-Methanol toevoegen. Daarbij moeten tabellen worden geupdate. ","Gesloten"]
[null,29,"Emissielimieten Checken","Bij invoer kaarten ff nalopen of er geen gekke dingen gebeuren, zoals brandstoffen die geen PM of NOx hebben (=0)","Gesloten"]
[null,30,"Omrekening naar Liter (en kWh)","Nog omrekening voor de ON'ers","Gesloten"]
[null,31,"Scope Controle (Tabel 1 Rapport Stijn)",null,"Gesloten"]
[null,32,"GTL Verwijderen als TIER optie",null,"Gesloten"]
[null,33,"Stage V IWP/IWA & NRE Onderscheid in Record Select",null,"Gesloten"]
[null,34,"Verschil Waterstof Performance ","Is er een verschil tussen geleverde arbeid uit vloeibare of gasvormige waterstof wat ik nu niet in de tool heb zitten?","Gesloten"]
[null,35,"Resultaten Updaten (met Cap. Goods & AdBlue etc.)",null,"Gesloten"]
[null,36,"CCR 0 Verder Fixen",null,"Gesloten"]
[null,37,"Uitleg TIER ","Beter uitleggen dat standaard wordt uitgegaan van verbarndingmotor (dus bij TIER en CCR en Stage) ","Gesloten"]
[null,38,"AdBlue. Updaten Waarden","In Excel Combinaties Baggeren en Transport moet AdBlue worden aangepast. Stijn heeft update gedaan moet ook in tool.","Gesloten"]
[null,39,"AdBlue Klassen","AdBlue is alleen voor Stage V en Tier III van toepassing","Gesloten"]
[null,40,"Ammoniak SMR",null,"In Behandeling"]
[null,41,"Characterisation EN15804+A1","Deze moeten we nog uitdraaien","Gesloten"]
[null,42,"Diesel naam (ULSD)","Naam energiedrager naar Diesel (ULSD)","Gesloten"]
[null,43,"Hotspot","Momenteel alleen voor set;A2, moet dit ook doen voor set A1.","Gesloten"]
[null,44,"Tabblad met resultaten (dom)","stijn levert figuren aan, deze moeten we mooi weergeven (Zoet en Zout). De totalenper F.E. en de MKI poer GJ (MKIA1 en MKIA2)","Gesloten"]
[null,45,"Versleutelen en delen met de klant","Delen met T.C.","In Behandeling"]
[null,46,"E-Methanol (Biogeen)","Toevoegen van E-methanol o.b.v. biogene CO2","Gesloten"]
[null,47,"Functional Unit / Functionele Eenheid","Er is inconsistentie gevonden in de tool","Gesloten"]
[null,48,"NOx en PM in g/kWh","Dit aanpassen in invoer","Gesloten"]
[null,49,"Bug in Hotspot","Milieuprofiel 5 lijkt de waarden van 1 te geven voor brandstofcel","Gesloten"]
[null,50,"Toevoegen E-Methanols",null,"Gesloten"]
[null,51,"Bio-Methanol naamgeving",null,"Gesloten"]
[null,52,"Resultaten Updaten Zout (Stijn)",null,"Gesloten"]
[null,53,"Tier I & II -> Tier I / II","Tier II naam aanpassen en Tier I kan er uit. ","Gesloten"]
[null,54,"ULEV Toevoegen","Alle schepen kunnen ULEV hebben en emissielimieten van Stage V IWA zijn van toepassing. Zijn er aantal energiedragers zoals Ammoniak. Emissielimieten even uit het rapport halen.","Gesloten"]
[null,55,"CNG/LNG zit geen verschil in Tier II, III en ULEV (geld ook voor Bio-LNG en Bio-CNG)","De vraag is hier of de tool het onderscheid blijft of clustert. ","Gesloten"]
[null,56,"E-Methanol & Seynthetische Ammoniak","Allebei updaten met H2 wind mix in naam. ","Gesloten"]
[null,57,null,null,"Open"]
[null,58,null,null,"Open"]
[null,59,null,null,"Open"]
[null,60,null,null,"Open"]

{"sheet":"Legenda","index":1,"n_rows":17,"n_cols":4,"rows_kept":17,"cut":false,"hidden":false,"merged":[[11,3,11,7],[12,3,12,7],[13,3,13,7],[16,3,16,7],[2,2,2,7],[3,2,3,7],[6,2,6,7],[7,2,7,7],[8,3,8,7],[9,3,9,7],[10,3,10,7],[14,3,14,7],[15,3,15,7]]}
[]
[]
[null,null,"EcoReview Scheepsbrandstoffen Rekentool"]
[null,null,"Welkom bij de EcoReview Scheepsbrandstoffen Rekentool Versie 12.0 ontwikkeld door Roel van Oosterhout en Stijn Mulder van EcoReview NL B.V. Deze tool biedt de mogenlijkheid om milieuprofielen te genereren van verschillende scheepsbrandstof combinaties voor werkschepen (baggeren). Daarnaast kunnen de resultaten uit deze tool worden gebruikt voor het verkrijgen van inzicht in de oorsprong van milieu-impact. Alle achterliggende rekenstappen, datapunten en modellering van de basisprocessen worden beschreven in de bijbehorende cat.3. LCA rapportage.\n\nToepassing\nDeze milieuprofielen kunnen vervolgens gebruikt worden om:\n- Energiedrager varianten te vergelijken t.b.v. inversteringsbeslissingen.\n- Milieuprofielen te generen t.b.v. het uitrekenen van een project totaal (blends kunnen meegenomen worden door de mileuprofielen te middelen, dit is niet mogelijk in deze excel tool).\n- Diverse motoren op één schip te modelleren welke allen andere Nox en PM emissies hebben.\n\nDeze tool genereert milieu-impact data zowel voor impactcategorien uit EN15804+A1 als uit EN15804+A2. Ook voor beide sets wordt een MKI berekend.\nEN15804+A1: NMD 3.9 + EcoInvent 3.6 - ECI SBK Single Score \nEN15804+A2: NMD 3.9 + EcoInvent 3.9.1 - EF 3.1 Weighting Set\n\nDe kern van de tool is het werkblad \"Invoerblad\". Op dit werkblad wordt alle invoer gedaan dat in andere paginas lijd tot resultaten. \n\nTer bevordering van de navigatie van deze tool is onderstaand een legenda weergegeven welke de verschillende werkbladen toelicht. "]
[]
[]
[null,null,"Legenda"]
[null,null,"Onderstaand zijn de verschillende werkbladen van deze tool toegelicht, welke onderaan het document weergegeven worden. "]
[null,null,"Onderdeel","Omschrijving"]
[null,null,"Invoerblad","Het blad waar alle invoer geleverd wordt voor het genereren van milieuprofielen. Volg deze pagina stap voor stap om resultaten voor de tool te genereren."]
[null,null,"MKI Resultaten","Weergeeft de milieukosten indicator (MKI) per levencyclusmodules A1-A3 + A4 + B1. Geeft inzicht in zwaartepunten en levert directe feedback aan de voorbladpagina (rij 1-20)."]
[null,null,"Hotspot","Weergeeft in detaill welke onderdelen bijdragen aan de totale MKI. Deze pagina is hoofdzakelijk bedoeld voor het leveren van inzichten."]
[null,null,"Milieuprofielen","In dit onderdeel worden de volledige milieuprofielen weergegeven per ton brandstof en per kWh elektriciteit."]
[null,null,"MP per Liter","In dit onderdeel worden de volledige milieuprofielen weergegeven per liter brandstof en per kWh elektriciteit."]
[null,null,"MP per GJ","In dit onderdeel worden de volledige milieuprofielen weergegeven per GJ geleverde energie. "]
[null,null,"Figuren Werken Zoet","In dit onderdeel worden de resultaten van alle combinaties in staafdiagrammen weergegeven, voor MKI:A1 en MKI:A2 per functionele eenheid en per GJ-geleverde arbeid."]
[null,null,"Figuren Werken Zout","In dit onderdeel worden de resultaten van alle combinaties in figuren weergegeven, voor MKI:A1 en MKI:A2 per functionele eenheid en per GJ-geleverde arbeid."]

{"sheet":"Modellering Combinaties","index":2,"n_rows":56,"n_cols":18,"rows_kept":56,"cut":false,"hidden":true,"merged":[[2,2,2,17],[1,2,1,17],[44,5,44,14],[48,5,48,13],[37,5,37,10],[35,5,35,10],[37,13,37,14],[35,13,35,14],[31,2,33,2],[31,3,33,3],[31,4,32,4],[31,5,31,8],[31,9,31,12],[31,13,31,17],[8,2,21,2],[8,11,21,11],[52,17,53,17],[34,2,47,2],[34,11,43,11],[34,12,43,12],[34,15,47,17],[48,2,51,2],[48,14,53,14],[52,2,53,2],[52,3,53,3],[52,4,53,4],[52,5,53,5],[52,6,53,6],[52,7,53,12],[52,13,53,13],[52,15,53,15],[52,16,53,16],[8,12,21,12],[8,15,21,17],[22,2,25,2],[22,14,25,14],[5,2,7,2],[5,3,7,3],[5,4,6,4],[5,5,5,8],[5,9,5,12],[5,13,5,17]]}
[]
[null,null,"Modellering"]
[null,null,"Onderstaande tabellen zijn overgenomen uit de bijbehorende cat.3. LCA rapportage. Deze tabellen geven weer hoe alle combinaties gemodeleerd zijn. De kolommen geven de diverse basisprocessen weer, de modellering van deze basisprocessen staat tevens beschreven in het bijbehorende cat.3 .rapport. "]
[]
[null,null,"Tabel 55: Hoeveelheid basisprocessen per combinatie, werken zout."]
[null,null,"Aandrijving","Energiedrager",null,"Energiedragers",null,null,null,"Gebruiksprofiel",null,null,null,"Kapitaalgoederen"]
[{"$nulls":5},"Energiedager (A1-A3)","Energiedager (A4)","AdBlue (A1-A3)1,2","Adblue (A4) 1,2","Verbrandingsemissies","Emissies AdBlue1,2","PM","NOx","Casco Schip","Verbrandingsmotor","Elektrische aandrijving","Accu","Brandstofcel"]
[{"$nulls":4},"Eenheid","ton","ton","kg","kg","ton","kg","Kg","kg","ton","ton","p","kWh","kW"]
[null,null,"Verbrandingsmotor","Diesel","ton",1,1,66.599999999999994,66.599999999999994,1,66.599999999999994,"variabel TIER-klassen / ULEV","variabel TIER-klassen / ULEV",1.01,1.1299999999999999E-3,"N/A"]
[null,null,null,"HFO","ton",1,1,62.63,62.63,1,62.63,null,null,0.95,1.06E-3]
[null,null,null,"GTL","ton",1,1,68.040000000000006,68.040000000000006,1,68.040000000000006,null,null,1.03,1.15E-3]
[null,null,null,"MGO","ton",1,1,65.87,65.87,1,65.87,null,null,1,1.1100000000000001E-3]
[null,null,null,"LNG","ton",1,1,0,0,1,0,null,null,1.1499999999999999,1.2800000000000001E-3]
[null,null,null,"Bio-LNG","ton",1,1,0,0,1,0,null,null,1.1499999999999999,1.2800000000000001E-3]
[null,null,null,"CNG","ton",1,1,0,0,1,0,null,null,1.0900000000000001,1.2099999999999999E-3]
[null,null,null,"Bio-CNG","ton",1,1,0,0,1,0,null,null,1.0900000000000001,1.2099999999999999E-3]
[null,null,null,"HVO","ton",1,1,68.040000000000006,68.040000000000006,1,68.040000000000006,null,null,1.03,1.15E-3]
[null,null,null,"FAME","ton",1,1,57.52,57.52,1,57.52,null,null,0.87,9.7199999999999999E-4]
[null,null,null,"Ammoniak (3x)","ton",1,1,28.76,28.76,1,28.76,null,null,0.44,4.86E-4]
[null,null,null,"Waterstof (vloeibaar) (5x)","ton",1,1,185.56,185.56,1,185.56,null,null,2.82,3.14E-3]
[null,null,null,"Waterstof (gas) (5x)","ton",1,1,185.56,185.56,1,185.56,null,null,2.82,3.14E-3]
[null,null,null,"Methanol (3x)","ton",1,1,"30,77 / 2 = 15,4",15.39,1,15.39,null,null,0.47,5.1999999999999995E-4]
[null,null,"Brandstofcel","Ammoniak (2x)","ton",1,1,0,0,1,0,0,0,0.46,"N/A",4.57E-4,1.35,0.98]
[null,null,null,"Waterstof  Vloeibaar (5x)","ton",1,1,0,0,1,0,0,0,2.94,null,2.9499999999999999E-3,8.6999999999999993,6.33]
[null,null,null,"Waterstof  Gas (5x)","ton",1,1,0,0,1,0,0,0,2.94,null,2.9499999999999999E-3,8.6999999999999993,6.33]
[null,null,null,"Methanol (3x)","ton",1,1,0,0,1,0,0,0,0.49,null,4.8899999999999996E-4,1.44,1.05]
[]
[null,null,"1AdBlue is alleen relevant voor TIER III en ULEV motoren. Uitgerekend voor Diesel (Tabel 56) en geschaald naar overige energiedragers middels energie-inhoud. Voor Methanol gerekend met de helft aangezien hier minder AdBlue benodigd (2,5% i.p.v. 5%). "]
[null,null,"2 Voor LNG, bio-LNG, CNG en Bio-CNG is bij TIER III geen AdBlue nodig om de gerapporteerde NOx emissies te behalen. "]
[]
[null,null,"Tabel 58: Hoeveelheid basisprocessen per combinatie, werken zoet."]
[null,null,"Aandrijving","Energiedrager",null,"Energiedragers",null,null,null,"Gebruiksprofiel",null,null,null,"Kapitaalgoederen"]
[{"$nulls":5},"Energiedager (A1-A3)","Energiedager (A4)","AdBlue (A1-A3)*","Adblue (A4)*","Verbrandingsemissies","Emissies AdBlue*","PM","Nox","Casco Schip","Verbrandingsmotor","Elektrische aadnrijving","Accu","Brandstofcel"]
[{"$nulls":4},"Eenheid","ton","ton","kg","kg","ton","kg","kg","kg","ton","ton","p","kWh","kW"]
[null,null,"Verbrandingsmotor","Diesel","ton",1,1,66.650000000000006,66.650000000000006,1,66.599999999999994,"variabel CCR-klassen","variabel CCR-klassen",1,1.57E-3,"N/A"]
[null,null,null,"HFO","ton","N/A"]
[null,null,null,"GTL","ton",1,1,68.040000000000006,68.040000000000006,1,68.040000000000006,null,null,1.02,1.6100000000000001E-3]
[null,null,null,"MGO","ton","N/A"]
[null,null,null,"LNG","ton",1,1,75.77,75.77,1,75.77,null,null,1.1399999999999999,1.7899999999999999E-3]
[null,null,null,"Bio-LNG","ton",1,1,75.77,75.77,1,75.77,null,null,1.1399999999999999,1.7899999999999999E-3]
[null,null,null,"CNG","ton",1,1,71.59,71.59,1,71.59,null,null,1.07,1.6900000000000001E-3]
[null,null,null,"Bio-CNG","ton",1,1,71.59,71.59,1,71.59,null,null,1.07,1.6900000000000001E-3]
[null,null,null,"HVO","ton",1,1,68.040000000000006,68.040000000000006,1,68.040000000000006,null,null,1.02,1.6100000000000001E-3]
[null,null,null,"FAME","ton",1,1,57.52,57.52,1,57.52,null,null,0.86,1.3600000000000001E-3]
[null,null,null,"Ammoniak (3x)","ton","N/A"]
[null,null,null,"Waterstof (vloeibaar) (5x)","ton",1,1,185.56,185.56,1,185.56,0,0,2.78,4.3800000000000002E-3]
[null,null,null,"Waterstof (gas) (5x)","ton",1,1,185.56,185.56,1,185.56,0,0,2.78,4.3800000000000002E-3]
[null,null,null,"Methanol (3x)","ton",1,1,"30,77 / 2 = 15,4",15.4,1,15.4,0.08,0.06,0.46,7.27E-4]
[null,null,"Brandstofcel","Ammoniak (2x)","ton","N/A",{"$nulls":8},"N/A",7.1900000000000002E-4,1.35,0.98]
[null,null,null,"Waterstof  Vloeibaar (5x)","ton",1,1,0,0,1,0,0,0,3.27,null,4.64E-3,8.6999999999999993,6.33]
[null,null,null,"Waterstof  Gas (5x)","ton",1,1,0,0,1,0,0,0,3.27,null,4.64E-3,8.6999999999999993,6.33]
[null,null,null,"Methanol (3x)","ton",1,1,0,0,1,0,0,0,0.54,null,7.6900000000000004E-4,1.44,1.05]
[null,null,"Accu Elektrisch","Elektrisch","kWh (input)",1,1,"N/A",{"$nulls":5},1.6000000000000001E-4,null,2.2600000000000001E-7,5.0000000000000001E-4,"N/A"]
[]
[]
[null,null,"1AdBlue is alleen relevant voor Stage V motoren."]

{"sheet":"Invoerblad","index":3,"n_rows":78,"n_cols":8,"rows_kept":78,"cut":false,"hidden":false,"merged":[[75,2,75,7],[61,2,61,7],[62,2,62,7],[51,2,51,7],[52,2,52,7],[33,3,33,4],[34,3,34,4],[23,2,23,7],[24,2,24,7],[74,2,74,7],[27,2,27,4],[28,2,28,4],[29,3,29,4],[39,2,39,7],[40,2,40,7],[30,3,30,4],[31,3,31,4],[32,3,32,4],[27,6,34,7]]}
{"$rows_empty":23}
[null,null,"EcoReview Scheepsbrandstoffen Rekentool"]
[null,null,"Deze tool biedt de mogenlijk om milieuprofielen te genereren van verschillende scheepsbrandstof combinaties voor werkschepen (baggeren). Op deze pagina vind de invoer van verschillende milieuprofielen plaats. Het genereren van 1 tot 5 milieuprofielen kan worden gedaan door de stappen 1 t/m 5 op deze pagina door te lopen. \n\nToepassing\nDeze milieuprofielen kunnen vervolgens gebruikt worden om:\n- Energiedrager varianten te vergelijken t.b.v. inversteringsbeslissingen.\n- Milieuprofielen te generen t.b.v. het uitrekenen van een project totaal (blends kunnen meegenomen worden door de mileuprofielen te middelen, dit is niet mogelijk in deze excel tool).\n- Diverse motoren op één schip te modelleren welke allen andere NOx en PM emissies hebben.\n\nInvoer\nAlle lichtgrijze invoervelden, met uitzondering van beschrijvende teksten bij de verschillende onderdelen, zijn bedoeld voor de gebruiker van deze tool en dienen ingevuld te worden. Lichtgroene invoervelden weergeven relevante informatie o.b.v geleverde input. De input op deze pagina resulteert uiteindelijk in output in andere werkbladen. \n\nOp deze pagina kan real-time informatie van impact worden verkregen door het +/- icoon te selecteren in rij 21 (links weergegeven in het Excel venster). "]
[]
[]
[null,null,"1. Definitie Milieuprofiel",null,null,null,{"$error":"#VALUE!"}]
[null,null,"Geef in dit onderdeel relevantie informatie op. Onderdeel en 1.1 & 1.2 zijn noodzakelijk."]
[null,null,"Onderdeel","Definitie"]
[null,null,"1.1 Naam Schip","Voorbeeld: Boot 200 KN"]
[null,null,"1.2 Toepassingsgebied","Zeevaart"]
[null,null,"1.3 Verdieping op Toepassing","Voorbeeld: Vaart rond op de Noordzee voor baggeren zone KZ2."]
[null,null,"1.4 Meer Informatie"]
[null,null,"1.5 Definitie Volledig?",{"$f":"IF(COUNTIF(D31:D32,\"\")=0,\"JA\",\"NEE\")","v":"JA"}]
[]
[]
[]
[]
[null,null,"2. Definitie Scheepsmotoren & Brandstoffen"]
[null,null,"In dit onderdeel worden de verschillende milieuprofielen gedefineerd. Deze tool geeft de mogenlijkheid om 5 verschillende milieuprofielen te definieren. In deze tool zijn selecties afhankelijk van eerder gemaakte keuzes. Zo kan in dit onderdeel geen energiedrager worden gekozen tot dat het toepassingsgebied (zeevaart/binnenvaart) in het vorige onderdeel is gekozen. Om een volledig milieuprofiel te kunnen genereren met deze tool moeten alle onderdelen ingevuld worden (op volgorde). Indien dit niet gebeurt krijg je een foutmelding te zien in rood (onderaan in het onderdeel). De in te vullen onderdelen zijn:\n\n2.1 Naam Motor: Definieer hier de naam van het mileuprofiel \n2.2 Energiedrager: Geef hier de energiedrager op (brandstof of elektriciteit). Energiedragers kunnen worden geselecteerd d.m.v. het drop-down menu.\n2.3 Verdieping Energiedrager: Sommige energiedragers worden op verschillende manieren gewonnen (bijv. waterstof/elektriciteit/methanol). Het type winning heeft effect op milieu impact. Gelieve hier het juist type winning te selecteren. Indien enkel een algemeen profiel beschikbaar is dient deze geselecteerd te worden. Selectie kan worden gedaan d.m.v. het drop-down menu.\n2.4 Classificatie Motor: Geef hier de classificatie op. Voor verbrandingsmotoren zijn verschillende classificaties beschikbaar (dit zijn de TIER, CCR & Stage klassen). Voor brandstofcel en elektromotoren is slechts 1 classificatie beschikbaar. Deze zijn aangegeven met brandstofcel en elektromotor.\n2.5 Definitie Volledig: Dit onderdeel controleert of alle waarden ingevuld zijn. Zodra overal een groene \"Ja\" weergegeven wordt kunt U door naar het volgende onderdeel. "]
[null,null,"Onderdeel","Milieuprofiel 1","Milieuprofiel 2","Milieuprofiel 3","Milieuprofiel 4","Milieuprofiel 5"]
[null,null,"2.1 Naam Milieuprofiel","Milieuprofiel 1","Milieuprofiel 2","Milieuprofiel 3","Milieuprofiel 4","Milieuprofiel 5"]
[null,null,"2.2 Energiedrager","Diesel (ULSD)"]
[null,null,"2.3 Verdieping Energiedrager","Diesel, Algemeen"]
[null,null,"2.4 Classificatie Motor","ULEV (Stage V IWP/IWA)"]
[null,null,"2.5 Definitie Volledig?",{"$f":"_xlfn.IFS(COUNTBLANK(D43:D46)=0,\"JA\",COUNTBLANK(D43:D46)=4,\"\",COUNTBLANK(D43:D46)=1,\"NEE\",COUNTBLANK(D43:D46)=2,\"NEE\",COUNTBLANK(D43:D46)=3,\"NEE\")","v":"JA"},{"$f":"_xlfn.IFS(COUNTBLANK(E43:E46)=0,\"JA\",COUNTBLANK(E43:E46)=4,\"\",COUNTBLANK(E43:E46)=1,\"NEE\",COUNTBLANK(E43:E46)=2,\"NEE\",COUNTBLANK(E43:E46)=3,\"NEE\")","v":"NEE"},{"$f":"_xlfn.IFS(COUNTBLANK(F43:F46)=0,\"JA\",COUNTBLANK(F43:F46)=4,\"\",COUNTBLANK(F43:F46)=1,\"NEE\",COUNTBLANK(F43:F46)=2,\"NEE\",COUNTBLANK(F43:F46)=3,\"NEE\")","v":"NEE"},{"$f":"_xlfn.IFS(COUNTBLANK(G43:G46)=0,\"JA\",COUNTBLANK(G43:G46)=4,\"\",COUNTBLANK(G43:G46)=1,\"NEE\",COUNTBLANK(G43:G46)=2,\"NEE\",COUNTBLANK(G43:G46)=3,\"NEE\")","v":"NEE"},{"$f":"_xlfn.IFS(COUNTBLANK(H43:H46)=0,\"JA\",COUNTBLANK(H43:H46)=4,\"\",COUNTBLANK(H43:H46)=1,\"NEE\",COUNTBLANK(H43:H46)=2,\"NEE\",COUNTBLANK(H43:H46)=3,\"NEE\")","v":"NEE"}]
[]
[]
[]
[]
[null,null,"3. Informatie o.b.v. Definitie"]
[null,null,"De volgende data zal worden aangehouden aan de hand van de definitie in sectie 2."]
[null,null,"Onderdeel","Milieuprofiel 1","Milieuprofiel 2","Milieuprofiel 3","Milieuprofiel 4","Milieuprofiel 5"]
[null,null,"3.1 Functionele Eenheid",{"$f":"_xlfn.XLOOKUP(D$44,Emi_Short[Brandstof],Emi_Short[Unit],\"\",0)","v":"ton"},{"$f":"_xlfn.XLOOKUP(E$44,Emi_Short[Brandstof],Emi_Short[Unit],\"\",0)","v":""},{"$f":"_xlfn.XLOOKUP(F$44,Emi_Short[Brandstof],Emi_Short[Unit],\"\",0)","v":""},{"$f":"_xlfn.XLOOKUP(G$44,Emi_Short[Brandstof],Emi_Short[Unit],\"\",0)","v":""},{"$f":"_xlfn.XLOOKUP(H$44,Emi_Short[Brandstof],Emi_Short[Unit],\"\",0)","v":""}]
[null,null,"3.2 Volume (liter/ton)",{"$f":"_xlfn.XLOOKUP(D45,Lit_Conv_[[Brandstof]:[Brandstof]],Lit_Conv_[liter/ton],\"Not Found\",0)","v":1201.9230769230769},{"$f":"_xlfn.XLOOKUP(E45,Lit_Conv_[[Brandstof]:[Brandstof]],Lit_Conv_[liter/ton],\"Not Found\",0)","v":"Not Found"},{"$f":"_xlfn.XLOOKUP(F45,Lit_Conv_[[Brandstof]:[Brandstof]],Lit_Conv_[liter/ton],\"Not Found\",0)","v":"Not Found"},{"$f":"_xlfn.XLOOKUP(G45,Lit_Conv_[[Brandstof]:[Brandstof]],Lit_Conv_[liter/ton],\"Not Found\",0)","v":"Not Found"},{"$f":"_xlfn.XLOOKUP(H45,Lit_Conv_[[Brandstof]:[Brandstof]],Lit_Conv_[liter/ton],\"Not Found\",0)","v":"Not Found"}]
[null,null,"3.3 Geleverde Arbeid (MJ) per FE",{"$f":"IF($D$32=\"Binnenvaart\",(_xlfn.XLOOKUP(D$44&D$46,Emi_Short[Brandstof]&Emi_Short[MotCel2],Emi_Short[MJ Arbeid (Zoet)],\"Not Found\",0)),(_xlfn.XLOOKUP(D$44&D$46,Emi_Short[Brandstof]&Emi_Short[MotCel2],Emi_Short[MJ Arbeid (Zout)],\"\",0)))","v":19395},{"$f":"IF($D$32=\"Binnenvaart\",(_xlfn.XLOOKUP(E$44&E$46,Emi_Short[Brandstof]&Emi_Short[MotCel2],Emi_Short[MJ Arbeid (Zoet)],\"Not Found\",0)),(_xlfn.XLOOKUP(E$44&E$46,Emi_Short[Brandstof]&Emi_Short[MotCel2],Emi_Short[MJ Arbeid (Zout)],\"\",0)))","v":""},{"$f":"IF($D$32=\"Binnenvaart\",(_xlfn.XLOOKUP(F$44&F$46,Emi_Short[Brandstof]&Emi_Short[MotCel2],Emi_Short[MJ Arbeid (Zoet)],\"Not Found\",0)),(_xlfn.XLOOKUP(F$44&F$46,Emi_Short[Brandstof]&Emi_Short[MotCel2],Emi_Short[MJ Arbeid (Zout)],\"\",0)))","v":""},{"$f":"IF($D$32=\"Binnenvaart\",(_xlfn.XLOOKUP(G$44&G$46,Emi_Short[Brandstof]&Emi_Short[MotCel2],Emi_Short[MJ Arbeid (Zoet)],\"Not Found\",0)),(_xlfn.XLOOKUP(G$44&G$46,Emi_Short[Brandstof]&Emi_Short[MotCel2],Emi_Short[MJ Arbeid (Zout)],\"\",0)))","v":""},{"$f":"IF($D$32=\"Binnenvaart\",(_xlfn.XLOOKUP(H$44&H$46,Emi_Short[Brandstof]&Emi_Short[MotCel2],Emi_Short[MJ Arbeid (Zoet)],\"Not Found\",0)),(_xlfn.XLOOKUP(H$44&H$46,Emi_Short[Brandstof]&Emi_Short[MotCel2],Emi_Short[MJ Arbeid (Zout)],\"\",0)))","v":""}]
[]
[]
[]
[]
[null,null,"4. Additionele Emissies"]
[null,null,"In dit onderdeel worden de emissiewaarden van Stikstof (NOx) en Fijnstof (PM) weergegeven o.b.v. de opgegeven energiedrager en motorclassificatie in onderdeel 2. Standaard worden deze emissiewaarden (4.1 & 4.2) aangehouden bij de berekening van het milieuprofiel. Indien het gewenst is om af te wijken van de standaard waarden, bijvoorbeeld, omdat eigen emissielimieten lager zijn (en dus meer milieuvriendelijk) kan dit worden gedaan door bij 4.3 \"JA\" te selecteren en bij 4.4 en 4.5 de eigen emissielimieten op te geven. Enkel wanneer de overschrijving volledig is (4.6) zullen de nieuwe emissielimieten worden meegenomen in de milieuprofiel berekening. \n\n4.1 Emissielimiet NOx: Weergeeft standaard emissielimiet NOx (in g/kWh) o.b.v. selectie in onderdeel 2. \n4.2 Emissielimiet PM: Weergeeft standaard emissielimiet PM (in g/kWh) o.b.v. selectie in onderdeel 2. \n4.3 Overschrijven Standaardwaarden: Geef hier aan met JA of NEE of de standaardwaarden overschreven willen worden.\n4.4 Emissielimiet NOx: Hier kan eigen NOx emissielimiet worden opgegeven (in g/kWh)\n4.5 Emissielimiet PM: Hier kan eigen PM emissielimiet worden opgegeven (in g/kWh)\n4.6 Overschrijving Volledig: Weergeeft of overschrijding volledig is ingevoerd. Let op! Indien onvolledig wordt overschrijving niet meegenomen in milieuprofiel calculatie. "]
[null,null,"Onderdeel","Milieuprofiel 1","Milieuprofiel 2","Milieuprofiel 3","Milieuprofiel 4","Milieuprofiel 5"]
[null,null,"4.1 Emissielimiet NOx (g/kWh)",{"$f":"(IFERROR(_xlfn.XLOOKUP(D$44,NOx_Tab2[[#Headers],[Ammoniak]:[Waterstof]],(_xlfn.XLOOKUP(Invoerblad!D$46,NOx_Tab2[NOx],NOx_Tab2[[Ammoniak]:[Waterstof]],\"Not Found\",0)),\"Not Found\",0),\"\"))","v":3.61},{"$f":"(IFERROR(_xlfn.XLOOKUP(E$44,NOx_Tab2[[#Headers],[Ammoniak]:[Waterstof]],(_xlfn.XLOOKUP(Invoerblad!E$46,NOx_Tab2[NOx],NOx_Tab2[[Ammoniak]:[Waterstof]],\"Not Found\",0)),\"Not Found\",0),\"\"))","v":""},{"$f":"(IFERROR(_xlfn.XLOOKUP(F$44,NOx_Tab2[[#Headers],[Ammoniak]:[Waterstof]],(_xlfn.XLOOKUP(Invoerblad!F$46,NOx_Tab2[NOx],NOx_Tab2[[Ammoniak]:[Waterstof]],\"Not Found\",0)),\"Not Found\",0),\"\"))","v":""},{"$f":"(IFERROR(_xlfn.XLOOKUP(G$44,NOx_Tab2[[#Headers],[Ammoniak]:[Waterstof]],(_xlfn.XLOOKUP(Invoerblad!G$46,NOx_Tab2[NOx],NOx_Tab2[[Ammoniak]:[Waterstof]],\"Not Found\",0)),\"Not Found\",0),\"\"))","v":""},{"$f":"(IFERROR(_xlfn.XLOOKUP(H$44,NOx_Tab2[[#Headers],[Ammoniak]:[Waterstof]],(_xlfn.XLOOKUP(Invoerblad!H$46,NOx_Tab2[NOx],NOx_Tab2[[Ammoniak]:[Waterstof]],\"Not Found\",0)),\"Not Found\",0),\"\"))","v":""}]
[null,null,"4.2 Emissielimiet PM (g/kWh)",{"$f":"IFERROR(_xlfn.XLOOKUP(D$44,PM_Tab2[[#Headers],[Ammoniak]:[Waterstof]],(_xlfn.XLOOKUP(Invoerblad!D$46,PM_Tab2[PM],PM_Tab2[[Ammoniak]:[Waterstof]],\"Not Found\",0)),\"Not Found\",0),\"\")","v":0.03},{"$f":"IFERROR(_xlfn.XLOOKUP(E$44,PM_Tab2[[#Headers],[Ammoniak]:[Waterstof]],(_xlfn.XLOOKUP(Invoerblad!E$46,PM_Tab2[PM],PM_Tab2[[Ammoniak]:[Waterstof]],\"Not Found\",0)),\"Not Found\",0),\"\")","v":""},{"$f":"IFERROR(_xlfn.XLOOKUP(F$44,PM_Tab2[[#Headers],[Ammoniak]:[Waterstof]],(_xlfn.XLOOKUP(Invoerblad!F$46,PM_Tab2[PM],PM_Tab2[[Ammoniak]:[Waterstof]],\"Not Found\",0)),\"Not Found\",0),\"\")","v":""},{"$f":"IFERROR(_xlfn.XLOOKUP(G$44,PM_Tab2[[#Headers],[Ammoniak]:[Waterstof]],(_xlfn.XLOOKUP(Invoerblad!G$46,PM_Tab2[PM],PM_Tab2[[Ammoniak]:[Waterstof]],\"Not Found\",0)),\"Not Found\",0),\"\")","v":""},{"$f":"IFERROR(_xlfn.XLOOKUP(H$44,PM_Tab2[[#Headers],[Ammoniak]:[Waterstof]],(_xlfn.XLOOKUP(Invoerblad!H$46,PM_Tab2[PM],PM_Tab2[[Ammoniak]:[Waterstof]],\"Not Found\",0)),\"Not Found\",0),\"\")","v":""}]
[null,null,"4.3 Overschrijven Waarden?","NEE","NEE","NEE","NEE","NEE"]
[null,null,"4.4 Emissielimiet NOx (g/kWh)"]
[null,null,"4.5 Emissielimiet PM (g/kWh)"]
[null,null,"4.6 Overschrijving Volledig?",{"$f":"IF(D67=\"NEE\",\"\",IF(OR(PM_NOx!B65=0,PM_NOx!B66=0),\"NEE\",\"JA\"))","v":""},{"$f":"IF(E67=\"NEE\",\"\",IF(OR(PM_NOx!C65=0,PM_NOx!C66=0),\"NEE\",\"JA\"))","v":""},{"$f":"IF(F67=\"NEE\",\"\",IF(OR(PM_NOx!D65=0,PM_NOx!D66=0),\"NEE\",\"JA\"))","v":""},{"$f":"IF(G67=\"NEE\",\"\",IF(OR(PM_NOx!E65=0,PM_NOx!E66=0),\"NEE\",\"JA\"))","v":""},{"$f":"IF(H67=\"NEE\",\"\",IF(OR(PM_NOx!F65=0,PM_NOx!F66=0),\"NEE\",\"JA\"))","v":""}]
[]
[]
[]
[]
[null,null,"5. AdBlue Verbruik"]
[null,null,"In dit onderdeel is het AdBlue gebruik weergegeven. \n\n5.1 AdBlue Verbruik: Hier wordt het standaard AdBlue verbruik weergegeven dat wordt gemodelleerd o.b.v. input in Sectie 2."]
[null,null,"Onderdeel","Milieuprofiel 1","Milieuprofiel 2","Milieuprofiel 3","Milieuprofiel 4","Milieuprofiel 5"]
[null,null,"5.1 AdBlue Verbruik (in kg)",{"$f":"IF($D$32=\"Binnenvaart\",(_xlfn.XLOOKUP(D$44&D$46,Emi_Short[Brandstof]&Emi_Short[MotCel2],Emi_Short[AdBlue (Zoet)],\"Not Found\",0)),(_xlfn.XLOOKUP(D$44&D$46,Emi_Short[Brandstof]&Emi_Short[MotCel2],Emi_Short[AdBlue (Zout)],\"\",0)))","v":66.646634615384613},{"$f":"IF($D$32=\"Binnenvaart\",(_xlfn.XLOOKUP(E$44&E$46,Emi_Short[Brandstof]&Emi_Short[MotCel2],Emi_Short[AdBlue (Zoet)],\"Not Found\",0)),(_xlfn.XLOOKUP(E$44&E$46,Emi_Short[Brandstof]&Emi_Short[MotCel2],Emi_Short[AdBlue (Zout)],\"\",0)))","v":""},{"$f":"IF($D$32=\"Binnenvaart\",(_xlfn.XLOOKUP(F$44&F$46,Emi_Short[Brandstof]&Emi_Short[MotCel2],Emi_Short[AdBlue (Zoet)],\"Not Found\",0)),(_xlfn.XLOOKUP(F$44&F$46,Emi_Short[Brandstof]&Emi_Short[MotCel2],Emi_Short[AdBlue (Zout)],\"\",0)))","v":""},{"$f":"IF($D$32=\"Binnenvaart\",(_xlfn.XLOOKUP(G$44&G$46,Emi_Short[Brandstof]&Emi_Short[MotCel2],Emi_Short[AdBlue (Zoet)],\"Not Found\",0)),(_xlfn.XLOOKUP(G$44&G$46,Emi_Short[Brandstof]&Emi_Short[MotCel2],Emi_Short[AdBlue (Zout)],\"\",0)))","v":""},{"$f":"IF($D$32=\"Binnenvaart\",(_xlfn.XLOOKUP(H$44&H$46,Emi_Short[Brandstof]&Emi_Short[MotCel2],Emi_Short[AdBlue (Zoet)],\"Not Found\",0)),(_xlfn.XLOOKUP(H$44&H$46,Emi_Short[Brandstof]&Emi_Short[MotCel2],Emi_Short[AdBlue (Zout)],\"\",0)))","v":""}]

{"sheet":"MKI Resultaten","index":4,"n_rows":45,"n_cols":20,"rows_kept":45,"cut":false,"hidden":false,"merged":[[38,15,38,19],[12,15,12,19],[13,15,13,19],[37,15,37,19],[12,1,12,5],[13,1,13,5],[37,1,37,5],[38,1,38,5]]}
{"$rows_empty":12}
[null,"Resultaten - Milieukosten Set A1 (per FU)",{"$nulls":13},"Resultaten - Milieukosten Set A1 (per GJ arbeid)"]
[null,"Volgens EN15804+A1",{"$nulls":13},"Volgens EN15804+A1"]
[null,"Motor","A1-A3","A4","B1","Total",{"$nulls":9},"Motor","A1-A3","A4","B1","Total"]
[null,{"$f":"IF(Invoerblad!$D$43=\"\",\"Motor 1\",Invoerblad!$D$43)","v":"Milieuprofiel 1"},{"$f":"Milieuprofielen!F19","v":105.15382162674896},{"$f":"Milieuprofielen!G19","v":2.0076871904238764},{"$f":"Milieuprofielen!H19","v":246.57321410087636},{"$f":"Milieuprofielen!I19","v":353.73472291804921},{"$nulls":9},{"$f":"IF(Invoerblad!$D$43=\"\",\"Motor 1\",Invoerblad!$D$43)","v":"Milieuprofiel 1"},{"$f":"'MP per GJ'!F19","v":5.4216974285511199},{"$f":"'MP per GJ'!G19","v":0.10351570974085467},{"$f":"'MP per GJ'!H19","v":12.713236096977385},{"$f":"'MP per GJ'!I19","v":18.238449235269357}]
[null,{"$f":"IF(Invoerblad!$E$43=\"\",\"Motor 2\",Invoerblad!$E$43)","v":"Milieuprofiel 2"},{"$f":"Milieuprofielen!O19","v":0},{"$f":"Milieuprofielen!P19","v":0},{"$f":"Milieuprofielen!Q19","v":0},{"$f":"Milieuprofielen!R19","v":0},{"$nulls":9},{"$f":"IF(Invoerblad!$E$43=\"\",\"Motor 2\",Invoerblad!$E$43)","v":"Milieuprofiel 2"},{"$f":"'MP per GJ'!O19","v":0},{"$f":"'MP per GJ'!P19","v":0},{"$f":"'MP per GJ'!Q19","v":0},{"$f":"'MP per GJ'!R19","v":0}]
[null,{"$f":"IF(Invoerblad!$F$43=\"\",\"Motor 3\",Invoerblad!$F$43)","v":"Milieuprofiel 3"},{"$f":"Milieuprofielen!X19","v":0},{"$f":"Milieuprofielen!Y19","v":0},{"$f":"Milieuprofielen!Z19","v":0},{"$f":"Milieuprofielen!AA19","v":0},{"$nulls":9},{"$f":"IF(Invoerblad!$F$43=\"\",\"Motor 3\",Invoerblad!$F$43)","v":"Milieuprofiel 3"},{"$f":"'MP per GJ'!X19","v":0},{"$f":"'MP per GJ'!Y19","v":0},{"$f":"'MP per GJ'!Z19","v":0},{"$f":"'MP per GJ'!AA19","v":0}]
[null,{"$f":"IF(Invoerblad!$G$43=\"\",\"Motor 4\",Invoerblad!$G$43)","v":"Milieuprofiel 4"},{"$f":"Milieuprofielen!AG19","v":0},{"$f":"Milieuprofielen!AH19","v":0},{"$f":"Milieuprofielen!AI19","v":0},{"$f":"Milieuprofielen!AJ19","v":0},{"$nulls":9},{"$f":"IF(Invoerblad!$G$43=\"\",\"Motor 4\",Invoerblad!$G$43)","v":"Milieuprofiel 4"},{"$f":"'MP per GJ'!AG19","v":0},{"$f":"'MP per GJ'!AH19","v":0},{"$f":"'MP per GJ'!AI19","v":0},{"$f":"'MP per GJ'!AJ19","v":0}]
[null,{"$f":"IF(Invoerblad!$H$43=\"\",\"Motor 5\",Invoerblad!$H$43)","v":"Milieuprofiel 5"},{"$f":"Milieuprofielen!AP19","v":0},{"$f":"Milieuprofielen!AQ19","v":0},{"$f":"Milieuprofielen!AR19","v":0},{"$f":"Milieuprofielen!AS19","v":0},{"$nulls":9},{"$f":"IF(Invoerblad!$H$43=\"\",\"Motor 5\",Invoerblad!$H$43)","v":"Milieuprofiel 5"},{"$f":"'MP per GJ'!AP19","v":0},{"$f":"'MP per GJ'!AQ19","v":0},{"$f":"'MP per GJ'!AR19","v":0},{"$f":"'MP per GJ'!AS19","v":0}]
{"$rows_empty":17}
[null,"Resultaten - Milieukosten Set A2 (per FU)",{"$nulls":13},"Resultaten - Milieukosten Set A2 (per GJ arbeid)"]
[null,"Volgens EN15804+A2",{"$nulls":13},"Volgens EN15804+A2"]
[null,"Motor","A1-A3","A4","B1","Total",{"$nulls":9},"Motor","A1-A3","A4","B1","Total"]
[null,{"$f":"IF(Invoerblad!$D$43=\"\",\"Motor 1\",Invoerblad!$D$43)","v":"Milieuprofiel 1"},{"$f":"Milieuprofielen!F20","v":140.56492091762155},{"$f":"Milieuprofielen!G20","v":3.8764010565609532},{"$f":"Milieuprofielen!H20","v":479.01267826916626},{"$f":"Milieuprofielen!I20","v":623.45400024334879},{"$nulls":9},{"$f":"IF(Invoerblad!$D$43=\"\",\"Motor 1\",Invoerblad!$D$43)","v":"Milieuprofiel 1"},{"$f":"'MP per GJ'!F20","v":7.2474823881217612},{"$f":"'MP per GJ'!G20","v":0.19986599930708707},{"$f":"'MP per GJ'!H20","v":24.697740565566708},{"$f":"'MP per GJ'!I20","v":32.145088952995557}]
[null,{"$f":"IF(Invoerblad!$E$43=\"\",\"Motor 2\",Invoerblad!$E$43)","v":"Milieuprofiel 2"},{"$f":"Milieuprofielen!O20","v":0},{"$f":"Milieuprofielen!P20","v":0},{"$f":"Milieuprofielen!Q20","v":0},{"$f":"Milieuprofielen!R20","v":0},{"$nulls":9},{"$f":"IF(Invoerblad!$E$43=\"\",\"Motor 2\",Invoerblad!$E$43)","v":"Milieuprofiel 2"},{"$f":"'MP per GJ'!O20","v":0},{"$f":"'MP per GJ'!P20","v":0},{"$f":"'MP per GJ'!Q20","v":0},{"$f":"'MP per GJ'!R20","v":0}]
[null,{"$f":"IF(Invoerblad!$F$43=\"\",\"Motor 3\",Invoerblad!$F$43)","v":"Milieuprofiel 3"},{"$f":"Milieuprofielen!X20","v":0},{"$f":"Milieuprofielen!Y20","v":0},{"$f":"Milieuprofielen!Z20","v":0},{"$f":"Milieuprofielen!AA20","v":0},{"$nulls":9},{"$f":"IF(Invoerblad!$F$43=\"\",\"Motor 3\",Invoerblad!$F$43)","v":"Milieuprofiel 3"},{"$f":"'MP per GJ'!X20","v":0},{"$f":"'MP per GJ'!Y20","v":0},{"$f":"'MP per GJ'!Z20","v":0},{"$f":"'MP per GJ'!AA20","v":0}]
[null,{"$f":"IF(Invoerblad!$G$43=\"\",\"Motor 4\",Invoerblad!$G$43)","v":"Milieuprofiel 4"},{"$f":"Milieuprofielen!AG20","v":0},{"$f":"Milieuprofielen!AH20","v":0},{"$f":"Milieuprofielen!AI20","v":0},{"$f":"Milieuprofielen!AJ20","v":0},{"$nulls":9},{"$f":"IF(Invoerblad!$G$43=\"\",\"Motor 4\",Invoerblad!$G$43)","v":"Milieuprofiel 4"},{"$f":"'MP per GJ'!AG20","v":0},{"$f":"'MP per GJ'!AH20","v":0},{"$f":"'MP per GJ'!AI20","v":0},{"$f":"'MP per GJ'!AJ20","v":0}]
[null,{"$f":"IF(Invoerblad!$H$43=\"\",\"Motor 5\",Invoerblad!$H$43)","v":"Milieuprofiel 5"},{"$f":"Milieuprofielen!AP20","v":0},{"$f":"Milieuprofielen!AQ20","v":0},{"$f":"Milieuprofielen!AR20","v":0},{"$f":"Milieuprofielen!AS20","v":0},{"$nulls":9},{"$f":"IF(Invoerblad!$H$43=\"\",\"Motor 5\",Invoerblad!$H$43)","v":"Milieuprofiel 5"},{"$f":"'MP per GJ'!AP20","v":0},{"$f":"'MP per GJ'!AQ20","v":0},{"$f":"'MP per GJ'!AR20","v":0},{"$f":"'MP per GJ'!AS20","v":0}]

{"sheet":"Hotspot","index":5,"n_rows":61,"n_cols":29,"rows_kept":61,"cut":false,"hidden":false,"merged":[[2,23,2,28],[44,23,44,28],[2,2,2,7],[44,2,44,7]]}
[]
[]
[null,null,"EN15804+A1",{"$nulls":20},"EN15804+A2"]
[null,null,"Profiel #","Milieuprofiel 1","Milieuprofiel 2","Milieuprofiel 3","Milieuprofiel 4","Milieuprofiel 5",{"$nulls":15},"Profiel #","Milieuprofiel 1","Milieuprofiel 2","Milieuprofiel 3","Milieuprofiel 4","Milieuprofiel 5"]
[null,null,"Eenheid",{"$f":"Invoerblad!D55","v":"ton"},{"$f":"Invoerblad!E55","v":""},{"$f":"Invoerblad!F55","v":""},{"$f":"Invoerblad!G55","v":""},{"$f":"Invoerblad!H55","v":""},{"$nulls":15},"Eenheid",{"$f":"Invoerblad!D55","v":"ton"},{"$f":"Invoerblad!E55","v":""},{"$f":"Invoerblad!F55","v":""},{"$f":"Invoerblad!G55","v":""},{"$f":"Invoerblad!H55","v":""}]
[null,null,"Onderdeel",{"$f":"Invoerblad!D45&\" - \"&Invoerblad!D46","v":"Diesel, Algemeen - ULEV (Stage V IWP/IWA)"},{"$f":"Invoerblad!E45&\" - \"&Invoerblad!E46","v":" - "},{"$f":"Invoerblad!F45&\" - \"&Invoerblad!F46","v":" - "},{"$f":"Invoerblad!G45&\" - \"&Invoerblad!G46","v":" - "},{"$f":"Invoerblad!H45&\" - \"&Invoerblad!H46","v":" - "},{"$nulls":15},"Onderdeel",{"$f":"Invoerblad!D45&\" - \"&Invoerblad!D46","v":"Diesel, Algemeen - ULEV (Stage V IWP/IWA)"},{"$f":"Invoerblad!E45&\" \"&Invoerblad!E46","v":" "},{"$f":"Invoerblad!F45&\" \"&Invoerblad!F46","v":" "},{"$f":"Invoerblad!G45&\" \"&Invoerblad!G46","v":" "},{"$f":"Invoerblad!H45&\" \"&Invoerblad!H46","v":" "}]
[null,null,"Winning Energiedrager",{"$f":"Modellering!K6:K17","v":96.92313963290799},{"$f":"Modellering!K26:K37","v":0},{"$f":"Modellering!K46:K57","v":0},{"$f":"Modellering!K66:K77","v":0},{"$f":"Modellering!K86:K97","v":0},{"$nulls":15},"Winning Energiedrager",{"$f":"Modellering!L6:L17","v":135.33298117415166},{"$f":"Modellering!L26:L37","v":0},{"$f":"Modellering!L46:L57","v":0},{"$f":"Modellering!L66:L77","v":0},{"$f":"Modellering!L86:L97","v":0}]
[null,null,"Opslag Energiedrager",1.9217281512220004,0,0,0,0,{"$nulls":15},"Opslag Energiedrager",3.6847178287471429,0,0,0,0]
[null,null,"Emissieprofiel",169.69198265289023,0,0,0,0,{"$nulls":15},"Emissieprofiel",379.28266291974086,0,0,0,0]
[null,null,"NOx Emissies",63.753412250000004,0,0,0,0,{"$nulls":15},"NOx Emissies",86.227900111562505,0,0,0,0]
[null,null,"PM Emissies",1.1927925000000001E-2,0,0,0,0,{"$nulls":15},"PM Emissies",6.1664220562500018E-2,0,0,0,0]
[null,null,"Casco Schip",10.648482785287971,0,0,0,0,{"$nulls":15},"Casco Schip",10.723818161242589,0,0,0,0]
[null,null,"Aandrijving (Type Motor)",1.6735637611356498,0,0,0,0,{"$nulls":15},"Aandrijving (Type Motor)",0.87491309043278731,0,0,0,0]
[null,null,"Accu",0,0,0,0,0,{"$nulls":15},"Accu",0,0,0,0,0]
[null,null,"Brandstofcel",0,0,0,0,0,{"$nulls":15},"Brandstofcel",0,0,0,0,0]
[null,null,"Winning AdBlue",8.2306819938409816,0,0,0,0,{"$nulls":15},"Winning AdBlue",5.2319397434699058,0,0,0,0]
[null,null,"Opslag AdBlue",8.5959039201876239E-2,0,0,0,0,{"$nulls":15},"Opslag AdBlue",0.19168322781381023,0,0,0,0]
[null,null,"Gebruiksprofiel AdBlue",0.79384472656249994,0,0,0,0,{"$nulls":15},"Gebruiksprofiel AdBlue",1.8417197656249999,0,0,0,0]
[null,null,"Totaal",{"$f":"SUM(D7:D18)","v":353.73472291804921},{"$f":"SUM(E7:E18)","v":0},0,0,0,{"$nulls":15},"Totaal",{"$f":"SUM(Y7:Y18)","v":623.45400024334867},{"$f":"SUM(Z7:Z18)","v":0},0,0,0]
{"$rows_empty":25}
[null,null,"EN15804+A1",{"$nulls":20},"EN15804+A2"]
[null,null,"Profiel #","Milieuprofiel 1","Milieuprofiel 2","Milieuprofiel 3","Milieuprofiel 4","Milieuprofiel 5",{"$nulls":15},"Profiel #","Milieuprofiel 1","Milieuprofiel 2","Milieuprofiel 3","Milieuprofiel 4","Milieuprofiel 5"]
[null,null,"Eenheid","GJ","GJ","GJ","GJ","GJ",{"$nulls":15},"Eenheid","GJ","GJ","GJ","GJ","GJ"]
[null,null,"Onderdeel",{"$f":"D6","v":"Diesel, Algemeen - ULEV (Stage V IWP/IWA)"},{"$f":"E6","v":" - "},{"$f":"F6","v":" - "},{"$f":"G6","v":" - "},{"$f":"H6","v":" - "},{"$nulls":15},"Onderdeel",{"$f":"Y6","v":"Diesel, Algemeen - ULEV (Stage V IWP/IWA)"},{"$f":"Z6","v":" "},{"$f":"AA6","v":" "},{"$f":"AB6","v":" "},{"$f":"AC6","v":" "}]
[null,null,"Winning Energiedrager",{"$f":"IFERROR((D$7:D$18)/Invoerblad!D57*1000,0)","v":4.9973260960509407},{"$f":"IFERROR((E$7:E$18)/Invoerblad!E57*1000,0)","v":0},{"$f":"IFERROR((F$7:F$18)/Invoerblad!F57*1000,0)","v":0},{"$f":"IFERROR((G$7:G$18)/Invoerblad!G57*1000,0)","v":0},{"$f":"IFERROR((H$7:H$18)/Invoerblad!H57*1000,0)","v":0},{"$nulls":15},"Winning Energiedrager",{"$f":"IFERROR((Y$7:Y$18)/Invoerblad!D57*1000,0)","v":6.9777252474427245},{"$f":"IFERROR((Z$7:Z$18)/Invoerblad!E57*1000,0)","v":0},{"$f":"IFERROR((AA$7:AA$18)/Invoerblad!F57*1000,0)","v":0},{"$f":"IFERROR((AB$7:AB$18)/Invoerblad!G57*1000,0)","v":0},{"$f":"IFERROR((AC$7:AC$18)/Invoerblad!H57*1000,0)","v":0}]
[null,null,"Opslag Energiedrager",9.908368915813355E-2,0,0,0,0,{"$nulls":15},"Opslag Energiedrager",0.18998287335638789,0,0,0,0]
[null,null,"Gebruiksprofiel Basis",8.7492643801438632,0,0,0,0,{"$nulls":15},"Gebruiksprofiel Basis",19.555692854846139,0,0,0,0]
[null,null,"NOx Emissies",3.2871055555555557,0,0,0,0,{"$nulls":15},"NOx Emissies",4.4458829652777778,0,0,0,0]
[null,null,"PM Emissies",6.150000000000001E-4,0,0,0,0,{"$nulls":15},"PM Emissies",3.1793875000000007E-3,0,0,0,0]
[null,null,"Casco Schip",0.54903236840876368,0,0,0,0,{"$nulls":15},"Casco Schip",0.55291663631052268,0,0,0,0]
[null,null,"Aandrijving (Type Motor)",8.6288412535996381E-2,0,0,0,0,{"$nulls":15},"Aandrijving (Type Motor)",4.5110239259231105E-2,0,0,0,0]
[null,null,"Accu",0,0,0,0,0,{"$nulls":15},"Accu",0,0,0,0,0]
[null,null,"Brandstofcel",0,0,0,0,0,{"$nulls":15},"Brandstofcel",0,0,0,0,0]
[null,null,"Winning AdBlue",0.4243713325001795,0,0,0,0,{"$nulls":15},"Winning AdBlue",0.26975714067903617,0,0,0,0]
[null,null,"Opslag AdBlue",4.4320205827211257E-3,0,0,0,0,{"$nulls":15},"Opslag AdBlue",9.8831259506991596E-3,0,0,0,0]
[null,null,"Gebruiksprofiel AdBlue",4.0930380333204432E-2,0,0,0,0,{"$nulls":15},"Gebruiksprofiel AdBlue",9.4958482373034281E-2,0,0,0,0]
[null,null,"Totaal",{"$f":"SUM(D49:D60)","v":18.238449235269361},{"$f":"SUM(E49:E60)","v":0},0,0,0,{"$nulls":15},"Totaal",{"$f":"SUM(Y49:Y60)","v":32.145088952995557},{"$f":"SUM(Z49:Z60)","v":0},0,0,0]

{"sheet":"Milieuprofielen","index":6,"n_rows":68,"n_cols":45,"rows_kept":68,"cut":false,"hidden":false,"merged":[[16,40,16,44],[14,11,14,12],[14,13,14,17],[14,22,14,26],[14,31,14,35],[14,40,14,44],[14,20,14,21],[14,29,14,30],[14,38,14,39],[15,29,15,30],[15,31,15,35],[16,29,16,30],[16,31,16,35],[50,11,67,11],[14,2,14,3],[15,2,15,3],[16,2,16,3],[14,4,14,8],[15,4,15,8],[16,4,16,8],[15,11,15,12],[16,11,16,12],[20,2,30,2],[31,2,49,2],[50,2,67,2],[50,38,67,38],[13,20,13,26],[20,20,30,20],[31,20,49,20],[50,20,67,20],[13,29,13,35],[20,29,30,29],[31,29,49,29],[50,29,67,29],[15,38,15,39],[16,38,16,39],[5,2,5,8],[6,2,10,8],[13,38,13,44],[20,38,30,38],[31,38,49,38],[13,2,13,8],[13,11,13,17],[20,11,30,11],[31,11,49,11],[15,13,15,17],[16,13,16,17],[15,20,15,21],[15,22,15,26],[16,20,16,21],[16,22,16,26],[15,40,15,44]]}
[]
[]
[]
[]
[]
[null,null,"Milieuprofielen"]
[null,null,"In dit onderdeel worden de volledige milieuprofielen van het schip en de motoren weergegeven. Alle relevante indicatoren voor EN15804+A1, EN15804+A2 en bijbehorende parameters zijn opgenomen en weergegeven per relevante LCA module. Motoren zijn weergegeven op volgorde van links naar rechts. \n\nDatabases & Karakterisatie:\nEN15804+A1: NMD 3.9 + EcoInvent 3.6 - ECI SBK Single Score \nEN15804+A2: NMD 3.9 + EcoInvent 3.9.1 - EF 3.1 Weighting Set"]
[]
[]
[]
[]
[]
[]
[null,null,{"$f":"\"Milieuprofiel 1: \"&Invoerblad!D43&\" (per \"&Invoerblad!D55&\")\"","v":"Milieuprofiel 1: Milieuprofiel 1 (per ton)"},{"$nulls":8},{"$f":"\"Milieuprofiel 2: \"&Invoerblad!E43&\" (per \"&Invoerblad!E55&\")\"","v":"Milieuprofiel 2: Milieuprofiel 2 (per )"},{"$nulls":8},{"$f":"\"Mileuprofiel 3: \"&Invoerblad!F43&\" (per \"&Invoerblad!F55&\")\"","v":"Mileuprofiel 3: Milieuprofiel 3 (per )"},{"$nulls":8},{"$f":"\"Milieuprofiel 4: \"&Invoerblad!G43&\" (per \"&Invoerblad!G55&\")\"","v":"Milieuprofiel 4: Milieuprofiel 4 (per )"},{"$nulls":8},{"$f":"\"Milieuprofiel 5: \"&Invoerblad!H43&\" (per \"&Invoerblad!H55&\")\"","v":"Milieuprofiel 5: Milieuprofiel 5 (per )"}]
[null,null,"Energiedrager",null,{"$f":"Invoerblad!D44","v":"Diesel (ULSD)"},{"$nulls":6},"Energiedrager",null,{"$f":"Invoerblad!E44","v":0},{"$nulls":6},"Energiedrager",null,{"$f":"Invoerblad!F44","v":0},{"$nulls":6},"Energiedrager",null,{"$f":"Invoerblad!G44","v":0},{"$nulls":6},"Energiedrager",null,{"$f":"Invoerblad!H44","v":0}]
[null,null,"Verdieping Energiedrager",null,{"$f":"Invoerblad!D45","v":"Diesel, Algemeen"},{"$nulls":6},"Verdieping Energiedrager",null,{"$f":"Invoerblad!E45","v":0},{"$nulls":6},"Verdieping Energiedrager",null,{"$f":"Invoerblad!F45","v":0},{"$nulls":6},"Verdieping Energiedrager",null,{"$f":"Invoerblad!G45","v":0},{"$nulls":6},"Verdieping Energiedrager",null,{"$f":"Invoerblad!H45","v":0}]
[null,null,"Classificatie Motor",null,{"$f":"Invoerblad!D46","v":"ULEV (Stage V IWP/IWA)"},{"$nulls":6},"Classificatie Motor",null,{"$f":"Invoerblad!E46","v":0},{"$nulls":6},"Classificatie Motor",null,{"$f":"Invoerblad!F46","v":0},{"$nulls":6},"Classificatie Motor",null,{"$f":"Invoerblad!G46","v":0},{"$nulls":6},"Classificatie Motor",null,{"$f":"Invoerblad!H46","v":0}]
[null,null,"Module","Impact Category","Unit","A1-A3","A4","B1","Total",null,null,"Module","Impact Category","Unit","A1-A3","A4","B1","Total",null,null,"Module","Impact Category","Unit","A1-A3","A4","B1","Total",null,null,"Module","Impact Category","Unit","A1-A3","A4","B1","Total",null,null,"Module","Impact Category","Unit","A1-A3","A4","B1","Total"]
[null,null,"ECI-A1","Environmental Cost Indicator (ECI) - Set 1","€",{"$f":"SUMIFS((_xlfn.XLOOKUP('Weighting Set'!$Z3,Modellering!$K$5:$BH$5,Modellering!$K$6:$BH$17)),Modellering!$E$6:$E$17,Milieuprofielen!F$18)","v":105.15382162674896},{"$f":"SUMIFS((_xlfn.XLOOKUP('Weighting Set'!$Z3,Modellering!$K$5:$BH$5,Modellering!$K$6:$BH$17)),Modellering!$E$6:$E$17,Milieuprofielen!G$18)","v":2.0076871904238764},{"$f":"SUMIFS((_xlfn.XLOOKUP('Weighting Set'!$Z3,Modellering!$K$5:$BH$5,Modellering!$K$6:$BH$17)),Modellering!$E$6:$E$17,Milieuprofielen!H$18)","v":246.57321410087636},{"$f":"SUM(F19:H19)","v":353.73472291804921},null,null,"ECI-A1","Environmental Cost Indicator (ECI) - Set 1","€",{"$f":"SUMIFS((_xlfn.XLOOKUP('Weighting Set'!$Z3,Modellering!$K$25:$BH$25,Modellering!$K$26:$BH$37)),Modellering!$E$26:$E$37,Milieuprofielen!O$18)","v":0},{"$f":"SUMIFS((_xlfn.XLOOKUP('Weighting Set'!$Z3,Modellering!$K$25:$BH$25,Modellering!$K$26:$BH$37)),Modellering!$E$26:$E$37,Milieuprofielen!P$18)","v":0},{"$f":"SUMIFS((_xlfn.XLOOKUP('Weighting Set'!$Z3,Modellering!$K$25:$BH$25,Modellering!$K$26:$BH$37)),Modellering!$E$26:$E$37,Milieuprofielen!Q$18)","v":0},{"$f":"SUM(O19:Q19)","v":0},null,null,"ECI-A1","Environmental Cost Indicator (ECI) - Set 1","€",{"$f":"SUMIFS((_xlfn.XLOOKUP('Weighting Set'!$Z3,Modellering!$K$45:$BH$45,Modellering!$K$46:$BH$57)),Modellering!$E$46:$E$57,Milieuprofielen!X$18)","v":0},{"$f":"SUMIFS((_xlfn.XLOOKUP('Weighting Set'!$Z3,Modellering!$K$45:$BH$45,Modellering!$K$46:$BH$57)),Modellering!$E$46:$E$57,Milieuprofielen!Y$18)","v":0},{"$f":"SUMIFS((_xlfn.XLOOKUP('Weighting Set'!$Z3,Modellering!$K$45:$BH$45,Modellering!$K$46:$BH$57)),Modellering!$E$46:$E$57,Milieuprofielen!Z$18)","v":0},{"$f":"SUM(X19:Z19)","v":0},null,null,"ECI-A1","Environmental Cost Indicator (ECI) - Set 1","€",{"$f":"SUMIFS((_xlfn.XLOOKUP('Weighting Set'!$Z3,Modellering!$K$65:$BH$65,Modellering!$K$66:$BH$77)),Modellering!$E$66:$E$77,Milieuprofielen!AG$18)","v":0},{"$f":"SUMIFS((_xlfn.XLOOKUP('Weighting Set'!$Z3,Modellering!$K$65:$BH$65,Modellering!$K$66:$BH$77)),Modellering!$E$66:$E$77,Milieuprofielen!AH$18)","v":0},{"$f":"SUMIFS((_xlfn.XLOOKUP('Weighting Set'!$Z3,Modellering!$K$65:$BH$65,Modellering!$K$66:$BH$77)),Modellering!$E$66:$E$77,Milieuprofielen!AI$18)","v":0},{"$f":"SUM(AG19:AI19)","v":0},null,null,"ECI-A1","Environmental Cost Indicator (ECI) - Set 1","€",{"$f":"SUMIFS((_xlfn.XLOOKUP('Weighting Set'!$Z3,Modellering!$K$85:$BH$85,Modellering!$K$86:$BH$97)),Modellering!$E$86:$E$97,Milieuprofielen!AP$18)","v":0},{"$f":"SUMIFS((_xlfn.XLOOKUP('Weighting Set'!$Z3,Modellering!$K$85:$BH$85,Modellering!$K$86:$BH$97)),Modellering!$E$86:$E$97,Milieuprofielen!AQ$18)","v":0},{"$f":"SUMIFS((_xlfn.XLOOKUP('Weighting Set'!$Z3,Modellering!$K$85:$BH$85,Modellering!$K$86:$BH$97)),Modellering!$E$86:$E$97,Milieuprofielen!AR$18)","v":0},{"$f":"SUM(AP19:AR19)","v":0}]
[null,null,"ECI-A2","Environmental Cost Indicator (ECI) - Set 2","€",{"$f":"SUMIFS((_xlfn.XLOOKUP('Weighting Set'!$Z4,Modellering!$K$5:$BH$5,Modellering!$K$6:$BH$17)),Modellering!$E$6:$E$17,Milieuprofielen!F$18)","v":140.56492091762155},{"$f":"SUMIFS((_xlfn.XLOOKUP('Weighting Set'!$Z4,Modellering!$K$5:$BH$5,Modellering!$K$6:$BH$17)),Modellering!$E$6:$E$17,Milieuprofielen!G$18)","v":3.8764010565609532},{"$f":"SUMIFS((_xlfn.XLOOKUP('Weighting Set'!$Z4,Modellering!$K$5:$BH$5,Modellering!$K$6:$BH$17)),Modellering!$E$6:$E$17,Milieuprofielen!H$18)","v":479.01267826916626},{"$f":"SUM(F20:H20)","v":623.45400024334879},null,null,"ECI-A2","Environmental Cost Indicator (ECI) - Set 2","€",{"$f":"SUMIFS((_xlfn.XLOOKUP('Weighting Set'!$Z4,Modellering!$K$25:$BH$25,Modellering!$K$26:$BH$37)),Modellering!$E$26:$E$37,Milieuprofielen!O$18)","v":0},{"$f":"SUMIFS((_xlfn.XLOOKUP('Weighting Set'!$Z4,Modellering!$K$25:$BH$25,Modellering!$K$26:$BH$37)),Modellering!$E$26:$E$37,Milieuprofielen!P$18)","v":0},{"$f":"SUMIFS((_xlfn.XLOOKUP('Weighting Set'!$Z4,Modellering!$K$25:$BH$25,Modellering!$K$26:$BH$37)),Modellering!$E$26:$E$37,Milieuprofielen!Q$18)","v":0},{"$f":"SUM(O20:Q20)","v":0},null,null,"ECI-A2","Environmental Cost Indicator (ECI) - Set 2","€",{"$f":"SUMIFS((_xlfn.XLOOKUP('Weighting Set'!$Z4,Modellering!$K$45:$BH$45,Modellering!$K$46:$BH$57)),Modellering!$E$46:$E$57,Milieuprofielen!X$18)","v":0},{"$f":"SUMIFS((_xlfn.XLOOKUP('Weighting Set'!$Z4,Modellering!$K$45:$BH$45,Modellering!$K$46:$BH$57)),Modellering!$E$46:$E$57,Milieuprofielen!Y$18)","v":0},{"$f":"SUMIFS((_xlfn.XLOOKUP('Weighting Set'!$Z4,Modellering!$K$45:$BH$45,Modellering!$K$46:$BH$57)),Modellering!$E$46:$E$57,Milieuprofielen!Z$18)","v":0},{"$f":"SUM(X20:Z20)","v":0},null,null,"ECI-A2","Environmental Cost Indicator (ECI) - Set 2","€",{"$f":"SUMIFS((_xlfn.XLOOKUP('Weighting Set'!$Z4,Modellering!$K$65:$BH$65,Modellering!$K$66:$BH$77)),Modellering!$E$66:$E$77,Milieuprofielen!AG$18)","v":0},{"$f":"SUMIFS((_xlfn.XLOOKUP('Weighting Set'!$Z4,Modellering!$K$65:$BH$65,Modellering!$K$66:$BH$77)),Modellering!$E$66:$E$77,Milieuprofielen!AH$18)","v":0},{"$f":"SUMIFS((_xlfn.XLOOKUP('Weighting Set'!$Z4,Modellering!$K$65:$BH$65,Modellering!$K$66:$BH$77)),Modellering!$E$66:$E$77,Milieuprofielen!AI$18)","v":0},{"$f":"SUM(AG20:AI20)","v":0},null,null,"ECI-A2","Environmental Cost Indicator (ECI) - Set 2","€",{"$f":"SUMIFS((_xlfn.XLOOKUP('Weighting Set'!$Z4,Modellering!$K$85:$BH$85,Modellering!$K$86:$BH$97)),Modellering!$E$86:$E$97,Milieuprofielen!AP$18)","v":0},{"$f":"SUMIFS((_xlfn.XLOOKUP('Weighting Set'!$Z4,Modellering!$K$85:$BH$85,Modellering!$K$86:$BH$97)),Modellering!$E$86:$E$97,Milieuprofielen!AQ$18)","v":0},{"$f":"SUMIFS((_xlfn.XLOOKUP('Weighting Set'!$Z4,Modellering!$K$85:$BH$85,Modellering!$K$86:$BH$97)),Modellering!$E$86:$E$97,Milieuprofielen!AR$18)","v":0},{"$f":"SUM(AP20:AR20)","v":0}]
[null,null,"Characterized EN15804+A1","001. abiotic depletion, non fuel (AD)","kg Sb eq",{"$f":"SUMIFS((_xlfn.XLOOKUP('Weighting Set'!$Z5,Modellering!$K$5:$BH$5,Modellering!$K$6:$BH$17)),Modellering!$E$6:$E$17,Milieuprofielen!F$18)","v":2.7512808608173077E-3},{"$f":"SUMIFS((_xlfn.XLOOKUP('Weighting Set'!$Z5,Modellering!$K$5:$BH$5,Modellering!$K$6:$BH$17)),Modellering!$E$6:$E$17,Milieuprofielen!G$18)","v":1.3378530803942307E-3},{"$f":"SUMIFS((_xlfn.XLOOKUP('Weighting Set'!$Z5,Modellering!$K$5:$BH$5,Modellering!$K$6:$BH$17)),Modellering!$E$6:$E$17,Milieuprofielen!H$18)","v":5.9432852979417559E-3},1.0032419239153295E-2,null,null,"Characterized EN15804+A1","001. abiotic depletion, non fuel (AD)","kg Sb eq",{"$f":"SUMIFS((_xlfn.XLOOKUP('Weighting Set'!$Z5,Modellering!$K$25:$BH$25,Modellering!$K$26:$BH$37)),Modellering!$E$26:$E$37,Milieuprofielen!O$18)","v":0},{"$f":"SUMIFS((_xlfn.XLOOKUP('Weighting Set'!$Z5,Modellering!$K$25:$BH$25,Modellering!$K$26:$BH$37)),Modellering!$E$26:$E$37,Milieuprofielen!P$18)","v":0},{"$f":"SUMIFS((_xlfn.XLOOKUP('Weighting Set'!$Z5,Modellering!$K$25:$BH$25,Modellering!$K$26:$BH$37)),Modellering!$E$26:$E$37,Milieuprofielen!Q$18)","v":0},{"$f":"SUM(O21:Q21)","v":0},null,null,"Characterized EN15804+A1","001. abiotic depletion, non fuel (AD)","kg Sb eq",{"$f":"SUMIFS((_xlfn.XLOOKUP('Weighting Set'!$Z5,Modellering!$K$45:$BH$45,Modellering!$K$46:$BH$57)),Modellering!$E$46:$E$57,Milieuprofielen!X$18)","v":0},{"$f":"SUMIFS((_xlfn.XLOOKUP('Weighting Set'!$Z5,Modellering!$K$45:$BH$45,Modellering!$K$46:$BH$57)),Modellering!$E$46:$E$57,Milieuprofielen!Y$18)","v":0},{"$f":"SUMIFS((_xlfn.XLOOKUP('Weighting Set'!$Z5,Modellering!$K$45:$BH$45,Modellering!$K$46:$BH$57)),Modellering!$E$46:$E$57,Milieuprofielen!Z$18)","v":0},0,null,null,"Characterized EN15804+A1","001. abiotic depletion, non fuel (AD)","kg Sb eq",{"$f":"SUMIFS((_xlfn.XLOOKUP('Weighting Set'!$Z5,Modellering!$K$65:$BH$65,Modellering!$K$66:$BH$77)),Modellering!$E$66:$E$77,Milieuprofielen!AG$18)","v":0},{"$f":"SUMIFS((_xlfn.XLOOKUP('Weighting Set'!$Z5,Modellering!$K$65:$BH$65,Modellering!$K$66:$BH$77)),Modellering!$E$66:$E$77,Milieuprofielen!AH$18)","v":0},{"$f":"SUMIFS((_xlfn.XLOOKUP('Weighting Set'!$Z5,Modellering!$K$65:$BH$65,Modellering!$K$66:$BH$77)),Modellering!$E$66:$E$77,Milieuprofielen!AI$18)","v":0},0,null,null,"Characterized EN15804+A1","001. abiotic depletion, non fuel (AD)","kg Sb eq",{"$f":"SUMIFS((_xlfn.XLOOKUP('Weighting Set'!$Z5,Modellering!$K$85:$BH$85,Modellering!$K$86:$BH$97)),Modellering!$E$86:$E$97,Milieuprofielen!AP$18)","v":0},{"$f":"SUMIFS((_xlfn.XLOOKUP('Weighting Set'!$Z5,Modellering!$K$85:$BH$85,Modellering!$K$86:$BH$97)),Modellering!$E$86:$E$97,Milieuprofielen!AQ$18)","v":0},{"$f":"SUMIFS((_xlfn.XLOOKUP('Weighting Set'!$Z5,Modellering!$K$85:$BH$85,Modellering!$K$86:$BH$97)),Modellering!$E$86:$E$97,Milieuprofielen!AR$18)","v":0},0]
[null,null,null,"002. abiotic depletion, fuel (AD)","kg Sb eq",{"$f":"SUMIFS((_xlfn.XLOOKUP('Weighting Set'!$Z6,Modellering!$K$5:$BH$5,Modellering!$K$6:$BH$17)),Modellering!$E$6:$E$17,Milieuprofielen!F$18)","v":25.800790873377405},{"$f":"SUMIFS((_xlfn.XLOOKUP('Weighting Set'!$Z6,Modellering!$K$5:$BH$5,Modellering!$K$6:$BH$17)),Modellering!$E$6:$E$17,Milieuprofielen!G$18)","v":0.13933530370552885},{"$f":"SUMIFS((_xlfn.XLOOKUP('Weighting Set'!$Z6,Modellering!$K$5:$BH$5,Modellering!$K$6:$BH$17)),Modellering!$E$6:$E$17,Milieuprofielen!H$18)","v":0.39587973412503163},26.336005911207966,null,null,null,"002. abiotic depletion, fuel (AD)","kg Sb eq",{"$f":"SUMIFS((_xlfn.XLOOKUP('Weighting Set'!$Z6,Modellering!$K$25:$BH$25,Modellering!$K$26:$BH$37)),Modellering!$E$26:$E$37,Milieuprofielen!O$18)","v":0},{"$f":"SUMIFS((_xlfn.XLOOKUP('Weighting Set'!$Z6,Modellering!$K$25:$BH$25,Modellering!$K$26:$BH$37)),Modellering!$E$26:$E$37,Milieuprofielen!P$18)","v":0},{"$f":"SUMIFS((_xlfn.XLOOKUP('Weighting Set'!$Z6,Modellering!$K$25:$BH$25,Modellering!$K$26:$BH$37)),Modellering!$E$26:$E$37,Milieuprofielen!Q$18)","v":0},0,null,null,null,"002. abiotic depletion, fuel (AD)","kg Sb eq",{"$f":"SUMIFS((_xlfn.XLOOKUP('Weighting Set'!$Z6,Modellering!$K$45:$BH$45,Modellering!$K$46:$BH$57)),Modellering!$E$46:$E$57,Milieuprofielen!X$18)","v":0},{"$f":"SUMIFS((_xlfn.XLOOKUP('Weighting Set'!$Z6,Modellering!$K$45:$BH$45,Modellering!$K$46:$BH$57)),Modellering!$E$46:$E$57,Milieuprofielen!Y$18)","v":0},{"$f":"SUMIFS((_xlfn.XLOOKUP('Weighting Set'!$Z6,Modellering!$K$45:$BH$45,Modellering!$K$46:$BH$57)),Modellering!$E$46:$E$57,Milieuprofielen!Z$18)","v":0},0,null,null,null,"002. abiotic depletion, fuel (AD)","kg Sb eq",{"$f":"SUMIFS((_xlfn.XLOOKUP('Weighting Set'!$Z6,Modellering!$K$65:$BH$65,Modellering!$K$66:$BH$77)),Modellering!$E$66:$E$77,Milieuprofielen!AG$18)","v":0},{"$f":"SUMIFS((_xlfn.XLOOKUP('Weighting Set'!$Z6,Modellering!$K$65:$BH$65,Modellering!$K$66:$BH$77)),Modellering!$E$66:$E$77,Milieuprofielen!AH$18)","v":0},{"$f":"SUMIFS((_xlfn.XLOOKUP('Weighting Set'!$Z6,Modellering!$K$65:$BH$65,Modellering!$K$66:$BH$77)),Modellering!$E$66:$E$77,Milieuprofielen!AI$18)","v":0},0,null,null,null,"002. abiotic depletion, fuel (AD)","kg Sb eq",{"$f":"SUMIFS((_xlfn.XLOOKUP('Weighting Set'!$Z6,Modellering!$K$85:$BH$85,Modellering!$K$86:$BH$97)),Modellering!$E$86:$E$97,Milieuprofielen!AP$18)","v":0},{"$f":"SUMIFS((_xlfn.XLOOKUP('Weighting Set'!$Z6,Modellering!$K$85:$BH$85,Modellering!$K$86:$BH$97)),Modellering!$E$86:$E$97,Milieuprofielen!AQ$18)","v":0},{"$f":"SUMIFS((_xlfn.XLOOKUP('Weighting Set'!$Z6,Modellering!$K$85:$BH$85,Modellering!$K$86:$BH$97)),Modellering!$E$86:$E$97,Milieuprofielen!AR$18)","v":0},0]
[null,null,null,"004. global warming (GWP)","kg CO2 eq",{"$f":"SUMIFS((_xlfn.XLOOKUP('Weighting Set'!$Z7,Modellering!$K$5:$BH$5,Modellering!$K$6:$BH$17)),Modellering!$E$6:$E$17,Milieuprofielen!F$18)","v":649.01192887019226},{"$f":"SUMIFS((_xlfn.XLOOKUP('Weighting Set'!$Z7,Modellering!$K$5:$BH$5,Modellering!$K$6:$BH$17)),Modellering!$E$6:$E$17,Milieuprofielen!G$18)","v":19.140244908052885},{"$f":"SUMIFS((_xlfn.XLOOKUP('Weighting Set'!$Z7,Modellering!$K$5:$BH$5,Modellering!$K$6:$BH$17)),Modellering!$E$6:$E$17,Milieuprofielen!H$18)","v":3305.5912640690754},3973.7434378473204,null,null,null,"004. global warming (GWP)","kg CO2 eq",{"$f":"SUMIFS((_xlfn.XLOOKUP('Weighting Set'!$Z7,Modellering!$K$25:$BH$25,Modellering!$K$26:$BH$37)),Modellering!$E$26:$E$37,Milieuprofielen!O$18)","v":0},{"$f":"SUMIFS((_xlfn.XLOOKUP('Weighting Set'!$Z7,Modellering!$K$25:$BH$25,Modellering!$K$26:$BH$37)),Modellering!$E$26:$E$37,Milieuprofielen!P$18)","v":0},{"$f":"SUMIFS((_xlfn.XLOOKUP('Weighting Set'!$Z7,Modellering!$K$25:$BH$25,Modellering!$K$26:$BH$37)),Modellering!$E$26:$E$37,Milieuprofielen!Q$18)","v":0},0,null,null,null,"004. global warming (GWP)","kg CO2 eq",{"$f":"SUMIFS((_xlfn.XLOOKUP('Weighting Set'!$Z7,Modellering!$K$45:$BH$45,Modellering!$K$46:$BH$57)),Modellering!$E$46:$E$57,Milieuprofielen!X$18)","v":0},{"$f":"SUMIFS((_xlfn.XLOOKUP('Weighting Set'!$Z7,Modellering!$K$45:$BH$45,Modellering!$K$46:$BH$57)),Modellering!$E$46:$E$57,Milieuprofielen!Y$18)","v":0},{"$f":"SUMIFS((_xlfn.XLOOKUP('Weighting Set'!$Z7,Modellering!$K$45:$BH$45,Modellering!$K$46:$BH$57)),Modellering!$E$46:$E$57,Milieuprofielen!Z$18)","v":0},0,null,null,null,"004. global warming (GWP)","kg CO2 eq",{"$f":"SUMIFS((_xlfn.XLOOKUP('Weighting Set'!$Z7,Modellering!$K$65:$BH$65,Modellering!$K$66:$BH$77)),Modellering!$E$66:$E$77,Milieuprofielen!AG$18)","v":0},{"$f":"SUMIFS((_xlfn.XLOOKUP('Weighting Set'!$Z7,Modellering!$K$65:$BH$65,Modellering!$K$66:$BH$77)),Modellering!$E$66:$E$77,Milieuprofielen!AH$18)","v":0},{"$f":"SUMIFS((_xlfn.XLOOKUP('Weighting Set'!$Z7,Modellering!$K$65:$BH$65,Modellering!$K$66:$BH$77)),Modellering!$E$66:$E$77,Milieuprofielen!AI$18)","v":0},0,null,null,null,"004. global warming (GWP)","kg CO2 eq",{"$f":"SUMIFS((_xlfn.XLOOKUP('Weighting Set'!$Z7,Modellering!$K$85:$BH$85,Modellering!$K$86:$BH$97)),Modellering!$E$86:$E$97,Milieuprofielen!AP$18)","v":0},{"$f":"SUMIFS((_xlfn.XLOOKUP('Weighting Set'!$Z7,Modellering!$K$85:$BH$85,Modellering!$K$86:$BH$97)),Modellering!$E$86:$E$97,Milieuprofielen!AQ$18)","v":0},{"$f":"SUMIFS((_xlfn.XLOOKUP('Weighting Set'!$Z7,Modellering!$K$85:$BH$85,Modellering!$K$86:$BH$97)),Modellering!$E$86:$E$97,Milieuprofielen!AR$18)","v":0},0]
[null,null,null,"005. ozone layer depletion (ODP)","kg CFC-11 eq",{"$f":"SUMIFS((_xlfn.XLOOKUP('Weighting Set'!$Z8,Modellering!$K$5:$BH$5,Modellering!$K$6:$BH$17)),Modellering!$E$6:$E$17,Milieuprofielen!F$18)","v":6.2219489542307701E-4},{"$f":"SUMIFS((_xlfn.XLOOKUP('Weighting Set'!$Z8,Modellering!$K$5:$BH$5,Modellering!$K$6:$BH$17)),Modellering!$E$6:$E$17,Milieuprofielen!G$18)","v":3.1592739389002403E-6},{"$f":"SUMIFS((_xlfn.XLOOKUP('Weighting Set'!$Z8,Modellering!$K$5:$BH$5,Modellering!$K$6:$BH$17)),Modellering!$E$6:$E$17,Milieuprofielen!H$18)","v":2.0434959355691826E-5},6.4578912871766914E-4,null,null,null,"005. ozone layer depletion (ODP)","kg CFC-11 eq",{"$f":"SUMIFS((_xlfn.XLOOKUP('Weighting Set'!$Z8,Modellering!$K$25:$BH$25,Modellering!$K$26:$BH$37)),Modellering!$E$26:$E$37,Milieuprofielen!O$18)","v":0},{"$f":"SUMIFS((_xlfn.XLOOKUP('Weighting Set'!$Z8,Modellering!$K$25:$BH$25,Modellering!$K$26:$BH$37)),Modellering!$E$26:$E$37,Milieuprofielen!P$18)","v":0},{"$f":"SUMIFS((_xlfn.XLOOKUP('Weighting Set'!$Z8,Modellering!$K$25:$BH$25,Modellering!$K$26:$BH$37)),Modellering!$E$26:$E$37,Milieuprofielen!Q$18)","v":0},0,null,null,null,"005. ozone layer depletion (ODP)","kg CFC-11 eq",{"$f":"SUMIFS((_xlfn.XLOOKUP('Weighting Set'!$Z8,Modellering!$K$45:$BH$45,Modellering!$K$46:$BH$57)),Modellering!$E$46:$E$57,Milieuprofielen!X$18)","v":0},{"$f":"SUMIFS((_xlfn.XLOOKUP('Weighting Set'!$Z8,Modellering!$K$45:$BH$45,Modellering!$K$46:$BH$57)),Modellering!$E$46:$E$57,Milieuprofielen!Y$18)","v":0},{"$f":"SUMIFS((_xlfn.XLOOKUP('Weighting Set'!$Z8,Modellering!$K$45:$BH$45,Modellering!$K$46:$BH$57)),Modellering!$E$46:$E$57,Milieuprofielen!Z$18)","v":0},0,null,null,null,"005. ozone layer depletion (ODP)","kg CFC-11 eq",{"$f":"SUMIFS((_xlfn.XLOOKUP('Weighting Set'!$Z8,Modellering!$K$65:$BH$65,Modellering!$K$66:$BH$77)),Modellering!$E$66:$E$77,Milieuprofielen!AG$18)","v":0},{"$f":"SUMIFS((_xlfn.XLOOKUP('Weighting Set'!$Z8,Modellering!$K$65:$BH$65,Modellering!$K$66:$BH$77)),Modellering!$E$66:$E$77,Milieuprofielen!AH$18)","v":0},{"$f":"SUMIFS((_xlfn.XLOOKUP('Weighting Set'!$Z8,Modellering!$K$65:$BH$65,Modellering!$K$66:$BH$77)),Modellering!$E$66:$E$77,Milieuprofielen!AI$18)","v":0},0,null,null,null,"005. ozone layer depletion (ODP)","kg CFC-11 eq",{"$f":"SUMIFS((_xlfn.XLOOKUP('Weighting Set'!$Z8,Modellering!$K$85:$BH$85,Modellering!$K$86:$BH$97)),Modellering!$E$86:$E$97,Milieuprofielen!AP$18)","v":0},{"$f":"SUMIFS((_xlfn.XLOOKUP('Weighting Set'!$Z8,Modellering!$K$85:$BH$85,Modellering!$K$86:$BH$97)),Modellering!$E$86:$E$97,Milieuprofielen!AQ$18)","v":0},{"$f":"SUMIFS((_xlfn.XLOOKUP('Weighting Set'!$Z8,Modellering!$K$85:$BH$85,Modellering!$K$86:$BH$97)),Modellering!$E$86:$E$97,Milieuprofielen!AR$18)","v":0},0]
[null,null,null,"006. photochemical oxidation (POCP)","kg C2H4",{"$f":"SUMIFS((_xlfn.XLOOKUP('Weighting Set'!$Z9,Modellering!$K$5:$BH$5,Modellering!$K$6:$BH$17)),Modellering!$E$6:$E$17,Milieuprofielen!F$18)","v":0.91518993181610575},{"$f":"SUMIFS((_xlfn.XLOOKUP('Weighting Set'!$Z9,Modellering!$K$5:$BH$5,Modellering!$K$6:$BH$17)),Modellering!$E$6:$E$17,Milieuprofielen!G$18)","v":1.1912953502686298E-2},{"$f":"SUMIFS((_xlfn.XLOOKUP('Weighting Set'!$Z9,Modellering!$K$5:$BH$5,Modellering!$K$6:$BH$17)),Modellering!$E$6:$E$17,Milieuprofielen!H$18)","v":0.19558064104504078},1.1226835263638328,null,null,null,"006. photochemical oxidation (POCP)","kg C2H4",{"$f":"SUMIFS((_xlfn.XLOOKUP('Weighting Set'!$Z9,Modellering!$K$25:$BH$25,Modellering!$K$26:$BH$37)),Modellering!$E$26:$E$37,Milieuprofielen!O$18)","v":0},{"$f":"SUMIFS((_xlfn.XLOOKUP('Weighting Set'!$Z9,Modellering!$K$25:$BH$25,Modellering!$K$26:$BH$37)),Modellering!$E$26:$E$37,Milieuprofielen!P$18)","v":0},{"$f":"SUMIFS((_xlfn.XLOOKUP('Weighting Set'!$Z9,Modellering!$K$25:$BH$25,Modellering!$K$26:$BH$37)),Modellering!$E$26:$E$37,Milieuprofielen!Q$18)","v":0},0,null,null,null,"006. photochemical oxidation (POCP)","kg C2H4",{"$f":"SUMIFS((_xlfn.XLOOKUP('Weighting Set'!$Z9,Modellering!$K$45:$BH$45,Modellering!$K$46:$BH$57)),Modellering!$E$46:$E$57,Milieuprofielen!X$18)","v":0},{"$f":"SUMIFS((_xlfn.XLOOKUP('Weighting Set'!$Z9,Modellering!$K$45:$BH$45,Modellering!$K$46:$BH$57)),Modellering!$E$46:$E$57,Milieuprofielen!Y$18)","v":0},{"$f":"SUMIFS((_xlfn.XLOOKUP('Weighting Set'!$Z9,Modellering!$K$45:$BH$45,Modellering!$K$46:$BH$57)),Modellering!$E$46:$E$57,Milieuprofielen!Z$18)","v":0},0,null,null,null,"006. photochemical oxidation (POCP)","kg C2H4",{"$f":"SUMIFS((_xlfn.XLOOKUP('Weighting Set'!$Z9,Modellering!$K$65:$BH$65,Modellering!$K$66:$BH$77)),Modellering!$E$66:$E$77,Milieuprofielen!AG$18)","v":0},{"$f":"SUMIFS((_xlfn.XLOOKUP('Weighting Set'!$Z9,Modellering!$K$65:$BH$65,Modellering!$K$66:$BH$77)),Modellering!$E$66:$E$77,Milieuprofielen!AH$18)","v":0},{"$f":"SUMIFS((_xlfn.XLOOKUP('Weighting Set'!$Z9,Modellering!$K$65:$BH$65,Modellering!$K$66:$BH$77)),Modellering!$E$66:$E$77,Milieuprofielen!AI$18)","v":0},0,null,null,null,"006. photochemical oxidation (POCP)","kg C2H4",{"$f":"SUMIFS((_xlfn.XLOOKUP('Weighting Set'!$Z9,Modellering!$K$85:$BH$85,Modellering!$K$86:$BH$97)),Modellering!$E$86:$E$97,Milieuprofielen!AP$18)","v":0},{"$f":"SUMIFS((_xlfn.XLOOKUP('Weighting Set'!$Z9,Modellering!$K$85:$BH$85,Modellering!$K$86:$BH$97)),Modellering!$E$86:$E$97,Milieuprofielen!AQ$18)","v":0},{"$f":"SUMIFS((_xlfn.XLOOKUP('Weighting Set'!$Z9,Modellering!$K$85:$BH$85,Modellering!$K$86:$BH$97)),Modellering!$E$86:$E$97,Milieuprofielen!AR$18)","v":0},0]
[null,null,null,"007. acidification (AP)","kg SO2 eq",{"$f":"SUMIFS((_xlfn.XLOOKUP('Weighting Set'!$Z10,Modellering!$K$5:$BH$5,Modellering!$K$6:$BH$17)),Modellering!$E$6:$E$17,Milieuprofielen!F$18)","v":5.2583194874579329},{"$f":"SUMIFS((_xlfn.XLOOKUP('Weighting Set'!$Z10,Modellering!$K$5:$BH$5,Modellering!$K$6:$BH$17)),Modellering!$E$6:$E$17,Milieuprofielen!G$18)","v":7.918753516736779E-2},{"$f":"SUMIFS((_xlfn.XLOOKUP('Weighting Set'!$Z10,Modellering!$K$5:$BH$5,Modellering!$K$6:$BH$17)),Modellering!$E$6:$E$17,Milieuprofielen!H$18)","v":10.76908589887144},16.106592921496741,null,null,null,"007. acidification (AP)","kg SO2 eq",{"$f":"SUMIFS((_xlfn.XLOOKUP('Weighting Set'!$Z10,Modellering!$K$25:$BH$25,Modellering!$K$26:$BH$37)),Modellering!$E$26:$E$37,Milieuprofielen!O$18)","v":0},{"$f":"SUMIFS((_xlfn.XLOOKUP('Weighting Set'!$Z10,Modellering!$K$25:$BH$25,Modellering!$K$26:$BH$37)),Modellering!$E$26:$E$37,Milieuprofielen!P$18)","v":0},{"$f":"SUMIFS((_xlfn.XLOOKUP('Weighting Set'!$Z10,Modellering!$K$25:$BH$25,Modellering!$K$26:$BH$37)),Modellering!$E$26:$E$37,Milieuprofielen!Q$18)","v":0},0,null,null,null,"007. acidification (AP)","kg SO2 eq",{"$f":"SUMIFS((_xlfn.XLOOKUP('Weighting Set'!$Z10,Modellering!$K$45:$BH$45,Modellering!$K$46:$BH$57)),Modellering!$E$46:$E$57,Milieuprofielen!X$18)","v":0},{"$f":"SUMIFS((_xlfn.XLOOKUP('Weighting Set'!$Z10,Modellering!$K$45:$BH$45,Modellering!$K$46:$BH$57)),Modellering!$E$46:$E$57,Milieuprofielen!Y$18)","v":0},{"$f":"SUMIFS((_xlfn.XLOOKUP('Weighting Set'!$Z10,Modellering!$K$45:$BH$45,Modellering!$K$46:$BH$57)),Modellering!$E$46:$E$57,Milieuprofielen!Z$18)","v":0},0,null,null,null,"007. acidification (AP)","kg SO2 eq",{"$f":"SUMIFS((_xlfn.XLOOKUP('Weighting Set'!$Z10,Modellering!$K$65:$BH$65,Modellering!$K$66:$BH$77)),Modellering!$E$66:$E$77,Milieuprofielen!AG$18)","v":0},{"$f":"SUMIFS((_xlfn.XLOOKUP('Weighting Set'!$Z10,Modellering!$K$65:$BH$65,Modellering!$K$66:$BH$77)),Modellering!$E$66:$E$77,Milieuprofielen!AH$18)","v":0},{"$f":"SUMIFS((_xlfn.XLOOKUP('Weighting Set'!$Z10,Modellering!$K$65:$BH$65,Modellering!$K$66:$BH$77)),Modellering!$E$66:$E$77,Milieuprofielen!AI$18)","v":0},0,null,null,null,"007. acidification (AP)","kg SO2 eq",{"$f":"SUMIFS((_xlfn.XLOOKUP('Weighting Set'!$Z10,Modellering!$K$85:$BH$85,Modellering!$K$86:$BH$97)),Modellering!$E$86:$E$97,Milieuprofielen!AP$18)","v":0},{"$f":"SUMIFS((_xlfn.XLOOKUP('Weighting Set'!$Z10,Modellering!$K$85:$BH$85,Modellering!$K$86:$BH$97)),Modellering!$E$86:$E$97,Milieuprofielen!AQ$18)","v":0},{"$f":"SUMIFS((_xlfn.XLOOKUP('Weighting Set'!$Z10,Modellering!$K$85:$BH$85,Modellering!$K$86:$BH$97)),Modellering!$E$86:$E$97,Milieuprofielen!AR$18)","v":0},0]
[null,null,null,"008. eutrophication (EP)","kg PO4--- eq",{"$f":"SUMIFS((_xlfn.XLOOKUP('Weighting Set'!$Z11,Modellering!$K$5:$BH$5,Modellering!$K$6:$BH$17)),Modellering!$E$6:$E$17,Milieuprofielen!F$18)","v":0.70423698030829329},{"$f":"SUMIFS((_xlfn.XLOOKUP('Weighting Set'!$Z11,Modellering!$K$5:$BH$5,Modellering!$K$6:$BH$17)),Modellering!$E$6:$E$17,Milieuprofielen!G$18)","v":1.4009988088611779E-2},{"$f":"SUMIFS((_xlfn.XLOOKUP('Weighting Set'!$Z11,Modellering!$K$5:$BH$5,Modellering!$K$6:$BH$17)),Modellering!$E$6:$E$17,Milieuprofielen!H$18)","v":2.6730164439336064},3.3912634123305114,null,null,null,"008. eutrophication (EP)","kg PO4--- eq",{"$f":"SUMIFS((_xlfn.XLOOKUP('Weighting Set'!$Z11,Modellering!$K$25:$BH$25,Modellering!$K$26:$BH$37)),Modellering!$E$26:$E$37,Milieuprofielen!O$18)","v":0},{"$f":"SUMIFS((_xlfn.XLOOKUP('Weighting Set'!$Z11,Modellering!$K$25:$BH$25,Modellering!$K$26:$BH$37)),Modellering!$E$26:$E$37,Milieuprofielen!P$18)","v":0},{"$f":"SUMIFS((_xlfn.XLOOKUP('Weighting Set'!$Z11,Modellering!$K$25:$BH$25,Modellering!$K$26:$BH$37)),Modellering!$E$26:$E$37,Milieuprofielen!Q$18)","v":0},0,null,null,null,"008. eutrophication (EP)","kg PO4--- eq",{"$f":"SUMIFS((_xlfn.XLOOKUP('Weighting Set'!$Z11,Modellering!$K$45:$BH$45,Modellering!$K$46:$BH$57)),Modellering!$E$46:$E$57,Milieuprofielen!X$18)","v":0},{"$f":"SUMIFS((_xlfn.XLOOKUP('Weighting Set'!$Z11,Modellering!$K$45:$BH$45,Modellering!$K$46:$BH$57)),Modellering!$E$46:$E$57,Milieuprofielen!Y$18)","v":0},{"$f":"SUMIFS((_xlfn.XLOOKUP('Weighting Set'!$Z11,Modellering!$K$45:$BH$45,Modellering!$K$46:$BH$57)),Modellering!$E$46:$E$57,Milieuprofielen!Z$18)","v":0},0,null,null,null,"008. eutrophication (EP)","kg PO4--- eq",{"$f":"SUMIFS((_xlfn.XLOOKUP('Weighting Set'!$Z11,Modellering!$K$65:$BH$65,Modellering!$K$66:$BH$77)),Modellering!$E$66:$E$77,Milieuprofielen!AG$18)","v":0},{"$f":"SUMIFS((_xlfn.XLOOKUP('Weighting Set'!$Z11,Modellering!$K$65:$BH$65,Modellering!$K$66:$BH$77)),Modellering!$E$66:$E$77,Milieuprofielen!AH$18)","v":0},{"$f":"SUMIFS((_xlfn.XLOOKUP('Weighting Set'!$Z11,Modellering!$K$65:$BH$65,Modellering!$K$66:$BH$77)),Modellering!$E$66:$E$77,Milieuprofielen!AI$18)","v":0},0,null,null,null,"008. eutrophication (EP)","kg PO4--- eq",{"$f":"SUMIFS((_xlfn.XLOOKUP('Weighting Set'!$Z11,Modellering!$K$85:$BH$85,Modellering!$K$86:$BH$97)),Modellering!$E$86:$E$97,Milieuprofielen!AP$18)","v":0},{"$f":"SUMIFS((_xlfn.XLOOKUP('Weighting Set'!$Z11,Modellering!$K$85:$BH$85,Modellering!$K$86:$BH$97)),Modellering!$E$86:$E$97,Milieuprofielen!AQ$18)","v":0},{"$f":"SUMIFS((_xlfn.XLOOKUP('Weighting Set'!$Z11,Modellering!$K$85:$BH$85,Modellering!$K$86:$BH$97)),Modellering!$E$86:$E$97,Milieuprofielen!AR$18)","v":0},0]
[null,null,null,"009. human toxicity (HT)","kg 1,4-DB eq",{"$f":"SUMIFS((_xlfn.XLOOKUP('Weighting Set'!$Z12,Modellering!$K$5:$BH$5,Modellering!$K$6:$BH$17)),Modellering!$E$6:$E$17,Milieuprofielen!F$18)","v":359.62504531730769},{"$f":"SUMIFS((_xlfn.XLOOKUP('Weighting Set'!$Z12,Modellering!$K$5:$BH$5,Modellering!$K$6:$BH$17)),Modellering!$E$6:$E$17,Milieuprofielen!G$18)","v":5.5984671835156243},{"$f":"SUMIFS((_xlfn.XLOOKUP('Weighting Set'!$Z12,Modellering!$K$5:$BH$5,Modellering!$K$6:$BH$17)),Modellering!$E$6:$E$17,Milieuprofielen!H$18)","v":148.37071189325755},513.59422439408092,null,null,null,"009. human toxicity (HT)","kg 1,4-DB eq",{"$f":"SUMIFS((_xlfn.XLOOKUP('Weighting Set'!$Z12,Modellering!$K$25:$BH$25,Modellering!$K$26:$BH$37)),Modellering!$E$26:$E$37,Milieuprofielen!O$18)","v":0},{"$f":"SUMIFS((_xlfn.XLOOKUP('Weighting Set'!$Z12,Modellering!$K$25:$BH$25,Modellering!$K$26:$BH$37)),Modellering!$E$26:$E$37,Milieuprofielen!P$18)","v":0},{"$f":"SUMIFS((_xlfn.XLOOKUP('Weighting Set'!$Z12,Modellering!$K$25:$BH$25,Modellering!$K$26:$BH$37)),Modellering!$E$26:$E$37,Milieuprofielen!Q$18)","v":0},0,null,null,null,"009. human toxicity (HT)","kg 1,4-DB eq",{"$f":"SUMIFS((_xlfn.XLOOKUP('Weighting Set'!$Z12,Modellering!$K$45:$BH$45,Modellering!$K$46:$BH$57)),Modellering!$E$46:$E$57,Milieuprofielen!X$18)","v":0},{"$f":"SUMIFS((_xlfn.XLOOKUP('Weighting Set'!$Z12,Modellering!$K$45:$BH$45,Modellering!$K$46:$BH$57)),Modellering!$E$46:$E$57,Milieuprofielen!Y$18)","v":0},{"$f":"SUMIFS((_xlfn.XLOOKUP('Weighting Set'!$Z12,Modellering!$K$45:$BH$45,Modellering!$K$46:$BH$57)),Modellering!$E$46:$E$57,Milieuprofielen!Z$18)","v":0},0,null,null,null,"009. human toxicity (HT)","kg 1,4-DB eq",{"$f":"SUMIFS((_xlfn.XLOOKUP('Weighting Set'!$Z12,Modellering!$K$65:$BH$65,Modellering!$K$66:$BH$77)),Modellering!$E$66:$E$77,Milieuprofielen!AG$18)","v":0},{"$f":"SUMIFS((_xlfn.XLOOKUP('Weighting Set'!$Z12,Modellering!$K$65:$BH$65,Modellering!$K$66:$BH$77)),Modellering!$E$66:$E$77,Milieuprofielen!AH$18)","v":0},{"$f":"SUMIFS((_xlfn.XLOOKUP('Weighting Set'!$Z12,Modellering!$K$65:$BH$65,Modellering!$K$66:$BH$77)),Modellering!$E$66:$E$77,Milieuprofielen!AI$18)","v":0},0,null,null,null,"009. human toxicity (HT)","kg 1,4-DB eq",{"$f":"SUMIFS((_xlfn.XLOOKUP('Weighting Set'!$Z12,Modellering!$K$85:$BH$85,Modellering!$K$86:$BH$97)),Modellering!$E$86:$E$97,Milieuprofielen!AP$18)","v":0},{"$f":"SUMIFS((_xlfn.XLOOKUP('Weighting Set'!$Z12,Modellering!$K$85:$BH$85,Modellering!$K$86:$BH$97)),Modellering!$E$86:$E$97,Milieuprofielen!AQ$18)","v":0},{"$f":"SUMIFS((_xlfn.XLOOKUP('Weighting Set'!$Z12,Modellering!$K$85:$BH$85,Modellering!$K$86:$BH$97)),Modellering!$E$86:$E$97,Milieuprofielen!AR$18)","v":0},0]
[null,null,null,"010. Ecotoxicity, fresh water (FAETP)","kg 1,4-DB eq",{"$f":"SUMIFS((_xlfn.XLOOKUP('Weighting Set'!$Z13,Modellering!$K$5:$BH$5,Modellering!$K$6:$BH$17)),Modellering!$E$6:$E$17,Milieuprofielen!F$18)","v":14.39722052844952},{"$f":"SUMIFS((_xlfn.XLOOKUP('Weighting Set'!$Z13,Modellering!$K$5:$BH$5,Modellering!$K$6:$BH$17)),Modellering!$E$6:$E$17,Milieuprofielen!G$18)","v":0.18314465207091346},{"$f":"SUMIFS((_xlfn.XLOOKUP('Weighting Set'!$Z13,Modellering!$K$5:$BH$5,Modellering!$K$6:$BH$17)),Modellering!$E$6:$E$17,Milieuprofielen!H$18)","v":0.88988029102277122},15.470245471543205,null,null,null,"010. Ecotoxicity, fresh water (FAETP)","kg 1,4-DB eq",{"$f":"SUMIFS((_xlfn.XLOOKUP('Weighting Set'!$Z13,Modellering!$K$25:$BH$25,Modellering!$K$26:$BH$37)),Modellering!$E$26:$E$37,Milieuprofielen!O$18)","v":0},{"$f":"SUMIFS((_xlfn.XLOOKUP('Weighting Set'!$Z13,Modellering!$K$25:$BH$25,Modellering!$K$26:$BH$37)),Modellering!$E$26:$E$37,Milieuprofielen!P$18)","v":0},{"$f":"SUMIFS((_xlfn.XLOOKUP('Weighting Set'!$Z13,Modellering!$K$25:$BH$25,Modellering!$K$26:$BH$37)),Modellering!$E$26:$E$37,Milieuprofielen!Q$18)","v":0},0,null,null,null,"010. Ecotoxicity, fresh water (FAETP)","kg 1,4-DB eq",{"$f":"SUMIFS((_xlfn.XLOOKUP('Weighting Set'!$Z13,Modellering!$K$45:$BH$45,Modellering!$K$46:$BH$57)),Modellering!$E$46:$E$57,Milieuprofielen!X$18)","v":0},{"$f":"SUMIFS((_xlfn.XLOOKUP('Weighting Set'!$Z13,Modellering!$K$45:$BH$45,Modellering!$K$46:$BH$57)),Modellering!$E$46:$E$57,Milieuprofielen!Y$18)","v":0},{"$f":"SUMIFS((_xlfn.XLOOKUP('Weighting Set'!$Z13,Modellering!$K$45:$BH$45,Modellering!$K$46:$BH$57)),Modellering!$E$46:$E$57,Milieuprofielen!Z$18)","v":0},0,null,null,null,"010. Ecotoxicity, fresh water (FAETP)","kg 1,4-DB eq",{"$f":"SUMIFS((_xlfn.XLOOKUP('Weighting Set'!$Z13,Modellering!$K$65:$BH$65,Modellering!$K$66:$BH$77)),Modellering!$E$66:$E$77,Milieuprofielen!AG$18)","v":0},{"$f":"SUMIFS((_xlfn.XLOOKUP('Weighting Set'!$Z13,Modellering!$K$65:$BH$65,Modellering!$K$66:$BH$77)),Modellering!$E$66:$E$77,Milieuprofielen!AH$18)","v":0},{"$f":"SUMIFS((_xlfn.XLOOKUP('Weighting Set'!$Z13,Modellering!$K$65:$BH$65,Modellering!$K$66:$BH$77)),Modellering!$E$66:$E$77,Milieuprofielen!AI$18)","v":0},0,null,null,null,"010. Ecotoxicity, fresh water (FAETP)","kg 1,4-DB eq",{"$f":"SUMIFS((_xlfn.XLOOKUP('Weighting Set'!$Z13,Modellering!$K$85:$BH$85,Modellering!$K$86:$BH$97)),Modellering!$E$86:$E$97,Milieuprofielen!AP$18)","v":0},{"$f":"SUMIFS((_xlfn.XLOOKUP('Weighting Set'!$Z13,Modellering!$K$85:$BH$85,Modellering!$K$86:$BH$97)),Modellering!$E$86:$E$97,Milieuprofielen!AQ$18)","v":0},{"$f":"SUMIFS((_xlfn.XLOOKUP('Weighting Set'!$Z13,Modellering!$K$85:$BH$85,Modellering!$K$86:$BH$97)),Modellering!$E$86:$E$97,Milieuprofielen!AR$18)","v":0},0]
[null,null,null,"012. Ecotoxcity, marine water (MAETP)","kg 1,4-DB eq",{"$f":"SUMIFS((_xlfn.XLOOKUP('Weighting Set'!$Z14,Modellering!$K$5:$BH$5,Modellering!$K$6:$BH$17)),Modellering!$E$6:$E$17,Milieuprofielen!F$18)","v":65002.132796033649},{"$f":"SUMIFS((_xlfn.XLOOKUP('Weighting Set'!$Z14,Modellering!$K$5:$BH$5,Modellering!$K$6:$BH$17)),Modellering!$E$6:$E$17,Milieuprofielen!G$18)","v":492.47053495552888},{"$f":"SUMIFS((_xlfn.XLOOKUP('Weighting Set'!$Z14,Modellering!$K$5:$BH$5,Modellering!$K$6:$BH$17)),Modellering!$E$6:$E$17,Milieuprofielen!H$18)","v":2338.9947974897914},67833.598128478974,null,null,null,"012. Ecotoxcity, marine water (MAETP)","kg 1,4-DB eq",{"$f":"SUMIFS((_xlfn.XLOOKUP('Weighting Set'!$Z14,Modellering!$K$25:$BH$25,Modellering!$K$26:$BH$37)),Modellering!$E$26:$E$37,Milieuprofielen!O$18)","v":0},{"$f":"SUMIFS((_xlfn.XLOOKUP('Weighting Set'!$Z14,Modellering!$K$25:$BH$25,Modellering!$K$26:$BH$37)),Modellering!$E$26:$E$37,Milieuprofielen!P$18)","v":0},{"$f":"SUMIFS((_xlfn.XLOOKUP('Weighting Set'!$Z14,Modellering!$K$25:$BH$25,Modellering!$K$26:$BH$37)),Modellering!$E$26:$E$37,Milieuprofielen!Q$18)","v":0},0,null,null,null,"012. Ecotoxcity, marine water (MAETP)","kg 1,4-DB eq",{"$f":"SUMIFS((_xlfn.XLOOKUP('Weighting Set'!$Z14,Modellering!$K$45:$BH$45,Modellering!$K$46:$BH$57)),Modellering!$E$46:$E$57,Milieuprofielen!X$18)","v":0},{"$f":"SUMIFS((_xlfn.XLOOKUP('Weighting Set'!$Z14,Modellering!$K$45:$BH$45,Modellering!$K$46:$BH$57)),Modellering!$E$46:$E$57,Milieuprofielen!Y$18)","v":0},{"$f":"SUMIFS((_xlfn.XLOOKUP('Weighting Set'!$Z14,Modellering!$K$45:$BH$45,Modellering!$K$46:$BH$57)),Modellering!$E$46:$E$57,Milieuprofielen!Z$18)","v":0},0,null,null,null,"012. Ecotoxcity, marine water (MAETP)","kg 1,4-DB eq",{"$f":"SUMIFS((_xlfn.XLOOKUP('Weighting Set'!$Z14,Modellering!$K$65:$BH$65,Modellering!$K$66:$BH$77)),Modellering!$E$66:$E$77,Milieuprofielen!AG$18)","v":0},{"$f":"SUMIFS((_xlfn.XLOOKUP('Weighting Set'!$Z14,Modellering!$K$65:$BH$65,Modellering!$K$66:$BH$77)),Modellering!$E$66:$E$77,Milieuprofielen!AH$18)","v":0},{"$f":"SUMIFS((_xlfn.XLOOKUP('Weighting Set'!$Z14,Modellering!$K$65:$BH$65,Modellering!$K$66:$BH$77)),Modellering!$E$66:$E$77,Milieuprofielen!AI$18)","v":0},0,null,null,null,"012. Ecotoxcity, marine water (MAETP)","kg 1,4-DB eq",{"$f":"SUMIFS((_xlfn.XLOOKUP('Weighting Set'!$Z14,Modellering!$K$85:$BH$85,Modellering!$K$86:$BH$97)),Modellering!$E$86:$E$97,Milieuprofielen!AP$18)","v":0},{"$f":"SUMIFS((_xlfn.XLOOKUP('Weighting Set'!$Z14,Modellering!$K$85:$BH$85,Modellering!$K$86:$BH$97)),Modellering!$E$86:$E$97,Milieuprofielen!AQ$18)","v":0},{"$f":"SUMIFS((_xlfn.XLOOKUP('Weighting Set'!$Z14,Modellering!$K$85:$BH$85,Modellering!$K$86:$BH$97)),Modellering!$E$86:$E$97,Milieuprofielen!AR$18)","v":0},0]
[null,null,null,"014. Ecotoxicity, terrestric (TETP)","kg 1,4-DB eq",{"$f":"SUMIFS((_xlfn.XLOOKUP('Weighting Set'!$Z15,Modellering!$K$5:$BH$5,Modellering!$K$6:$BH$17)),Modellering!$E$6:$E$17,Milieuprofielen!F$18)","v":0.93029969075721153},{"$f":"SUMIFS((_xlfn.XLOOKUP('Weighting Set'!$Z15,Modellering!$K$5:$BH$5,Modellering!$K$6:$BH$17)),Modellering!$E$6:$E$17,Milieuprofielen!G$18)","v":4.6718027848016826E-2},{"$f":"SUMIFS((_xlfn.XLOOKUP('Weighting Set'!$Z15,Modellering!$K$5:$BH$5,Modellering!$K$6:$BH$17)),Modellering!$E$6:$E$17,Milieuprofielen!H$18)","v":1.5022222280509183},2.4792399466561466,null,null,null,"014. Ecotoxicity, terrestric (TETP)","kg 1,4-DB eq",{"$f":"SUMIFS((_xlfn.XLOOKUP('Weighting Set'!$Z15,Modellering!$K$25:$BH$25,Modellering!$K$26:$BH$37)),Modellering!$E$26:$E$37,Milieuprofielen!O$18)","v":0},{"$f":"SUMIFS((_xlfn.XLOOKUP('Weighting Set'!$Z15,Modellering!$K$25:$BH$25,Modellering!$K$26:$BH$37)),Modellering!$E$26:$E$37,Milieuprofielen!P$18)","v":0},{"$f":"SUMIFS((_xlfn.XLOOKUP('Weighting Set'!$Z15,Modellering!$K$25:$BH$25,Modellering!$K$26:$BH$37)),Modellering!$E$26:$E$37,Milieuprofielen!Q$18)","v":0},0,null,null,null,"014. Ecotoxicity, terrestric (TETP)","kg 1,4-DB eq",{"$f":"SUMIFS((_xlfn.XLOOKUP('Weighting Set'!$Z15,Modellering!$K$45:$BH$45,Modellering!$K$46:$BH$57)),Modellering!$E$46:$E$57,Milieuprofielen!X$18)","v":0},{"$f":"SUMIFS((_xlfn.XLOOKUP('Weighting Set'!$Z15,Modellering!$K$45:$BH$45,Modellering!$K$46:$BH$57)),Modellering!$E$46:$E$57,Milieuprofielen!Y$18)","v":0},{"$f":"SUMIFS((_xlfn.XLOOKUP('Weighting Set'!$Z15,Modellering!$K$45:$BH$45,Modellering!$K$46:$BH$57)),Modellering!$E$46:$E$57,Milieuprofielen!Z$18)","v":0},0,null,null,null,"014. Ecotoxicity, terrestric (TETP)","kg 1,4-DB eq",{"$f":"SUMIFS((_xlfn.XLOOKUP('Weighting Set'!$Z15,Modellering!$K$65:$BH$65,Modellering!$K$66:$BH$77)),Modellering!$E$66:$E$77,Milieuprofielen!AG$18)","v":0},{"$f":"SUMIFS((_xlfn.XLOOKUP('Weighting Set'!$Z15,Modellering!$K$65:$BH$65,Modellering!$K$66:$BH$77)),Modellering!$E$66:$E$77,Milieuprofielen!AH$18)","v":0},{"$f":"SUMIFS((_xlfn.XLOOKUP('Weighting Set'!$Z15,Modellering!$K$65:$BH$65,Modellering!$K$66:$BH$77)),Modellering!$E$66:$E$77,Milieuprofielen!AI$18)","v":0},0,null,null,null,"014. Ecotoxicity, terrestric (TETP)","kg 1,4-DB eq",{"$f":"SUMIFS((_xlfn.XLOOKUP('Weighting Set'!$Z15,Modellering!$K$85:$BH$85,Modellering!$K$86:$BH$97)),Modellering!$E$86:$E$97,Milieuprofielen!AP$18)","v":0},{"$f":"SUMIFS((_xlfn.XLOOKUP('Weighting Set'!$Z15,Modellering!$K$85:$BH$85,Modellering!$K$86:$BH$97)),Modellering!$E$86:$E$97,Milieuprofielen!AQ$18)","v":0},{"$f":"SUMIFS((_xlfn.XLOOKUP('Weighting Set'!$Z15,Modellering!$K$85:$BH$85,Modellering!$K$86:$BH$97)),Modellering!$E$86:$E$97,Milieuprofielen!AR$18)","v":0},0]
[null,null,"Characterized EN15804+A2","051. Climate change","kg CO2 eq",{"$f":"SUMIFS((_xlfn.XLOOKUP('Weighting Set'!$Z16,Modellering!$K$5:$BH$5,Modellering!$K$6:$BH$17)),Modellering!$E$6:$E$17,Milieuprofielen!F$18)","v":741.66311697295669},{"$f":"SUMIFS((_xlfn.XLOOKUP('Weighting Set'!$Z16,Modellering!$K$5:$BH$5,Modellering!$K$6:$BH$17)),Modellering!$E$6:$E$17,Milieuprofielen!G$18)","v":20.348071593870195},{"$f":"SUMIFS((_xlfn.XLOOKUP('Weighting Set'!$Z16,Modellering!$K$5:$BH$5,Modellering!$K$6:$BH$17)),Modellering!$E$6:$E$17,Milieuprofielen!H$18)","v":3318.8106989412004},4080.8218875080274,null,null,"Characterized EN15804+A2","051. Climate change","kg CO2 eq",{"$f":"SUMIFS((_xlfn.XLOOKUP('Weighting Set'!$Z16,Modellering!$K$25:$BH$25,Modellering!$K$26:$BH$37)),Modellering!$E$26:$E$37,Milieuprofielen!O$18)","v":0},{"$f":"SUMIFS((_xlfn.XLOOKUP('Weighting Set'!$Z16,Modellering!$K$25:$BH$25,Modellering!$K$26:$BH$37)),Modellering!$E$26:$E$37,Milieuprofielen!P$18)","v":0},{"$f":"SUMIFS((_xlfn.XLOOKUP('Weighting Set'!$Z16,Modellering!$K$25:$BH$25,Modellering!$K$26:$BH$37)),Modellering!$E$26:$E$37,Milieuprofielen!Q$18)","v":0},0,null,null,"Characterized EN15804+A2","051. Climate change","kg CO2 eq",{"$f":"SUMIFS((_xlfn.XLOOKUP('Weighting Set'!$Z16,Modellering!$K$45:$BH$45,Modellering!$K$46:$BH$57)),Modellering!$E$46:$E$57,Milieuprofielen!X$18)","v":0},{"$f":"SUMIFS((_xlfn.XLOOKUP('Weighting Set'!$Z16,Modellering!$K$45:$BH$45,Modellering!$K$46:$BH$57)),Modellering!$E$46:$E$57,Milieuprofielen!Y$18)","v":0},{"$f":"SUMIFS((_xlfn.XLOOKUP('Weighting Set'!$Z16,Modellering!$K$45:$BH$45,Modellering!$K$46:$BH$57)),Modellering!$E$46:$E$57,Milieuprofielen!Z$18)","v":0},0,null,null,"Characterized EN15804+A2","051. Climate change","kg CO2 eq",{"$f":"SUMIFS((_xlfn.XLOOKUP('Weighting Set'!$Z16,Modellering!$K$65:$BH$65,Modellering!$K$66:$BH$77)),Modellering!$E$66:$E$77,Milieuprofielen!AG$18)","v":0},{"$f":"SUMIFS((_xlfn.XLOOKUP('Weighting Set'!$Z16,Modellering!$K$65:$BH$65,Modellering!$K$66:$BH$77)),Modellering!$E$66:$E$77,Milieuprofielen!AH$18)","v":0},{"$f":"SUMIFS((_xlfn.XLOOKUP('Weighting Set'!$Z16,Modellering!$K$65:$BH$65,Modellering!$K$66:$BH$77)),Modellering!$E$66:$E$77,Milieuprofielen!AI$18)","v":0},0,null,null,"Characterized EN15804+A2","051. Climate change","kg CO2 eq",{"$f":"SUMIFS((_xlfn.XLOOKUP('Weighting Set'!$Z16,Modellering!$K$85:$BH$85,Modellering!$K$86:$BH$97)),Modellering!$E$86:$E$97,Milieuprofielen!AP$18)","v":0},{"$f":"SUMIFS((_xlfn.XLOOKUP('Weighting Set'!$Z16,Modellering!$K$85:$BH$85,Modellering!$K$86:$BH$97)),Modellering!$E$86:$E$97,Milieuprofielen!AQ$18)","v":0},{"$f":"SUMIFS((_xlfn.XLOOKUP('Weighting Set'!$Z16,Modellering!$K$85:$BH$85,Modellering!$K$86:$BH$97)),Modellering!$E$86:$E$97,Milieuprofielen!AR$18)","v":0},0]
[null,null,null,"052. Climate change - Fossil","kg CO2 eq",{"$f":"SUMIFS((_xlfn.XLOOKUP('Weighting Set'!$Z17,Modellering!$K$5:$BH$5,Modellering!$K$6:$BH$17)),Modellering!$E$6:$E$17,Milieuprofielen!F$18)","v":740.36536898918268},{"$f":"SUMIFS((_xlfn.XLOOKUP('Weighting Set'!$Z17,Modellering!$K$5:$BH$5,Modellering!$K$6:$BH$17)),Modellering!$E$6:$E$17,Milieuprofielen!G$18)","v":20.307542570673075},{"$f":"SUMIFS((_xlfn.XLOOKUP('Weighting Set'!$Z17,Modellering!$K$5:$BH$5,Modellering!$K$6:$BH$17)),Modellering!$E$6:$E$17,Milieuprofielen!H$18)","v":3318.3125567385091},4078.985468298365,null,null,null,"052. Climate change - Fossil","kg CO2 eq",{"$f":"SUMIFS((_xlfn.XLOOKUP('Weighting Set'!$Z17,Modellering!$K$25:$BH$25,Modellering!$K$26:$BH$37)),Modellering!$E$26:$E$37,Milieuprofielen!O$18)","v":0},{"$f":"SUMIFS((_xlfn.XLOOKUP('Weighting Set'!$Z17,Modellering!$K$25:$BH$25,Modellering!$K$26:$BH$37)),Modellering!$E$26:$E$37,Milieuprofielen!P$18)","v":0},{"$f":"SUMIFS((_xlfn.XLOOKUP('Weighting Set'!$Z17,Modellering!$K$25:$BH$25,Modellering!$K$26:$BH$37)),Modellering!$E$26:$E$37,Milieuprofielen!Q$18)","v":0},0,null,null,null,"052. Climate change - Fossil","kg CO2 eq",{"$f":"SUMIFS((_xlfn.XLOOKUP('Weighting Set'!$Z17,Modellering!$K$45:$BH$45,Modellering!$K$46:$BH$57)),Modellering!$E$46:$E$57,Milieuprofielen!X$18)","v":0},{"$f":"SUMIFS((_xlfn.XLOOKUP('Weighting Set'!$Z17,Modellering!$K$45:$BH$45,Modellering!$K$46:$BH$57)),Modellering!$E$46:$E$57,Milieuprofielen!Y$18)","v":0},{"$f":"SUMIFS((_xlfn.XLOOKUP('Weighting Set'!$Z17,Modellering!$K$45:$BH$45,Modellering!$K$46:$BH$57)),Modellering!$E$46:$E$57,Milieuprofielen!Z$18)","v":0},0,null,null,null,"052. Climate change - Fossil","kg CO2 eq",{"$f":"SUMIFS((_xlfn.XLOOKUP('Weighting Set'!$Z17,Modellering!$K$65:$BH$65,Modellering!$K$66:$BH$77)),Modellering!$E$66:$E$77,Milieuprofielen!AG$18)","v":0},{"$f":"SUMIFS((_xlfn.XLOOKUP('Weighting Set'!$Z17,Modellering!$K$65:$BH$65,Modellering!$K$66:$BH$77)),Modellering!$E$66:$E$77,Milieuprofielen!AH$18)","v":0},{"$f":"SUMIFS((_xlfn.XLOOKUP('Weighting Set'!$Z17,Modellering!$K$65:$BH$65,Modellering!$K$66:$BH$77)),Modellering!$E$66:$E$77,Milieuprofielen!AI$18)","v":0},0,null,null,null,"052. Climate change - Fossil","kg CO2 eq",{"$f":"SUMIFS((_xlfn.XLOOKUP('Weighting Set'!$Z17,Modellering!$K$85:$BH$85,Modellering!$K$86:$BH$97)),Modellering!$E$86:$E$97,Milieuprofielen!AP$18)","v":0},{"$f":"SUMIFS((_xlfn.XLOOKUP('Weighting Set'!$Z17,Modellering!$K$85:$BH$85,Modellering!$K$86:$BH$97)),Modellering!$E$86:$E$97,Milieuprofielen!AQ$18)","v":0},{"$f":"SUMIFS((_xlfn.XLOOKUP('Weighting Set'!$Z17,Modellering!$K$85:$BH$85,Modellering!$K$86:$BH$97)),Modellering!$E$86:$E$97,Milieuprofielen!AR$18)","v":0},0]
[null,null,null,"053. Climate change - Biogenic","kg CO2 eq",{"$f":"SUMIFS((_xlfn.XLOOKUP('Weighting Set'!$Z18,Modellering!$K$5:$BH$5,Modellering!$K$6:$BH$17)),Modellering!$E$6:$E$17,Milieuprofielen!F$18)","v":1.1201624525727163},{"$f":"SUMIFS((_xlfn.XLOOKUP('Weighting Set'!$Z18,Modellering!$K$5:$BH$5,Modellering!$K$6:$BH$17)),Modellering!$E$6:$E$17,Milieuprofielen!G$18)","v":2.8245472954903848E-2},{"$f":"SUMIFS((_xlfn.XLOOKUP('Weighting Set'!$Z18,Modellering!$K$5:$BH$5,Modellering!$K$6:$BH$17)),Modellering!$E$6:$E$17,Milieuprofielen!H$18)","v":0.35927580258047853},1.5076837281080986,null,null,null,"053. Climate change - Biogenic","kg CO2 eq",{"$f":"SUMIFS((_xlfn.XLOOKUP('Weighting Set'!$Z18,Modellering!$K$25:$BH$25,Modellering!$K$26:$BH$37)),Modellering!$E$26:$E$37,Milieuprofielen!O$18)","v":0},{"$f":"SUMIFS((_xlfn.XLOOKUP('Weighting Set'!$Z18,Modellering!$K$25:$BH$25,Modellering!$K$26:$BH$37)),Modellering!$E$26:$E$37,Milieuprofielen!P$18)","v":0},{"$f":"SUMIFS((_xlfn.XLOOKUP('Weighting Set'!$Z18,Modellering!$K$25:$BH$25,Modellering!$K$26:$BH$37)),Modellering!$E$26:$E$37,Milieuprofielen!Q$18)","v":0},0,null,null,null,"053. Climate change - Biogenic","kg CO2 eq",{"$f":"SUMIFS((_xlfn.XLOOKUP('Weighting Set'!$Z18,Modellering!$K$45:$BH$45,Modellering!$K$46:$BH$57)),Modellering!$E$46:$E$57,Milieuprofielen!X$18)","v":0},{"$f":"SUMIFS((_xlfn.XLOOKUP('Weighting Set'!$Z18,Modellering!$K$45:$BH$45,Modellering!$K$46:$BH$57)),Modellering!$E$46:$E$57,Milieuprofielen!Y$18)","v":0},{"$f":"SUMIFS((_xlfn.XLOOKUP('Weighting Set'!$Z18,Modellering!$K$45:$BH$45,Modellering!$K$46:$BH$57)),Modellering!$E$46:$E$57,Milieuprofielen!Z$18)","v":0},0,null,null,null,"053. Climate change - Biogenic","kg CO2 eq",{"$f":"SUMIFS((_xlfn.XLOOKUP('Weighting Set'!$Z18,Modellering!$K$65:$BH$65,Modellering!$K$66:$BH$77)),Modellering!$E$66:$E$77,Milieuprofielen!AG$18)","v":0},{"$f":"SUMIFS((_xlfn.XLOOKUP('Weighting Set'!$Z18,Modellering!$K$65:$BH$65,Modellering!$K$66:$BH$77)),Modellering!$E$66:$E$77,Milieuprofielen!AH$18)","v":0},{"$f":"SUMIFS((_xlfn.XLOOKUP('Weighting Set'!$Z18,Modellering!$K$65:$BH$65,Modellering!$K$66:$BH$77)),Modellering!$E$66:$E$77,Milieuprofielen!AI$18)","v":0},0,null,null,null,"053. Climate change - Biogenic","kg CO2 eq",{"$f":"SUMIFS((_xlfn.XLOOKUP('Weighting Set'!$Z18,Modellering!$K$85:$BH$85,Modellering!$K$86:$BH$97)),Modellering!$E$86:$E$97,Milieuprofielen!AP$18)","v":0},{"$f":"SUMIFS((_xlfn.XLOOKUP('Weighting Set'!$Z18,Modellering!$K$85:$BH$85,Modellering!$K$86:$BH$97)),Modellering!$E$86:$E$97,Milieuprofielen!AQ$18)","v":0},{"$f":"SUMIFS((_xlfn.XLOOKUP('Weighting Set'!$Z18,Modellering!$K$85:$BH$85,Modellering!$K$86:$BH$97)),Modellering!$E$86:$E$97,Milieuprofielen!AR$18)","v":0},0]
[null,null,null,"054. Climate change - Land use and LU ch","kg CO2 eq",{"$f":"SUMIFS((_xlfn.XLOOKUP('Weighting Set'!$Z19,Modellering!$K$5:$BH$5,Modellering!$K$6:$BH$17)),Modellering!$E$6:$E$17,Milieuprofielen!F$18)","v":0.17758553455468751},{"$f":"SUMIFS((_xlfn.XLOOKUP('Weighting Set'!$Z19,Modellering!$K$5:$BH$5,Modellering!$K$6:$BH$17)),Modellering!$E$6:$E$17,Milieuprofielen!G$18)","v":1.2283536294080528E-2},{"$f":"SUMIFS((_xlfn.XLOOKUP('Weighting Set'!$Z19,Modellering!$K$5:$BH$5,Modellering!$K$6:$BH$17)),Modellering!$E$6:$E$17,Milieuprofielen!H$18)","v":0.13886622796070183},0.32873529880946983,null,null,null,"054. Climate change - Land use and LU ch","kg CO2 eq",{"$f":"SUMIFS((_xlfn.XLOOKUP('Weighting Set'!$Z19,Modellering!$K$25:$BH$25,Modellering!$K$26:$BH$37)),Modellering!$E$26:$E$37,Milieuprofielen!O$18)","v":0},{"$f":"SUMIFS((_xlfn.XLOOKUP('Weighting Set'!$Z19,Modellering!$K$25:$BH$25,Modellering!$K$26:$BH$37)),Modellering!$E$26:$E$37,Milieuprofielen!P$18)","v":0},{"$f":"SUMIFS((_xlfn.XLOOKUP('Weighting Set'!$Z19,Modellering!$K$25:$BH$25,Modellering!$K$26:$BH$37)),Modellering!$E$26:$E$37,Milieuprofielen!Q$18)","v":0},0,null,null,null,"054. Climate change - Land use and LU ch","kg CO2 eq",{"$f":"SUMIFS((_xlfn.XLOOKUP('Weighting Set'!$Z19,Modellering!$K$45:$BH$45,Modellering!$K$46:$BH$57)),Modellering!$E$46:$E$57,Milieuprofielen!X$18)","v":0},{"$f":"SUMIFS((_xlfn.XLOOKUP('Weighting Set'!$Z19,Modellering!$K$45:$BH$45,Modellering!$K$46:$BH$57)),Modellering!$E$46:$E$57,Milieuprofielen!Y$18)","v":0},{"$f":"SUMIFS((_xlfn.XLOOKUP('Weighting Set'!$Z19,Modellering!$K$45:$BH$45,Modellering!$K$46:$BH$57)),Modellering!$E$46:$E$57,Milieuprofielen!Z$18)","v":0},0,null,null,null,"054. Climate change - Land use and LU ch","kg CO2 eq",{"$f":"SUMIFS((_xlfn.XLOOKUP('Weighting Set'!$Z19,Modellering!$K$65:$BH$65,Modellering!$K$66:$BH$77)),Modellering!$E$66:$E$77,Milieuprofielen!AG$18)","v":0},{"$f":"SUMIFS((_xlfn.XLOOKUP('Weighting Set'!$Z19,Modellering!$K$65:$BH$65,Modellering!$K$66:$BH$77)),Modellering!$E$66:$E$77,Milieuprofielen!AH$18)","v":0},{"$f":"SUMIFS((_xlfn.XLOOKUP('Weighting Set'!$Z19,Modellering!$K$65:$BH$65,Modellering!$K$66:$BH$77)),Modellering!$E$66:$E$77,Milieuprofielen!AI$18)","v":0},0,null,null,null,"054. Climate change - Land use and LU ch","kg CO2 eq",{"$f":"SUMIFS((_xlfn.XLOOKUP('Weighting Set'!$Z19,Modellering!$K$85:$BH$85,Modellering!$K$86:$BH$97)),Modellering!$E$86:$E$97,Milieuprofielen!AP$18)","v":0},{"$f":"SUMIFS((_xlfn.XLOOKUP('Weighting Set'!$Z19,Modellering!$K$85:$BH$85,Modellering!$K$86:$BH$97)),Modellering!$E$86:$E$97,Milieuprofielen!AQ$18)","v":0},{"$f":"SUMIFS((_xlfn.XLOOKUP('Weighting Set'!$Z19,Modellering!$K$85:$BH$85,Modellering!$K$86:$BH$97)),Modellering!$E$86:$E$97,Milieuprofielen!AR$18)","v":0},0]
[null,null,null,"055. Ozone depletion","kg CFC11 eq",{"$f":"SUMIFS((_xlfn.XLOOKUP('Weighting Set'!$Z20,Modellering!$K$5:$BH$5,Modellering!$K$6:$BH$17)),Modellering!$E$6:$E$17,Milieuprofielen!F$18)","v":3.7114777562001201E-4},{"$f":"SUMIFS((_xlfn.XLOOKUP('Weighting Set'!$Z20,Modellering!$K$5:$BH$5,Modellering!$K$6:$BH$17)),Modellering!$E$6:$E$17,Milieuprofielen!G$18)","v":4.2683986736658651E-7},{"$f":"SUMIFS((_xlfn.XLOOKUP('Weighting Set'!$Z20,Modellering!$K$5:$BH$5,Modellering!$K$6:$BH$17)),Modellering!$E$6:$E$17,Milieuprofielen!H$18)","v":1.3661013553509589E-5},3.8523562904088822E-4,null,null,null,"055. Ozone depletion","kg CFC11 eq",{"$f":"SUMIFS((_xlfn.XLOOKUP('Weighting Set'!$Z20,Modellering!$K$25:$BH$25,Modellering!$K$26:$BH$37)),Modellering!$E$26:$E$37,Milieuprofielen!O$18)","v":0},{"$f":"SUMIFS((_xlfn.XLOOKUP('Weighting Set'!$Z20,Modellering!$K$25:$BH$25,Modellering!$K$26:$BH$37)),Modellering!$E$26:$E$37,Milieuprofielen!P$18)","v":0},{"$f":"SUMIFS((_xlfn.XLOOKUP('Weighting Set'!$Z20,Modellering!$K$25:$BH$25,Modellering!$K$26:$BH$37)),Modellering!$E$26:$E$37,Milieuprofielen!Q$18)","v":0},0,null,null,null,"055. Ozone depletion","kg CFC11 eq",{"$f":"SUMIFS((_xlfn.XLOOKUP('Weighting Set'!$Z20,Modellering!$K$45:$BH$45,Modellering!$K$46:$BH$57)),Modellering!$E$46:$E$57,Milieuprofielen!X$18)","v":0},{"$f":"SUMIFS((_xlfn.XLOOKUP('Weighting Set'!$Z20,Modellering!$K$45:$BH$45,Modellering!$K$46:$BH$57)),Modellering!$E$46:$E$57,Milieuprofielen!Y$18)","v":0},{"$f":"SUMIFS((_xlfn.XLOOKUP('Weighting Set'!$Z20,Modellering!$K$45:$BH$45,Modellering!$K$46:$BH$57)),Modellering!$E$46:$E$57,Milieuprofielen!Z$18)","v":0},0,null,null,null,"055. Ozone depletion","kg CFC11 eq",{"$f":"SUMIFS((_xlfn.XLOOKUP('Weighting Set'!$Z20,Modellering!$K$65:$BH$65,Modellering!$K$66:$BH$77)),Modellering!$E$66:$E$77,Milieuprofielen!AG$18)","v":0},{"$f":"SUMIFS((_xlfn.XLOOKUP('Weighting Set'!$Z20,Modellering!$K$65:$BH$65,Modellering!$K$66:$BH$77)),Modellering!$E$66:$E$77,Milieuprofielen!AH$18)","v":0},{"$f":"SUMIFS((_xlfn.XLOOKUP('Weighting Set'!$Z20,Modellering!$K$65:$BH$65,Modellering!$K$66:$BH$77)),Modellering!$E$66:$E$77,Milieuprofielen!AI$18)","v":0},0,null,null,null,"055. Ozone depletion","kg CFC11 eq",{"$f":"SUMIFS((_xlfn.XLOOKUP('Weighting Set'!$Z20,Modellering!$K$85:$BH$85,Modellering!$K$86:$BH$97)),Modellering!$E$86:$E$97,Milieuprofielen!AP$18)","v":0},{"$f":"SUMIFS((_xlfn.XLOOKUP('Weighting Set'!$Z20,Modellering!$K$85:$BH$85,Modellering!$K$86:$BH$97)),Modellering!$E$86:$E$97,Milieuprofielen!AQ$18)","v":0},{"$f":"SUMIFS((_xlfn.XLOOKUP('Weighting Set'!$Z20,Modellering!$K$85:$BH$85,Modellering!$K$86:$BH$97)),Modellering!$E$86:$E$97,Milieuprofielen!AR$18)","v":0},0]
[null,null,null,"056. Acidification","mol H+ eq",{"$f":"SUMIFS((_xlfn.XLOOKUP('Weighting Set'!$Z21,Modellering!$K$5:$BH$5,Modellering!$K$6:$BH$17)),Modellering!$E$6:$E$17,Milieuprofielen!F$18)","v":3.9476305146153847},{"$f":"SUMIFS((_xlfn.XLOOKUP('Weighting Set'!$Z21,Modellering!$K$5:$BH$5,Modellering!$K$6:$BH$17)),Modellering!$E$6:$E$17,Milieuprofielen!G$18)","v":8.9732561253725959E-2},{"$f":"SUMIFS((_xlfn.XLOOKUP('Weighting Set'!$Z21,Modellering!$K$5:$BH$5,Modellering!$K$6:$BH$17)),Modellering!$E$6:$E$17,Milieuprofielen!H$18)","v":15.614894729456788},19.652257805325899,null,null,null,"056. Acidification","mol H+ eq",{"$f":"SUMIFS((_xlfn.XLOOKUP('Weighting Set'!$Z21,Modellering!$K$25:$BH$25,Modellering!$K$26:$BH$37)),Modellering!$E$26:$E$37,Milieuprofielen!O$18)","v":0},{"$f":"SUMIFS((_xlfn.XLOOKUP('Weighting Set'!$Z21,Modellering!$K$25:$BH$25,Modellering!$K$26:$BH$37)),Modellering!$E$26:$E$37,Milieuprofielen!P$18)","v":0},{"$f":"SUMIFS((_xlfn.XLOOKUP('Weighting Set'!$Z21,Modellering!$K$25:$BH$25,Modellering!$K$26:$BH$37)),Modellering!$E$26:$E$37,Milieuprofielen!Q$18)","v":0},0,null,null,null,"056. Acidification","mol H+ eq",{"$f":"SUMIFS((_xlfn.XLOOKUP('Weighting Set'!$Z21,Modellering!$K$45:$BH$45,Modellering!$K$46:$BH$57)),Modellering!$E$46:$E$57,Milieuprofielen!X$18)","v":0},{"$f":"SUMIFS((_xlfn.XLOOKUP('Weighting Set'!$Z21,Modellering!$K$45:$BH$45,Modellering!$K$46:$BH$57)),Modellering!$E$46:$E$57,Milieuprofielen!Y$18)","v":0},{"$f":"SUMIFS((_xlfn.XLOOKUP('Weighting Set'!$Z21,Modellering!$K$45:$BH$45,Modellering!$K$46:$BH$57)),Modellering!$E$46:$E$57,Milieuprofielen!Z$18)","v":0},0,null,null,null,"056. Acidification","mol H+ eq",{"$f":"SUMIFS((_xlfn.XLOOKUP('Weighting Set'!$Z21,Modellering!$K$65:$BH$65,Modellering!$K$66:$BH$77)),Modellering!$E$66:$E$77,Milieuprofielen!AG$18)","v":0},{"$f":"SUMIFS((_xlfn.XLOOKUP('Weighting Set'!$Z21,Modellering!$K$65:$BH$65,Modellering!$K$66:$BH$77)),Modellering!$E$66:$E$77,Milieuprofielen!AH$18)","v":0},{"$f":"SUMIFS((_xlfn.XLOOKUP('Weighting Set'!$Z21,Modellering!$K$65:$BH$65,Modellering!$K$66:$BH$77)),Modellering!$E$66:$E$77,Milieuprofielen!AI$18)","v":0},0,null,null,null,"056. Acidification","mol H+ eq",{"$f":"SUMIFS((_xlfn.XLOOKUP('Weighting Set'!$Z21,Modellering!$K$85:$BH$85,Modellering!$K$86:$BH$97)),Modellering!$E$86:$E$97,Milieuprofielen!AP$18)","v":0},{"$f":"SUMIFS((_xlfn.XLOOKUP('Weighting Set'!$Z21,Modellering!$K$85:$BH$85,Modellering!$K$86:$BH$97)),Modellering!$E$86:$E$97,Milieuprofielen!AQ$18)","v":0},{"$f":"SUMIFS((_xlfn.XLOOKUP('Weighting Set'!$Z21,Modellering!$K$85:$BH$85,Modellering!$K$86:$BH$97)),Modellering!$E$86:$E$97,Milieuprofielen!AR$18)","v":0},0]
[null,null,null,"057. Eutrophication, freshwater","kg P eq",{"$f":"SUMIFS((_xlfn.XLOOKUP('Weighting Set'!$Z22,Modellering!$K$5:$BH$5,Modellering!$K$6:$BH$17)),Modellering!$E$6:$E$17,Milieuprofielen!F$18)","v":5.4303020679927882E-3},{"$f":"SUMIFS((_xlfn.XLOOKUP('Weighting Set'!$Z22,Modellering!$K$5:$BH$5,Modellering!$K$6:$BH$17)),Modellering!$E$6:$E$17,Milieuprofielen!G$18)","v":4.0118380169747598E-4},{"$f":"SUMIFS((_xlfn.XLOOKUP('Weighting Set'!$Z22,Modellering!$K$5:$BH$5,Modellering!$K$6:$BH$17)),Modellering!$E$6:$E$17,Milieuprofielen!H$18)","v":4.2550780673868537E-3},1.0086563937077117E-2,null,null,null,"057. Eutrophication, freshwater","kg P eq",{"$f":"SUMIFS((_xlfn.XLOOKUP('Weighting Set'!$Z22,Modellering!$K$25:$BH$25,Modellering!$K$26:$BH$37)),Modellering!$E$26:$E$37,Milieuprofielen!O$18)","v":0},{"$f":"SUMIFS((_xlfn.XLOOKUP('Weighting Set'!$Z22,Modellering!$K$25:$BH$25,Modellering!$K$26:$BH$37)),Modellering!$E$26:$E$37,Milieuprofielen!P$18)","v":0},{"$f":"SUMIFS((_xlfn.XLOOKUP('Weighting Set'!$Z22,Modellering!$K$25:$BH$25,Modellering!$K$26:$BH$37)),Modellering!$E$26:$E$37,Milieuprofielen!Q$18)","v":0},0,null,null,null,"057. Eutrophication, freshwater","kg P eq",{"$f":"SUMIFS((_xlfn.XLOOKUP('Weighting Set'!$Z22,Modellering!$K$45:$BH$45,Modellering!$K$46:$BH$57)),Modellering!$E$46:$E$57,Milieuprofielen!X$18)","v":0},{"$f":"SUMIFS((_xlfn.XLOOKUP('Weighting Set'!$Z22,Modellering!$K$45:$BH$45,Modellering!$K$46:$BH$57)),Modellering!$E$46:$E$57,Milieuprofielen!Y$18)","v":0},{"$f":"SUMIFS((_xlfn.XLOOKUP('Weighting Set'!$Z22,Modellering!$K$45:$BH$45,Modellering!$K$46:$BH$57)),Modellering!$E$46:$E$57,Milieuprofielen!Z$18)","v":0},0,null,null,null,"057. Eutrophication, freshwater","kg P eq",{"$f":"SUMIFS((_xlfn.XLOOKUP('Weighting Set'!$Z22,Modellering!$K$65:$BH$65,Modellering!$K$66:$BH$77)),Modellering!$E$66:$E$77,Milieuprofielen!AG$18)","v":0},{"$f":"SUMIFS((_xlfn.XLOOKUP('Weighting Set'!$Z22,Modellering!$K$65:$BH$65,Modellering!$K$66:$BH$77)),Modellering!$E$66:$E$77,Milieuprofielen!AH$18)","v":0},{"$f":"SUMIFS((_xlfn.XLOOKUP('Weighting Set'!$Z22,Modellering!$K$65:$BH$65,Modellering!$K$66:$BH$77)),Modellering!$E$66:$E$77,Milieuprofielen!AI$18)","v":0},0,null,null,null,"057. Eutrophication, freshwater","kg P eq",{"$f":"SUMIFS((_xlfn.XLOOKUP('Weighting Set'!$Z22,Modellering!$K$85:$BH$85,Modellering!$K$86:$BH$97)),Modellering!$E$86:$E$97,Milieuprofielen!AP$18)","v":0},{"$f":"SUMIFS((_xlfn.XLOOKUP('Weighting Set'!$Z22,Modellering!$K$85:$BH$85,Modellering!$K$86:$BH$97)),Modellering!$E$86:$E$97,Milieuprofielen!AQ$18)","v":0},{"$f":"SUMIFS((_xlfn.XLOOKUP('Weighting Set'!$Z22,Modellering!$K$85:$BH$85,Modellering!$K$86:$BH$97)),Modellering!$E$86:$E$97,Milieuprofielen!AR$18)","v":0},0]
[null,null,null,"058. Eutrophication, marine","kg N eq",{"$f":"SUMIFS((_xlfn.XLOOKUP('Weighting Set'!$Z23,Modellering!$K$5:$BH$5,Modellering!$K$6:$BH$17)),Modellering!$E$6:$E$17,Milieuprofielen!F$18)","v":0.68999582988701924},{"$f":"SUMIFS((_xlfn.XLOOKUP('Weighting Set'!$Z23,Modellering!$K$5:$BH$5,Modellering!$K$6:$BH$17)),Modellering!$E$6:$E$17,Milieuprofielen!G$18)","v":2.7297857916706733E-2},{"$f":"SUMIFS((_xlfn.XLOOKUP('Weighting Set'!$Z23,Modellering!$K$5:$BH$5,Modellering!$K$6:$BH$17)),Modellering!$E$6:$E$17,Milieuprofielen!H$18)","v":7.6273922035225459},8.3446858913262716,null,null,null,"058. Eutrophication, marine","kg N eq",{"$f":"SUMIFS((_xlfn.XLOOKUP('Weighting Set'!$Z23,Modellering!$K$25:$BH$25,Modellering!$K$26:$BH$37)),Modellering!$E$26:$E$37,Milieuprofielen!O$18)","v":0},{"$f":"SUMIFS((_xlfn.XLOOKUP('Weighting Set'!$Z23,Modellering!$K$25:$BH$25,Modellering!$K$26:$BH$37)),Modellering!$E$26:$E$37,Milieuprofielen!P$18)","v":0},{"$f":"SUMIFS((_xlfn.XLOOKUP('Weighting Set'!$Z23,Modellering!$K$25:$BH$25,Modellering!$K$26:$BH$37)),Modellering!$E$26:$E$37,Milieuprofielen!Q$18)","v":0},0,null,null,null,"058. Eutrophication, marine","kg N eq",{"$f":"SUMIFS((_xlfn.XLOOKUP('Weighting Set'!$Z23,Modellering!$K$45:$BH$45,Modellering!$K$46:$BH$57)),Modellering!$E$46:$E$57,Milieuprofielen!X$18)","v":0},{"$f":"SUMIFS((_xlfn.XLOOKUP('Weighting Set'!$Z23,Modellering!$K$45:$BH$45,Modellering!$K$46:$BH$57)),Modellering!$E$46:$E$57,Milieuprofielen!Y$18)","v":0},{"$f":"SUMIFS((_xlfn.XLOOKUP('Weighting Set'!$Z23,Modellering!$K$45:$BH$45,Modellering!$K$46:$BH$57)),Modellering!$E$46:$E$57,Milieuprofielen!Z$18)","v":0},0,null,null,null,"058. Eutrophication, marine","kg N eq",{"$f":"SUMIFS((_xlfn.XLOOKUP('Weighting Set'!$Z23,Modellering!$K$65:$BH$65,Modellering!$K$66:$BH$77)),Modellering!$E$66:$E$77,Milieuprofielen!AG$18)","v":0},{"$f":"SUMIFS((_xlfn.XLOOKUP('Weighting Set'!$Z23,Modellering!$K$65:$BH$65,Modellering!$K$66:$BH$77)),Modellering!$E$66:$E$77,Milieuprofielen!AH$18)","v":0},{"$f":"SUMIFS((_xlfn.XLOOKUP('Weighting Set'!$Z23,Modellering!$K$65:$BH$65,Modellering!$K$66:$BH$77)),Modellering!$E$66:$E$77,Milieuprofielen!AI$18)","v":0},0,null,null,null,"058. Eutrophication, marine","kg N eq",{"$f":"SUMIFS((_xlfn.XLOOKUP('Weighting Set'!$Z23,Modellering!$K$85:$BH$85,Modellering!$K$86:$BH$97)),Modellering!$E$86:$E$97,Milieuprofielen!AP$18)","v":0},{"$f":"SUMIFS((_xlfn.XLOOKUP('Weighting Set'!$Z23,Modellering!$K$85:$BH$85,Modellering!$K$86:$BH$97)),Modellering!$E$86:$E$97,Milieuprofielen!AQ$18)","v":0},{"$f":"SUMIFS((_xlfn.XLOOKUP('Weighting Set'!$Z23,Modellering!$K$85:$BH$85,Modellering!$K$86:$BH$97)),Modellering!$E$86:$E$97,Milieuprofielen!AR$18)","v":0},0]
[null,null,null,"059. Eutrophication, terrestrial","mol N eq",{"$f":"SUMIFS((_xlfn.XLOOKUP('Weighting Set'!$Z24,Modellering!$K$5:$BH$5,Modellering!$K$6:$BH$17)),Modellering!$E$6:$E$17,Milieuprofielen!F$18)","v":6.3193259593088946},{"$f":"SUMIFS((_xlfn.XLOOKUP('Weighting Set'!$Z24,Modellering!$K$5:$BH$5,Modellering!$K$6:$BH$17)),Modellering!$E$6:$E$17,Milieuprofielen!G$18)","v":0.32136983298016825},{"$f":"SUMIFS((_xlfn.XLOOKUP('Weighting Set'!$Z24,Modellering!$K$5:$BH$5,Modellering!$K$6:$BH$17)),Modellering!$E$6:$E$17,Milieuprofielen!H$18)","v":84.133779807049251},90.774475599338317,null,null,null,"059. Eutrophication, terrestrial","mol N eq",{"$f":"SUMIFS((_xlfn.XLOOKUP('Weighting Set'!$Z24,Modellering!$K$25:$BH$25,Modellering!$K$26:$BH$37)),Modellering!$E$26:$E$37,Milieuprofielen!O$18)","v":0},{"$f":"SUMIFS((_xlfn.XLOOKUP('Weighting Set'!$Z24,Modellering!$K$25:$BH$25,Modellering!$K$26:$BH$37)),Modellering!$E$26:$E$37,Milieuprofielen!P$18)","v":0},{"$f":"SUMIFS((_xlfn.XLOOKUP('Weighting Set'!$Z24,Modellering!$K$25:$BH$25,Modellering!$K$26:$BH$37)),Modellering!$E$26:$E$37,Milieuprofielen!Q$18)","v":0},0,null,null,null,"059. Eutrophication, terrestrial","mol N eq",{"$f":"SUMIFS((_xlfn.XLOOKUP('Weighting Set'!$Z24,Modellering!$K$45:$BH$45,Modellering!$K$46:$BH$57)),Modellering!$E$46:$E$57,Milieuprofielen!X$18)","v":0},{"$f":"SUMIFS((_xlfn.XLOOKUP('Weighting Set'!$Z24,Modellering!$K$45:$BH$45,Modellering!$K$46:$BH$57)),Modellering!$E$46:$E$57,Milieuprofielen!Y$18)","v":0},{"$f":"SUMIFS((_xlfn.XLOOKUP('Weighting Set'!$Z24,Modellering!$K$45:$BH$45,Modellering!$K$46:$BH$57)),Modellering!$E$46:$E$57,Milieuprofielen!Z$18)","v":0},0,null,null,null,"059. Eutrophication, terrestrial","mol N eq",{"$f":"SUMIFS((_xlfn.XLOOKUP('Weighting Set'!$Z24,Modellering!$K$65:$BH$65,Modellering!$K$66:$BH$77)),Modellering!$E$66:$E$77,Milieuprofielen!AG$18)","v":0},{"$f":"SUMIFS((_xlfn.XLOOKUP('Weighting Set'!$Z24,Modellering!$K$65:$BH$65,Modellering!$K$66:$BH$77)),Modellering!$E$66:$E$77,Milieuprofielen!AH$18)","v":0},{"$f":"SUMIFS((_xlfn.XLOOKUP('Weighting Set'!$Z24,Modellering!$K$65:$BH$65,Modellering!$K$66:$BH$77)),Modellering!$E$66:$E$77,Milieuprofielen!AI$18)","v":0},0,null,null,null,"059. Eutrophication, terrestrial","mol N eq",{"$f":"SUMIFS((_xlfn.XLOOKUP('Weighting Set'!$Z24,Modellering!$K$85:$BH$85,Modellering!$K$86:$BH$97)),Modellering!$E$86:$E$97,Milieuprofielen!AP$18)","v":0},{"$f":"SUMIFS((_xlfn.XLOOKUP('Weighting Set'!$Z24,Modellering!$K$85:$BH$85,Modellering!$K$86:$BH$97)),Modellering!$E$86:$E$97,Milieuprofielen!AQ$18)","v":0},{"$f":"SUMIFS((_xlfn.XLOOKUP('Weighting Set'!$Z24,Modellering!$K$85:$BH$85,Modellering!$K$86:$BH$97)),Modellering!$E$86:$E$97,Milieuprofielen!AR$18)","v":0},0]
[null,null,null,"060. Photochemical ozone formation","kg NMVOC eq",{"$f":"SUMIFS((_xlfn.XLOOKUP('Weighting Set'!$Z25,Modellering!$K$5:$BH$5,Modellering!$K$6:$BH$17)),Modellering!$E$6:$E$17,Milieuprofielen!F$18)","v":4.9777532587560094},{"$f":"SUMIFS((_xlfn.XLOOKUP('Weighting Set'!$Z25,Modellering!$K$5:$BH$5,Modellering!$K$6:$BH$17)),Modellering!$E$6:$E$17,Milieuprofielen!G$18)","v":0.11078469745715144},{"$f":"SUMIFS((_xlfn.XLOOKUP('Weighting Set'!$Z25,Modellering!$K$5:$BH$5,Modellering!$K$6:$BH$17)),Modellering!$E$6:$E$17,Milieuprofielen!H$18)","v":20.974654541422481},26.06319249763564,null,null,null,"060. Photochemical ozone formation","kg NMVOC eq",{"$f":"SUMIFS((_xlfn.XLOOKUP('Weighting Set'!$Z25,Modellering!$K$25:$BH$25,Modellering!$K$26:$BH$37)),Modellering!$E$26:$E$37,Milieuprofielen!O$18)","v":0},{"$f":"SUMIFS((_xlfn.XLOOKUP('Weighting Set'!$Z25,Modellering!$K$25:$BH$25,Modellering!$K$26:$BH$37)),Modellering!$E$26:$E$37,Milieuprofielen!P$18)","v":0},{"$f":"SUMIFS((_xlfn.XLOOKUP('Weighting Set'!$Z25,Modellering!$K$25:$BH$25,Modellering!$K$26:$BH$37)),Modellering!$E$26:$E$37,Milieuprofielen!Q$18)","v":0},0,null,null,null,"060. Photochemical ozone formation","kg NMVOC eq",{"$f":"SUMIFS((_xlfn.XLOOKUP('Weighting Set'!$Z25,Modellering!$K$45:$BH$45,Modellering!$K$46:$BH$57)),Modellering!$E$46:$E$57,Milieuprofielen!X$18)","v":0},{"$f":"SUMIFS((_xlfn.XLOOKUP('Weighting Set'!$Z25,Modellering!$K$45:$BH$45,Modellering!$K$46:$BH$57)),Modellering!$E$46:$E$57,Milieuprofielen!Y$18)","v":0},{"$f":"SUMIFS((_xlfn.XLOOKUP('Weighting Set'!$Z25,Modellering!$K$45:$BH$45,Modellering!$K$46:$BH$57)),Modellering!$E$46:$E$57,Milieuprofielen!Z$18)","v":0},0,null,null,null,"060. Photochemical ozone formation","kg NMVOC eq",{"$f":"SUMIFS((_xlfn.XLOOKUP('Weighting Set'!$Z25,Modellering!$K$65:$BH$65,Modellering!$K$66:$BH$77)),Modellering!$E$66:$E$77,Milieuprofielen!AG$18)","v":0},{"$f":"SUMIFS((_xlfn.XLOOKUP('Weighting Set'!$Z25,Modellering!$K$65:$BH$65,Modellering!$K$66:$BH$77)),Modellering!$E$66:$E$77,Milieuprofielen!AH$18)","v":0},{"$f":"SUMIFS((_xlfn.XLOOKUP('Weighting Set'!$Z25,Modellering!$K$65:$BH$65,Modellering!$K$66:$BH$77)),Modellering!$E$66:$E$77,Milieuprofielen!AI$18)","v":0},0,null,null,null,"060. Photochemical ozone formation","kg NMVOC eq",{"$f":"SUMIFS((_xlfn.XLOOKUP('Weighting Set'!$Z25,Modellering!$K$85:$BH$85,Modellering!$K$86:$BH$97)),Modellering!$E$86:$E$97,Milieuprofielen!AP$18)","v":0},{"$f":"SUMIFS((_xlfn.XLOOKUP('Weighting Set'!$Z25,Modellering!$K$85:$BH$85,Modellering!$K$86:$BH$97)),Modellering!$E$86:$E$97,Milieuprofielen!AQ$18)","v":0},{"$f":"SUMIFS((_xlfn.XLOOKUP('Weighting Set'!$Z25,Modellering!$K$85:$BH$85,Modellering!$K$86:$BH$97)),Modellering!$E$86:$E$97,Milieuprofielen!AR$18)","v":0},0]
[null,null,null,"061. Resource use, minerals and metals","kg Sb eq",{"$f":"SUMIFS((_xlfn.XLOOKUP('Weighting Set'!$Z26,Modellering!$K$5:$BH$5,Modellering!$K$6:$BH$17)),Modellering!$E$6:$E$17,Milieuprofielen!F$18)","v":7.7038119898437498E-4},{"$f":"SUMIFS((_xlfn.XLOOKUP('Weighting Set'!$Z26,Modellering!$K$5:$BH$5,Modellering!$K$6:$BH$17)),Modellering!$E$6:$E$17,Milieuprofielen!G$18)","v":7.8747152957091353E-5},{"$f":"SUMIFS((_xlfn.XLOOKUP('Weighting Set'!$Z26,Modellering!$K$5:$BH$5,Modellering!$K$6:$BH$17)),Modellering!$E$6:$E$17,Milieuprofielen!H$18)","v":6.4772122982286709E-4},1.4968495817643335E-3,null,null,null,"061. Resource use, minerals and metals","kg Sb eq",{"$f":"SUMIFS((_xlfn.XLOOKUP('Weighting Set'!$Z26,Modellering!$K$25:$BH$25,Modellering!$K$26:$BH$37)),Modellering!$E$26:$E$37,Milieuprofielen!O$18)","v":0},{"$f":"SUMIFS((_xlfn.XLOOKUP('Weighting Set'!$Z26,Modellering!$K$25:$BH$25,Modellering!$K$26:$BH$37)),Modellering!$E$26:$E$37,Milieuprofielen!P$18)","v":0},{"$f":"SUMIFS((_xlfn.XLOOKUP('Weighting Set'!$Z26,Modellering!$K$25:$BH$25,Modellering!$K$26:$BH$37)),Modellering!$E$26:$E$37,Milieuprofielen!Q$18)","v":0},0,null,null,null,"061. Resource use, minerals and metals","kg Sb eq",{"$f":"SUMIFS((_xlfn.XLOOKUP('Weighting Set'!$Z26,Modellering!$K$45:$BH$45,Modellering!$K$46:$BH$57)),Modellering!$E$46:$E$57,Milieuprofielen!X$18)","v":0},{"$f":"SUMIFS((_xlfn.XLOOKUP('Weighting Set'!$Z26,Modellering!$K$45:$BH$45,Modellering!$K$46:$BH$57)),Modellering!$E$46:$E$57,Milieuprofielen!Y$18)","v":0},{"$f":"SUMIFS((_xlfn.XLOOKUP('Weighting Set'!$Z26,Modellering!$K$45:$BH$45,Modellering!$K$46:$BH$57)),Modellering!$E$46:$E$57,Milieuprofielen!Z$18)","v":0},0,null,null,null,"061. Resource use, minerals and metals","kg Sb eq",{"$f":"SUMIFS((_xlfn.XLOOKUP('Weighting Set'!$Z26,Modellering!$K$65:$BH$65,Modellering!$K$66:$BH$77)),Modellering!$E$66:$E$77,Milieuprofielen!AG$18)","v":0},{"$f":"SUMIFS((_xlfn.XLOOKUP('Weighting Set'!$Z26,Modellering!$K$65:$BH$65,Modellering!$K$66:$BH$77)),Modellering!$E$66:$E$77,Milieuprofielen!AH$18)","v":0},{"$f":"SUMIFS((_xlfn.XLOOKUP('Weighting Set'!$Z26,Modellering!$K$65:$BH$65,Modellering!$K$66:$BH$77)),Modellering!$E$66:$E$77,Milieuprofielen!AI$18)","v":0},0,null,null,null,"061. Resource use, minerals and metals","kg Sb eq",{"$f":"SUMIFS((_xlfn.XLOOKUP('Weighting Set'!$Z26,Modellering!$K$85:$BH$85,Modellering!$K$86:$BH$97)),Modellering!$E$86:$E$97,Milieuprofielen!AP$18)","v":0},{"$f":"SUMIFS((_xlfn.XLOOKUP('Weighting Set'!$Z26,Modellering!$K$85:$BH$85,Modellering!$K$86:$BH$97)),Modellering!$E$86:$E$97,Milieuprofielen!AQ$18)","v":0},{"$f":"SUMIFS((_xlfn.XLOOKUP('Weighting Set'!$Z26,Modellering!$K$85:$BH$85,Modellering!$K$86:$BH$97)),Modellering!$E$86:$E$97,Milieuprofielen!AR$18)","v":0},0]
[null,null,null,"062. Resource use, fossils","MJ",{"$f":"SUMIFS((_xlfn.XLOOKUP('Weighting Set'!$Z27,Modellering!$K$5:$BH$5,Modellering!$K$6:$BH$17)),Modellering!$E$6:$E$17,Milieuprofielen!F$18)","v":54599.674141376199},{"$f":"SUMIFS((_xlfn.XLOOKUP('Weighting Set'!$Z27,Modellering!$K$5:$BH$5,Modellering!$K$6:$BH$17)),Modellering!$E$6:$E$17,Milieuprofielen!G$18)","v":307.99656252043269},{"$f":"SUMIFS((_xlfn.XLOOKUP('Weighting Set'!$Z27,Modellering!$K$5:$BH$5,Modellering!$K$6:$BH$17)),Modellering!$E$6:$E$17,Milieuprofielen!H$18)","v":800.93539097539553},55708.606094872033,null,null,null,"062. Resource use, fossils","MJ",{"$f":"SUMIFS((_xlfn.XLOOKUP('Weighting Set'!$Z27,Modellering!$K$25:$BH$25,Modellering!$K$26:$BH$37)),Modellering!$E$26:$E$37,Milieuprofielen!O$18)","v":0},{"$f":"SUMIFS((_xlfn.XLOOKUP('Weighting Set'!$Z27,Modellering!$K$25:$BH$25,Modellering!$K$26:$BH$37)),Modellering!$E$26:$E$37,Milieuprofielen!P$18)","v":0},{"$f":"SUMIFS((_xlfn.XLOOKUP('Weighting Set'!$Z27,Modellering!$K$25:$BH$25,Modellering!$K$26:$BH$37)),Modellering!$E$26:$E$37,Milieuprofielen!Q$18)","v":0},0,null,null,null,"062. Resource use, fossils","MJ",{"$f":"SUMIFS((_xlfn.XLOOKUP('Weighting Set'!$Z27,Modellering!$K$45:$BH$45,Modellering!$K$46:$BH$57)),Modellering!$E$46:$E$57,Milieuprofielen!X$18)","v":0},{"$f":"SUMIFS((_xlfn.XLOOKUP('Weighting Set'!$Z27,Modellering!$K$45:$BH$45,Modellering!$K$46:$BH$57)),Modellering!$E$46:$E$57,Milieuprofielen!Y$18)","v":0},{"$f":"SUMIFS((_xlfn.XLOOKUP('Weighting Set'!$Z27,Modellering!$K$45:$BH$45,Modellering!$K$46:$BH$57)),Modellering!$E$46:$E$57,Milieuprofielen!Z$18)","v":0},0,null,null,null,"062. Resource use, fossils","MJ",{"$f":"SUMIFS((_xlfn.XLOOKUP('Weighting Set'!$Z27,Modellering!$K$65:$BH$65,Modellering!$K$66:$BH$77)),Modellering!$E$66:$E$77,Milieuprofielen!AG$18)","v":0},{"$f":"SUMIFS((_xlfn.XLOOKUP('Weighting Set'!$Z27,Modellering!$K$65:$BH$65,Modellering!$K$66:$BH$77)),Modellering!$E$66:$E$77,Milieuprofielen!AH$18)","v":0},{"$f":"SUMIFS((_xlfn.XLOOKUP('Weighting Set'!$Z27,Modellering!$K$65:$BH$65,Modellering!$K$66:$BH$77)),Modellering!$E$66:$E$77,Milieuprofielen!AI$18)","v":0},0,null,null,null,"062. Resource use, fossils","MJ",{"$f":"SUMIFS((_xlfn.XLOOKUP('Weighting Set'!$Z27,Modellering!$K$85:$BH$85,Modellering!$K$86:$BH$97)),Modellering!$E$86:$E$97,Milieuprofielen!AP$18)","v":0},{"$f":"SUMIFS((_xlfn.XLOOKUP('Weighting Set'!$Z27,Modellering!$K$85:$BH$85,Modellering!$K$86:$BH$97)),Modellering!$E$86:$E$97,Milieuprofielen!AQ$18)","v":0},{"$f":"SUMIFS((_xlfn.XLOOKUP('Weighting Set'!$Z27,Modellering!$K$85:$BH$85,Modellering!$K$86:$BH$97)),Modellering!$E$86:$E$97,Milieuprofielen!AR$18)","v":0},0]
[null,null,null,"063. Water use","m3 depriv.",{"$f":"SUMIFS((_xlfn.XLOOKUP('Weighting Set'!$Z28,Modellering!$K$5:$BH$5,Modellering!$K$6:$BH$17)),Modellering!$E$6:$E$17,Milieuprofielen!F$18)","v":126.60130725240384},{"$f":"SUMIFS((_xlfn.XLOOKUP('Weighting Set'!$Z28,Modellering!$K$5:$BH$5,Modellering!$K$6:$BH$17)),Modellering!$E$6:$E$17,Milieuprofielen!G$18)","v":-1.1057533881045674},{"$f":"SUMIFS((_xlfn.XLOOKUP('Weighting Set'!$Z28,Modellering!$K$5:$BH$5,Modellering!$K$6:$BH$17)),Modellering!$E$6:$E$17,Milieuprofielen!H$18)","v":22.394691736071081},147.89024560037035,null,null,null,"063. Water use","m3 depriv.",{"$f":"SUMIFS((_xlfn.XLOOKUP('Weighting Set'!$Z28,Modellering!$K$25:$BH$25,Modellering!$K$26:$BH$37)),Modellering!$E$26:$E$37,Milieuprofielen!O$18)","v":0},{"$f":"SUMIFS((_xlfn.XLOOKUP('Weighting Set'!$Z28,Modellering!$K$25:$BH$25,Modellering!$K$26:$BH$37)),Modellering!$E$26:$E$37,Milieuprofielen!P$18)","v":0},{"$f":"SUMIFS((_xlfn.XLOOKUP('Weighting Set'!$Z28,Modellering!$K$25:$BH$25,Modellering!$K$26:$BH$37)),Modellering!$E$26:$E$37,Milieuprofielen!Q$18)","v":0},0,null,null,null,"063. Water use","m3 depriv.",{"$f":"SUMIFS((_xlfn.XLOOKUP('Weighting Set'!$Z28,Modellering!$K$45:$BH$45,Modellering!$K$46:$BH$57)),Modellering!$E$46:$E$57,Milieuprofielen!X$18)","v":0},{"$f":"SUMIFS((_xlfn.XLOOKUP('Weighting Set'!$Z28,Modellering!$K$45:$BH$45,Modellering!$K$46:$BH$57)),Modellering!$E$46:$E$57,Milieuprofielen!Y$18)","v":0},{"$f":"SUMIFS((_xlfn.XLOOKUP('Weighting Set'!$Z28,Modellering!$K$45:$BH$45,Modellering!$K$46:$BH$57)),Modellering!$E$46:$E$57,Milieuprofielen!Z$18)","v":0},0,null,null,null,"063. Water use","m3 depriv.",{"$f":"SUMIFS((_xlfn.XLOOKUP('Weighting Set'!$Z28,Modellering!$K$65:$BH$65,Modellering!$K$66:$BH$77)),Modellering!$E$66:$E$77,Milieuprofielen!AG$18)","v":0},{"$f":"SUMIFS((_xlfn.XLOOKUP('Weighting Set'!$Z28,Modellering!$K$65:$BH$65,Modellering!$K$66:$BH$77)),Modellering!$E$66:$E$77,Milieuprofielen!AH$18)","v":0},{"$f":"SUMIFS((_xlfn.XLOOKUP('Weighting Set'!$Z28,Modellering!$K$65:$BH$65,Modellering!$K$66:$BH$77)),Modellering!$E$66:$E$77,Milieuprofielen!AI$18)","v":0},0,null,null,null,"063. Water use","m3 depriv.",{"$f":"SUMIFS((_xlfn.XLOOKUP('Weighting Set'!$Z28,Modellering!$K$85:$BH$85,Modellering!$K$86:$BH$97)),Modellering!$E$86:$E$97,Milieuprofielen!AP$18)","v":0},{"$f":"SUMIFS((_xlfn.XLOOKUP('Weighting Set'!$Z28,Modellering!$K$85:$BH$85,Modellering!$K$86:$BH$97)),Modellering!$E$86:$E$97,Milieuprofielen!AQ$18)","v":0},{"$f":"SUMIFS((_xlfn.XLOOKUP('Weighting Set'!$Z28,Modellering!$K$85:$BH$85,Modellering!$K$86:$BH$97)),Modellering!$E$86:$E$97,Milieuprofielen!AR$18)","v":0},0]
[null,null,null,"064. Particulate matter","disease inc.",{"$f":"SUMIFS((_xlfn.XLOOKUP('Weighting Set'!$Z29,Modellering!$K$5:$BH$5,Modellering!$K$6:$BH$17)),Modellering!$E$6:$E$17,Milieuprofielen!F$18)","v":3.6331278439543267E-5},{"$f":"SUMIFS((_xlfn.XLOOKUP('Weighting Set'!$Z29,Modellering!$K$5:$BH$5,Modellering!$K$6:$BH$17)),Modellering!$E$6:$E$17,Milieuprofielen!G$18)","v":1.6551022518329327E-6},{"$f":"SUMIFS((_xlfn.XLOOKUP('Weighting Set'!$Z29,Modellering!$K$5:$BH$5,Modellering!$K$6:$BH$17)),Modellering!$E$6:$E$17,Milieuprofielen!H$18)","v":9.7988635825018041E-6},4.7785244273878005E-5,null,null,null,"064. Particulate matter","disease inc.",{"$f":"SUMIFS((_xlfn.XLOOKUP('Weighting Set'!$Z29,Modellering!$K$25:$BH$25,Modellering!$K$26:$BH$37)),Modellering!$E$26:$E$37,Milieuprofielen!O$18)","v":0},{"$f":"SUMIFS((_xlfn.XLOOKUP('Weighting Set'!$Z29,Modellering!$K$25:$BH$25,Modellering!$K$26:$BH$37)),Modellering!$E$26:$E$37,Milieuprofielen!P$18)","v":0},{"$f":"SUMIFS((_xlfn.XLOOKUP('Weighting Set'!$Z29,Modellering!$K$25:$BH$25,Modellering!$K$26:$BH$37)),Modellering!$E$26:$E$37,Milieuprofielen!Q$18)","v":0},0,null,null,null,"064. Particulate matter","disease inc.",{"$f":"SUMIFS((_xlfn.XLOOKUP('Weighting Set'!$Z29,Modellering!$K$45:$BH$45,Modellering!$K$46:$BH$57)),Modellering!$E$46:$E$57,Milieuprofielen!X$18)","v":0},{"$f":"SUMIFS((_xlfn.XLOOKUP('Weighting Set'!$Z29,Modellering!$K$45:$BH$45,Modellering!$K$46:$BH$57)),Modellering!$E$46:$E$57,Milieuprofielen!Y$18)","v":0},{"$f":"SUMIFS((_xlfn.XLOOKUP('Weighting Set'!$Z29,Modellering!$K$45:$BH$45,Modellering!$K$46:$BH$57)),Modellering!$E$46:$E$57,Milieuprofielen!Z$18)","v":0},0,null,null,null,"064. Particulate matter","disease inc.",{"$f":"SUMIFS((_xlfn.XLOOKUP('Weighting Set'!$Z29,Modellering!$K$65:$BH$65,Modellering!$K$66:$BH$77)),Modellering!$E$66:$E$77,Milieuprofielen!AG$18)","v":0},{"$f":"SUMIFS((_xlfn.XLOOKUP('Weighting Set'!$Z29,Modellering!$K$65:$BH$65,Modellering!$K$66:$BH$77)),Modellering!$E$66:$E$77,Milieuprofielen!AH$18)","v":0},{"$f":"SUMIFS((_xlfn.XLOOKUP('Weighting Set'!$Z29,Modellering!$K$65:$BH$65,Modellering!$K$66:$BH$77)),Modellering!$E$66:$E$77,Milieuprofielen!AI$18)","v":0},0,null,null,null,"064. Particulate matter","disease inc.",{"$f":"SUMIFS((_xlfn.XLOOKUP('Weighting Set'!$Z29,Modellering!$K$85:$BH$85,Modellering!$K$86:$BH$97)),Modellering!$E$86:$E$97,Milieuprofielen!AP$18)","v":0},{"$f":"SUMIFS((_xlfn.XLOOKUP('Weighting Set'!$Z29,Modellering!$K$85:$BH$85,Modellering!$K$86:$BH$97)),Modellering!$E$86:$E$97,Milieuprofielen!AQ$18)","v":0},{"$f":"SUMIFS((_xlfn.XLOOKUP('Weighting Set'!$Z29,Modellering!$K$85:$BH$85,Modellering!$K$86:$BH$97)),Modellering!$E$86:$E$97,Milieuprofielen!AR$18)","v":0},0]
[null,null,null,"065. Ionising radiation","kBq U-235 eq",{"$f":"SUMIFS((_xlfn.XLOOKUP('Weighting Set'!$Z30,Modellering!$K$5:$BH$5,Modellering!$K$6:$BH$17)),Modellering!$E$6:$E$17,Milieuprofielen!F$18)","v":9.3775559279927894},{"$f":"SUMIFS((_xlfn.XLOOKUP('Weighting Set'!$Z30,Modellering!$K$5:$BH$5,Modellering!$K$6:$BH$17)),Modellering!$E$6:$E$17,Milieuprofielen!G$18)","v":0.59399666135468754},{"$f":"SUMIFS((_xlfn.XLOOKUP('Weighting Set'!$Z30,Modellering!$K$5:$BH$5,Modellering!$K$6:$BH$17)),Modellering!$E$6:$E$17,Milieuprofielen!H$18)","v":1.3205885370964323},11.292141126443909,null,null,null,"065. Ionising radiation","kBq U-235 eq",{"$f":"SUMIFS((_xlfn.XLOOKUP('Weighting Set'!$Z30,Modellering!$K$25:$BH$25,Modellering!$K$26:$BH$37)),Modellering!$E$26:$E$37,Milieuprofielen!O$18)","v":0},{"$f":"SUMIFS((_xlfn.XLOOKUP('Weighting Set'!$Z30,Modellering!$K$25:$BH$25,Modellering!$K$26:$BH$37)),Modellering!$E$26:$E$37,Milieuprofielen!P$18)","v":0},{"$f":"SUMIFS((_xlfn.XLOOKUP('Weighting Set'!$Z30,Modellering!$K$25:$BH$25,Modellering!$K$26:$BH$37)),Modellering!$E$26:$E$37,Milieuprofielen!Q$18)","v":0},0,null,null,null,"065. Ionising radiation","kBq U-235 eq",{"$f":"SUMIFS((_xlfn.XLOOKUP('Weighting Set'!$Z30,Modellering!$K$45:$BH$45,Modellering!$K$46:$BH$57)),Modellering!$E$46:$E$57,Milieuprofielen!X$18)","v":0},{"$f":"SUMIFS((_xlfn.XLOOKUP('Weighting Set'!$Z30,Modellering!$K$45:$BH$45,Modellering!$K$46:$BH$57)),Modellering!$E$46:$E$57,Milieuprofielen!Y$18)","v":0},{"$f":"SUMIFS((_xlfn.XLOOKUP('Weighting Set'!$Z30,Modellering!$K$45:$BH$45,Modellering!$K$46:$BH$57)),Modellering!$E$46:$E$57,Milieuprofielen!Z$18)","v":0},0,null,null,null,"065. Ionising radiation","kBq U-235 eq",{"$f":"SUMIFS((_xlfn.XLOOKUP('Weighting Set'!$Z30,Modellering!$K$65:$BH$65,Modellering!$K$66:$BH$77)),Modellering!$E$66:$E$77,Milieuprofielen!AG$18)","v":0},{"$f":"SUMIFS((_xlfn.XLOOKUP('Weighting Set'!$Z30,Modellering!$K$65:$BH$65,Modellering!$K$66:$BH$77)),Modellering!$E$66:$E$77,Milieuprofielen!AH$18)","v":0},{"$f":"SUMIFS((_xlfn.XLOOKUP('Weighting Set'!$Z30,Modellering!$K$65:$BH$65,Modellering!$K$66:$BH$77)),Modellering!$E$66:$E$77,Milieuprofielen!AI$18)","v":0},0,null,null,null,"065. Ionising radiation","kBq U-235 eq",{"$f":"SUMIFS((_xlfn.XLOOKUP('Weighting Set'!$Z30,Modellering!$K$85:$BH$85,Modellering!$K$86:$BH$97)),Modellering!$E$86:$E$97,Milieuprofielen!AP$18)","v":0},{"$f":"SUMIFS((_xlfn.XLOOKUP('Weighting Set'!$Z30,Modellering!$K$85:$BH$85,Modellering!$K$86:$BH$97)),Modellering!$E$86:$E$97,Milieuprofielen!AQ$18)","v":0},{"$f":"SUMIFS((_xlfn.XLOOKUP('Weighting Set'!$Z30,Modellering!$K$85:$BH$85,Modellering!$K$86:$BH$97)),Modellering!$E$86:$E$97,Milieuprofielen!AR$18)","v":0},0]
[null,null,null,"066. Ecotoxicity, freshwater","CTUe",{"$f":"SUMIFS((_xlfn.XLOOKUP('Weighting Set'!$Z31,Modellering!$K$5:$BH$5,Modellering!$K$6:$BH$17)),Modellering!$E$6:$E$17,Milieuprofielen!F$18)","v":16017.581498581731},{"$f":"SUMIFS((_xlfn.XLOOKUP('Weighting Set'!$Z31,Modellering!$K$5:$BH$5,Modellering!$K$6:$BH$17)),Modellering!$E$6:$E$17,Milieuprofielen!G$18)","v":174.72514104693508},{"$f":"SUMIFS((_xlfn.XLOOKUP('Weighting Set'!$Z31,Modellering!$K$5:$BH$5,Modellering!$K$6:$BH$17)),Modellering!$E$6:$E$17,Milieuprofielen!H$18)","v":595.01491838712229},16787.321558015788,null,null,null,"066. Ecotoxicity, freshwater","CTUe",{"$f":"SUMIFS((_xlfn.XLOOKUP('Weighting Set'!$Z31,Modellering!$K$25:$BH$25,Modellering!$K$26:$BH$37)),Modellering!$E$26:$E$37,Milieuprofielen!O$18)","v":0},{"$f":"SUMIFS((_xlfn.XLOOKUP('Weighting Set'!$Z31,Modellering!$K$25:$BH$25,Modellering!$K$26:$BH$37)),Modellering!$E$26:$E$37,Milieuprofielen!P$18)","v":0},{"$f":"SUMIFS((_xlfn.XLOOKUP('Weighting Set'!$Z31,Modellering!$K$25:$BH$25,Modellering!$K$26:$BH$37)),Modellering!$E$26:$E$37,Milieuprofielen!Q$18)","v":0},0,null,null,null,"066. Ecotoxicity, freshwater","CTUe",{"$f":"SUMIFS((_xlfn.XLOOKUP('Weighting Set'!$Z31,Modellering!$K$45:$BH$45,Modellering!$K$46:$BH$57)),Modellering!$E$46:$E$57,Milieuprofielen!X$18)","v":0},{"$f":"SUMIFS((_xlfn.XLOOKUP('Weighting Set'!$Z31,Modellering!$K$45:$BH$45,Modellering!$K$46:$BH$57)),Modellering!$E$46:$E$57,Milieuprofielen!Y$18)","v":0},{"$f":"SUMIFS((_xlfn.XLOOKUP('Weighting Set'!$Z31,Modellering!$K$45:$BH$45,Modellering!$K$46:$BH$57)),Modellering!$E$46:$E$57,Milieuprofielen!Z$18)","v":0},0,null,null,null,"066. Ecotoxicity, freshwater","CTUe",{"$f":"SUMIFS((_xlfn.XLOOKUP('Weighting Set'!$Z31,Modellering!$K$65:$BH$65,Modellering!$K$66:$BH$77)),Modellering!$E$66:$E$77,Milieuprofielen!AG$18)","v":0},{"$f":"SUMIFS((_xlfn.XLOOKUP('Weighting Set'!$Z31,Modellering!$K$65:$BH$65,Modellering!$K$66:$BH$77)),Modellering!$E$66:$E$77,Milieuprofielen!AH$18)","v":0},{"$f":"SUMIFS((_xlfn.XLOOKUP('Weighting Set'!$Z31,Modellering!$K$65:$BH$65,Modellering!$K$66:$BH$77)),Modellering!$E$66:$E$77,Milieuprofielen!AI$18)","v":0},0,null,null,null,"066. Ecotoxicity, freshwater","CTUe",{"$f":"SUMIFS((_xlfn.XLOOKUP('Weighting Set'!$Z31,Modellering!$K$85:$BH$85,Modellering!$K$86:$BH$97)),Modellering!$E$86:$E$97,Milieuprofielen!AP$18)","v":0},{"$f":"SUMIFS((_xlfn.XLOOKUP('Weighting Set'!$Z31,Modellering!$K$85:$BH$85,Modellering!$K$86:$BH$97)),Modellering!$E$86:$E$97,Milieuprofielen!AQ$18)","v":0},{"$f":"SUMIFS((_xlfn.XLOOKUP('Weighting Set'!$Z31,Modellering!$K$85:$BH$85,Modellering!$K$86:$BH$97)),Modellering!$E$86:$E$97,Milieuprofielen!AR$18)","v":0},0]
[null,null,null,"067. Human toxicity, cancer","CTUh",{"$f":"SUMIFS((_xlfn.XLOOKUP('Weighting Set'!$Z32,Modellering!$K$5:$BH$5,Modellering!$K$6:$BH$17)),Modellering!$E$6:$E$17,Milieuprofielen!F$18)","v":2.8212553556430293E-7},{"$f":"SUMIFS((_xlfn.XLOOKUP('Weighting Set'!$Z32,Modellering!$K$5:$BH$5,Modellering!$K$6:$BH$17)),Modellering!$E$6:$E$17,Milieuprofielen!G$18)","v":9.6551234047235577E-9},{"$f":"SUMIFS((_xlfn.XLOOKUP('Weighting Set'!$Z32,Modellering!$K$5:$BH$5,Modellering!$K$6:$BH$17)),Modellering!$E$6:$E$17,Milieuprofielen!H$18)","v":5.0839264617852636E-7},8.0017330514755284E-7,null,null,null,"067. Human toxicity, cancer","CTUh",{"$f":"SUMIFS((_xlfn.XLOOKUP('Weighting Set'!$Z32,Modellering!$K$25:$BH$25,Modellering!$K$26:$BH$37)),Modellering!$E$26:$E$37,Milieuprofielen!O$18)","v":0},{"$f":"SUMIFS((_xlfn.XLOOKUP('Weighting Set'!$Z32,Modellering!$K$25:$BH$25,Modellering!$K$26:$BH$37)),Modellering!$E$26:$E$37,Milieuprofielen!P$18)","v":0},{"$f":"SUMIFS((_xlfn.XLOOKUP('Weighting Set'!$Z32,Modellering!$K$25:$BH$25,Modellering!$K$26:$BH$37)),Modellering!$E$26:$E$37,Milieuprofielen!Q$18)","v":0},0,null,null,null,"067. Human toxicity, cancer","CTUh",{"$f":"SUMIFS((_xlfn.XLOOKUP('Weighting Set'!$Z32,Modellering!$K$45:$BH$45,Modellering!$K$46:$BH$57)),Modellering!$E$46:$E$57,Milieuprofielen!X$18)","v":0},{"$f":"SUMIFS((_xlfn.XLOOKUP('Weighting Set'!$Z32,Modellering!$K$45:$BH$45,Modellering!$K$46:$BH$57)),Modellering!$E$46:$E$57,Milieuprofielen!Y$18)","v":0},{"$f":"SUMIFS((_xlfn.XLOOKUP('Weighting Set'!$Z32,Modellering!$K$45:$BH$45,Modellering!$K$46:$BH$57)),Modellering!$E$46:$E$57,Milieuprofielen!Z$18)","v":0},0,null,null,null,"067. Human toxicity, cancer","CTUh",{"$f":"SUMIFS((_xlfn.XLOOKUP('Weighting Set'!$Z32,Modellering!$K$65:$BH$65,Modellering!$K$66:$BH$77)),Modellering!$E$66:$E$77,Milieuprofielen!AG$18)","v":0},{"$f":"SUMIFS((_xlfn.XLOOKUP('Weighting Set'!$Z32,Modellering!$K$65:$BH$65,Modellering!$K$66:$BH$77)),Modellering!$E$66:$E$77,Milieuprofielen!AH$18)","v":0},{"$f":"SUMIFS((_xlfn.XLOOKUP('Weighting Set'!$Z32,Modellering!$K$65:$BH$65,Modellering!$K$66:$BH$77)),Modellering!$E$66:$E$77,Milieuprofielen!AI$18)","v":0},0,null,null,null,"067. Human toxicity, cancer","CTUh",{"$f":"SUMIFS((_xlfn.XLOOKUP('Weighting Set'!$Z32,Modellering!$K$85:$BH$85,Modellering!$K$86:$BH$97)),Modellering!$E$86:$E$97,Milieuprofielen!AP$18)","v":0},{"$f":"SUMIFS((_xlfn.XLOOKUP('Weighting Set'!$Z32,Modellering!$K$85:$BH$85,Modellering!$K$86:$BH$97)),Modellering!$E$86:$E$97,Milieuprofielen!AQ$18)","v":0},{"$f":"SUMIFS((_xlfn.XLOOKUP('Weighting Set'!$Z32,Modellering!$K$85:$BH$85,Modellering!$K$86:$BH$97)),Modellering!$E$86:$E$97,Milieuprofielen!AR$18)","v":0},0]
[null,null,null,"068. Human toxicity, non-cancer","CTUh",{"$f":"SUMIFS((_xlfn.XLOOKUP('Weighting Set'!$Z33,Modellering!$K$5:$BH$5,Modellering!$K$6:$BH$17)),Modellering!$E$6:$E$17,Milieuprofielen!F$18)","v":5.2973563974158648E-6},{"$f":"SUMIFS((_xlfn.XLOOKUP('Weighting Set'!$Z33,Modellering!$K$5:$BH$5,Modellering!$K$6:$BH$17)),Modellering!$E$6:$E$17,Milieuprofielen!G$18)","v":1.7115798713611778E-7},{"$f":"SUMIFS((_xlfn.XLOOKUP('Weighting Set'!$Z33,Modellering!$K$5:$BH$5,Modellering!$K$6:$BH$17)),Modellering!$E$6:$E$17,Milieuprofielen!H$18)","v":2.6994692561903237E-6},8.1679836407423053E-6,null,null,null,"068. Human toxicity, non-cancer","CTUh",{"$f":"SUMIFS((_xlfn.XLOOKUP('Weighting Set'!$Z33,Modellering!$K$25:$BH$25,Modellering!$K$26:$BH$37)),Modellering!$E$26:$E$37,Milieuprofielen!O$18)","v":0},{"$f":"SUMIFS((_xlfn.XLOOKUP('Weighting Set'!$Z33,Modellering!$K$25:$BH$25,Modellering!$K$26:$BH$37)),Modellering!$E$26:$E$37,Milieuprofielen!P$18)","v":0},{"$f":"SUMIFS((_xlfn.XLOOKUP('Weighting Set'!$Z33,Modellering!$K$25:$BH$25,Modellering!$K$26:$BH$37)),Modellering!$E$26:$E$37,Milieuprofielen!Q$18)","v":0},0,null,null,null,"068. Human toxicity, non-cancer","CTUh",{"$f":"SUMIFS((_xlfn.XLOOKUP('Weighting Set'!$Z33,Modellering!$K$45:$BH$45,Modellering!$K$46:$BH$57)),Modellering!$E$46:$E$57,Milieuprofielen!X$18)","v":0},{"$f":"SUMIFS((_xlfn.XLOOKUP('Weighting Set'!$Z33,Modellering!$K$45:$BH$45,Modellering!$K$46:$BH$57)),Modellering!$E$46:$E$57,Milieuprofielen!Y$18)","v":0},{"$f":"SUMIFS((_xlfn.XLOOKUP('Weighting Set'!$Z33,Modellering!$K$45:$BH$45,Modellering!$K$46:$BH$57)),Modellering!$E$46:$E$57,Milieuprofielen!Z$18)","v":0},0,null,null,null,"068. Human toxicity, non-cancer","CTUh",{"$f":"SUMIFS((_xlfn.XLOOKUP('Weighting Set'!$Z33,Modellering!$K$65:$BH$65,Modellering!$K$66:$BH$77)),Modellering!$E$66:$E$77,Milieuprofielen!AG$18)","v":0},{"$f":"SUMIFS((_xlfn.XLOOKUP('Weighting Set'!$Z33,Modellering!$K$65:$BH$65,Modellering!$K$66:$BH$77)),Modellering!$E$66:$E$77,Milieuprofielen!AH$18)","v":0},{"$f":"SUMIFS((_xlfn.XLOOKUP('Weighting Set'!$Z33,Modellering!$K$65:$BH$65,Modellering!$K$66:$BH$77)),Modellering!$E$66:$E$77,Milieuprofielen!AI$18)","v":0},0,null,null,null,"068. Human toxicity, non-cancer","CTUh",{"$f":"SUMIFS((_xlfn.XLOOKUP('Weighting Set'!$Z33,Modellering!$K$85:$BH$85,Modellering!$K$86:$BH$97)),Modellering!$E$86:$E$97,Milieuprofielen!AP$18)","v":0},{"$f":"SUMIFS((_xlfn.XLOOKUP('Weighting Set'!$Z33,Modellering!$K$85:$BH$85,Modellering!$K$86:$BH$97)),Modellering!$E$86:$E$97,Milieuprofielen!AQ$18)","v":0},{"$f":"SUMIFS((_xlfn.XLOOKUP('Weighting Set'!$Z33,Modellering!$K$85:$BH$85,Modellering!$K$86:$BH$97)),Modellering!$E$86:$E$97,Milieuprofielen!AR$18)","v":0},0]
[null,null,null,"069. Land use","Pt",{"$f":"SUMIFS((_xlfn.XLOOKUP('Weighting Set'!$Z34,Modellering!$K$5:$BH$5,Modellering!$K$6:$BH$17)),Modellering!$E$6:$E$17,Milieuprofielen!F$18)","v":1081.9389130913462},{"$f":"SUMIFS((_xlfn.XLOOKUP('Weighting Set'!$Z34,Modellering!$K$5:$BH$5,Modellering!$K$6:$BH$17)),Modellering!$E$6:$E$17,Milieuprofielen!G$18)","v":531.20979164002404},{"$f":"SUMIFS((_xlfn.XLOOKUP('Weighting Set'!$Z34,Modellering!$K$5:$BH$5,Modellering!$K$6:$BH$17)),Modellering!$E$6:$E$17,Milieuprofielen!H$18)","v":2004.1907855565576},3617.3394902879281,null,null,null,"069. Land use","Pt",{"$f":"SUMIFS((_xlfn.XLOOKUP('Weighting Set'!$Z34,Modellering!$K$25:$BH$25,Modellering!$K$26:$BH$37)),Modellering!$E$26:$E$37,Milieuprofielen!O$18)","v":0},{"$f":"SUMIFS((_xlfn.XLOOKUP('Weighting Set'!$Z34,Modellering!$K$25:$BH$25,Modellering!$K$26:$BH$37)),Modellering!$E$26:$E$37,Milieuprofielen!P$18)","v":0},{"$f":"SUMIFS((_xlfn.XLOOKUP('Weighting Set'!$Z34,Modellering!$K$25:$BH$25,Modellering!$K$26:$BH$37)),Modellering!$E$26:$E$37,Milieuprofielen!Q$18)","v":0},0,null,null,null,"069. Land use","Pt",{"$f":"SUMIFS((_xlfn.XLOOKUP('Weighting Set'!$Z34,Modellering!$K$45:$BH$45,Modellering!$K$46:$BH$57)),Modellering!$E$46:$E$57,Milieuprofielen!X$18)","v":0},{"$f":"SUMIFS((_xlfn.XLOOKUP('Weighting Set'!$Z34,Modellering!$K$45:$BH$45,Modellering!$K$46:$BH$57)),Modellering!$E$46:$E$57,Milieuprofielen!Y$18)","v":0},{"$f":"SUMIFS((_xlfn.XLOOKUP('Weighting Set'!$Z34,Modellering!$K$45:$BH$45,Modellering!$K$46:$BH$57)),Modellering!$E$46:$E$57,Milieuprofielen!Z$18)","v":0},0,null,null,null,"069. Land use","Pt",{"$f":"SUMIFS((_xlfn.XLOOKUP('Weighting Set'!$Z34,Modellering!$K$65:$BH$65,Modellering!$K$66:$BH$77)),Modellering!$E$66:$E$77,Milieuprofielen!AG$18)","v":0},{"$f":"SUMIFS((_xlfn.XLOOKUP('Weighting Set'!$Z34,Modellering!$K$65:$BH$65,Modellering!$K$66:$BH$77)),Modellering!$E$66:$E$77,Milieuprofielen!AH$18)","v":0},{"$f":"SUMIFS((_xlfn.XLOOKUP('Weighting Set'!$Z34,Modellering!$K$65:$BH$65,Modellering!$K$66:$BH$77)),Modellering!$E$66:$E$77,Milieuprofielen!AI$18)","v":0},0,null,null,null,"069. Land use","Pt",{"$f":"SUMIFS((_xlfn.XLOOKUP('Weighting Set'!$Z34,Modellering!$K$85:$BH$85,Modellering!$K$86:$BH$97)),Modellering!$E$86:$E$97,Milieuprofielen!AP$18)","v":0},{"$f":"SUMIFS((_xlfn.XLOOKUP('Weighting Set'!$Z34,Modellering!$K$85:$BH$85,Modellering!$K$86:$BH$97)),Modellering!$E$86:$E$97,Milieuprofielen!AQ$18)","v":0},{"$f":"SUMIFS((_xlfn.XLOOKUP('Weighting Set'!$Z34,Modellering!$K$85:$BH$85,Modellering!$K$86:$BH$97)),Modellering!$E$86:$E$97,Milieuprofielen!AR$18)","v":0},0]
[null,null,"Parameters EN15804+A2","111. Energy, primary, renewable, excludi","MJ",{"$f":"SUMIFS((_xlfn.XLOOKUP('Weighting Set'!$Z35,Modellering!$K$5:$BH$5,Modellering!$K$6:$BH$17)),Modellering!$E$6:$E$17,Milieuprofielen!F$18)","v":0},{"$f":"SUMIFS((_xlfn.XLOOKUP('Weighting Set'!$Z35,Modellering!$K$5:$BH$5,Modellering!$K$6:$BH$17)),Modellering!$E$6:$E$17,Milieuprofielen!G$18)","v":0},{"$f":"SUMIFS((_xlfn.XLOOKUP('Weighting Set'!$Z35,Modellering!$K$5:$BH$5,Modellering!$K$6:$BH$17)),Modellering!$E$6:$E$17,Milieuprofielen!H$18)","v":0},0,null,null,"Parameters EN15804+A2","111. Energy, primary, renewable, excludi","MJ",{"$f":"SUMIFS((_xlfn.XLOOKUP('Weighting Set'!$Z35,Modellering!$K$25:$BH$25,Modellering!$K$26:$BH$37)),Modellering!$E$26:$E$37,Milieuprofielen!O$18)","v":0},{"$f":"SUMIFS((_xlfn.XLOOKUP('Weighting Set'!$Z35,Modellering!$K$25:$BH$25,Modellering!$K$26:$BH$37)),Modellering!$E$26:$E$37,Milieuprofielen!P$18)","v":0},{"$f":"SUMIFS((_xlfn.XLOOKUP('Weighting Set'!$Z35,Modellering!$K$25:$BH$25,Modellering!$K$26:$BH$37)),Modellering!$E$26:$E$37,Milieuprofielen!Q$18)","v":0},0,null,null,"Parameters EN15804+A2","111. Energy, primary, renewable, excludi","MJ",{"$f":"SUMIFS((_xlfn.XLOOKUP('Weighting Set'!$Z35,Modellering!$K$45:$BH$45,Modellering!$K$46:$BH$57)),Modellering!$E$46:$E$57,Milieuprofielen!X$18)","v":0},{"$f":"SUMIFS((_xlfn.XLOOKUP('Weighting Set'!$Z35,Modellering!$K$45:$BH$45,Modellering!$K$46:$BH$57)),Modellering!$E$46:$E$57,Milieuprofielen!Y$18)","v":0},{"$f":"SUMIFS((_xlfn.XLOOKUP('Weighting Set'!$Z35,Modellering!$K$45:$BH$45,Modellering!$K$46:$BH$57)),Modellering!$E$46:$E$57,Milieuprofielen!Z$18)","v":0},0,null,null,"Parameters EN15804+A2","111. Energy, primary, renewable, excludi","MJ",{"$f":"SUMIFS((_xlfn.XLOOKUP('Weighting Set'!$Z35,Modellering!$K$65:$BH$65,Modellering!$K$66:$BH$77)),Modellering!$E$66:$E$77,Milieuprofielen!AG$18)","v":0},{"$f":"SUMIFS((_xlfn.XLOOKUP('Weighting Set'!$Z35,Modellering!$K$65:$BH$65,Modellering!$K$66:$BH$77)),Modellering!$E$66:$E$77,Milieuprofielen!AH$18)","v":0},{"$f":"SUMIFS((_xlfn.XLOOKUP('Weighting Set'!$Z35,Modellering!$K$65:$BH$65,Modellering!$K$66:$BH$77)),Modellering!$E$66:$E$77,Milieuprofielen!AI$18)","v":0},0,null,null,"Parameters EN15804+A2","111. Energy, primary, renewable, excludi","MJ",{"$f":"SUMIFS((_xlfn.XLOOKUP('Weighting Set'!$Z35,Modellering!$K$85:$BH$85,Modellering!$K$86:$BH$97)),Modellering!$E$86:$E$97,Milieuprofielen!AP$18)","v":0},{"$f":"SUMIFS((_xlfn.XLOOKUP('Weighting Set'!$Z35,Modellering!$K$85:$BH$85,Modellering!$K$86:$BH$97)),Modellering!$E$86:$E$97,Milieuprofielen!AQ$18)","v":0},{"$f":"SUMIFS((_xlfn.XLOOKUP('Weighting Set'!$Z35,Modellering!$K$85:$BH$85,Modellering!$K$86:$BH$97)),Modellering!$E$86:$E$97,Milieuprofielen!AR$18)","v":0},0]
[null,null,null,"113. Energy, primary, renewable, materia","MJ",{"$f":"SUMIFS((_xlfn.XLOOKUP('Weighting Set'!$Z36,Modellering!$K$5:$BH$5,Modellering!$K$6:$BH$17)),Modellering!$E$6:$E$17,Milieuprofielen!F$18)","v":0},{"$f":"SUMIFS((_xlfn.XLOOKUP('Weighting Set'!$Z36,Modellering!$K$5:$BH$5,Modellering!$K$6:$BH$17)),Modellering!$E$6:$E$17,Milieuprofielen!G$18)","v":0},{"$f":"SUMIFS((_xlfn.XLOOKUP('Weighting Set'!$Z36,Modellering!$K$5:$BH$5,Modellering!$K$6:$BH$17)),Modellering!$E$6:$E$17,Milieuprofielen!H$18)","v":0},0,null,null,null,"113. Energy, primary, renewable, materia","MJ",{"$f":"SUMIFS((_xlfn.XLOOKUP('Weighting Set'!$Z36,Modellering!$K$25:$BH$25,Modellering!$K$26:$BH$37)),Modellering!$E$26:$E$37,Milieuprofielen!O$18)","v":0},{"$f":"SUMIFS((_xlfn.XLOOKUP('Weighting Set'!$Z36,Modellering!$K$25:$BH$25,Modellering!$K$26:$BH$37)),Modellering!$E$26:$E$37,Milieuprofielen!P$18)","v":0},{"$f":"SUMIFS((_xlfn.XLOOKUP('Weighting Set'!$Z36,Modellering!$K$25:$BH$25,Modellering!$K$26:$BH$37)),Modellering!$E$26:$E$37,Milieuprofielen!Q$18)","v":0},0,null,null,null,"113. Energy, primary, renewable, materia","MJ",{"$f":"SUMIFS((_xlfn.XLOOKUP('Weighting Set'!$Z36,Modellering!$K$45:$BH$45,Modellering!$K$46:$BH$57)),Modellering!$E$46:$E$57,Milieuprofielen!X$18)","v":0},{"$f":"SUMIFS((_xlfn.XLOOKUP('Weighting Set'!$Z36,Modellering!$K$45:$BH$45,Modellering!$K$46:$BH$57)),Modellering!$E$46:$E$57,Milieuprofielen!Y$18)","v":0},{"$f":"SUMIFS((_xlfn.XLOOKUP('Weighting Set'!$Z36,Modellering!$K$45:$BH$45,Modellering!$K$46:$BH$57)),Modellering!$E$46:$E$57,Milieuprofielen!Z$18)","v":0},0,null,null,null,"113. Energy, primary, renewable, materia","MJ",{"$f":"SUMIFS((_xlfn.XLOOKUP('Weighting Set'!$Z36,Modellering!$K$65:$BH$65,Modellering!$K$66:$BH$77)),Modellering!$E$66:$E$77,Milieuprofielen!AG$18)","v":0},{"$f":"SUMIFS((_xlfn.XLOOKUP('Weighting Set'!$Z36,Modellering!$K$65:$BH$65,Modellering!$K$66:$BH$77)),Modellering!$E$66:$E$77,Milieuprofielen!AH$18)","v":0},{"$f":"SUMIFS((_xlfn.XLOOKUP('Weighting Set'!$Z36,Modellering!$K$65:$BH$65,Modellering!$K$66:$BH$77)),Modellering!$E$66:$E$77,Milieuprofielen!AI$18)","v":0},0,null,null,null,"113. Energy, primary, renewable, materia","MJ",{"$f":"SUMIFS((_xlfn.XLOOKUP('Weighting Set'!$Z36,Modellering!$K$85:$BH$85,Modellering!$K$86:$BH$97)),Modellering!$E$86:$E$97,Milieuprofielen!AP$18)","v":0},{"$f":"SUMIFS((_xlfn.XLOOKUP('Weighting Set'!$Z36,Modellering!$K$85:$BH$85,Modellering!$K$86:$BH$97)),Modellering!$E$86:$E$97,Milieuprofielen!AQ$18)","v":0},{"$f":"SUMIFS((_xlfn.XLOOKUP('Weighting Set'!$Z36,Modellering!$K$85:$BH$85,Modellering!$K$86:$BH$97)),Modellering!$E$86:$E$97,Milieuprofielen!AR$18)","v":0},0]
[null,null,null,"101. Energy, primary, renewable (MJ)","MJ",{"$f":"SUMIFS((_xlfn.XLOOKUP('Weighting Set'!$Z37,Modellering!$K$5:$BH$5,Modellering!$K$6:$BH$17)),Modellering!$E$6:$E$17,Milieuprofielen!F$18)","v":164.39339754266825},{"$f":"SUMIFS((_xlfn.XLOOKUP('Weighting Set'!$Z37,Modellering!$K$5:$BH$5,Modellering!$K$6:$BH$17)),Modellering!$E$6:$E$17,Milieuprofielen!G$18)","v":18.569422044104567},{"$f":"SUMIFS((_xlfn.XLOOKUP('Weighting Set'!$Z37,Modellering!$K$5:$BH$5,Modellering!$K$6:$BH$17)),Modellering!$E$6:$E$17,Milieuprofielen!H$18)","v":56.201586497791219},239.16440608456404,null,null,null,"101. Energy, primary, renewable (MJ)","MJ",{"$f":"SUMIFS((_xlfn.XLOOKUP('Weighting Set'!$Z37,Modellering!$K$25:$BH$25,Modellering!$K$26:$BH$37)),Modellering!$E$26:$E$37,Milieuprofielen!O$18)","v":0},{"$f":"SUMIFS((_xlfn.XLOOKUP('Weighting Set'!$Z37,Modellering!$K$25:$BH$25,Modellering!$K$26:$BH$37)),Modellering!$E$26:$E$37,Milieuprofielen!P$18)","v":0},{"$f":"SUMIFS((_xlfn.XLOOKUP('Weighting Set'!$Z37,Modellering!$K$25:$BH$25,Modellering!$K$26:$BH$37)),Modellering!$E$26:$E$37,Milieuprofielen!Q$18)","v":0},0,null,null,null,"101. Energy, primary, renewable (MJ)","MJ",{"$f":"SUMIFS((_xlfn.XLOOKUP('Weighting Set'!$Z37,Modellering!$K$45:$BH$45,Modellering!$K$46:$BH$57)),Modellering!$E$46:$E$57,Milieuprofielen!X$18)","v":0},{"$f":"SUMIFS((_xlfn.XLOOKUP('Weighting Set'!$Z37,Modellering!$K$45:$BH$45,Modellering!$K$46:$BH$57)),Modellering!$E$46:$E$57,Milieuprofielen!Y$18)","v":0},{"$f":"SUMIFS((_xlfn.XLOOKUP('Weighting Set'!$Z37,Modellering!$K$45:$BH$45,Modellering!$K$46:$BH$57)),Modellering!$E$46:$E$57,Milieuprofielen!Z$18)","v":0},0,null,null,null,"101. Energy, primary, renewable (MJ)","MJ",{"$f":"SUMIFS((_xlfn.XLOOKUP('Weighting Set'!$Z37,Modellering!$K$65:$BH$65,Modellering!$K$66:$BH$77)),Modellering!$E$66:$E$77,Milieuprofielen!AG$18)","v":0},{"$f":"SUMIFS((_xlfn.XLOOKUP('Weighting Set'!$Z37,Modellering!$K$65:$BH$65,Modellering!$K$66:$BH$77)),Modellering!$E$66:$E$77,Milieuprofielen!AH$18)","v":0},{"$f":"SUMIFS((_xlfn.XLOOKUP('Weighting Set'!$Z37,Modellering!$K$65:$BH$65,Modellering!$K$66:$BH$77)),Modellering!$E$66:$E$77,Milieuprofielen!AI$18)","v":0},0,null,null,null,"101. Energy, primary, renewable (MJ)","MJ",{"$f":"SUMIFS((_xlfn.XLOOKUP('Weighting Set'!$Z37,Modellering!$K$85:$BH$85,Modellering!$K$86:$BH$97)),Modellering!$E$86:$E$97,Milieuprofielen!AP$18)","v":0},{"$f":"SUMIFS((_xlfn.XLOOKUP('Weighting Set'!$Z37,Modellering!$K$85:$BH$85,Modellering!$K$86:$BH$97)),Modellering!$E$86:$E$97,Milieuprofielen!AQ$18)","v":0},{"$f":"SUMIFS((_xlfn.XLOOKUP('Weighting Set'!$Z37,Modellering!$K$85:$BH$85,Modellering!$K$86:$BH$97)),Modellering!$E$86:$E$97,Milieuprofielen!AR$18)","v":0},0]
[null,null,null,"112. Energy, primary, non-renewable, exc","MJ",{"$f":"SUMIFS((_xlfn.XLOOKUP('Weighting Set'!$Z38,Modellering!$K$5:$BH$5,Modellering!$K$6:$BH$17)),Modellering!$E$6:$E$17,Milieuprofielen!F$18)","v":0},{"$f":"SUMIFS((_xlfn.XLOOKUP('Weighting Set'!$Z38,Modellering!$K$5:$BH$5,Modellering!$K$6:$BH$17)),Modellering!$E$6:$E$17,Milieuprofielen!G$18)","v":0},{"$f":"SUMIFS((_xlfn.XLOOKUP('Weighting Set'!$Z38,Modellering!$K$5:$BH$5,Modellering!$K$6:$BH$17)),Modellering!$E$6:$E$17,Milieuprofielen!H$18)","v":0},0,null,null,null,"112. Energy, primary, non-renewable, exc","MJ",{"$f":"SUMIFS((_xlfn.XLOOKUP('Weighting Set'!$Z38,Modellering!$K$25:$BH$25,Modellering!$K$26:$BH$37)),Modellering!$E$26:$E$37,Milieuprofielen!O$18)","v":0},{"$f":"SUMIFS((_xlfn.XLOOKUP('Weighting Set'!$Z38,Modellering!$K$25:$BH$25,Modellering!$K$26:$BH$37)),Modellering!$E$26:$E$37,Milieuprofielen!P$18)","v":0},{"$f":"SUMIFS((_xlfn.XLOOKUP('Weighting Set'!$Z38,Modellering!$K$25:$BH$25,Modellering!$K$26:$BH$37)),Modellering!$E$26:$E$37,Milieuprofielen!Q$18)","v":0},0,null,null,null,"112. Energy, primary, non-renewable, exc","MJ",{"$f":"SUMIFS((_xlfn.XLOOKUP('Weighting Set'!$Z38,Modellering!$K$45:$BH$45,Modellering!$K$46:$BH$57)),Modellering!$E$46:$E$57,Milieuprofielen!X$18)","v":0},{"$f":"SUMIFS((_xlfn.XLOOKUP('Weighting Set'!$Z38,Modellering!$K$45:$BH$45,Modellering!$K$46:$BH$57)),Modellering!$E$46:$E$57,Milieuprofielen!Y$18)","v":0},{"$f":"SUMIFS((_xlfn.XLOOKUP('Weighting Set'!$Z38,Modellering!$K$45:$BH$45,Modellering!$K$46:$BH$57)),Modellering!$E$46:$E$57,Milieuprofielen!Z$18)","v":0},0,null,null,null,"112. Energy, primary, non-renewable, exc","MJ",{"$f":"SUMIFS((_xlfn.XLOOKUP('Weighting Set'!$Z38,Modellering!$K$65:$BH$65,Modellering!$K$66:$BH$77)),Modellering!$E$66:$E$77,Milieuprofielen!AG$18)","v":0},{"$f":"SUMIFS((_xlfn.XLOOKUP('Weighting Set'!$Z38,Modellering!$K$65:$BH$65,Modellering!$K$66:$BH$77)),Modellering!$E$66:$E$77,Milieuprofielen!AH$18)","v":0},{"$f":"SUMIFS((_xlfn.XLOOKUP('Weighting Set'!$Z38,Modellering!$K$65:$BH$65,Modellering!$K$66:$BH$77)),Modellering!$E$66:$E$77,Milieuprofielen!AI$18)","v":0},0,null,null,null,"112. Energy, primary, non-renewable, exc","MJ",{"$f":"SUMIFS((_xlfn.XLOOKUP('Weighting Set'!$Z38,Modellering!$K$85:$BH$85,Modellering!$K$86:$BH$97)),Modellering!$E$86:$E$97,Milieuprofielen!AP$18)","v":0},{"$f":"SUMIFS((_xlfn.XLOOKUP('Weighting Set'!$Z38,Modellering!$K$85:$BH$85,Modellering!$K$86:$BH$97)),Modellering!$E$86:$E$97,Milieuprofielen!AQ$18)","v":0},{"$f":"SUMIFS((_xlfn.XLOOKUP('Weighting Set'!$Z38,Modellering!$K$85:$BH$85,Modellering!$K$86:$BH$97)),Modellering!$E$86:$E$97,Milieuprofielen!AR$18)","v":0},0]
[null,null,null,"114. Energy, primary, non-renewable, mat","MJ",{"$f":"SUMIFS((_xlfn.XLOOKUP('Weighting Set'!$Z39,Modellering!$K$5:$BH$5,Modellering!$K$6:$BH$17)),Modellering!$E$6:$E$17,Milieuprofielen!F$18)","v":0},{"$f":"SUMIFS((_xlfn.XLOOKUP('Weighting Set'!$Z39,Modellering!$K$5:$BH$5,Modellering!$K$6:$BH$17)),Modellering!$E$6:$E$17,Milieuprofielen!G$18)","v":0},{"$f":"SUMIFS((_xlfn.XLOOKUP('Weighting Set'!$Z39,Modellering!$K$5:$BH$5,Modellering!$K$6:$BH$17)),Modellering!$E$6:$E$17,Milieuprofielen!H$18)","v":0},0,null,null,null,"114. Energy, primary, non-renewable, mat","MJ",{"$f":"SUMIFS((_xlfn.XLOOKUP('Weighting Set'!$Z39,Modellering!$K$25:$BH$25,Modellering!$K$26:$BH$37)),Modellering!$E$26:$E$37,Milieuprofielen!O$18)","v":0},{"$f":"SUMIFS((_xlfn.XLOOKUP('Weighting Set'!$Z39,Modellering!$K$25:$BH$25,Modellering!$K$26:$BH$37)),Modellering!$E$26:$E$37,Milieuprofielen!P$18)","v":0},{"$f":"SUMIFS((_xlfn.XLOOKUP('Weighting Set'!$Z39,Modellering!$K$25:$BH$25,Modellering!$K$26:$BH$37)),Modellering!$E$26:$E$37,Milieuprofielen!Q$18)","v":0},0,null,null,null,"114. Energy, primary, non-renewable, mat","MJ",{"$f":"SUMIFS((_xlfn.XLOOKUP('Weighting Set'!$Z39,Modellering!$K$45:$BH$45,Modellering!$K$46:$BH$57)),Modellering!$E$46:$E$57,Milieuprofielen!X$18)","v":0},{"$f":"SUMIFS((_xlfn.XLOOKUP('Weighting Set'!$Z39,Modellering!$K$45:$BH$45,Modellering!$K$46:$BH$57)),Modellering!$E$46:$E$57,Milieuprofielen!Y$18)","v":0},{"$f":"SUMIFS((_xlfn.XLOOKUP('Weighting Set'!$Z39,Modellering!$K$45:$BH$45,Modellering!$K$46:$BH$57)),Modellering!$E$46:$E$57,Milieuprofielen!Z$18)","v":0},0,null,null,null,"114. Energy, primary, non-renewable, mat","MJ",{"$f":"SUMIFS((_xlfn.XLOOKUP('Weighting Set'!$Z39,Modellering!$K$65:$BH$65,Modellering!$K$66:$BH$77)),Modellering!$E$66:$E$77,Milieuprofielen!AG$18)","v":0},{"$f":"SUMIFS((_xlfn.XLOOKUP('Weighting Set'!$Z39,Modellering!$K$65:$BH$65,Modellering!$K$66:$BH$77)),Modellering!$E$66:$E$77,Milieuprofielen!AH$18)","v":0},{"$f":"SUMIFS((_xlfn.XLOOKUP('Weighting Set'!$Z39,Modellering!$K$65:$BH$65,Modellering!$K$66:$BH$77)),Modellering!$E$66:$E$77,Milieuprofielen!AI$18)","v":0},0,null,null,null,"114. Energy, primary, non-renewable, mat","MJ",{"$f":"SUMIFS((_xlfn.XLOOKUP('Weighting Set'!$Z39,Modellering!$K$85:$BH$85,Modellering!$K$86:$BH$97)),Modellering!$E$86:$E$97,Milieuprofielen!AP$18)","v":0},{"$f":"SUMIFS((_xlfn.XLOOKUP('Weighting Set'!$Z39,Modellering!$K$85:$BH$85,Modellering!$K$86:$BH$97)),Modellering!$E$86:$E$97,Milieuprofielen!AQ$18)","v":0},{"$f":"SUMIFS((_xlfn.XLOOKUP('Weighting Set'!$Z39,Modellering!$K$85:$BH$85,Modellering!$K$86:$BH$97)),Modellering!$E$86:$E$97,Milieuprofielen!AR$18)","v":0},0]
[null,null,null,"102. Energy, primary, non-renewable (MJ)","MJ",{"$f":"SUMIFS((_xlfn.XLOOKUP('Weighting Set'!$Z40,Modellering!$K$5:$BH$5,Modellering!$K$6:$BH$17)),Modellering!$E$6:$E$17,Milieuprofielen!F$18)","v":54599.57393201322},{"$f":"SUMIFS((_xlfn.XLOOKUP('Weighting Set'!$Z40,Modellering!$K$5:$BH$5,Modellering!$K$6:$BH$17)),Modellering!$E$6:$E$17,Milieuprofielen!G$18)","v":307.97555445973558},{"$f":"SUMIFS((_xlfn.XLOOKUP('Weighting Set'!$Z40,Modellering!$K$5:$BH$5,Modellering!$K$6:$BH$17)),Modellering!$E$6:$E$17,Milieuprofielen!H$18)","v":801.03453648444406},55708.584022957402,null,null,null,"102. Energy, primary, non-renewable (MJ)","MJ",{"$f":"SUMIFS((_xlfn.XLOOKUP('Weighting Set'!$Z40,Modellering!$K$25:$BH$25,Modellering!$K$26:$BH$37)),Modellering!$E$26:$E$37,Milieuprofielen!O$18)","v":0},{"$f":"SUMIFS((_xlfn.XLOOKUP('Weighting Set'!$Z40,Modellering!$K$25:$BH$25,Modellering!$K$26:$BH$37)),Modellering!$E$26:$E$37,Milieuprofielen!P$18)","v":0},{"$f":"SUMIFS((_xlfn.XLOOKUP('Weighting Set'!$Z40,Modellering!$K$25:$BH$25,Modellering!$K$26:$BH$37)),Modellering!$E$26:$E$37,Milieuprofielen!Q$18)","v":0},0,null,null,null,"102. Energy, primary, non-renewable (MJ)","MJ",{"$f":"SUMIFS((_xlfn.XLOOKUP('Weighting Set'!$Z40,Modellering!$K$45:$BH$45,Modellering!$K$46:$BH$57)),Modellering!$E$46:$E$57,Milieuprofielen!X$18)","v":0},{"$f":"SUMIFS((_xlfn.XLOOKUP('Weighting Set'!$Z40,Modellering!$K$45:$BH$45,Modellering!$K$46:$BH$57)),Modellering!$E$46:$E$57,Milieuprofielen!Y$18)","v":0},{"$f":"SUMIFS((_xlfn.XLOOKUP('Weighting Set'!$Z40,Modellering!$K$45:$BH$45,Modellering!$K$46:$BH$57)),Modellering!$E$46:$E$57,Milieuprofielen!Z$18)","v":0},0,null,null,null,"102. Energy, primary, non-renewable (MJ)","MJ",{"$f":"SUMIFS((_xlfn.XLOOKUP('Weighting Set'!$Z40,Modellering!$K$65:$BH$65,Modellering!$K$66:$BH$77)),Modellering!$E$66:$E$77,Milieuprofielen!AG$18)","v":0},{"$f":"SUMIFS((_xlfn.XLOOKUP('Weighting Set'!$Z40,Modellering!$K$65:$BH$65,Modellering!$K$66:$BH$77)),Modellering!$E$66:$E$77,Milieuprofielen!AH$18)","v":0},{"$f":"SUMIFS((_xlfn.XLOOKUP('Weighting Set'!$Z40,Modellering!$K$65:$BH$65,Modellering!$K$66:$BH$77)),Modellering!$E$66:$E$77,Milieuprofielen!AI$18)","v":0},0,null,null,null,"102. Energy, primary, non-renewable (MJ)","MJ",{"$f":"SUMIFS((_xlfn.XLOOKUP('Weighting Set'!$Z40,Modellering!$K$85:$BH$85,Modellering!$K$86:$BH$97)),Modellering!$E$86:$E$97,Milieuprofielen!AP$18)","v":0},{"$f":"SUMIFS((_xlfn.XLOOKUP('Weighting Set'!$Z40,Modellering!$K$85:$BH$85,Modellering!$K$86:$BH$97)),Modellering!$E$86:$E$97,Milieuprofielen!AQ$18)","v":0},{"$f":"SUMIFS((_xlfn.XLOOKUP('Weighting Set'!$Z40,Modellering!$K$85:$BH$85,Modellering!$K$86:$BH$97)),Modellering!$E$86:$E$97,Milieuprofielen!AR$18)","v":0},0]
[null,null,null,"108. Secondary material (kg)","kg",{"$f":"SUMIFS((_xlfn.XLOOKUP('Weighting Set'!$Z41,Modellering!$K$5:$BH$5,Modellering!$K$6:$BH$17)),Modellering!$E$6:$E$17,Milieuprofielen!F$18)","v":0},{"$f":"SUMIFS((_xlfn.XLOOKUP('Weighting Set'!$Z41,Modellering!$K$5:$BH$5,Modellering!$K$6:$BH$17)),Modellering!$E$6:$E$17,Milieuprofielen!G$18)","v":0},{"$f":"SUMIFS((_xlfn.XLOOKUP('Weighting Set'!$Z41,Modellering!$K$5:$BH$5,Modellering!$K$6:$BH$17)),Modellering!$E$6:$E$17,Milieuprofielen!H$18)","v":0},0,null,null,null,"108. Secondary material (kg)","kg",{"$f":"SUMIFS((_xlfn.XLOOKUP('Weighting Set'!$Z41,Modellering!$K$25:$BH$25,Modellering!$K$26:$BH$37)),Modellering!$E$26:$E$37,Milieuprofielen!O$18)","v":0},{"$f":"SUMIFS((_xlfn.XLOOKUP('Weighting Set'!$Z41,Modellering!$K$25:$BH$25,Modellering!$K$26:$BH$37)),Modellering!$E$26:$E$37,Milieuprofielen!P$18)","v":0},{"$f":"SUMIFS((_xlfn.XLOOKUP('Weighting Set'!$Z41,Modellering!$K$25:$BH$25,Modellering!$K$26:$BH$37)),Modellering!$E$26:$E$37,Milieuprofielen!Q$18)","v":0},0,null,null,null,"108. Secondary material (kg)","kg",{"$f":"SUMIFS((_xlfn.XLOOKUP('Weighting Set'!$Z41,Modellering!$K$45:$BH$45,Modellering!$K$46:$BH$57)),Modellering!$E$46:$E$57,Milieuprofielen!X$18)","v":0},{"$f":"SUMIFS((_xlfn.XLOOKUP('Weighting Set'!$Z41,Modellering!$K$45:$BH$45,Modellering!$K$46:$BH$57)),Modellering!$E$46:$E$57,Milieuprofielen!Y$18)","v":0},{"$f":"SUMIFS((_xlfn.XLOOKUP('Weighting Set'!$Z41,Modellering!$K$45:$BH$45,Modellering!$K$46:$BH$57)),Modellering!$E$46:$E$57,Milieuprofielen!Z$18)","v":0},0,null,null,null,"108. Secondary material (kg)","kg",{"$f":"SUMIFS((_xlfn.XLOOKUP('Weighting Set'!$Z41,Modellering!$K$65:$BH$65,Modellering!$K$66:$BH$77)),Modellering!$E$66:$E$77,Milieuprofielen!AG$18)","v":0},{"$f":"SUMIFS((_xlfn.XLOOKUP('Weighting Set'!$Z41,Modellering!$K$65:$BH$65,Modellering!$K$66:$BH$77)),Modellering!$E$66:$E$77,Milieuprofielen!AH$18)","v":0},{"$f":"SUMIFS((_xlfn.XLOOKUP('Weighting Set'!$Z41,Modellering!$K$65:$BH$65,Modellering!$K$66:$BH$77)),Modellering!$E$66:$E$77,Milieuprofielen!AI$18)","v":0},0,null,null,null,"108. Secondary material (kg)","kg",{"$f":"SUMIFS((_xlfn.XLOOKUP('Weighting Set'!$Z41,Modellering!$K$85:$BH$85,Modellering!$K$86:$BH$97)),Modellering!$E$86:$E$97,Milieuprofielen!AP$18)","v":0},{"$f":"SUMIFS((_xlfn.XLOOKUP('Weighting Set'!$Z41,Modellering!$K$85:$BH$85,Modellering!$K$86:$BH$97)),Modellering!$E$86:$E$97,Milieuprofielen!AQ$18)","v":0},{"$f":"SUMIFS((_xlfn.XLOOKUP('Weighting Set'!$Z41,Modellering!$K$85:$BH$85,Modellering!$K$86:$BH$97)),Modellering!$E$86:$E$97,Milieuprofielen!AR$18)","v":0},0]
[null,null,null,"109. Secondary fuel, renewable (kg)","MJ",{"$f":"SUMIFS((_xlfn.XLOOKUP('Weighting Set'!$Z42,Modellering!$K$5:$BH$5,Modellering!$K$6:$BH$17)),Modellering!$E$6:$E$17,Milieuprofielen!F$18)","v":0},{"$f":"SUMIFS((_xlfn.XLOOKUP('Weighting Set'!$Z42,Modellering!$K$5:$BH$5,Modellering!$K$6:$BH$17)),Modellering!$E$6:$E$17,Milieuprofielen!G$18)","v":0},{"$f":"SUMIFS((_xlfn.XLOOKUP('Weighting Set'!$Z42,Modellering!$K$5:$BH$5,Modellering!$K$6:$BH$17)),Modellering!$E$6:$E$17,Milieuprofielen!H$18)","v":0},0,null,null,null,"109. Secondary fuel, renewable (kg)","MJ",{"$f":"SUMIFS((_xlfn.XLOOKUP('Weighting Set'!$Z42,Modellering!$K$25:$BH$25,Modellering!$K$26:$BH$37)),Modellering!$E$26:$E$37,Milieuprofielen!O$18)","v":0},{"$f":"SUMIFS((_xlfn.XLOOKUP('Weighting Set'!$Z42,Modellering!$K$25:$BH$25,Modellering!$K$26:$BH$37)),Modellering!$E$26:$E$37,Milieuprofielen!P$18)","v":0},{"$f":"SUMIFS((_xlfn.XLOOKUP('Weighting Set'!$Z42,Modellering!$K$25:$BH$25,Modellering!$K$26:$BH$37)),Modellering!$E$26:$E$37,Milieuprofielen!Q$18)","v":0},0,null,null,null,"109. Secondary fuel, renewable (kg)","MJ",{"$f":"SUMIFS((_xlfn.XLOOKUP('Weighting Set'!$Z42,Modellering!$K$45:$BH$45,Modellering!$K$46:$BH$57)),Modellering!$E$46:$E$57,Milieuprofielen!X$18)","v":0},{"$f":"SUMIFS((_xlfn.XLOOKUP('Weighting Set'!$Z42,Modellering!$K$45:$BH$45,Modellering!$K$46:$BH$57)),Modellering!$E$46:$E$57,Milieuprofielen!Y$18)","v":0},{"$f":"SUMIFS((_xlfn.XLOOKUP('Weighting Set'!$Z42,Modellering!$K$45:$BH$45,Modellering!$K$46:$BH$57)),Modellering!$E$46:$E$57,Milieuprofielen!Z$18)","v":0},0,null,null,null,"109. Secondary fuel, renewable (kg)","MJ",{"$f":"SUMIFS((_xlfn.XLOOKUP('Weighting Set'!$Z42,Modellering!$K$65:$BH$65,Modellering!$K$66:$BH$77)),Modellering!$E$66:$E$77,Milieuprofielen!AG$18)","v":0},{"$f":"SUMIFS((_xlfn.XLOOKUP('Weighting Set'!$Z42,Modellering!$K$65:$BH$65,Modellering!$K$66:$BH$77)),Modellering!$E$66:$E$77,Milieuprofielen!AH$18)","v":0},{"$f":"SUMIFS((_xlfn.XLOOKUP('Weighting Set'!$Z42,Modellering!$K$65:$BH$65,Modellering!$K$66:$BH$77)),Modellering!$E$66:$E$77,Milieuprofielen!AI$18)","v":0},0,null,null,null,"109. Secondary fuel, renewable (kg)","MJ",{"$f":"SUMIFS((_xlfn.XLOOKUP('Weighting Set'!$Z42,Modellering!$K$85:$BH$85,Modellering!$K$86:$BH$97)),Modellering!$E$86:$E$97,Milieuprofielen!AP$18)","v":0},{"$f":"SUMIFS((_xlfn.XLOOKUP('Weighting Set'!$Z42,Modellering!$K$85:$BH$85,Modellering!$K$86:$BH$97)),Modellering!$E$86:$E$97,Milieuprofielen!AQ$18)","v":0},{"$f":"SUMIFS((_xlfn.XLOOKUP('Weighting Set'!$Z42,Modellering!$K$85:$BH$85,Modellering!$K$86:$BH$97)),Modellering!$E$86:$E$97,Milieuprofielen!AR$18)","v":0},0]
[null,null,null,"110. Secondary fuel, non-renewable (kg)","MJ",{"$f":"SUMIFS((_xlfn.XLOOKUP('Weighting Set'!$Z43,Modellering!$K$5:$BH$5,Modellering!$K$6:$BH$17)),Modellering!$E$6:$E$17,Milieuprofielen!F$18)","v":0},{"$f":"SUMIFS((_xlfn.XLOOKUP('Weighting Set'!$Z43,Modellering!$K$5:$BH$5,Modellering!$K$6:$BH$17)),Modellering!$E$6:$E$17,Milieuprofielen!G$18)","v":0},{"$f":"SUMIFS((_xlfn.XLOOKUP('Weighting Set'!$Z43,Modellering!$K$5:$BH$5,Modellering!$K$6:$BH$17)),Modellering!$E$6:$E$17,Milieuprofielen!H$18)","v":0},0,null,null,null,"110. Secondary fuel, non-renewable (kg)","MJ",{"$f":"SUMIFS((_xlfn.XLOOKUP('Weighting Set'!$Z43,Modellering!$K$25:$BH$25,Modellering!$K$26:$BH$37)),Modellering!$E$26:$E$37,Milieuprofielen!O$18)","v":0},{"$f":"SUMIFS((_xlfn.XLOOKUP('Weighting Set'!$Z43,Modellering!$K$25:$BH$25,Modellering!$K$26:$BH$37)),Modellering!$E$26:$E$37,Milieuprofielen!P$18)","v":0},{"$f":"SUMIFS((_xlfn.XLOOKUP('Weighting Set'!$Z43,Modellering!$K$25:$BH$25,Modellering!$K$26:$BH$37)),Modellering!$E$26:$E$37,Milieuprofielen!Q$18)","v":0},0,null,null,null,"110. Secondary fuel, non-renewable (kg)","MJ",{"$f":"SUMIFS((_xlfn.XLOOKUP('Weighting Set'!$Z43,Modellering!$K$45:$BH$45,Modellering!$K$46:$BH$57)),Modellering!$E$46:$E$57,Milieuprofielen!X$18)","v":0},{"$f":"SUMIFS((_xlfn.XLOOKUP('Weighting Set'!$Z43,Modellering!$K$45:$BH$45,Modellering!$K$46:$BH$57)),Modellering!$E$46:$E$57,Milieuprofielen!Y$18)","v":0},{"$f":"SUMIFS((_xlfn.XLOOKUP('Weighting Set'!$Z43,Modellering!$K$45:$BH$45,Modellering!$K$46:$BH$57)),Modellering!$E$46:$E$57,Milieuprofielen!Z$18)","v":0},0,null,null,null,"110. Secondary fuel, non-renewable (kg)","MJ",{"$f":"SUMIFS((_xlfn.XLOOKUP('Weighting Set'!$Z43,Modellering!$K$65:$BH$65,Modellering!$K$66:$BH$77)),Modellering!$E$66:$E$77,Milieuprofielen!AG$18)","v":0},{"$f":"SUMIFS((_xlfn.XLOOKUP('Weighting Set'!$Z43,Modellering!$K$65:$BH$65,Modellering!$K$66:$BH$77)),Modellering!$E$66:$E$77,Milieuprofielen!AH$18)","v":0},{"$f":"SUMIFS((_xlfn.XLOOKUP('Weighting Set'!$Z43,Modellering!$K$65:$BH$65,Modellering!$K$66:$BH$77)),Modellering!$E$66:$E$77,Milieuprofielen!AI$18)","v":0},0,null,null,null,"110. Secondary fuel, non-renewable (kg)","MJ",{"$f":"SUMIFS((_xlfn.XLOOKUP('Weighting Set'!$Z43,Modellering!$K$85:$BH$85,Modellering!$K$86:$BH$97)),Modellering!$E$86:$E$97,Milieuprofielen!AP$18)","v":0},{"$f":"SUMIFS((_xlfn.XLOOKUP('Weighting Set'!$Z43,Modellering!$K$85:$BH$85,Modellering!$K$86:$BH$97)),Modellering!$E$86:$E$97,Milieuprofielen!AQ$18)","v":0},{"$f":"SUMIFS((_xlfn.XLOOKUP('Weighting Set'!$Z43,Modellering!$K$85:$BH$85,Modellering!$K$86:$BH$97)),Modellering!$E$86:$E$97,Milieuprofielen!AR$18)","v":0},0]
[null,null,null,"104. Water, fresh water use (m3)","m3",{"$f":"SUMIFS((_xlfn.XLOOKUP('Weighting Set'!$Z44,Modellering!$K$5:$BH$5,Modellering!$K$6:$BH$17)),Modellering!$E$6:$E$17,Milieuprofielen!F$18)","v":4.1468215096754806},{"$f":"SUMIFS((_xlfn.XLOOKUP('Weighting Set'!$Z44,Modellering!$K$5:$BH$5,Modellering!$K$6:$BH$17)),Modellering!$E$6:$E$17,Milieuprofielen!G$18)","v":1.4192745454987981E-2},{"$f":"SUMIFS((_xlfn.XLOOKUP('Weighting Set'!$Z44,Modellering!$K$5:$BH$5,Modellering!$K$6:$BH$17)),Modellering!$E$6:$E$17,Milieuprofielen!H$18)","v":0.70929881769263425},4.8703130728231026,null,null,null,"104. Water, fresh water use (m3)","m3",{"$f":"SUMIFS((_xlfn.XLOOKUP('Weighting Set'!$Z44,Modellering!$K$25:$BH$25,Modellering!$K$26:$BH$37)),Modellering!$E$26:$E$37,Milieuprofielen!O$18)","v":0},{"$f":"SUMIFS((_xlfn.XLOOKUP('Weighting Set'!$Z44,Modellering!$K$25:$BH$25,Modellering!$K$26:$BH$37)),Modellering!$E$26:$E$37,Milieuprofielen!P$18)","v":0},{"$f":"SUMIFS((_xlfn.XLOOKUP('Weighting Set'!$Z44,Modellering!$K$25:$BH$25,Modellering!$K$26:$BH$37)),Modellering!$E$26:$E$37,Milieuprofielen!Q$18)","v":0},0,null,null,null,"104. Water, fresh water use (m3)","m3",{"$f":"SUMIFS((_xlfn.XLOOKUP('Weighting Set'!$Z44,Modellering!$K$45:$BH$45,Modellering!$K$46:$BH$57)),Modellering!$E$46:$E$57,Milieuprofielen!X$18)","v":0},{"$f":"SUMIFS((_xlfn.XLOOKUP('Weighting Set'!$Z44,Modellering!$K$45:$BH$45,Modellering!$K$46:$BH$57)),Modellering!$E$46:$E$57,Milieuprofielen!Y$18)","v":0},{"$f":"SUMIFS((_xlfn.XLOOKUP('Weighting Set'!$Z44,Modellering!$K$45:$BH$45,Modellering!$K$46:$BH$57)),Modellering!$E$46:$E$57,Milieuprofielen!Z$18)","v":0},0,null,null,null,"104. Water, fresh water use (m3)","m3",{"$f":"SUMIFS((_xlfn.XLOOKUP('Weighting Set'!$Z44,Modellering!$K$65:$BH$65,Modellering!$K$66:$BH$77)),Modellering!$E$66:$E$77,Milieuprofielen!AG$18)","v":0},{"$f":"SUMIFS((_xlfn.XLOOKUP('Weighting Set'!$Z44,Modellering!$K$65:$BH$65,Modellering!$K$66:$BH$77)),Modellering!$E$66:$E$77,Milieuprofielen!AH$18)","v":0},{"$f":"SUMIFS((_xlfn.XLOOKUP('Weighting Set'!$Z44,Modellering!$K$65:$BH$65,Modellering!$K$66:$BH$77)),Modellering!$E$66:$E$77,Milieuprofielen!AI$18)","v":0},0,null,null,null,"104. Water, fresh water use (m3)","m3",{"$f":"SUMIFS((_xlfn.XLOOKUP('Weighting Set'!$Z44,Modellering!$K$85:$BH$85,Modellering!$K$86:$BH$97)),Modellering!$E$86:$E$97,Milieuprofielen!AP$18)","v":0},{"$f":"SUMIFS((_xlfn.XLOOKUP('Weighting Set'!$Z44,Modellering!$K$85:$BH$85,Modellering!$K$86:$BH$97)),Modellering!$E$86:$E$97,Milieuprofielen!AQ$18)","v":0},{"$f":"SUMIFS((_xlfn.XLOOKUP('Weighting Set'!$Z44,Modellering!$K$85:$BH$85,Modellering!$K$86:$BH$97)),Modellering!$E$86:$E$97,Milieuprofielen!AR$18)","v":0},0]
[null,null,null,"106. Waste, hazardous (kg)","kg",{"$f":"SUMIFS((_xlfn.XLOOKUP('Weighting Set'!$Z45,Modellering!$K$5:$BH$5,Modellering!$K$6:$BH$17)),Modellering!$E$6:$E$17,Milieuprofielen!F$18)","v":0.3070966862046875},{"$f":"SUMIFS((_xlfn.XLOOKUP('Weighting Set'!$Z45,Modellering!$K$5:$BH$5,Modellering!$K$6:$BH$17)),Modellering!$E$6:$E$17,Milieuprofielen!G$18)","v":1.791002742530048E-3},{"$f":"SUMIFS((_xlfn.XLOOKUP('Weighting Set'!$Z45,Modellering!$K$5:$BH$5,Modellering!$K$6:$BH$17)),Modellering!$E$6:$E$17,Milieuprofielen!H$18)","v":4.5325654438560948E-3},0.31342025439107363,null,null,null,"106. Waste, hazardous (kg)","kg",{"$f":"SUMIFS((_xlfn.XLOOKUP('Weighting Set'!$Z45,Modellering!$K$25:$BH$25,Modellering!$K$26:$BH$37)),Modellering!$E$26:$E$37,Milieuprofielen!O$18)","v":0},{"$f":"SUMIFS((_xlfn.XLOOKUP('Weighting Set'!$Z45,Modellering!$K$25:$BH$25,Modellering!$K$26:$BH$37)),Modellering!$E$26:$E$37,Milieuprofielen!P$18)","v":0},{"$f":"SUMIFS((_xlfn.XLOOKUP('Weighting Set'!$Z45,Modellering!$K$25:$BH$25,Modellering!$K$26:$BH$37)),Modellering!$E$26:$E$37,Milieuprofielen!Q$18)","v":0},0,null,null,null,"106. Waste, hazardous (kg)","kg",{"$f":"SUMIFS((_xlfn.XLOOKUP('Weighting Set'!$Z45,Modellering!$K$45:$BH$45,Modellering!$K$46:$BH$57)),Modellering!$E$46:$E$57,Milieuprofielen!X$18)","v":0},{"$f":"SUMIFS((_xlfn.XLOOKUP('Weighting Set'!$Z45,Modellering!$K$45:$BH$45,Modellering!$K$46:$BH$57)),Modellering!$E$46:$E$57,Milieuprofielen!Y$18)","v":0},{"$f":"SUMIFS((_xlfn.XLOOKUP('Weighting Set'!$Z45,Modellering!$K$45:$BH$45,Modellering!$K$46:$BH$57)),Modellering!$E$46:$E$57,Milieuprofielen!Z$18)","v":0},0,null,null,null,"106. Waste, hazardous (kg)","kg",{"$f":"SUMIFS((_xlfn.XLOOKUP('Weighting Set'!$Z45,Modellering!$K$65:$BH$65,Modellering!$K$66:$BH$77)),Modellering!$E$66:$E$77,Milieuprofielen!AG$18)","v":0},{"$f":"SUMIFS((_xlfn.XLOOKUP('Weighting Set'!$Z45,Modellering!$K$65:$BH$65,Modellering!$K$66:$BH$77)),Modellering!$E$66:$E$77,Milieuprofielen!AH$18)","v":0},{"$f":"SUMIFS((_xlfn.XLOOKUP('Weighting Set'!$Z45,Modellering!$K$65:$BH$65,Modellering!$K$66:$BH$77)),Modellering!$E$66:$E$77,Milieuprofielen!AI$18)","v":0},0,null,null,null,"106. Waste, hazardous (kg)","kg",{"$f":"SUMIFS((_xlfn.XLOOKUP('Weighting Set'!$Z45,Modellering!$K$85:$BH$85,Modellering!$K$86:$BH$97)),Modellering!$E$86:$E$97,Milieuprofielen!AP$18)","v":0},{"$f":"SUMIFS((_xlfn.XLOOKUP('Weighting Set'!$Z45,Modellering!$K$85:$BH$85,Modellering!$K$86:$BH$97)),Modellering!$E$86:$E$97,Milieuprofielen!AQ$18)","v":0},{"$f":"SUMIFS((_xlfn.XLOOKUP('Weighting Set'!$Z45,Modellering!$K$85:$BH$85,Modellering!$K$86:$BH$97)),Modellering!$E$86:$E$97,Milieuprofielen!AR$18)","v":0},0]
[null,null,null,"105. Waste, non hazardous (kg)","kg",{"$f":"SUMIFS((_xlfn.XLOOKUP('Weighting Set'!$Z46,Modellering!$K$5:$BH$5,Modellering!$K$6:$BH$17)),Modellering!$E$6:$E$17,Milieuprofielen!F$18)","v":19.297261133473558},{"$f":"SUMIFS((_xlfn.XLOOKUP('Weighting Set'!$Z46,Modellering!$K$5:$BH$5,Modellering!$K$6:$BH$17)),Modellering!$E$6:$E$17,Milieuprofielen!G$18)","v":23.437174992007211},{"$f":"SUMIFS((_xlfn.XLOOKUP('Weighting Set'!$Z46,Modellering!$K$5:$BH$5,Modellering!$K$6:$BH$17)),Modellering!$E$6:$E$17,Milieuprofielen!H$18)","v":28.032329952318431},70.766766077799204,null,null,null,"105. Waste, non hazardous (kg)","kg",{"$f":"SUMIFS((_xlfn.XLOOKUP('Weighting Set'!$Z46,Modellering!$K$25:$BH$25,Modellering!$K$26:$BH$37)),Modellering!$E$26:$E$37,Milieuprofielen!O$18)","v":0},{"$f":"SUMIFS((_xlfn.XLOOKUP('Weighting Set'!$Z46,Modellering!$K$25:$BH$25,Modellering!$K$26:$BH$37)),Modellering!$E$26:$E$37,Milieuprofielen!P$18)","v":0},{"$f":"SUMIFS((_xlfn.XLOOKUP('Weighting Set'!$Z46,Modellering!$K$25:$BH$25,Modellering!$K$26:$BH$37)),Modellering!$E$26:$E$37,Milieuprofielen!Q$18)","v":0},0,null,null,null,"105. Waste, non hazardous (kg)","kg",{"$f":"SUMIFS((_xlfn.XLOOKUP('Weighting Set'!$Z46,Modellering!$K$45:$BH$45,Modellering!$K$46:$BH$57)),Modellering!$E$46:$E$57,Milieuprofielen!X$18)","v":0},{"$f":"SUMIFS((_xlfn.XLOOKUP('Weighting Set'!$Z46,Modellering!$K$45:$BH$45,Modellering!$K$46:$BH$57)),Modellering!$E$46:$E$57,Milieuprofielen!Y$18)","v":0},{"$f":"SUMIFS((_xlfn.XLOOKUP('Weighting Set'!$Z46,Modellering!$K$45:$BH$45,Modellering!$K$46:$BH$57)),Modellering!$E$46:$E$57,Milieuprofielen!Z$18)","v":0},0,null,null,null,"105. Waste, non hazardous (kg)","kg",{"$f":"SUMIFS((_xlfn.XLOOKUP('Weighting Set'!$Z46,Modellering!$K$65:$BH$65,Modellering!$K$66:$BH$77)),Modellering!$E$66:$E$77,Milieuprofielen!AG$18)","v":0},{"$f":"SUMIFS((_xlfn.XLOOKUP('Weighting Set'!$Z46,Modellering!$K$65:$BH$65,Modellering!$K$66:$BH$77)),Modellering!$E$66:$E$77,Milieuprofielen!AH$18)","v":0},{"$f":"SUMIFS((_xlfn.XLOOKUP('Weighting Set'!$Z46,Modellering!$K$65:$BH$65,Modellering!$K$66:$BH$77)),Modellering!$E$66:$E$77,Milieuprofielen!AI$18)","v":0},0,null,null,null,"105. Waste, non hazardous (kg)","kg",{"$f":"SUMIFS((_xlfn.XLOOKUP('Weighting Set'!$Z46,Modellering!$K$85:$BH$85,Modellering!$K$86:$BH$97)),Modellering!$E$86:$E$97,Milieuprofielen!AP$18)","v":0},{"$f":"SUMIFS((_xlfn.XLOOKUP('Weighting Set'!$Z46,Modellering!$K$85:$BH$85,Modellering!$K$86:$BH$97)),Modellering!$E$86:$E$97,Milieuprofielen!AQ$18)","v":0},{"$f":"SUMIFS((_xlfn.XLOOKUP('Weighting Set'!$Z46,Modellering!$K$85:$BH$85,Modellering!$K$86:$BH$97)),Modellering!$E$86:$E$97,Milieuprofielen!AR$18)","v":0},0]
[null,null,null,"107. Waste, radioactive (kg)","kg",{"$f":"SUMIFS((_xlfn.XLOOKUP('Weighting Set'!$Z47,Modellering!$K$5:$BH$5,Modellering!$K$6:$BH$17)),Modellering!$E$6:$E$17,Milieuprofielen!F$18)","v":6.2084979667367786E-3},{"$f":"SUMIFS((_xlfn.XLOOKUP('Weighting Set'!$Z47,Modellering!$K$5:$BH$5,Modellering!$K$6:$BH$17)),Modellering!$E$6:$E$17,Milieuprofielen!G$18)","v":4.5818772282968747E-4},{"$f":"SUMIFS((_xlfn.XLOOKUP('Weighting Set'!$Z47,Modellering!$K$5:$BH$5,Modellering!$K$6:$BH$17)),Modellering!$E$6:$E$17,Milieuprofielen!H$18)","v":8.8565335830675289E-4},7.5523390478732192E-3,null,null,null,"107. Waste, radioactive (kg)","kg",{"$f":"SUMIFS((_xlfn.XLOOKUP('Weighting Set'!$Z47,Modellering!$K$25:$BH$25,Modellering!$K$26:$BH$37)),Modellering!$E$26:$E$37,Milieuprofielen!O$18)","v":0},{"$f":"SUMIFS((_xlfn.XLOOKUP('Weighting Set'!$Z47,Modellering!$K$25:$BH$25,Modellering!$K$26:$BH$37)),Modellering!$E$26:$E$37,Milieuprofielen!P$18)","v":0},{"$f":"SUMIFS((_xlfn.XLOOKUP('Weighting Set'!$Z47,Modellering!$K$25:$BH$25,Modellering!$K$26:$BH$37)),Modellering!$E$26:$E$37,Milieuprofielen!Q$18)","v":0},0,null,null,null,"107. Waste, radioactive (kg)","kg",{"$f":"SUMIFS((_xlfn.XLOOKUP('Weighting Set'!$Z47,Modellering!$K$45:$BH$45,Modellering!$K$46:$BH$57)),Modellering!$E$46:$E$57,Milieuprofielen!X$18)","v":0},{"$f":"SUMIFS((_xlfn.XLOOKUP('Weighting Set'!$Z47,Modellering!$K$45:$BH$45,Modellering!$K$46:$BH$57)),Modellering!$E$46:$E$57,Milieuprofielen!Y$18)","v":0},{"$f":"SUMIFS((_xlfn.XLOOKUP('Weighting Set'!$Z47,Modellering!$K$45:$BH$45,Modellering!$K$46:$BH$57)),Modellering!$E$46:$E$57,Milieuprofielen!Z$18)","v":0},0,null,null,null,"107. Waste, radioactive (kg)","kg",{"$f":"SUMIFS((_xlfn.XLOOKUP('Weighting Set'!$Z47,Modellering!$K$65:$BH$65,Modellering!$K$66:$BH$77)),Modellering!$E$66:$E$77,Milieuprofielen!AG$18)","v":0},{"$f":"SUMIFS((_xlfn.XLOOKUP('Weighting Set'!$Z47,Modellering!$K$65:$BH$65,Modellering!$K$66:$BH$77)),Modellering!$E$66:$E$77,Milieuprofielen!AH$18)","v":0},{"$f":"SUMIFS((_xlfn.XLOOKUP('Weighting Set'!$Z47,Modellering!$K$65:$BH$65,Modellering!$K$66:$BH$77)),Modellering!$E$66:$E$77,Milieuprofielen!AI$18)","v":0},0,null,null,null,"107. Waste, radioactive (kg)","kg",{"$f":"SUMIFS((_xlfn.XLOOKUP('Weighting Set'!$Z47,Modellering!$K$85:$BH$85,Modellering!$K$86:$BH$97)),Modellering!$E$86:$E$97,Milieuprofielen!AP$18)","v":0},{"$f":"SUMIFS((_xlfn.XLOOKUP('Weighting Set'!$Z47,Modellering!$K$85:$BH$85,Modellering!$K$86:$BH$97)),Modellering!$E$86:$E$97,Milieuprofielen!AQ$18)","v":0},{"$f":"SUMIFS((_xlfn.XLOOKUP('Weighting Set'!$Z47,Modellering!$K$85:$BH$85,Modellering!$K$86:$BH$97)),Modellering!$E$86:$E$97,Milieuprofielen!AR$18)","v":0},0]
[null,null,null,"120. Components for re-use (kg)","kg",{"$f":"SUMIFS((_xlfn.XLOOKUP('Weighting Set'!$Z48,Modellering!$K$5:$BH$5,Modellering!$K$6:$BH$17)),Modellering!$E$6:$E$17,Milieuprofielen!F$18)","v":0},{"$f":"SUMIFS((_xlfn.XLOOKUP('Weighting Set'!$Z48,Modellering!$K$5:$BH$5,Modellering!$K$6:$BH$17)),Modellering!$E$6:$E$17,Milieuprofielen!G$18)","v":0},{"$f":"SUMIFS((_xlfn.XLOOKUP('Weighting Set'!$Z48,Modellering!$K$5:$BH$5,Modellering!$K$6:$BH$17)),Modellering!$E$6:$E$17,Milieuprofielen!H$18)","v":0},0,null,null,null,"120. Components for re-use (kg)","kg",{"$f":"SUMIFS((_xlfn.XLOOKUP('Weighting Set'!$Z48,Modellering!$K$25:$BH$25,Modellering!$K$26:$BH$37)),Modellering!$E$26:$E$37,Milieuprofielen!O$18)","v":0},{"$f":"SUMIFS((_xlfn.XLOOKUP('Weighting Set'!$Z48,Modellering!$K$25:$BH$25,Modellering!$K$26:$BH$37)),Modellering!$E$26:$E$37,Milieuprofielen!P$18)","v":0},{"$f":"SUMIFS((_xlfn.XLOOKUP('Weighting Set'!$Z48,Modellering!$K$25:$BH$25,Modellering!$K$26:$BH$37)),Modellering!$E$26:$E$37,Milieuprofielen!Q$18)","v":0},0,null,null,null,"120. Components for re-use (kg)","kg",{"$f":"SUMIFS((_xlfn.XLOOKUP('Weighting Set'!$Z48,Modellering!$K$45:$BH$45,Modellering!$K$46:$BH$57)),Modellering!$E$46:$E$57,Milieuprofielen!X$18)","v":0},{"$f":"SUMIFS((_xlfn.XLOOKUP('Weighting Set'!$Z48,Modellering!$K$45:$BH$45,Modellering!$K$46:$BH$57)),Modellering!$E$46:$E$57,Milieuprofielen!Y$18)","v":0},{"$f":"SUMIFS((_xlfn.XLOOKUP('Weighting Set'!$Z48,Modellering!$K$45:$BH$45,Modellering!$K$46:$BH$57)),Modellering!$E$46:$E$57,Milieuprofielen!Z$18)","v":0},0,null,null,null,"120. Components for re-use (kg)","kg",{"$f":"SUMIFS((_xlfn.XLOOKUP('Weighting Set'!$Z48,Modellering!$K$65:$BH$65,Modellering!$K$66:$BH$77)),Modellering!$E$66:$E$77,Milieuprofielen!AG$18)","v":0},{"$f":"SUMIFS((_xlfn.XLOOKUP('Weighting Set'!$Z48,Modellering!$K$65:$BH$65,Modellering!$K$66:$BH$77)),Modellering!$E$66:$E$77,Milieuprofielen!AH$18)","v":0},{"$f":"SUMIFS((_xlfn.XLOOKUP('Weighting Set'!$Z48,Modellering!$K$65:$BH$65,Modellering!$K$66:$BH$77)),Modellering!$E$66:$E$77,Milieuprofielen!AI$18)","v":0},0,null,null,null,"120. Components for re-use (kg)","kg",{"$f":"SUMIFS((_xlfn.XLOOKUP('Weighting Set'!$Z48,Modellering!$K$85:$BH$85,Modellering!$K$86:$BH$97)),Modellering!$E$86:$E$97,Milieuprofielen!AP$18)","v":0},{"$f":"SUMIFS((_xlfn.XLOOKUP('Weighting Set'!$Z48,Modellering!$K$85:$BH$85,Modellering!$K$86:$BH$97)),Modellering!$E$86:$E$97,Milieuprofielen!AQ$18)","v":0},{"$f":"SUMIFS((_xlfn.XLOOKUP('Weighting Set'!$Z48,Modellering!$K$85:$BH$85,Modellering!$K$86:$BH$97)),Modellering!$E$86:$E$97,Milieuprofielen!AR$18)","v":0},0]
[null,null,null,"121. Materials for recycling (kg)","kg",{"$f":"SUMIFS((_xlfn.XLOOKUP('Weighting Set'!$Z49,Modellering!$K$5:$BH$5,Modellering!$K$6:$BH$17)),Modellering!$E$6:$E$17,Milieuprofielen!F$18)","v":0},{"$f":"SUMIFS((_xlfn.XLOOKUP('Weighting Set'!$Z49,Modellering!$K$5:$BH$5,Modellering!$K$6:$BH$17)),Modellering!$E$6:$E$17,Milieuprofielen!G$18)","v":0},{"$f":"SUMIFS((_xlfn.XLOOKUP('Weighting Set'!$Z49,Modellering!$K$5:$BH$5,Modellering!$K$6:$BH$17)),Modellering!$E$6:$E$17,Milieuprofielen!H$18)","v":0},0,null,null,null,"121. Materials for recycling (kg)","kg",{"$f":"SUMIFS((_xlfn.XLOOKUP('Weighting Set'!$Z49,Modellering!$K$25:$BH$25,Modellering!$K$26:$BH$37)),Modellering!$E$26:$E$37,Milieuprofielen!O$18)","v":0},{"$f":"SUMIFS((_xlfn.XLOOKUP('Weighting Set'!$Z49,Modellering!$K$25:$BH$25,Modellering!$K$26:$BH$37)),Modellering!$E$26:$E$37,Milieuprofielen!P$18)","v":0},{"$f":"SUMIFS((_xlfn.XLOOKUP('Weighting Set'!$Z49,Modellering!$K$25:$BH$25,Modellering!$K$26:$BH$37)),Modellering!$E$26:$E$37,Milieuprofielen!Q$18)","v":0},0,null,null,null,"121. Materials for recycling (kg)","kg",{"$f":"SUMIFS((_xlfn.XLOOKUP('Weighting Set'!$Z49,Modellering!$K$45:$BH$45,Modellering!$K$46:$BH$57)),Modellering!$E$46:$E$57,Milieuprofielen!X$18)","v":0},{"$f":"SUMIFS((_xlfn.XLOOKUP('Weighting Set'!$Z49,Modellering!$K$45:$BH$45,Modellering!$K$46:$BH$57)),Modellering!$E$46:$E$57,Milieuprofielen!Y$18)","v":0},{"$f":"SUMIFS((_xlfn.XLOOKUP('Weighting Set'!$Z49,Modellering!$K$45:$BH$45,Modellering!$K$46:$BH$57)),Modellering!$E$46:$E$57,Milieuprofielen!Z$18)","v":0},0,null,null,null,"121. Materials for recycling (kg)","kg",{"$f":"SUMIFS((_xlfn.XLOOKUP('Weighting Set'!$Z49,Modellering!$K$65:$BH$65,Modellering!$K$66:$BH$77)),Modellering!$E$66:$E$77,Milieuprofielen!AG$18)","v":0},{"$f":"SUMIFS((_xlfn.XLOOKUP('Weighting Set'!$Z49,Modellering!$K$65:$BH$65,Modellering!$K$66:$BH$77)),Modellering!$E$66:$E$77,Milieuprofielen!AH$18)","v":0},{"$f":"SUMIFS((_xlfn.XLOOKUP('Weighting Set'!$Z49,Modellering!$K$65:$BH$65,Modellering!$K$66:$BH$77)),Modellering!$E$66:$E$77,Milieuprofielen!AI$18)","v":0},0,null,null,null,"121. Materials for recycling (kg)","kg",{"$f":"SUMIFS((_xlfn.XLOOKUP('Weighting Set'!$Z49,Modellering!$K$85:$BH$85,Modellering!$K$86:$BH$97)),Modellering!$E$86:$E$97,Milieuprofielen!AP$18)","v":0},{"$f":"SUMIFS((_xlfn.XLOOKUP('Weighting Set'!$Z49,Modellering!$K$85:$BH$85,Modellering!$K$86:$BH$97)),Modellering!$E$86:$E$97,Milieuprofielen!AQ$18)","v":0},{"$f":"SUMIFS((_xlfn.XLOOKUP('Weighting Set'!$Z49,Modellering!$K$85:$BH$85,Modellering!$K$86:$BH$97)),Modellering!$E$86:$E$97,Milieuprofielen!AR$18)","v":0},0]
[null,null,null,"122. Materials for energy recovery (kg)","kg",{"$f":"SUMIFS((_xlfn.XLOOKUP('Weighting Set'!$Z50,Modellering!$K$5:$BH$5,Modellering!$K$6:$BH$17)),Modellering!$E$6:$E$17,Milieuprofielen!F$18)","v":0},{"$f":"SUMIFS((_xlfn.XLOOKUP('Weighting Set'!$Z50,Modellering!$K$5:$BH$5,Modellering!$K$6:$BH$17)),Modellering!$E$6:$E$17,Milieuprofielen!G$18)","v":0},{"$f":"SUMIFS((_xlfn.XLOOKUP('Weighting Set'!$Z50,Modellering!$K$5:$BH$5,Modellering!$K$6:$BH$17)),Modellering!$E$6:$E$17,Milieuprofielen!H$18)","v":0},0,null,null,null,"122. Materials for energy recovery (kg)","kg",{"$f":"SUMIFS((_xlfn.XLOOKUP('Weighting Set'!$Z50,Modellering!$K$25:$BH$25,Modellering!$K$26:$BH$37)),Modellering!$E$26:$E$37,Milieuprofielen!O$18)","v":0},{"$f":"SUMIFS((_xlfn.XLOOKUP('Weighting Set'!$Z50,Modellering!$K$25:$BH$25,Modellering!$K$26:$BH$37)),Modellering!$E$26:$E$37,Milieuprofielen!P$18)","v":0},{"$f":"SUMIFS((_xlfn.XLOOKUP('Weighting Set'!$Z50,Modellering!$K$25:$BH$25,Modellering!$K$26:$BH$37)),Modellering!$E$26:$E$37,Milieuprofielen!Q$18)","v":0},0,null,null,null,"122. Materials for energy recovery (kg)","kg",{"$f":"SUMIFS((_xlfn.XLOOKUP('Weighting Set'!$Z50,Modellering!$K$45:$BH$45,Modellering!$K$46:$BH$57)),Modellering!$E$46:$E$57,Milieuprofielen!X$18)","v":0},{"$f":"SUMIFS((_xlfn.XLOOKUP('Weighting Set'!$Z50,Modellering!$K$45:$BH$45,Modellering!$K$46:$BH$57)),Modellering!$E$46:$E$57,Milieuprofielen!Y$18)","v":0},{"$f":"SUMIFS((_xlfn.XLOOKUP('Weighting Set'!$Z50,Modellering!$K$45:$BH$45,Modellering!$K$46:$BH$57)),Modellering!$E$46:$E$57,Milieuprofielen!Z$18)","v":0},0,null,null,null,"122. Materials for energy recovery (kg)","kg",{"$f":"SUMIFS((_xlfn.XLOOKUP('Weighting Set'!$Z50,Modellering!$K$65:$BH$65,Modellering!$K$66:$BH$77)),Modellering!$E$66:$E$77,Milieuprofielen!AG$18)","v":0},{"$f":"SUMIFS((_xlfn.XLOOKUP('Weighting Set'!$Z50,Modellering!$K$65:$BH$65,Modellering!$K$66:$BH$77)),Modellering!$E$66:$E$77,Milieuprofielen!AH$18)","v":0},{"$f":"SUMIFS((_xlfn.XLOOKUP('Weighting Set'!$Z50,Modellering!$K$65:$BH$65,Modellering!$K$66:$BH$77)),Modellering!$E$66:$E$77,Milieuprofielen!AI$18)","v":0},0,null,null,null,"122. Materials for energy recovery (kg)","kg",{"$f":"SUMIFS((_xlfn.XLOOKUP('Weighting Set'!$Z50,Modellering!$K$85:$BH$85,Modellering!$K$86:$BH$97)),Modellering!$E$86:$E$97,Milieuprofielen!AP$18)","v":0},{"$f":"SUMIFS((_xlfn.XLOOKUP('Weighting Set'!$Z50,Modellering!$K$85:$BH$85,Modellering!$K$86:$BH$97)),Modellering!$E$86:$E$97,Milieuprofielen!AQ$18)","v":0},{"$f":"SUMIFS((_xlfn.XLOOKUP('Weighting Set'!$Z50,Modellering!$K$85:$BH$85,Modellering!$K$86:$BH$97)),Modellering!$E$86:$E$97,Milieuprofielen!AR$18)","v":0},0]
[null,null,null,"123. Exported energy, electric (MJ)","MJ",{"$f":"SUMIFS((_xlfn.XLOOKUP('Weighting Set'!$Z51,Modellering!$K$5:$BH$5,Modellering!$K$6:$BH$17)),Modellering!$E$6:$E$17,Milieuprofielen!F$18)","v":0},{"$f":"SUMIFS((_xlfn.XLOOKUP('Weighting Set'!$Z51,Modellering!$K$5:$BH$5,Modellering!$K$6:$BH$17)),Modellering!$E$6:$E$17,Milieuprofielen!G$18)","v":0},{"$f":"SUMIFS((_xlfn.XLOOKUP('Weighting Set'!$Z51,Modellering!$K$5:$BH$5,Modellering!$K$6:$BH$17)),Modellering!$E$6:$E$17,Milieuprofielen!H$18)","v":0},0,null,null,null,"123. Exported energy, electric (MJ)","MJ",{"$f":"SUMIFS((_xlfn.XLOOKUP('Weighting Set'!$Z51,Modellering!$K$25:$BH$25,Modellering!$K$26:$BH$37)),Modellering!$E$26:$E$37,Milieuprofielen!O$18)","v":0},{"$f":"SUMIFS((_xlfn.XLOOKUP('Weighting Set'!$Z51,Modellering!$K$25:$BH$25,Modellering!$K$26:$BH$37)),Modellering!$E$26:$E$37,Milieuprofielen!P$18)","v":0},{"$f":"SUMIFS((_xlfn.XLOOKUP('Weighting Set'!$Z51,Modellering!$K$25:$BH$25,Modellering!$K$26:$BH$37)),Modellering!$E$26:$E$37,Milieuprofielen!Q$18)","v":0},0,null,null,null,"123. Exported energy, electric (MJ)","MJ",{"$f":"SUMIFS((_xlfn.XLOOKUP('Weighting Set'!$Z51,Modellering!$K$45:$BH$45,Modellering!$K$46:$BH$57)),Modellering!$E$46:$E$57,Milieuprofielen!X$18)","v":0},{"$f":"SUMIFS((_xlfn.XLOOKUP('Weighting Set'!$Z51,Modellering!$K$45:$BH$45,Modellering!$K$46:$BH$57)),Modellering!$E$46:$E$57,Milieuprofielen!Y$18)","v":0},{"$f":"SUMIFS((_xlfn.XLOOKUP('Weighting Set'!$Z51,Modellering!$K$45:$BH$45,Modellering!$K$46:$BH$57)),Modellering!$E$46:$E$57,Milieuprofielen!Z$18)","v":0},0,null,null,null,"123. Exported energy, electric (MJ)","MJ",{"$f":"SUMIFS((_xlfn.XLOOKUP('Weighting Set'!$Z51,Modellering!$K$65:$BH$65,Modellering!$K$66:$BH$77)),Modellering!$E$66:$E$77,Milieuprofielen!AG$18)","v":0},{"$f":"SUMIFS((_xlfn.XLOOKUP('Weighting Set'!$Z51,Modellering!$K$65:$BH$65,Modellering!$K$66:$BH$77)),Modellering!$E$66:$E$77,Milieuprofielen!AH$18)","v":0},{"$f":"SUMIFS((_xlfn.XLOOKUP('Weighting Set'!$Z51,Modellering!$K$65:$BH$65,Modellering!$K$66:$BH$77)),Modellering!$E$66:$E$77,Milieuprofielen!AI$18)","v":0},0,null,null,null,"123. Exported energy, electric (MJ)","MJ",{"$f":"SUMIFS((_xlfn.XLOOKUP('Weighting Set'!$Z51,Modellering!$K$85:$BH$85,Modellering!$K$86:$BH$97)),Modellering!$E$86:$E$97,Milieuprofielen!AP$18)","v":0},{"$f":"SUMIFS((_xlfn.XLOOKUP('Weighting Set'!$Z51,Modellering!$K$85:$BH$85,Modellering!$K$86:$BH$97)),Modellering!$E$86:$E$97,Milieuprofielen!AQ$18)","v":0},{"$f":"SUMIFS((_xlfn.XLOOKUP('Weighting Set'!$Z51,Modellering!$K$85:$BH$85,Modellering!$K$86:$BH$97)),Modellering!$E$86:$E$97,Milieuprofielen!AR$18)","v":0},0]
[null,null,null,"124. Exported energy, thermal (MJ)","MJ",{"$f":"SUMIFS((_xlfn.XLOOKUP('Weighting Set'!$Z52,Modellering!$K$5:$BH$5,Modellering!$K$6:$BH$17)),Modellering!$E$6:$E$17,Milieuprofielen!F$18)","v":0},{"$f":"SUMIFS((_xlfn.XLOOKUP('Weighting Set'!$Z52,Modellering!$K$5:$BH$5,Modellering!$K$6:$BH$17)),Modellering!$E$6:$E$17,Milieuprofielen!G$18)","v":0},{"$f":"SUMIFS((_xlfn.XLOOKUP('Weighting Set'!$Z52,Modellering!$K$5:$BH$5,Modellering!$K$6:$BH$17)),Modellering!$E$6:$E$17,Milieuprofielen!H$18)","v":0},0,null,null,null,"124. Exported energy, thermal (MJ)","MJ",{"$f":"SUMIFS((_xlfn.XLOOKUP('Weighting Set'!$Z52,Modellering!$K$25:$BH$25,Modellering!$K$26:$BH$37)),Modellering!$E$26:$E$37,Milieuprofielen!O$18)","v":0},{"$f":"SUMIFS((_xlfn.XLOOKUP('Weighting Set'!$Z52,Modellering!$K$25:$BH$25,Modellering!$K$26:$BH$37)),Modellering!$E$26:$E$37,Milieuprofielen!P$18)","v":0},{"$f":"SUMIFS((_xlfn.XLOOKUP('Weighting Set'!$Z52,Modellering!$K$25:$BH$25,Modellering!$K$26:$BH$37)),Modellering!$E$26:$E$37,Milieuprofielen!Q$18)","v":0},0,null,null,null,"124. Exported energy, thermal (MJ)","MJ",{"$f":"SUMIFS((_xlfn.XLOOKUP('Weighting Set'!$Z52,Modellering!$K$45:$BH$45,Modellering!$K$46:$BH$57)),Modellering!$E$46:$E$57,Milieuprofielen!X$18)","v":0},{"$f":"SUMIFS((_xlfn.XLOOKUP('Weighting Set'!$Z52,Modellering!$K$45:$BH$45,Modellering!$K$46:$BH$57)),Modellering!$E$46:$E$57,Milieuprofielen!Y$18)","v":0},{"$f":"SUMIFS((_xlfn.XLOOKUP('Weighting Set'!$Z52,Modellering!$K$45:$BH$45,Modellering!$K$46:$BH$57)),Modellering!$E$46:$E$57,Milieuprofielen!Z$18)","v":0},0,null,null,null,"124. Exported energy, thermal (MJ)","MJ",{"$f":"SUMIFS((_xlfn.XLOOKUP('Weighting Set'!$Z52,Modellering!$K$65:$BH$65,Modellering!$K$66:$BH$77)),Modellering!$E$66:$E$77,Milieuprofielen!AG$18)","v":0},{"$f":"SUMIFS((_xlfn.XLOOKUP('Weighting Set'!$Z52,Modellering!$K$65:$BH$65,Modellering!$K$66:$BH$77)),Modellering!$E$66:$E$77,Milieuprofielen!AH$18)","v":0},{"$f":"SUMIFS((_xlfn.XLOOKUP('Weighting Set'!$Z52,Modellering!$K$65:$BH$65,Modellering!$K$66:$BH$77)),Modellering!$E$66:$E$77,Milieuprofielen!AI$18)","v":0},0,null,null,null,"124. Exported energy, thermal (MJ)","MJ",{"$f":"SUMIFS((_xlfn.XLOOKUP('Weighting Set'!$Z52,Modellering!$K$85:$BH$85,Modellering!$K$86:$BH$97)),Modellering!$E$86:$E$97,Milieuprofielen!AP$18)","v":0},{"$f":"SUMIFS((_xlfn.XLOOKUP('Weighting Set'!$Z52,Modellering!$K$85:$BH$85,Modellering!$K$86:$BH$97)),Modellering!$E$86:$E$97,Milieuprofielen!AQ$18)","v":0},{"$f":"SUMIFS((_xlfn.XLOOKUP('Weighting Set'!$Z52,Modellering!$K$85:$BH$85,Modellering!$K$86:$BH$97)),Modellering!$E$86:$E$97,Milieuprofielen!AR$18)","v":0},0]

{"sheet":"MP per Liter","index":7,"n_rows":68,"n_cols":45,"rows_kept":68,"cut":false,"hidden":false,"merged":[[31,2,49,2],[31,11,49,11],[31,20,49,20],[31,29,49,29],[31,38,49,38],[50,2,67,2],[50,11,67,11],[50,20,67,20],[50,29,67,29],[50,38,67,38],[20,2,30,2],[20,11,30,11],[20,20,30,20],[20,29,30,29],[20,38,30,38],[16,22,16,26],[16,29,16,30],[16,31,16,35],[16,38,16,39],[16,40,16,44],[16,2,16,3],[16,4,16,8],[16,11,16,12],[16,13,16,17],[16,20,16,21],[15,22,15,26],[15,29,15,30],[15,31,15,35],[15,38,15,39],[15,40,15,44],[15,2,15,3],[15,4,15,8],[15,11,15,12],[15,13,15,17],[15,20,15,21],[13,38,13,44],[14,2,14,3],[14,4,14,8],[14,11,14,12],[14,13,14,17],[14,20,14,21],[14,22,14,26],[14,29,14,30],[14,31,14,35],[14,38,14,39],[13,29,13,35],[14,40,14,44],[5,2,5,8],[6,2,10,8],[13,2,13,8],[13,11,13,17],[13,20,13,26]]}
[]
[]
[]
[]
[]
[null,null,"Milieuprofielen"]
[null,null,"In dit onderdeel worden de volledige milieuprofielen van het schip en/of de motoren weergegeven. Alle relevante indicatoren voor EN15804+A1, EN15804+A2 en bijbehorende parameters zijn opgenomen en weergegeven per relevante LCA module. Motoren zijn weergegeven op volgorde van links naar rechts. \n\nDatabases & Karakterisatie:\nEN15804+A1: NMD 3.9 + EcoInvent 3.6 - ECI SBK Single Score \nEN15804+A2: NMD 3.9 + EcoInvent 3.9.1 - EF 3.1 Weighting Set"]
[]
[]
[]
[]
[]
[]
[null,null,{"$f":"\"Milieuprofiel 1: \"&Invoerblad!D43&\" (per \"&(IF(Invoerblad!D56=\"n.v.t.\",\"kWh\",\"liter\"))&\")\"","v":"Milieuprofiel 1: Milieuprofiel 1 (per liter)"},{"$nulls":8},{"$f":"\"Milieuprofiel 2: \"&Invoerblad!E43&\" (per \"&(IF(Invoerblad!E56=\"n.v.t.\",\"kWh\",\"liter\"))&\")\"","v":"Milieuprofiel 2: Milieuprofiel 2 (per liter)"},{"$nulls":8},{"$f":"\"Mileuprofiel 3: \"&Invoerblad!F43&\" (per \"&(IF(Invoerblad!F56=\"n.v.t.\",\"kWh\",\"liter\"))&\")\"","v":"Mileuprofiel 3: Milieuprofiel 3 (per liter)"},{"$nulls":8},{"$f":"\"Milieuprofiel 4: \"&Invoerblad!G43&\" (per \"&(IF(Invoerblad!G56=\"n.v.t.\",\"kWh\",\"liter\"))&\")\"","v":"Milieuprofiel 4: Milieuprofiel 4 (per liter)"},{"$nulls":8},{"$f":"\"Milieuprofiel 5: \"&Invoerblad!H43&\" (per \"&(IF(Invoerblad!H56=\"n.v.t.\",\"kWh\",\"liter\"))&\")\"","v":"Milieuprofiel 5: Milieuprofiel 5 (per liter)"}]
[null,null,"Energiedrager",null,{"$f":"Invoerblad!D44","v":"Diesel (ULSD)"},{"$nulls":6},"Energiedrager",null,{"$f":"Invoerblad!E44","v":0},{"$nulls":6},"Energiedrager",null,{"$f":"Invoerblad!F44","v":0},{"$nulls":6},"Energiedrager",null,{"$f":"Invoerblad!G43","v":"Milieuprofiel 4"},{"$nulls":6},"Energiedrager",null,{"$f":"Invoerblad!H44","v":0}]
[null,null,"Verdieping Energiedrager",null,{"$f":"Invoerblad!D45","v":"Diesel, Algemeen"},{"$nulls":6},"Verdieping Energiedrager",null,{"$f":"Invoerblad!E45","v":0},{"$nulls":6},"Verdieping Energiedrager",null,{"$f":"Invoerblad!F45","v":0},{"$nulls":6},"Verdieping Energiedrager",null,{"$f":"Invoerblad!G44","v":0},{"$nulls":6},"Verdieping Energiedrager",null,{"$f":"Invoerblad!H45","v":0}]
[null,null,"Classificatie Motor",null,{"$f":"Invoerblad!D46","v":"ULEV (Stage V IWP/IWA)"},{"$nulls":6},"Classificatie Motor",null,{"$f":"Invoerblad!E46","v":0},{"$nulls":6},"Classificatie Motor",null,{"$f":"Invoerblad!F46","v":0},{"$nulls":6},"Classificatie Motor",null,{"$f":"Invoerblad!G46","v":0},{"$nulls":6},"Classificatie Motor",null,{"$f":"Invoerblad!H46","v":0}]
[null,null,"Module","Impact Category","Unit","A1-A3","A4","B1","Total",null,null,"Module","Impact Category","Unit","A1-A3","A4","B1","Total",null,null,"Module","Impact Category","Unit","A1-A3","A4","B1","Total",null,null,"Module","Impact Category","Unit","A1-A3","A4","B1","Total",null,null,"Module","Impact Category","Unit","A1-A3","A4","B1","Total"]
[null,null,"ECI-A1","Environmental Cost Indicator (ECI) - Set 1","€",{"$f":"IFERROR(IF(Invoerblad!$D$56=\"n.v.t.\",(Milieuprofielen!F19),(Milieuprofielen!F19/Invoerblad!$D$56)),0)","v":8.748797959345514E-2},{"$f":"IFERROR(IF(Invoerblad!$D$56=\"n.v.t.\",(Milieuprofielen!G19),(Milieuprofielen!G19/Invoerblad!$D$56)),0)","v":1.6703957424326651E-3},{"$f":"IFERROR(IF(Invoerblad!$D$56=\"n.v.t.\",(Milieuprofielen!H19),(Milieuprofielen!H19/Invoerblad!$D$56)),0)","v":0.20514891413192912},{"$f":"IFERROR(IF(Invoerblad!$D$56=\"n.v.t.\",(Milieuprofielen!I19),(Milieuprofielen!I19/Invoerblad!$D$56)),0)","v":0.29430728946781692},null,null,"ECI-A1","Environmental Cost Indicator (ECI) - Set 1","€",{"$f":"IFERROR(IF(Invoerblad!$E$56=\"n.v.t.\",(Milieuprofielen!O19),(Milieuprofielen!O19/Invoerblad!$E$56)),0)","v":0},{"$f":"IFERROR(IF(Invoerblad!$E$56=\"n.v.t.\",(Milieuprofielen!P19),(Milieuprofielen!P19/Invoerblad!$E$56)),0)","v":0},{"$f":"IFERROR(IF(Invoerblad!$E$56=\"n.v.t.\",(Milieuprofielen!Q19),(Milieuprofielen!Q19/Invoerblad!$E$56)),0)","v":0},{"$f":"IFERROR(IF(Invoerblad!$E$56=\"n.v.t.\",(Milieuprofielen!R19),(Milieuprofielen!R19/Invoerblad!$E$56)),0)","v":0},null,null,"ECI-A1","Environmental Cost Indicator (ECI) - Set 1","€",{"$f":"IFERROR(IF(Invoerblad!$F$56=\"n.v.t.\",(Milieuprofielen!X19),(Milieuprofielen!X19/Invoerblad!$F$56)),0)","v":0},{"$f":"IFERROR(IF(Invoerblad!$F$56=\"n.v.t.\",(Milieuprofielen!Y19),(Milieuprofielen!Y19/Invoerblad!$F$56)),0)","v":0},{"$f":"IFERROR(IF(Invoerblad!$F$56=\"n.v.t.\",(Milieuprofielen!Z19),(Milieuprofielen!Z19/Invoerblad!$F$56)),0)","v":0},{"$f":"IFERROR(IF(Invoerblad!$F$56=\"n.v.t.\",(Milieuprofielen!AA19),(Milieuprofielen!AA19/Invoerblad!$F$56)),0)","v":0},null,null,"ECI-A1","Environmental Cost Indicator (ECI) - Set 1","€",{"$f":"IFERROR(IF(Invoerblad!$G$56=\"n.v.t.\",(Milieuprofielen!AG19),(Milieuprofielen!AG19/Invoerblad!$G$56)),0)","v":0},{"$f":"IFERROR(IF(Invoerblad!$G$56=\"n.v.t.\",(Milieuprofielen!AH19),(Milieuprofielen!AH19/Invoerblad!$G$56)),0)","v":0},{"$f":"IFERROR(IF(Invoerblad!$G$56=\"n.v.t.\",(Milieuprofielen!AI19),(Milieuprofielen!AI19/Invoerblad!$G$56)),0)","v":0},{"$f":"IFERROR(IF(Invoerblad!$G$56=\"n.v.t.\",(Milieuprofielen!AJ19),(Milieuprofielen!AJ19/Invoerblad!$G$56)),0)","v":0},null,null,"ECI-A1","Environmental Cost Indicator (ECI) - Set 1","€",{"$f":"IFERROR(IF(Invoerblad!$H$56=\"n.v.t.\",(Milieuprofielen!AP19),(Milieuprofielen!AP19/Invoerblad!$H$56)),0)","v":0},{"$f":"IFERROR(IF(Invoerblad!$H$56=\"n.v.t.\",(Milieuprofielen!AQ19),(Milieuprofielen!AQ19/Invoerblad!$H$56)),0)","v":0},{"$f":"IFERROR(IF(Invoerblad!$H$56=\"n.v.t.\",(Milieuprofielen!AR19),(Milieuprofielen!AR19/Invoerblad!$H$56)),0)","v":0},{"$f":"IFERROR(IF(Invoerblad!$H$56=\"n.v.t.\",(Milieuprofielen!AS19),(Milieuprofielen!AS19/Invoerblad!$H$56)),0)","v":0}]
[null,null,"ECI-A2","Environmental Cost Indicator (ECI) - Set 2","€",{"$f":"IFERROR(IF(Invoerblad!$D$56=\"n.v.t.\",(Milieuprofielen!F20),(Milieuprofielen!F20/Invoerblad!$D$56)),0)","v":0.11695001420346113},{"$f":"IFERROR(IF(Invoerblad!$D$56=\"n.v.t.\",(Milieuprofielen!G20),(Milieuprofielen!G20/Invoerblad!$D$56)),0)","v":3.2251656790587132E-3},{"$f":"IFERROR(IF(Invoerblad!$D$56=\"n.v.t.\",(Milieuprofielen!H20),(Milieuprofielen!H20/Invoerblad!$D$56)),0)","v":0.39853854831994634},{"$f":"IFERROR(IF(Invoerblad!$D$56=\"n.v.t.\",(Milieuprofielen!I20),(Milieuprofielen!I20/Invoerblad!$D$56)),0)","v":0.5187137282024662},null,null,"ECI-A2","Environmental Cost Indicator (ECI) - Set 2","€",{"$f":"IFERROR(IF(Invoerblad!$E$56=\"n.v.t.\",(Milieuprofielen!O20),(Milieuprofielen!O20/Invoerblad!$E$56)),0)","v":0},{"$f":"IFERROR(IF(Invoerblad!$E$56=\"n.v.t.\",(Milieuprofielen!P20),(Milieuprofielen!P20/Invoerblad!$E$56)),0)","v":0},{"$f":"IFERROR(IF(Invoerblad!$E$56=\"n.v.t.\",(Milieuprofielen!Q20),(Milieuprofielen!Q20/Invoerblad!$E$56)),0)","v":0},{"$f":"IFERROR(IF(Invoerblad!$E$56=\"n.v.t.\",(Milieuprofielen!R20),(Milieuprofielen!R20/Invoerblad!$E$56)),0)","v":0},null,null,"ECI-A2","Environmental Cost Indicator (ECI) - Set 2","€",{"$f":"IFERROR(IF(Invoerblad!$F$56=\"n.v.t.\",(Milieuprofielen!X20),(Milieuprofielen!X20/Invoerblad!$F$56)),0)","v":0},{"$f":"IFERROR(IF(Invoerblad!$F$56=\"n.v.t.\",(Milieuprofielen!Y20),(Milieuprofielen!Y20/Invoerblad!$F$56)),0)","v":0},{"$f":"IFERROR(IF(Invoerblad!$F$56=\"n.v.t.\",(Milieuprofielen!Z20),(Milieuprofielen!Z20/Invoerblad!$F$56)),0)","v":0},{"$f":"IFERROR(IF(Invoerblad!$F$56=\"n.v.t.\",(Milieuprofielen!AA20),(Milieuprofielen!AA20/Invoerblad!$F$56)),0)","v":0},null,null,"ECI-A2","Environmental Cost Indicator (ECI) - Set 2","€",{"$f":"IFERROR(IF(Invoerblad!$G$56=\"n.v.t.\",(Milieuprofielen!AG20),(Milieuprofielen!AG20/Invoerblad!$G$56)),0)","v":0},{"$f":"IFERROR(IF(Invoerblad!$G$56=\"n.v.t.\",(Milieuprofielen!AH20),(Milieuprofielen!AH20/Invoerblad!$G$56)),0)","v":0},{"$f":"IFERROR(IF(Invoerblad!$G$56=\"n.v.t.\",(Milieuprofielen!AI20),(Milieuprofielen!AI20/Invoerblad!$G$56)),0)","v":0},{"$f":"IFERROR(IF(Invoerblad!$G$56=\"n.v.t.\",(Milieuprofielen!AJ20),(Milieuprofielen!AJ20/Invoerblad!$G$56)),0)","v":0},null,null,"ECI-A2","Environmental Cost Indicator (ECI) - Set 2","€",{"$f":"IFERROR(IF(Invoerblad!$H$56=\"n.v.t.\",(Milieuprofielen!AP20),(Milieuprofielen!AP20/Invoerblad!$H$56)),0)","v":0},{"$f":"IFERROR(IF(Invoerblad!$H$56=\"n.v.t.\",(Milieuprofielen!AQ20),(Milieuprofielen!AQ20/Invoerblad!$H$56)),0)","v":0},{"$f":"IFERROR(IF(Invoerblad!$H$56=\"n.v.t.\",(Milieuprofielen!AR20),(Milieuprofielen!AR20/Invoerblad!$H$56)),0)","v":0},{"$f":"IFERROR(IF(Invoerblad!$H$56=\"n.v.t.\",(Milieuprofielen!AS20),(Milieuprofielen!AS20/Invoerblad!$H$56)),0)","v":0}]
[null,null,"Characterized EN15804+A1","001. abiotic depletion, non fuel (AD)","kg Sb eq",{"$f":"IFERROR(IF(Invoerblad!$D$56=\"n.v.t.\",(Milieuprofielen!F21),(Milieuprofielen!F21/Invoerblad!$D$56)),0)","v":2.2890656762E-6},{"$f":"IFERROR(IF(Invoerblad!$D$56=\"n.v.t.\",(Milieuprofielen!G21),(Milieuprofielen!G21/Invoerblad!$D$56)),0)","v":1.1130937628879999E-6},{"$f":"IFERROR(IF(Invoerblad!$D$56=\"n.v.t.\",(Milieuprofielen!H21),(Milieuprofielen!H21/Invoerblad!$D$56)),0)","v":4.944813367887541E-6},{"$f":"IFERROR(IF(Invoerblad!$D$56=\"n.v.t.\",(Milieuprofielen!I21),(Milieuprofielen!I21/Invoerblad!$D$56)),0)","v":8.3469728069755411E-6},null,null,"Characterized EN15804+A1","001. abiotic depletion, non fuel (AD)","kg Sb eq",{"$f":"IFERROR(IF(Invoerblad!$E$56=\"n.v.t.\",(Milieuprofielen!O21),(Milieuprofielen!O21/Invoerblad!$E$56)),0)","v":0},{"$f":"IFERROR(IF(Invoerblad!$E$56=\"n.v.t.\",(Milieuprofielen!P21),(Milieuprofielen!P21/Invoerblad!$E$56)),0)","v":0},{"$f":"IFERROR(IF(Invoerblad!$E$56=\"n.v.t.\",(Milieuprofielen!Q21),(Milieuprofielen!Q21/Invoerblad!$E$56)),0)","v":0},{"$f":"IFERROR(IF(Invoerblad!$E$56=\"n.v.t.\",(Milieuprofielen!R21),(Milieuprofielen!R21/Invoerblad!$E$56)),0)","v":0},null,null,"Characterized EN15804+A1","001. abiotic depletion, non fuel (AD)","kg Sb eq",{"$f":"IFERROR(IF(Invoerblad!$F$56=\"n.v.t.\",(Milieuprofielen!X21),(Milieuprofielen!X21/Invoerblad!$F$56)),0)","v":0},{"$f":"IFERROR(IF(Invoerblad!$F$56=\"n.v.t.\",(Milieuprofielen!Y21),(Milieuprofielen!Y21/Invoerblad!$F$56)),0)","v":0},{"$f":"IFERROR(IF(Invoerblad!$F$56=\"n.v.t.\",(Milieuprofielen!Z21),(Milieuprofielen!Z21/Invoerblad!$F$56)),0)","v":0},{"$f":"IFERROR(IF(Invoerblad!$F$56=\"n.v.t.\",(Milieuprofielen!AA21),(Milieuprofielen!AA21/Invoerblad!$F$56)),0)","v":0},null,null,"Characterized EN15804+A1","001. abiotic depletion, non fuel (AD)","kg Sb eq",{"$f":"IFERROR(IF(Invoerblad!$G$56=\"n.v.t.\",(Milieuprofielen!AG21),(Milieuprofielen!AG21/Invoerblad!$G$56)),0)","v":0},{"$f":"IFERROR(IF(Invoerblad!$G$56=\"n.v.t.\",(Milieuprofielen!AH21),(Milieuprofielen!AH21/Invoerblad!$G$56)),0)","v":0},{"$f":"IFERROR(IF(Invoerblad!$G$56=\"n.v.t.\",(Milieuprofielen!AI21),(Milieuprofielen!AI21/Invoerblad!$G$56)),0)","v":0},{"$f":"IFERROR(IF(Invoerblad!$G$56=\"n.v.t.\",(Milieuprofielen!AJ21),(Milieuprofielen!AJ21/Invoerblad!$G$56)),0)","v":0},null,null,"Characterized EN15804+A1","001. abiotic depletion, non fuel (AD)","kg Sb eq",{"$f":"IFERROR(IF(Invoerblad!$H$56=\"n.v.t.\",(Milieuprofielen!AP21),(Milieuprofielen!AP21/Invoerblad!$H$56)),0)","v":0},{"$f":"IFERROR(IF(Invoerblad!$H$56=\"n.v.t.\",(Milieuprofielen!AQ21),(Milieuprofielen!AQ21/Invoerblad!$H$56)),0)","v":0},{"$f":"IFERROR(IF(Invoerblad!$H$56=\"n.v.t.\",(Milieuprofielen!AR21),(Milieuprofielen!AR21/Invoerblad!$H$56)),0)","v":0},{"$f":"IFERROR(IF(Invoerblad!$H$56=\"n.v.t.\",(Milieuprofielen!AS21),(Milieuprofielen!AS21/Invoerblad!$H$56)),0)","v":0}]
[null,null,null,"002. abiotic depletion, fuel (AD)","kg Sb eq",{"$f":"IFERROR(IF(Invoerblad!$D$56=\"n.v.t.\",(Milieuprofielen!F22),(Milieuprofielen!F22/Invoerblad!$D$56)),0)","v":2.1466258006650002E-2},{"$f":"IFERROR(IF(Invoerblad!$D$56=\"n.v.t.\",(Milieuprofielen!G22),(Milieuprofielen!G22/Invoerblad!$D$56)),0)","v":1.1592697268300001E-4},{"$f":"IFERROR(IF(Invoerblad!$D$56=\"n.v.t.\",(Milieuprofielen!H22),(Milieuprofielen!H22/Invoerblad!$D$56)),0)","v":3.2937193879202634E-4},{"$f":"IFERROR(IF(Invoerblad!$D$56=\"n.v.t.\",(Milieuprofielen!I22),(Milieuprofielen!I22/Invoerblad!$D$56)),0)","v":2.191155691812503E-2},null,null,null,"002. abiotic depletion, fuel (AD)","kg Sb eq",{"$f":"IFERROR(IF(Invoerblad!$E$56=\"n.v.t.\",(Milieuprofielen!O22),(Milieuprofielen!O22/Invoerblad!$E$56)),0)","v":0},{"$f":"IFERROR(IF(Invoerblad!$E$56=\"n.v.t.\",(Milieuprofielen!P22),(Milieuprofielen!P22/Invoerblad!$E$56)),0)","v":0},{"$f":"IFERROR(IF(Invoerblad!$E$56=\"n.v.t.\",(Milieuprofielen!Q22),(Milieuprofielen!Q22/Invoerblad!$E$56)),0)","v":0},{"$f":"IFERROR(IF(Invoerblad!$E$56=\"n.v.t.\",(Milieuprofielen!R22),(Milieuprofielen!R22/Invoerblad!$E$56)),0)","v":0},null,null,null,"002. abiotic depletion, fuel (AD)","kg Sb eq",{"$f":"IFERROR(IF(Invoerblad!$F$56=\"n.v.t.\",(Milieuprofielen!X22),(Milieuprofielen!X22/Invoerblad!$F$56)),0)","v":0},{"$f":"IFERROR(IF(Invoerblad!$F$56=\"n.v.t.\",(Milieuprofielen!Y22),(Milieuprofielen!Y22/Invoerblad!$F$56)),0)","v":0},{"$f":"IFERROR(IF(Invoerblad!$F$56=\"n.v.t.\",(Milieuprofielen!Z22),(Milieuprofielen!Z22/Invoerblad!$F$56)),0)","v":0},{"$f":"IFERROR(IF(Invoerblad!$F$56=\"n.v.t.\",(Milieuprofielen!AA22),(Milieuprofielen!AA22/Invoerblad!$F$56)),0)","v":0},null,null,null,"002. abiotic depletion, fuel (AD)","kg Sb eq",{"$f":"IFERROR(IF(Invoerblad!$G$56=\"n.v.t.\",(Milieuprofielen!AG22),(Milieuprofielen!AG22/Invoerblad!$G$56)),0)","v":0},{"$f":"IFERROR(IF(Invoerblad!$G$56=\"n.v.t.\",(Milieuprofielen!AH22),(Milieuprofielen!AH22/Invoerblad!$G$56)),0)","v":0},{"$f":"IFERROR(IF(Invoerblad!$G$56=\"n.v.t.\",(Milieuprofielen!AI22),(Milieuprofielen!AI22/Invoerblad!$G$56)),0)","v":0},{"$f":"IFERROR(IF(Invoerblad!$G$56=\"n.v.t.\",(Milieuprofielen!AJ22),(Milieuprofielen!AJ22/Invoerblad!$G$56)),0)","v":0},null,null,null,"002. abiotic depletion, fuel (AD)","kg Sb eq",{"$f":"IFERROR(IF(Invoerblad!$H$56=\"n.v.t.\",(Milieuprofielen!AP22),(Milieuprofielen!AP22/Invoerblad!$H$56)),0)","v":0},{"$f":"IFERROR(IF(Invoerblad!$H$56=\"n.v.t.\",(Milieuprofielen!AQ22),(Milieuprofielen!AQ22/Invoerblad!$H$56)),0)","v":0},{"$f":"IFERROR(IF(Invoerblad!$H$56=\"n.v.t.\",(Milieuprofielen!AR22),(Milieuprofielen!AR22/Invoerblad!$H$56)),0)","v":0},{"$f":"IFERROR(IF(Invoerblad!$H$56=\"n.v.t.\",(Milieuprofielen!AS22),(Milieuprofielen!AS22/Invoerblad!$H$56)),0)","v":0}]
[null,null,null,"004. global warming (GWP)","kg CO2 eq",{"$f":"IFERROR(IF(Invoerblad!$D$56=\"n.v.t.\",(Milieuprofielen!F23),(Milieuprofielen!F23/Invoerblad!$D$56)),0)","v":0.53997792481999995},{"$f":"IFERROR(IF(Invoerblad!$D$56=\"n.v.t.\",(Milieuprofielen!G23),(Milieuprofielen!G23/Invoerblad!$D$56)),0)","v":1.5924683763500001E-2},{"$f":"IFERROR(IF(Invoerblad!$D$56=\"n.v.t.\",(Milieuprofielen!H23),(Milieuprofielen!H23/Invoerblad!$D$56)),0)","v":2.7502519317054706},{"$f":"IFERROR(IF(Invoerblad!$D$56=\"n.v.t.\",(Milieuprofielen!I23),(Milieuprofielen!I23/Invoerblad!$D$56)),0)","v":3.3061545402889707},null,null,null,"004. global warming (GWP)","kg CO2 eq",{"$f":"IFERROR(IF(Invoerblad!$E$56=\"n.v.t.\",(Milieuprofielen!O23),(Milieuprofielen!O23/Invoerblad!$E$56)),0)","v":0},{"$f":"IFERROR(IF(Invoerblad!$E$56=\"n.v.t.\",(Milieuprofielen!P23),(Milieuprofielen!P23/Invoerblad!$E$56)),0)","v":0},{"$f":"IFERROR(IF(Invoerblad!$E$56=\"n.v.t.\",(Milieuprofielen!Q23),(Milieuprofielen!Q23/Invoerblad!$E$56)),0)","v":0},{"$f":"IFERROR(IF(Invoerblad!$E$56=\"n.v.t.\",(Milieuprofielen!R23),(Milieuprofielen!R23/Invoerblad!$E$56)),0)","v":0},null,null,null,"004. global warming (GWP)","kg CO2 eq",{"$f":"IFERROR(IF(Invoerblad!$F$56=\"n.v.t.\",(Milieuprofielen!X23),(Milieuprofielen!X23/Invoerblad!$F$56)),0)","v":0},{"$f":"IFERROR(IF(Invoerblad!$F$56=\"n.v.t.\",(Milieuprofielen!Y23),(Milieuprofielen!Y23/Invoerblad!$F$56)),0)","v":0},{"$f":"IFERROR(IF(Invoerblad!$F$56=\"n.v.t.\",(Milieuprofielen!Z23),(Milieuprofielen!Z23/Invoerblad!$F$56)),0)","v":0},{"$f":"IFERROR(IF(Invoerblad!$F$56=\"n.v.t.\",(Milieuprofielen!AA23),(Milieuprofielen!AA23/Invoerblad!$F$56)),0)","v":0},null,null,null,"004. global warming (GWP)","kg CO2 eq",{"$f":"IFERROR(IF(Invoerblad!$G$56=\"n.v.t.\",(Milieuprofielen!AG23),(Milieuprofielen!AG23/Invoerblad!$G$56)),0)","v":0},{"$f":"IFERROR(IF(Invoerblad!$G$56=\"n.v.t.\",(Milieuprofielen!AH23),(Milieuprofielen!AH23/Invoerblad!$G$56)),0)","v":0},{"$f":"IFERROR(IF(Invoerblad!$G$56=\"n.v.t.\",(Milieuprofielen!AI23),(Milieuprofielen!AI23/Invoerblad!$G$56)),0)","v":0},{"$f":"IFERROR(IF(Invoerblad!$G$56=\"n.v.t.\",(Milieuprofielen!AJ23),(Milieuprofielen!AJ23/Invoerblad!$G$56)),0)","v":0},null,null,null,"004. global warming (GWP)","kg CO2 eq",{"$f":"IFERROR(IF(Invoerblad!$H$56=\"n.v.t.\",(Milieuprofielen!AP23),(Milieuprofielen!AP23/Invoerblad!$H$56)),0)","v":0},{"$f":"IFERROR(IF(Invoerblad!$H$56=\"n.v.t.\",(Milieuprofielen!AQ23),(Milieuprofielen!AQ23/Invoerblad!$H$56)),0)","v":0},{"$f":"IFERROR(IF(Invoerblad!$H$56=\"n.v.t.\",(Milieuprofielen!AR23),(Milieuprofielen!AR23/Invoerblad!$H$56)),0)","v":0},{"$f":"IFERROR(IF(Invoerblad!$H$56=\"n.v.t.\",(Milieuprofielen!AS23),(Milieuprofielen!AS23/Invoerblad!$H$56)),0)","v":0}]
[null,null,null,"005. ozone layer depletion (ODP)","kg CFC-11 eq",{"$f":"IFERROR(IF(Invoerblad!$D$56=\"n.v.t.\",(Milieuprofielen!F24),(Milieuprofielen!F24/Invoerblad!$D$56)),0)","v":5.1766615299200006E-7},{"$f":"IFERROR(IF(Invoerblad!$D$56=\"n.v.t.\",(Milieuprofielen!G24),(Milieuprofielen!G24/Invoerblad!$D$56)),0)","v":2.6285159171650001E-9},{"$f":"IFERROR(IF(Invoerblad!$D$56=\"n.v.t.\",(Milieuprofielen!H24),(Milieuprofielen!H24/Invoerblad!$D$56)),0)","v":1.7001886183935599E-8},{"$f":"IFERROR(IF(Invoerblad!$D$56=\"n.v.t.\",(Milieuprofielen!I24),(Milieuprofielen!I24/Invoerblad!$D$56)),0)","v":5.372965550931007E-7},null,null,null,"005. ozone layer depletion (ODP)","kg CFC-11 eq",{"$f":"IFERROR(IF(Invoerblad!$E$56=\"n.v.t.\",(Milieuprofielen!O24),(Milieuprofielen!O24/Invoerblad!$E$56)),0)","v":0},{"$f":"IFERROR(IF(Invoerblad!$E$56=\"n.v.t.\",(Milieuprofielen!P24),(Milieuprofielen!P24/Invoerblad!$E$56)),0)","v":0},{"$f":"IFERROR(IF(Invoerblad!$E$56=\"n.v.t.\",(Milieuprofielen!Q24),(Milieuprofielen!Q24/Invoerblad!$E$56)),0)","v":0},{"$f":"IFERROR(IF(Invoerblad!$E$56=\"n.v.t.\",(Milieuprofielen!R24),(Milieuprofielen!R24/Invoerblad!$E$56)),0)","v":0},null,null,null,"005. ozone layer depletion (ODP)","kg CFC-11 eq",{"$f":"IFERROR(IF(Invoerblad!$F$56=\"n.v.t.\",(Milieuprofielen!X24),(Milieuprofielen!X24/Invoerblad!$F$56)),0)","v":0},{"$f":"IFERROR(IF(Invoerblad!$F$56=\"n.v.t.\",(Milieuprofielen!Y24),(Milieuprofielen!Y24/Invoerblad!$F$56)),0)","v":0},{"$f":"IFERROR(IF(Invoerblad!$F$56=\"n.v.t.\",(Milieuprofielen!Z24),(Milieuprofielen!Z24/Invoerblad!$F$56)),0)","v":0},{"$f":"IFERROR(IF(Invoerblad!$F$56=\"n.v.t.\",(Milieuprofielen!AA24),(Milieuprofielen!AA24/Invoerblad!$F$56)),0)","v":0},null,null,null,"005. ozone layer depletion (ODP)","kg CFC-11 eq",{"$f":"IFERROR(IF(Invoerblad!$G$56=\"n.v.t.\",(Milieuprofielen!AG24),(Milieuprofielen!AG24/Invoerblad!$G$56)),0)","v":0},{"$f":"IFERROR(IF(Invoerblad!$G$56=\"n.v.t.\",(Milieuprofielen!AH24),(Milieuprofielen!AH24/Invoerblad!$G$56)),0)","v":0},{"$f":"IFERROR(IF(Invoerblad!$G$56=\"n.v.t.\",(Milieuprofielen!AI24),(Milieuprofielen!AI24/Invoerblad!$G$56)),0)","v":0},{"$f":"IFERROR(IF(Invoerblad!$G$56=\"n.v.t.\",(Milieuprofielen!AJ24),(Milieuprofielen!AJ24/Invoerblad!$G$56)),0)","v":0},null,null,null,"005. ozone layer depletion (ODP)","kg CFC-11 eq",{"$f":"IFERROR(IF(Invoerblad!$H$56=\"n.v.t.\",(Milieuprofielen!AP24),(Milieuprofielen!AP24/Invoerblad!$H$56)),0)","v":0},{"$f":"IFERROR(IF(Invoerblad!$H$56=\"n.v.t.\",(Milieuprofielen!AQ24),(Milieuprofielen!AQ24/Invoerblad!$H$56)),0)","v":0},{"$f":"IFERROR(IF(Invoerblad!$H$56=\"n.v.t.\",(Milieuprofielen!AR24),(Milieuprofielen!AR24/Invoerblad!$H$56)),0)","v":0},{"$f":"IFERROR(IF(Invoerblad!$H$56=\"n.v.t.\",(Milieuprofielen!AS24),(Milieuprofielen!AS24/Invoerblad!$H$56)),0)","v":0}]
[null,null,null,"006. photochemical oxidation (POCP)","kg C2H4",{"$f":"IFERROR(IF(Invoerblad!$D$56=\"n.v.t.\",(Milieuprofielen!F25),(Milieuprofielen!F25/Invoerblad!$D$56)),0)","v":7.6143802327099995E-4},{"$f":"IFERROR(IF(Invoerblad!$D$56=\"n.v.t.\",(Milieuprofielen!G25),(Milieuprofielen!G25/Invoerblad!$D$56)),0)","v":9.9115773142349989E-6},{"$f":"IFERROR(IF(Invoerblad!$D$56=\"n.v.t.\",(Milieuprofielen!H25),(Milieuprofielen!H25/Invoerblad!$D$56)),0)","v":1.6272309334947394E-4},{"$f":"IFERROR(IF(Invoerblad!$D$56=\"n.v.t.\",(Milieuprofielen!I25),(Milieuprofielen!I25/Invoerblad!$D$56)),0)","v":9.3407269393470894E-4},null,null,null,"006. photochemical oxidation (POCP)","kg C2H4",{"$f":"IFERROR(IF(Invoerblad!$E$56=\"n.v.t.\",(Milieuprofielen!O25),(Milieuprofielen!O25/Invoerblad!$E$56)),0)","v":0},{"$f":"IFERROR(IF(Invoerblad!$E$56=\"n.v.t.\",(Milieuprofielen!P25),(Milieuprofielen!P25/Invoerblad!$E$56)),0)","v":0},{"$f":"IFERROR(IF(Invoerblad!$E$56=\"n.v.t.\",(Milieuprofielen!Q25),(Milieuprofielen!Q25/Invoerblad!$E$56)),0)","v":0},{"$f":"IFERROR(IF(Invoerblad!$E$56=\"n.v.t.\",(Milieuprofielen!R25),(Milieuprofielen!R25/Invoerblad!$E$56)),0)","v":0},null,null,null,"006. photochemical oxidation (POCP)","kg C2H4",{"$f":"IFERROR(IF(Invoerblad!$F$56=\"n.v.t.\",(Milieuprofielen!X25),(Milieuprofielen!X25/Invoerblad!$F$56)),0)","v":0},{"$f":"IFERROR(IF(Invoerblad!$F$56=\"n.v.t.\",(Milieuprofielen!Y25),(Milieuprofielen!Y25/Invoerblad!$F$56)),0)","v":0},{"$f":"IFERROR(IF(Invoerblad!$F$56=\"n.v.t.\",(Milieuprofielen!Z25),(Milieuprofielen!Z25/Invoerblad!$F$56)),0)","v":0},{"$f":"IFERROR(IF(Invoerblad!$F$56=\"n.v.t.\",(Milieuprofielen!AA25),(Milieuprofielen!AA25/Invoerblad!$F$56)),0)","v":0},null,null,null,"006. photochemical oxidation (POCP)","kg C2H4",{"$f":"IFERROR(IF(Invoerblad!$G$56=\"n.v.t.\",(Milieuprofielen!AG25),(Milieuprofielen!AG25/Invoerblad!$G$56)),0)","v":0},{"$f":"IFERROR(IF(Invoerblad!$G$56=\"n.v.t.\",(Milieuprofielen!AH25),(Milieuprofielen!AH25/Invoerblad!$G$56)),0)","v":0},{"$f":"IFERROR(IF(Invoerblad!$G$56=\"n.v.t.\",(Milieuprofielen!AI25),(Milieuprofielen!AI25/Invoerblad!$G$56)),0)","v":0},{"$f":"IFERROR(IF(Invoerblad!$G$56=\"n.v.t.\",(Milieuprofielen!AJ25),(Milieuprofielen!AJ25/Invoerblad!$G$56)),0)","v":0},null,null,null,"006. photochemical oxidation (POCP)","kg C2H4",{"$f":"IFERROR(IF(Invoerblad!$H$56=\"n.v.t.\",(Milieuprofielen!AP25),(Milieuprofielen!AP25/Invoerblad!$H$56)),0)","v":0},{"$f":"IFERROR(IF(Invoerblad!$H$56=\"n.v.t.\",(Milieuprofielen!AQ25),(Milieuprofielen!AQ25/Invoerblad!$H$56)),0)","v":0},{"$f":"IFERROR(IF(Invoerblad!$H$56=\"n.v.t.\",(Milieuprofielen!AR25),(Milieuprofielen!AR25/Invoerblad!$H$56)),0)","v":0},{"$f":"IFERROR(IF(Invoerblad!$H$56=\"n.v.t.\",(Milieuprofielen!AS25),(Milieuprofielen!AS25/Invoerblad!$H$56)),0)","v":0}]
[null,null,null,"007. acidification (AP)","kg SO2 eq",{"$f":"IFERROR(IF(Invoerblad!$D$56=\"n.v.t.\",(Milieuprofielen!F26),(Milieuprofielen!F26/Invoerblad!$D$56)),0)","v":4.3749218135650005E-3},{"$f":"IFERROR(IF(Invoerblad!$D$56=\"n.v.t.\",(Milieuprofielen!G26),(Milieuprofielen!G26/Invoerblad!$D$56)),0)","v":6.5884029259250006E-5},{"$f":"IFERROR(IF(Invoerblad!$D$56=\"n.v.t.\",(Milieuprofielen!H26),(Milieuprofielen!H26/Invoerblad!$D$56)),0)","v":8.9598794678610386E-3},{"$f":"IFERROR(IF(Invoerblad!$D$56=\"n.v.t.\",(Milieuprofielen!I26),(Milieuprofielen!I26/Invoerblad!$D$56)),0)","v":1.3400685310685289E-2},null,null,null,"007. acidification (AP)","kg SO2 eq",{"$f":"IFERROR(IF(Invoerblad!$E$56=\"n.v.t.\",(Milieuprofielen!O26),(Milieuprofielen!O26/Invoerblad!$E$56)),0)","v":0},{"$f":"IFERROR(IF(Invoerblad!$E$56=\"n.v.t.\",(Milieuprofielen!P26),(Milieuprofielen!P26/Invoerblad!$E$56)),0)","v":0},{"$f":"IFERROR(IF(Invoerblad!$E$56=\"n.v.t.\",(Milieuprofielen!Q26),(Milieuprofielen!Q26/Invoerblad!$E$56)),0)","v":0},{"$f":"IFERROR(IF(Invoerblad!$E$56=\"n.v.t.\",(Milieuprofielen!R26),(Milieuprofielen!R26/Invoerblad!$E$56)),0)","v":0},null,null,null,"007. acidification (AP)","kg SO2 eq",{"$f":"IFERROR(IF(Invoerblad!$F$56=\"n.v.t.\",(Milieuprofielen!X26),(Milieuprofielen!X26/Invoerblad!$F$56)),0)","v":0},{"$f":"IFERROR(IF(Invoerblad!$F$56=\"n.v.t.\",(Milieuprofielen!Y26),(Milieuprofielen!Y26/Invoerblad!$F$56)),0)","v":0},{"$f":"IFERROR(IF(Invoerblad!$F$56=\"n.v.t.\",(Milieuprofielen!Z26),(Milieuprofielen!Z26/Invoerblad!$F$56)),0)","v":0},{"$f":"IFERROR(IF(Invoerblad!$F$56=\"n.v.t.\",(Milieuprofielen!AA26),(Milieuprofielen!AA26/Invoerblad!$F$56)),0)","v":0},null,null,null,"007. acidification (AP)","kg SO2 eq",{"$f":"IFERROR(IF(Invoerblad!$G$56=\"n.v.t.\",(Milieuprofielen!AG26),(Milieuprofielen!AG26/Invoerblad!$G$56)),0)","v":0},{"$f":"IFERROR(IF(Invoerblad!$G$56=\"n.v.t.\",(Milieuprofielen!AH26),(Milieuprofielen!AH26/Invoerblad!$G$56)),0)","v":0},{"$f":"IFERROR(IF(Invoerblad!$G$56=\"n.v.t.\",(Milieuprofielen!AI26),(Milieuprofielen!AI26/Invoerblad!$G$56)),0)","v":0},{"$f":"IFERROR(IF(Invoerblad!$G$56=\"n.v.t.\",(Milieuprofielen!AJ26),(Milieuprofielen!AJ26/Invoerblad!$G$56)),0)","v":0},null,null,null,"007. acidification (AP)","kg SO2 eq",{"$f":"IFERROR(IF(Invoerblad!$H$56=\"n.v.t.\",(Milieuprofielen!AP26),(Milieuprofielen!AP26/Invoerblad!$H$56)),0)","v":0},{"$f":"IFERROR(IF(Invoerblad!$H$56=\"n.v.t.\",(Milieuprofielen!AQ26),(Milieuprofielen!AQ26/Invoerblad!$H$56)),0)","v":0},{"$f":"IFERROR(IF(Invoerblad!$H$56=\"n.v.t.\",(Milieuprofielen!AR26),(Milieuprofielen!AR26/Invoerblad!$H$56)),0)","v":0},{"$f":"IFERROR(IF(Invoerblad!$H$56=\"n.v.t.\",(Milieuprofielen!AS26),(Milieuprofielen!AS26/Invoerblad!$H$56)),0)","v":0}]
[null,null,null,"008. eutrophication (EP)","kg PO4--- eq",{"$f":"IFERROR(IF(Invoerblad!$D$56=\"n.v.t.\",(Milieuprofielen!F27),(Milieuprofielen!F27/Invoerblad!$D$56)),0)","v":5.8592516761650005E-4},{"$f":"IFERROR(IF(Invoerblad!$D$56=\"n.v.t.\",(Milieuprofielen!G27),(Milieuprofielen!G27/Invoerblad!$D$56)),0)","v":1.1656310089725E-5},{"$f":"IFERROR(IF(Invoerblad!$D$56=\"n.v.t.\",(Milieuprofielen!H27),(Milieuprofielen!H27/Invoerblad!$D$56)),0)","v":2.2239496813527605E-3},{"$f":"IFERROR(IF(Invoerblad!$D$56=\"n.v.t.\",(Milieuprofielen!I27),(Milieuprofielen!I27/Invoerblad!$D$56)),0)","v":2.8215311590589856E-3},null,null,null,"008. eutrophication (EP)","kg PO4--- eq",{"$f":"IFERROR(IF(Invoerblad!$E$56=\"n.v.t.\",(Milieuprofielen!O27),(Milieuprofielen!O27/Invoerblad!$E$56)),0)","v":0},{"$f":"IFERROR(IF(Invoerblad!$E$56=\"n.v.t.\",(Milieuprofielen!P27),(Milieuprofielen!P27/Invoerblad!$E$56)),0)","v":0},{"$f":"IFERROR(IF(Invoerblad!$E$56=\"n.v.t.\",(Milieuprofielen!Q27),(Milieuprofielen!Q27/Invoerblad!$E$56)),0)","v":0},{"$f":"IFERROR(IF(Invoerblad!$E$56=\"n.v.t.\",(Milieuprofielen!R27),(Milieuprofielen!R27/Invoerblad!$E$56)),0)","v":0},null,null,null,"008. eutrophication (EP)","kg PO4--- eq",{"$f":"IFERROR(IF(Invoerblad!$F$56=\"n.v.t.\",(Milieuprofielen!X27),(Milieuprofielen!X27/Invoerblad!$F$56)),0)","v":0},{"$f":"IFERROR(IF(Invoerblad!$F$56=\"n.v.t.\",(Milieuprofielen!Y27),(Milieuprofielen!Y27/Invoerblad!$F$56)),0)","v":0},{"$f":"IFERROR(IF(Invoerblad!$F$56=\"n.v.t.\",(Milieuprofielen!Z27),(Milieuprofielen!Z27/Invoerblad!$F$56)),0)","v":0},{"$f":"IFERROR(IF(Invoerblad!$F$56=\"n.v.t.\",(Milieuprofielen!AA27),(Milieuprofielen!AA27/Invoerblad!$F$56)),0)","v":0},null,null,null,"008. eutrophication (EP)","kg PO4--- eq",{"$f":"IFERROR(IF(Invoerblad!$G$56=\"n.v.t.\",(Milieuprofielen!AG27),(Milieuprofielen!AG27/Invoerblad!$G$56)),0)","v":0},{"$f":"IFERROR(IF(Invoerblad!$G$56=\"n.v.t.\",(Milieuprofielen!AH27),(Milieuprofielen!AH27/Invoerblad!$G$56)),0)","v":0},{"$f":"IFERROR(IF(Invoerblad!$G$56=\"n.v.t.\",(Milieuprofielen!AI27),(Milieuprofielen!AI27/Invoerblad!$G$56)),0)","v":0},{"$f":"IFERROR(IF(Invoerblad!$G$56=\"n.v.t.\",(Milieuprofielen!AJ27),(Milieuprofielen!AJ27/Invoerblad!$G$56)),0)","v":0},null,null,null,"008. eutrophication (EP)","kg PO4--- eq",{"$f":"IFERROR(IF(Invoerblad!$H$56=\"n.v.t.\",(Milieuprofielen!AP27),(Milieuprofielen!AP27/Invoerblad!$H$56)),0)","v":0},{"$f":"IFERROR(IF(Invoerblad!$H$56=\"n.v.t.\",(Milieuprofielen!AQ27),(Milieuprofielen!AQ27/Invoerblad!$H$56)),0)","v":0},{"$f":"IFERROR(IF(Invoerblad!$H$56=\"n.v.t.\",(Milieuprofielen!AR27),(Milieuprofielen!AR27/Invoerblad!$H$56)),0)","v":0},{"$f":"IFERROR(IF(Invoerblad!$H$56=\"n.v.t.\",(Milieuprofielen!AS27),(Milieuprofielen!AS27/Invoerblad!$H$56)),0)","v":0}]
[null,null,null,"009. human toxicity (HT)","kg 1,4-DB eq",{"$f":"IFERROR(IF(Invoerblad!$D$56=\"n.v.t.\",(Milieuprofielen!F28),(Milieuprofielen!F28/Invoerblad!$D$56)),0)","v":0.29920803770400001},{"$f":"IFERROR(IF(Invoerblad!$D$56=\"n.v.t.\",(Milieuprofielen!G28),(Milieuprofielen!G28/Invoerblad!$D$56)),0)","v":4.6579246966849995E-3},{"$f":"IFERROR(IF(Invoerblad!$D$56=\"n.v.t.\",(Milieuprofielen!H28),(Milieuprofielen!H28/Invoerblad!$D$56)),0)","v":0.12344443229519028},{"$f":"IFERROR(IF(Invoerblad!$D$56=\"n.v.t.\",(Milieuprofielen!I28),(Milieuprofielen!I28/Invoerblad!$D$56)),0)","v":0.42731039469587534},null,null,null,"009. human toxicity (HT)","kg 1,4-DB eq",{"$f":"IFERROR(IF(Invoerblad!$E$56=\"n.v.t.\",(Milieuprofielen!O28),(Milieuprofielen!O28/Invoerblad!$E$56)),0)","v":0},{"$f":"IFERROR(IF(Invoerblad!$E$56=\"n.v.t.\",(Milieuprofielen!P28),(Milieuprofielen!P28/Invoerblad!$E$56)),0)","v":0},{"$f":"IFERROR(IF(Invoerblad!$E$56=\"n.v.t.\",(Milieuprofielen!Q28),(Milieuprofielen!Q28/Invoerblad!$E$56)),0)","v":0},{"$f":"IFERROR(IF(Invoerblad!$E$56=\"n.v.t.\",(Milieuprofielen!R28),(Milieuprofielen!R28/Invoerblad!$E$56)),0)","v":0},null,null,null,"009. human toxicity (HT)","kg 1,4-DB eq",{"$f":"IFERROR(IF(Invoerblad!$F$56=\"n.v.t.\",(Milieuprofielen!X28),(Milieuprofielen!X28/Invoerblad!$F$56)),0)","v":0},{"$f":"IFERROR(IF(Invoerblad!$F$56=\"n.v.t.\",(Milieuprofielen!Y28),(Milieuprofielen!Y28/Invoerblad!$F$56)),0)","v":0},{"$f":"IFERROR(IF(Invoerblad!$F$56=\"n.v.t.\",(Milieuprofielen!Z28),(Milieuprofielen!Z28/Invoerblad!$F$56)),0)","v":0},{"$f":"IFERROR(IF(Invoerblad!$F$56=\"n.v.t.\",(Milieuprofielen!AA28),(Milieuprofielen!AA28/Invoerblad!$F$56)),0)","v":0},null,null,null,"009. human toxicity (HT)","kg 1,4-DB eq",{"$f":"IFERROR(IF(Invoerblad!$G$56=\"n.v.t.\",(Milieuprofielen!AG28),(Milieuprofielen!AG28/Invoerblad!$G$56)),0)","v":0},{"$f":"IFERROR(IF(Invoerblad!$G$56=\"n.v.t.\",(Milieuprofielen!AH28),(Milieuprofielen!AH28/Invoerblad!$G$56)),0)","v":0},{"$f":"IFERROR(IF(Invoerblad!$G$56=\"n.v.t.\",(Milieuprofielen!AI28),(Milieuprofielen!AI28/Invoerblad!$G$56)),0)","v":0},{"$f":"IFERROR(IF(Invoerblad!$G$56=\"n.v.t.\",(Milieuprofielen!AJ28),(Milieuprofielen!AJ28/Invoerblad!$G$56)),0)","v":0},null,null,null,"009. human toxicity (HT)","kg 1,4-DB eq",{"$f":"IFERROR(IF(Invoerblad!$H$56=\"n.v.t.\",(Milieuprofielen!AP28),(Milieuprofielen!AP28/Invoerblad!$H$56)),0)","v":0},{"$f":"IFERROR(IF(Invoerblad!$H$56=\"n.v.t.\",(Milieuprofielen!AQ28),(Milieuprofielen!AQ28/Invoerblad!$H$56)),0)","v":0},{"$f":"IFERROR(IF(Invoerblad!$H$56=\"n.v.t.\",(Milieuprofielen!AR28),(Milieuprofielen!AR28/Invoerblad!$H$56)),0)","v":0},{"$f":"IFERROR(IF(Invoerblad!$H$56=\"n.v.t.\",(Milieuprofielen!AS28),(Milieuprofielen!AS28/Invoerblad!$H$56)),0)","v":0}]
[null,null,null,"010. Ecotoxicity, fresh water (FAETP)","kg 1,4-DB eq",{"$f":"IFERROR(IF(Invoerblad!$D$56=\"n.v.t.\",(Milieuprofielen!F29),(Milieuprofielen!F29/Invoerblad!$D$56)),0)","v":1.1978487479670001E-2},{"$f":"IFERROR(IF(Invoerblad!$D$56=\"n.v.t.\",(Milieuprofielen!G29),(Milieuprofielen!G29/Invoerblad!$D$56)),0)","v":1.52376350523E-4},{"$f":"IFERROR(IF(Invoerblad!$D$56=\"n.v.t.\",(Milieuprofielen!H29),(Milieuprofielen!H29/Invoerblad!$D$56)),0)","v":7.4038040213094563E-4},{"$f":"IFERROR(IF(Invoerblad!$D$56=\"n.v.t.\",(Milieuprofielen!I29),(Milieuprofielen!I29/Invoerblad!$D$56)),0)","v":1.2871244232323947E-2},null,null,null,"010. Ecotoxicity, fresh water (FAETP)","kg 1,4-DB eq",{"$f":"IFERROR(IF(Invoerblad!$E$56=\"n.v.t.\",(Milieuprofielen!O29),(Milieuprofielen!O29/Invoerblad!$E$56)),0)","v":0},{"$f":"IFERROR(IF(Invoerblad!$E$56=\"n.v.t.\",(Milieuprofielen!P29),(Milieuprofielen!P29/Invoerblad!$E$56)),0)","v":0},{"$f":"IFERROR(IF(Invoerblad!$E$56=\"n.v.t.\",(Milieuprofielen!Q29),(Milieuprofielen!Q29/Invoerblad!$E$56)),0)","v":0},{"$f":"IFERROR(IF(Invoerblad!$E$56=\"n.v.t.\",(Milieuprofielen!R29),(Milieuprofielen!R29/Invoerblad!$E$56)),0)","v":0},null,null,null,"010. Ecotoxicity, fresh water (FAETP)","kg 1,4-DB eq",{"$f":"IFERROR(IF(Invoerblad!$F$56=\"n.v.t.\",(Milieuprofielen!X29),(Milieuprofielen!X29/Invoerblad!$F$56)),0)","v":0},{"$f":"IFERROR(IF(Invoerblad!$F$56=\"n.v.t.\",(Milieuprofielen!Y29),(Milieuprofielen!Y29/Invoerblad!$F$56)),0)","v":0},{"$f":"IFERROR(IF(Invoerblad!$F$56=\"n.v.t.\",(Milieuprofielen!Z29),(Milieuprofielen!Z29/Invoerblad!$F$56)),0)","v":0},{"$f":"IFERROR(IF(Invoerblad!$F$56=\"n.v.t.\",(Milieuprofielen!AA29),(Milieuprofielen!AA29/Invoerblad!$F$56)),0)","v":0},null,null,null,"010. Ecotoxicity, fresh water (FAETP)","kg 1,4-DB eq",{"$f":"IFERROR(IF(Invoerblad!$G$56=\"n.v.t.\",(Milieuprofielen!AG29),(Milieuprofielen!AG29/Invoerblad!$G$56)),0)","v":0},{"$f":"IFERROR(IF(Invoerblad!$G$56=\"n.v.t.\",(Milieuprofielen!AH29),(Milieuprofielen!AH29/Invoerblad!$G$56)),0)","v":0},{"$f":"IFERROR(IF(Invoerblad!$G$56=\"n.v.t.\",(Milieuprofielen!AI29),(Milieuprofielen!AI29/Invoerblad!$G$56)),0)","v":0},{"$f":"IFERROR(IF(Invoerblad!$G$56=\"n.v.t.\",(Milieuprofielen!AJ29),(Milieuprofielen!AJ29/Invoerblad!$G$56)),0)","v":0},null,null,null,"010. Ecotoxicity, fresh water (FAETP)","kg 1,4-DB eq",{"$f":"IFERROR(IF(Invoerblad!$H$56=\"n.v.t.\",(Milieuprofielen!AP29),(Milieuprofielen!AP29/Invoerblad!$H$56)),0)","v":0},{"$f":"IFERROR(IF(Invoerblad!$H$56=\"n.v.t.\",(Milieuprofielen!AQ29),(Milieuprofielen!AQ29/Invoerblad!$H$56)),0)","v":0},{"$f":"IFERROR(IF(Invoerblad!$H$56=\"n.v.t.\",(Milieuprofielen!AR29),(Milieuprofielen!AR29/Invoerblad!$H$56)),0)","v":0},{"$f":"IFERROR(IF(Invoerblad!$H$56=\"n.v.t.\",(Milieuprofielen!AS29),(Milieuprofielen!AS29/Invoerblad!$H$56)),0)","v":0}]
[null,null,null,"012. Ecotoxcity, marine water (MAETP)","kg 1,4-DB eq",{"$f":"IFERROR(IF(Invoerblad!$D$56=\"n.v.t.\",(Milieuprofielen!F30),(Milieuprofielen!F30/Invoerblad!$D$56)),0)","v":54.081774486299999},{"$f":"IFERROR(IF(Invoerblad!$D$56=\"n.v.t.\",(Milieuprofielen!G30),(Milieuprofielen!G30/Invoerblad!$D$56)),0)","v":0.40973548508300001},{"$f":"IFERROR(IF(Invoerblad!$D$56=\"n.v.t.\",(Milieuprofielen!H30),(Milieuprofielen!H30/Invoerblad!$D$56)),0)","v":1.9460436715115064},{"$f":"IFERROR(IF(Invoerblad!$D$56=\"n.v.t.\",(Milieuprofielen!I30),(Milieuprofielen!I30/Invoerblad!$D$56)),0)","v":56.437553642894507},null,null,null,"012. Ecotoxcity, marine water (MAETP)","kg 1,4-DB eq",{"$f":"IFERROR(IF(Invoerblad!$E$56=\"n.v.t.\",(Milieuprofielen!O30),(Milieuprofielen!O30/Invoerblad!$E$56)),0)","v":0},{"$f":"IFERROR(IF(Invoerblad!$E$56=\"n.v.t.\",(Milieuprofielen!P30),(Milieuprofielen!P30/Invoerblad!$E$56)),0)","v":0},{"$f":"IFERROR(IF(Invoerblad!$E$56=\"n.v.t.\",(Milieuprofielen!Q30),(Milieuprofielen!Q30/Invoerblad!$E$56)),0)","v":0},{"$f":"IFERROR(IF(Invoerblad!$E$56=\"n.v.t.\",(Milieuprofielen!R30),(Milieuprofielen!R30/Invoerblad!$E$56)),0)","v":0},null,null,null,"012. Ecotoxcity, marine water (MAETP)","kg 1,4-DB eq",{"$f":"IFERROR(IF(Invoerblad!$F$56=\"n.v.t.\",(Milieuprofielen!X30),(Milieuprofielen!X30/Invoerblad!$F$56)),0)","v":0},{"$f":"IFERROR(IF(Invoerblad!$F$56=\"n.v.t.\",(Milieuprofielen!Y30),(Milieuprofielen!Y30/Invoerblad!$F$56)),0)","v":0},{"$f":"IFERROR(IF(Invoerblad!$F$56=\"n.v.t.\",(Milieuprofielen!Z30),(Milieuprofielen!Z30/Invoerblad!$F$56)),0)","v":0},{"$f":"IFERROR(IF(Invoerblad!$F$56=\"n.v.t.\",(Milieuprofielen!AA30),(Milieuprofielen!AA30/Invoerblad!$F$56)),0)","v":0},null,null,null,"012. Ecotoxcity, marine water (MAETP)","kg 1,4-DB eq",{"$f":"IFERROR(IF(Invoerblad!$G$56=\"n.v.t.\",(Milieuprofielen!AG30),(Milieuprofielen!AG30/Invoerblad!$G$56)),0)","v":0},{"$f":"IFERROR(IF(Invoerblad!$G$56=\"n.v.t.\",(Milieuprofielen!AH30),(Milieuprofielen!AH30/Invoerblad!$G$56)),0)","v":0},{"$f":"IFERROR(IF(Invoerblad!$G$56=\"n.v.t.\",(Milieuprofielen!AI30),(Milieuprofielen!AI30/Invoerblad!$G$56)),0)","v":0},{"$f":"IFERROR(IF(Invoerblad!$G$56=\"n.v.t.\",(Milieuprofielen!AJ30),(Milieuprofielen!AJ30/Invoerblad!$G$56)),0)","v":0},null,null,null,"012. Ecotoxcity, marine water (MAETP)","kg 1,4-DB eq",{"$f":"IFERROR(IF(Invoerblad!$H$56=\"n.v.t.\",(Milieuprofielen!AP30),(Milieuprofielen!AP30/Invoerblad!$H$56)),0)","v":0},{"$f":"IFERROR(IF(Invoerblad!$H$56=\"n.v.t.\",(Milieuprofielen!AQ30),(Milieuprofielen!AQ30/Invoerblad!$H$56)),0)","v":0},{"$f":"IFERROR(IF(Invoerblad!$H$56=\"n.v.t.\",(Milieuprofielen!AR30),(Milieuprofielen!AR30/Invoerblad!$H$56)),0)","v":0},{"$f":"IFERROR(IF(Invoerblad!$H$56=\"n.v.t.\",(Milieuprofielen!AS30),(Milieuprofielen!AS30/Invoerblad!$H$56)),0)","v":0}]
[null,null,null,"014. Ecotoxicity, terrestric (TETP)","kg 1,4-DB eq",{"$f":"IFERROR(IF(Invoerblad!$D$56=\"n.v.t.\",(Milieuprofielen!F31),(Milieuprofielen!F31/Invoerblad!$D$56)),0)","v":7.7400934271000001E-4},{"$f":"IFERROR(IF(Invoerblad!$D$56=\"n.v.t.\",(Milieuprofielen!G31),(Milieuprofielen!G31/Invoerblad!$D$56)),0)","v":3.8869399169549997E-5},{"$f":"IFERROR(IF(Invoerblad!$D$56=\"n.v.t.\",(Milieuprofielen!H31),(Milieuprofielen!H31/Invoerblad!$D$56)),0)","v":1.2498488937383642E-3},{"$f":"IFERROR(IF(Invoerblad!$D$56=\"n.v.t.\",(Milieuprofielen!I31),(Milieuprofielen!I31/Invoerblad!$D$56)),0)","v":2.0627276356179141E-3},null,null,null,"014. Ecotoxicity, terrestric (TETP)","kg 1,4-DB eq",{"$f":"IFERROR(IF(Invoerblad!$E$56=\"n.v.t.\",(Milieuprofielen!O31),(Milieuprofielen!O31/Invoerblad!$E$56)),0)","v":0},{"$f":"IFERROR(IF(Invoerblad!$E$56=\"n.v.t.\",(Milieuprofielen!P31),(Milieuprofielen!P31/Invoerblad!$E$56)),0)","v":0},{"$f":"IFERROR(IF(Invoerblad!$E$56=\"n.v.t.\",(Milieuprofielen!Q31),(Milieuprofielen!Q31/Invoerblad!$E$56)),0)","v":0},{"$f":"IFERROR(IF(Invoerblad!$E$56=\"n.v.t.\",(Milieuprofielen!R31),(Milieuprofielen!R31/Invoerblad!$E$56)),0)","v":0},null,null,null,"014. Ecotoxicity, terrestric (TETP)","kg 1,4-DB eq",{"$f":"IFERROR(IF(Invoerblad!$F$56=\"n.v.t.\",(Milieuprofielen!X31),(Milieuprofielen!X31/Invoerblad!$F$56)),0)","v":0},{"$f":"IFERROR(IF(Invoerblad!$F$56=\"n.v.t.\",(Milieuprofielen!Y31),(Milieuprofielen!Y31/Invoerblad!$F$56)),0)","v":0},{"$f":"IFERROR(IF(Invoerblad!$F$56=\"n.v.t.\",(Milieuprofielen!Z31),(Milieuprofielen!Z31/Invoerblad!$F$56)),0)","v":0},{"$f":"IFERROR(IF(Invoerblad!$F$56=\"n.v.t.\",(Milieuprofielen!AA31),(Milieuprofielen!AA31/Invoerblad!$F$56)),0)","v":0},null,null,null,"014. Ecotoxicity, terrestric (TETP)","kg 1,4-DB eq",{"$f":"IFERROR(IF(Invoerblad!$G$56=\"n.v.t.\",(Milieuprofielen!AG31),(Milieuprofielen!AG31/Invoerblad!$G$56)),0)","v":0},{"$f":"IFERROR(IF(Invoerblad!$G$56=\"n.v.t.\",(Milieuprofielen!AH31),(Milieuprofielen!AH31/Invoerblad!$G$56)),0)","v":0},{"$f":"IFERROR(IF(Invoerblad!$G$56=\"n.v.t.\",(Milieuprofielen!AI31),(Milieuprofielen!AI31/Invoerblad!$G$56)),0)","v":0},{"$f":"IFERROR(IF(Invoerblad!$G$56=\"n.v.t.\",(Milieuprofielen!AJ31),(Milieuprofielen!AJ31/Invoerblad!$G$56)),0)","v":0},null,null,null,"014. Ecotoxicity, terrestric (TETP)","kg 1,4-DB eq",{"$f":"IFERROR(IF(Invoerblad!$H$56=\"n.v.t.\",(Milieuprofielen!AP31),(Milieuprofielen!AP31/Invoerblad!$H$56)),0)","v":0},{"$f":"IFERROR(IF(Invoerblad!$H$56=\"n.v.t.\",(Milieuprofielen!AQ31),(Milieuprofielen!AQ31/Invoerblad!$H$56)),0)","v":0},{"$f":"IFERROR(IF(Invoerblad!$H$56=\"n.v.t.\",(Milieuprofielen!AR31),(Milieuprofielen!AR31/Invoerblad!$H$56)),0)","v":0},{"$f":"IFERROR(IF(Invoerblad!$H$56=\"n.v.t.\",(Milieuprofielen!AS31),(Milieuprofielen!AS31/Invoerblad!$H$56)),0)","v":0}]
[null,null,"Characterized EN15804+A2","051. Climate change","kg CO2 eq",{"$f":"IFERROR(IF(Invoerblad!$D$56=\"n.v.t.\",(Milieuprofielen!F32),(Milieuprofielen!F32/Invoerblad!$D$56)),0)","v":0.61706371332150001},{"$f":"IFERROR(IF(Invoerblad!$D$56=\"n.v.t.\",(Milieuprofielen!G32),(Milieuprofielen!G32/Invoerblad!$D$56)),0)","v":1.6929595566100002E-2},{"$f":"IFERROR(IF(Invoerblad!$D$56=\"n.v.t.\",(Milieuprofielen!H32),(Milieuprofielen!H32/Invoerblad!$D$56)),0)","v":2.7612505015190787},{"$f":"IFERROR(IF(Invoerblad!$D$56=\"n.v.t.\",(Milieuprofielen!I32),(Milieuprofielen!I32/Invoerblad!$D$56)),0)","v":3.3952438104066789},null,null,"Characterized EN15804+A2","051. Climate change","kg CO2 eq",{"$f":"IFERROR(IF(Invoerblad!$E$56=\"n.v.t.\",(Milieuprofielen!O32),(Milieuprofielen!O32/Invoerblad!$E$56)),0)","v":0},{"$f":"IFERROR(IF(Invoerblad!$E$56=\"n.v.t.\",(Milieuprofielen!P32),(Milieuprofielen!P32/Invoerblad!$E$56)),0)","v":0},{"$f":"IFERROR(IF(Invoerblad!$E$56=\"n.v.t.\",(Milieuprofielen!Q32),(Milieuprofielen!Q32/Invoerblad!$E$56)),0)","v":0},{"$f":"IFERROR(IF(Invoerblad!$E$56=\"n.v.t.\",(Milieuprofielen!R32),(Milieuprofielen!R32/Invoerblad!$E$56)),0)","v":0},null,null,"Characterized EN15804+A2","051. Climate change","kg CO2 eq",{"$f":"IFERROR(IF(Invoerblad!$F$56=\"n.v.t.\",(Milieuprofielen!X32),(Milieuprofielen!X32/Invoerblad!$F$56)),0)","v":0},{"$f":"IFERROR(IF(Invoerblad!$F$56=\"n.v.t.\",(Milieuprofielen!Y32),(Milieuprofielen!Y32/Invoerblad!$F$56)),0)","v":0},{"$f":"IFERROR(IF(Invoerblad!$F$56=\"n.v.t.\",(Milieuprofielen!Z32),(Milieuprofielen!Z32/Invoerblad!$F$56)),0)","v":0},{"$f":"IFERROR(IF(Invoerblad!$F$56=\"n.v.t.\",(Milieuprofielen!AA32),(Milieuprofielen!AA32/Invoerblad!$F$56)),0)","v":0},null,null,"Characterized EN15804+A2","051. Climate change","kg CO2 eq",{"$f":"IFERROR(IF(Invoerblad!$G$56=\"n.v.t.\",(Milieuprofielen!AG32),(Milieuprofielen!AG32/Invoerblad!$G$56)),0)","v":0},{"$f":"IFERROR(IF(Invoerblad!$G$56=\"n.v.t.\",(Milieuprofielen!AH32),(Milieuprofielen!AH32/Invoerblad!$G$56)),0)","v":0},{"$f":"IFERROR(IF(Invoerblad!$G$56=\"n.v.t.\",(Milieuprofielen!AI32),(Milieuprofielen!AI32/Invoerblad!$G$56)),0)","v":0},{"$f":"IFERROR(IF(Invoerblad!$G$56=\"n.v.t.\",(Milieuprofielen!AJ32),(Milieuprofielen!AJ32/Invoerblad!$G$56)),0)","v":0},null,null,"Characterized EN15804+A2","051. Climate change","kg CO2 eq",{"$f":"IFERROR(IF(Invoerblad!$H$56=\"n.v.t.\",(Milieuprofielen!AP32),(Milieuprofielen!AP32/Invoerblad!$H$56)),0)","v":0},{"$f":"IFERROR(IF(Invoerblad!$H$56=\"n.v.t.\",(Milieuprofielen!AQ32),(Milieuprofielen!AQ32/Invoerblad!$H$56)),0)","v":0},{"$f":"IFERROR(IF(Invoerblad!$H$56=\"n.v.t.\",(Milieuprofielen!AR32),(Milieuprofielen!AR32/Invoerblad!$H$56)),0)","v":0},{"$f":"IFERROR(IF(Invoerblad!$H$56=\"n.v.t.\",(Milieuprofielen!AS32),(Milieuprofielen!AS32/Invoerblad!$H$56)),0)","v":0}]
[null,null,null,"052. Climate change - Fossil","kg CO2 eq",{"$f":"IFERROR(IF(Invoerblad!$D$56=\"n.v.t.\",(Milieuprofielen!F33),(Milieuprofielen!F33/Invoerblad!$D$56)),0)","v":0.61598398699900003},{"$f":"IFERROR(IF(Invoerblad!$D$56=\"n.v.t.\",(Milieuprofielen!G33),(Milieuprofielen!G33/Invoerblad!$D$56)),0)","v":1.6895875418799999E-2},{"$f":"IFERROR(IF(Invoerblad!$D$56=\"n.v.t.\",(Milieuprofielen!H33),(Milieuprofielen!H33/Invoerblad!$D$56)),0)","v":2.7608360472064395},{"$f":"IFERROR(IF(Invoerblad!$D$56=\"n.v.t.\",(Milieuprofielen!I33),(Milieuprofielen!I33/Invoerblad!$D$56)),0)","v":3.3937159096242397},null,null,null,"052. Climate change - Fossil","kg CO2 eq",{"$f":"IFERROR(IF(Invoerblad!$E$56=\"n.v.t.\",(Milieuprofielen!O33),(Milieuprofielen!O33/Invoerblad!$E$56)),0)","v":0},{"$f":"IFERROR(IF(Invoerblad!$E$56=\"n.v.t.\",(Milieuprofielen!P33),(Milieuprofielen!P33/Invoerblad!$E$56)),0)","v":0},{"$f":"IFERROR(IF(Invoerblad!$E$56=\"n.v.t.\",(Milieuprofielen!Q33),(Milieuprofielen!Q33/Invoerblad!$E$56)),0)","v":0},{"$f":"IFERROR(IF(Invoerblad!$E$56=\"n.v.t.\",(Milieuprofielen!R33),(Milieuprofielen!R33/Invoerblad!$E$56)),0)","v":0},null,null,null,"052. Climate change - Fossil","kg CO2 eq",{"$f":"IFERROR(IF(Invoerblad!$F$56=\"n.v.t.\",(Milieuprofielen!X33),(Milieuprofielen!X33/Invoerblad!$F$56)),0)","v":0},{"$f":"IFERROR(IF(Invoerblad!$F$56=\"n.v.t.\",(Milieuprofielen!Y33),(Milieuprofielen!Y33/Invoerblad!$F$56)),0)","v":0},{"$f":"IFERROR(IF(Invoerblad!$F$56=\"n.v.t.\",(Milieuprofielen!Z33),(Milieuprofielen!Z33/Invoerblad!$F$56)),0)","v":0},{"$f":"IFERROR(IF(Invoerblad!$F$56=\"n.v.t.\",(Milieuprofielen!AA33),(Milieuprofielen!AA33/Invoerblad!$F$56)),0)","v":0},null,null,null,"052. Climate change - Fossil","kg CO2 eq",{"$f":"IFERROR(IF(Invoerblad!$G$56=\"n.v.t.\",(Milieuprofielen!AG33),(Milieuprofielen!AG33/Invoerblad!$G$56)),0)","v":0},{"$f":"IFERROR(IF(Invoerblad!$G$56=\"n.v.t.\",(Milieuprofielen!AH33),(Milieuprofielen!AH33/Invoerblad!$G$56)),0)","v":0},{"$f":"IFERROR(IF(Invoerblad!$G$56=\"n.v.t.\",(Milieuprofielen!AI33),(Milieuprofielen!AI33/Invoerblad!$G$56)),0)","v":0},{"$f":"IFERROR(IF(Invoerblad!$G$56=\"n.v.t.\",(Milieuprofielen!AJ33),(Milieuprofielen!AJ33/Invoerblad!$G$56)),0)","v":0},null,null,null,"052. Climate change - Fossil","kg CO2 eq",{"$f":"IFERROR(IF(Invoerblad!$H$56=\"n.v.t.\",(Milieuprofielen!AP33),(Milieuprofielen!AP33/Invoerblad!$H$56)),0)","v":0},{"$f":"IFERROR(IF(Invoerblad!$H$56=\"n.v.t.\",(Milieuprofielen!AQ33),(Milieuprofielen!AQ33/Invoerblad!$H$56)),0)","v":0},{"$f":"IFERROR(IF(Invoerblad!$H$56=\"n.v.t.\",(Milieuprofielen!AR33),(Milieuprofielen!AR33/Invoerblad!$H$56)),0)","v":0},{"$f":"IFERROR(IF(Invoerblad!$H$56=\"n.v.t.\",(Milieuprofielen!AS33),(Milieuprofielen!AS33/Invoerblad!$H$56)),0)","v":0}]
[null,null,null,"053. Climate change - Biogenic","kg CO2 eq",{"$f":"IFERROR(IF(Invoerblad!$D$56=\"n.v.t.\",(Milieuprofielen!F34),(Milieuprofielen!F34/Invoerblad!$D$56)),0)","v":9.3197516054049998E-4},{"$f":"IFERROR(IF(Invoerblad!$D$56=\"n.v.t.\",(Milieuprofielen!G34),(Milieuprofielen!G34/Invoerblad!$D$56)),0)","v":2.350023349848E-5},{"$f":"IFERROR(IF(Invoerblad!$D$56=\"n.v.t.\",(Milieuprofielen!H34),(Milieuprofielen!H34/Invoerblad!$D$56)),0)","v":2.9891746774695813E-4},{"$f":"IFERROR(IF(Invoerblad!$D$56=\"n.v.t.\",(Milieuprofielen!I34),(Milieuprofielen!I34/Invoerblad!$D$56)),0)","v":1.254392861785938E-3},null,null,null,"053. Climate change - Biogenic","kg CO2 eq",{"$f":"IFERROR(IF(Invoerblad!$E$56=\"n.v.t.\",(Milieuprofielen!O34),(Milieuprofielen!O34/Invoerblad!$E$56)),0)","v":0},{"$f":"IFERROR(IF(Invoerblad!$E$56=\"n.v.t.\",(Milieuprofielen!P34),(Milieuprofielen!P34/Invoerblad!$E$56)),0)","v":0},{"$f":"IFERROR(IF(Invoerblad!$E$56=\"n.v.t.\",(Milieuprofielen!Q34),(Milieuprofielen!Q34/Invoerblad!$E$56)),0)","v":0},{"$f":"IFERROR(IF(Invoerblad!$E$56=\"n.v.t.\",(Milieuprofielen!R34),(Milieuprofielen!R34/Invoerblad!$E$56)),0)","v":0},null,null,null,"053. Climate change - Biogenic","kg CO2 eq",{"$f":"IFERROR(IF(Invoerblad!$F$56=\"n.v.t.\",(Milieuprofielen!X34),(Milieuprofielen!X34/Invoerblad!$F$56)),0)","v":0},{"$f":"IFERROR(IF(Invoerblad!$F$56=\"n.v.t.\",(Milieuprofielen!Y34),(Milieuprofielen!Y34/Invoerblad!$F$56)),0)","v":0},{"$f":"IFERROR(IF(Invoerblad!$F$56=\"n.v.t.\",(Milieuprofielen!Z34),(Milieuprofielen!Z34/Invoerblad!$F$56)),0)","v":0},{"$f":"IFERROR(IF(Invoerblad!$F$56=\"n.v.t.\",(Milieuprofielen!AA34),(Milieuprofielen!AA34/Invoerblad!$F$56)),0)","v":0},null,null,null,"053. Climate change - Biogenic","kg CO2 eq",{"$f":"IFERROR(IF(Invoerblad!$G$56=\"n.v.t.\",(Milieuprofielen!AG34),(Milieuprofielen!AG34/Invoerblad!$G$56)),0)","v":0},{"$f":"IFERROR(IF(Invoerblad!$G$56=\"n.v.t.\",(Milieuprofielen!AH34),(Milieuprofielen!AH34/Invoerblad!$G$56)),0)","v":0},{"$f":"IFERROR(IF(Invoerblad!$G$56=\"n.v.t.\",(Milieuprofielen!AI34),(Milieuprofielen!AI34/Invoerblad!$G$56)),0)","v":0},{"$f":"IFERROR(IF(Invoerblad!$G$56=\"n.v.t.\",(Milieuprofielen!AJ34),(Milieuprofielen!AJ34/Invoerblad!$G$56)),0)","v":0},null,null,null,"053. Climate change - Biogenic","kg CO2 eq",{"$f":"IFERROR(IF(Invoerblad!$H$56=\"n.v.t.\",(Milieuprofielen!AP34),(Milieuprofielen!AP34/Invoerblad!$H$56)),0)","v":0},{"$f":"IFERROR(IF(Invoerblad!$H$56=\"n.v.t.\",(Milieuprofielen!AQ34),(Milieuprofielen!AQ34/Invoerblad!$H$56)),0)","v":0},{"$f":"IFERROR(IF(Invoerblad!$H$56=\"n.v.t.\",(Milieuprofielen!AR34),(Milieuprofielen!AR34/Invoerblad!$H$56)),0)","v":0},{"$f":"IFERROR(IF(Invoerblad!$H$56=\"n.v.t.\",(Milieuprofielen!AS34),(Milieuprofielen!AS34/Invoerblad!$H$56)),0)","v":0}]
[null,null,null,"054. Climate change - Land use and LU ch","kg CO2 eq",{"$f":"IFERROR(IF(Invoerblad!$D$56=\"n.v.t.\",(Milieuprofielen!F35),(Milieuprofielen!F35/Invoerblad!$D$56)),0)","v":1.4775116474950001E-4},{"$f":"IFERROR(IF(Invoerblad!$D$56=\"n.v.t.\",(Milieuprofielen!G35),(Milieuprofielen!G35/Invoerblad!$D$56)),0)","v":1.0219902196675E-5},{"$f":"IFERROR(IF(Invoerblad!$D$56=\"n.v.t.\",(Milieuprofielen!H35),(Milieuprofielen!H35/Invoerblad!$D$56)),0)","v":1.1553670166330393E-4},{"$f":"IFERROR(IF(Invoerblad!$D$56=\"n.v.t.\",(Milieuprofielen!I35),(Milieuprofielen!I35/Invoerblad!$D$56)),0)","v":2.7350776860947889E-4},null,null,null,"054. Climate change - Land use and LU ch","kg CO2 eq",{"$f":"IFERROR(IF(Invoerblad!$E$56=\"n.v.t.\",(Milieuprofielen!O35),(Milieuprofielen!O35/Invoerblad!$E$56)),0)","v":0},{"$f":"IFERROR(IF(Invoerblad!$E$56=\"n.v.t.\",(Milieuprofielen!P35),(Milieuprofielen!P35/Invoerblad!$E$56)),0)","v":0},{"$f":"IFERROR(IF(Invoerblad!$E$56=\"n.v.t.\",(Milieuprofielen!Q35),(Milieuprofielen!Q35/Invoerblad!$E$56)),0)","v":0},{"$f":"IFERROR(IF(Invoerblad!$E$56=\"n.v.t.\",(Milieuprofielen!R35),(Milieuprofielen!R35/Invoerblad!$E$56)),0)","v":0},null,null,null,"054. Climate change - Land use and LU ch","kg CO2 eq",{"$f":"IFERROR(IF(Invoerblad!$F$56=\"n.v.t.\",(Milieuprofielen!X35),(Milieuprofielen!X35/Invoerblad!$F$56)),0)","v":0},{"$f":"IFERROR(IF(Invoerblad!$F$56=\"n.v.t.\",(Milieuprofielen!Y35),(Milieuprofielen!Y35/Invoerblad!$F$56)),0)","v":0},{"$f":"IFERROR(IF(Invoerblad!$F$56=\"n.v.t.\",(Milieuprofielen!Z35),(Milieuprofielen!Z35/Invoerblad!$F$56)),0)","v":0},{"$f":"IFERROR(IF(Invoerblad!$F$56=\"n.v.t.\",(Milieuprofielen!AA35),(Milieuprofielen!AA35/Invoerblad!$F$56)),0)","v":0},null,null,null,"054. Climate change - Land use and LU ch","kg CO2 eq",{"$f":"IFERROR(IF(Invoerblad!$G$56=\"n.v.t.\",(Milieuprofielen!AG35),(Milieuprofielen!AG35/Invoerblad!$G$56)),0)","v":0},{"$f":"IFERROR(IF(Invoerblad!$G$56=\"n.v.t.\",(Milieuprofielen!AH35),(Milieuprofielen!AH35/Invoerblad!$G$56)),0)","v":0},{"$f":"IFERROR(IF(Invoerblad!$G$56=\"n.v.t.\",(Milieuprofielen!AI35),(Milieuprofielen!AI35/Invoerblad!$G$56)),0)","v":0},{"$f":"IFERROR(IF(Invoerblad!$G$56=\"n.v.t.\",(Milieuprofielen!AJ35),(Milieuprofielen!AJ35/Invoerblad!$G$56)),0)","v":0},null,null,null,"054. Climate change - Land use and LU ch","kg CO2 eq",{"$f":"IFERROR(IF(Invoerblad!$H$56=\"n.v.t.\",(Milieuprofielen!AP35),(Milieuprofielen!AP35/Invoerblad!$H$56)),0)","v":0},{"$f":"IFERROR(IF(Invoerblad!$H$56=\"n.v.t.\",(Milieuprofielen!AQ35),(Milieuprofielen!AQ35/Invoerblad!$H$56)),0)","v":0},{"$f":"IFERROR(IF(Invoerblad!$H$56=\"n.v.t.\",(Milieuprofielen!AR35),(Milieuprofielen!AR35/Invoerblad!$H$56)),0)","v":0},{"$f":"IFERROR(IF(Invoerblad!$H$56=\"n.v.t.\",(Milieuprofielen!AS35),(Milieuprofielen!AS35/Invoerblad!$H$56)),0)","v":0}]
[null,null,null,"055. Ozone depletion","kg CFC11 eq",{"$f":"IFERROR(IF(Invoerblad!$D$56=\"n.v.t.\",(Milieuprofielen!F36),(Milieuprofielen!F36/Invoerblad!$D$56)),0)","v":3.0879494931585002E-7},{"$f":"IFERROR(IF(Invoerblad!$D$56=\"n.v.t.\",(Milieuprofielen!G36),(Milieuprofielen!G36/Invoerblad!$D$56)),0)","v":3.5513076964899998E-10},{"$f":"IFERROR(IF(Invoerblad!$D$56=\"n.v.t.\",(Milieuprofielen!H36),(Milieuprofielen!H36/Invoerblad!$D$56)),0)","v":1.1365963276519978E-8},{"$f":"IFERROR(IF(Invoerblad!$D$56=\"n.v.t.\",(Milieuprofielen!I36),(Milieuprofielen!I36/Invoerblad!$D$56)),0)","v":3.2051604336201903E-7},null,null,null,"055. Ozone depletion","kg CFC11 eq",{"$f":"IFERROR(IF(Invoerblad!$E$56=\"n.v.t.\",(Milieuprofielen!O36),(Milieuprofielen!O36/Invoerblad!$E$56)),0)","v":0},{"$f":"IFERROR(IF(Invoerblad!$E$56=\"n.v.t.\",(Milieuprofielen!P36),(Milieuprofielen!P36/Invoerblad!$E$56)),0)","v":0},{"$f":"IFERROR(IF(Invoerblad!$E$56=\"n.v.t.\",(Milieuprofielen!Q36),(Milieuprofielen!Q36/Invoerblad!$E$56)),0)","v":0},{"$f":"IFERROR(IF(Invoerblad!$E$56=\"n.v.t.\",(Milieuprofielen!R36),(Milieuprofielen!R36/Invoerblad!$E$56)),0)","v":0},null,null,null,"055. Ozone depletion","kg CFC11 eq",{"$f":"IFERROR(IF(Invoerblad!$F$56=\"n.v.t.\",(Milieuprofielen!X36),(Milieuprofielen!X36/Invoerblad!$F$56)),0)","v":0},{"$f":"IFERROR(IF(Invoerblad!$F$56=\"n.v.t.\",(Milieuprofielen!Y36),(Milieuprofielen!Y36/Invoerblad!$F$56)),0)","v":0},{"$f":"IFERROR(IF(Invoerblad!$F$56=\"n.v.t.\",(Milieuprofielen!Z36),(Milieuprofielen!Z36/Invoerblad!$F$56)),0)","v":0},{"$f":"IFERROR(IF(Invoerblad!$F$56=\"n.v.t.\",(Milieuprofielen!AA36),(Milieuprofielen!AA36/Invoerblad!$F$56)),0)","v":0},null,null,null,"055. Ozone depletion","kg CFC11 eq",{"$f":"IFERROR(IF(Invoerblad!$G$56=\"n.v.t.\",(Milieuprofielen!AG36),(Milieuprofielen!AG36/Invoerblad!$G$56)),0)","v":0},{"$f":"IFERROR(IF(Invoerblad!$G$56=\"n.v.t.\",(Milieuprofielen!AH36),(Milieuprofielen!AH36/Invoerblad!$G$56)),0)","v":0},{"$f":"IFERROR(IF(Invoerblad!$G$56=\"n.v.t.\",(Milieuprofielen!AI36),(Milieuprofielen!AI36/Invoerblad!$G$56)),0)","v":0},{"$f":"IFERROR(IF(Invoerblad!$G$56=\"n.v.t.\",(Milieuprofielen!AJ36),(Milieuprofielen!AJ36/Invoerblad!$G$56)),0)","v":0},null,null,null,"055. Ozone depletion","kg CFC11 eq",{"$f":"IFERROR(IF(Invoerblad!$H$56=\"n.v.t.\",(Milieuprofielen!AP36),(Milieuprofielen!AP36/Invoerblad!$H$56)),0)","v":0},{"$f":"IFERROR(IF(Invoerblad!$H$56=\"n.v.t.\",(Milieuprofielen!AQ36),(Milieuprofielen!AQ36/Invoerblad!$H$56)),0)","v":0},{"$f":"IFERROR(IF(Invoerblad!$H$56=\"n.v.t.\",(Milieuprofielen!AR36),(Milieuprofielen!AR36/Invoerblad!$H$56)),0)","v":0},{"$f":"IFERROR(IF(Invoerblad!$H$56=\"n.v.t.\",(Milieuprofielen!AS36),(Milieuprofielen!AS36/Invoerblad!$H$56)),0)","v":0}]
[null,null,null,"056. Acidification","mol H+ eq",{"$f":"IFERROR(IF(Invoerblad!$D$56=\"n.v.t.\",(Milieuprofielen!F37),(Milieuprofielen!F37/Invoerblad!$D$56)),0)","v":3.2844285881600001E-3},{"$f":"IFERROR(IF(Invoerblad!$D$56=\"n.v.t.\",(Milieuprofielen!G37),(Milieuprofielen!G37/Invoerblad!$D$56)),0)","v":7.4657490963099996E-5},{"$f":"IFERROR(IF(Invoerblad!$D$56=\"n.v.t.\",(Milieuprofielen!H37),(Milieuprofielen!H37/Invoerblad!$D$56)),0)","v":1.2991592414908047E-2},{"$f":"IFERROR(IF(Invoerblad!$D$56=\"n.v.t.\",(Milieuprofielen!I37),(Milieuprofielen!I37/Invoerblad!$D$56)),0)","v":1.635067849403115E-2},null,null,null,"056. Acidification","mol H+ eq",{"$f":"IFERROR(IF(Invoerblad!$E$56=\"n.v.t.\",(Milieuprofielen!O37),(Milieuprofielen!O37/Invoerblad!$E$56)),0)","v":0},{"$f":"IFERROR(IF(Invoerblad!$E$56=\"n.v.t.\",(Milieuprofielen!P37),(Milieuprofielen!P37/Invoerblad!$E$56)),0)","v":0},{"$f":"IFERROR(IF(Invoerblad!$E$56=\"n.v.t.\",(Milieuprofielen!Q37),(Milieuprofielen!Q37/Invoerblad!$E$56)),0)","v":0},{"$f":"IFERROR(IF(Invoerblad!$E$56=\"n.v.t.\",(Milieuprofielen!R37),(Milieuprofielen!R37/Invoerblad!$E$56)),0)","v":0},null,null,null,"056. Acidification","mol H+ eq",{"$f":"IFERROR(IF(Invoerblad!$F$56=\"n.v.t.\",(Milieuprofielen!X37),(Milieuprofielen!X37/Invoerblad!$F$56)),0)","v":0},{"$f":"IFERROR(IF(Invoerblad!$F$56=\"n.v.t.\",(Milieuprofielen!Y37),(Milieuprofielen!Y37/Invoerblad!$F$56)),0)","v":0},{"$f":"IFERROR(IF(Invoerblad!$F$56=\"n.v.t.\",(Milieuprofielen!Z37),(Milieuprofielen!Z37/Invoerblad!$F$56)),0)","v":0},{"$f":"IFERROR(IF(Invoerblad!$F$56=\"n.v.t.\",(Milieuprofielen!AA37),(Milieuprofielen!AA37/Invoerblad!$F$56)),0)","v":0},null,null,null,"056. Acidification","mol H+ eq",{"$f":"IFERROR(IF(Invoerblad!$G$56=\"n.v.t.\",(Milieuprofielen!AG37),(Milieuprofielen!AG37/Invoerblad!$G$56)),0)","v":0},{"$f":"IFERROR(IF(Invoerblad!$G$56=\"n.v.t.\",(Milieuprofielen!AH37),(Milieuprofielen!AH37/Invoerblad!$G$56)),0)","v":0},{"$f":"IFERROR(IF(Invoerblad!$G$56=\"n.v.t.\",(Milieuprofielen!AI37),(Milieuprofielen!AI37/Invoerblad!$G$56)),0)","v":0},{"$f":"IFERROR(IF(Invoerblad!$G$56=\"n.v.t.\",(Milieuprofielen!AJ37),(Milieuprofielen!AJ37/Invoerblad!$G$56)),0)","v":0},null,null,null,"056. Acidification","mol H+ eq",{"$f":"IFERROR(IF(Invoerblad!$H$56=\"n.v.t.\",(Milieuprofielen!AP37),(Milieuprofielen!AP37/Invoerblad!$H$56)),0)","v":0},{"$f":"IFERROR(IF(Invoerblad!$H$56=\"n.v.t.\",(Milieuprofielen!AQ37),(Milieuprofielen!AQ37/Invoerblad!$H$56)),0)","v":0},{"$f":"IFERROR(IF(Invoerblad!$H$56=\"n.v.t.\",(Milieuprofielen!AR37),(Milieuprofielen!AR37/Invoerblad!$H$56)),0)","v":0},{"$f":"IFERROR(IF(Invoerblad!$H$56=\"n.v.t.\",(Milieuprofielen!AS37),(Milieuprofielen!AS37/Invoerblad!$H$56)),0)","v":0}]
[null,null,null,"057. Eutrophication, freshwater","kg P eq",{"$f":"IFERROR(IF(Invoerblad!$D$56=\"n.v.t.\",(Milieuprofielen!F38),(Milieuprofielen!F38/Invoerblad!$D$56)),0)","v":4.51801132057E-6},{"$f":"IFERROR(IF(Invoerblad!$D$56=\"n.v.t.\",(Milieuprofielen!G38),(Milieuprofielen!G38/Invoerblad!$D$56)),0)","v":3.3378492301230001E-7},{"$f":"IFERROR(IF(Invoerblad!$D$56=\"n.v.t.\",(Milieuprofielen!H38),(Milieuprofielen!H38/Invoerblad!$D$56)),0)","v":3.5402249520658622E-6},{"$f":"IFERROR(IF(Invoerblad!$D$56=\"n.v.t.\",(Milieuprofielen!I38),(Milieuprofielen!I38/Invoerblad!$D$56)),0)","v":8.3920211956481608E-6},null,null,null,"057. Eutrophication, freshwater","kg P eq",{"$f":"IFERROR(IF(Invoerblad!$E$56=\"n.v.t.\",(Milieuprofielen!O38),(Milieuprofielen!O38/Invoerblad!$E$56)),0)","v":0},{"$f":"IFERROR(IF(Invoerblad!$E$56=\"n.v.t.\",(Milieuprofielen!P38),(Milieuprofielen!P38/Invoerblad!$E$56)),0)","v":0},{"$f":"IFERROR(IF(Invoerblad!$E$56=\"n.v.t.\",(Milieuprofielen!Q38),(Milieuprofielen!Q38/Invoerblad!$E$56)),0)","v":0},{"$f":"IFERROR(IF(Invoerblad!$E$56=\"n.v.t.\",(Milieuprofielen!R38),(Milieuprofielen!R38/Invoerblad!$E$56)),0)","v":0},null,null,null,"057. Eutrophication, freshwater","kg P eq",{"$f":"IFERROR(IF(Invoerblad!$F$56=\"n.v.t.\",(Milieuprofielen!X38),(Milieuprofielen!X38/Invoerblad!$F$56)),0)","v":0},{"$f":"IFERROR(IF(Invoerblad!$F$56=\"n.v.t.\",(Milieuprofielen!Y38),(Milieuprofielen!Y38/Invoerblad!$F$56)),0)","v":0},{"$f":"IFERROR(IF(Invoerblad!$F$56=\"n.v.t.\",(Milieuprofielen!Z38),(Milieuprofielen!Z38/Invoerblad!$F$56)),0)","v":0},{"$f":"IFERROR(IF(Invoerblad!$F$56=\"n.v.t.\",(Milieuprofielen!AA38),(Milieuprofielen!AA38/Invoerblad!$F$56)),0)","v":0},null,null,null,"057. Eutrophication, freshwater","kg P eq",{"$f":"IFERROR(IF(Invoerblad!$G$56=\"n.v.t.\",(Milieuprofielen!AG38),(Milieuprofielen!AG38/Invoerblad!$G$56)),0)","v":0},{"$f":"IFERROR(IF(Invoerblad!$G$56=\"n.v.t.\",(Milieuprofielen!AH38),(Milieuprofielen!AH38/Invoerblad!$G$56)),0)","v":0},{"$f":"IFERROR(IF(Invoerblad!$G$56=\"n.v.t.\",(Milieuprofielen!AI38),(Milieuprofielen!AI38/Invoerblad!$G$56)),0)","v":0},{"$f":"IFERROR(IF(Invoerblad!$G$56=\"n.v.t.\",(Milieuprofielen!AJ38),(Milieuprofielen!AJ38/Invoerblad!$G$56)),0)","v":0},null,null,null,"057. Eutrophication, freshwater","kg P eq",{"$f":"IFERROR(IF(Invoerblad!$H$56=\"n.v.t.\",(Milieuprofielen!AP38),(Milieuprofielen!AP38/Invoerblad!$H$56)),0)","v":0},{"$f":"IFERROR(IF(Invoerblad!$H$56=\"n.v.t.\",(Milieuprofielen!AQ38),(Milieuprofielen!AQ38/Invoerblad!$H$56)),0)","v":0},{"$f":"IFERROR(IF(Invoerblad!$H$56=\"n.v.t.\",(Milieuprofielen!AR38),(Milieuprofielen!AR38/Invoerblad!$H$56)),0)","v":0},{"$f":"IFERROR(IF(Invoerblad!$H$56=\"n.v.t.\",(Milieuprofielen!AS38),(Milieuprofielen!AS38/Invoerblad!$H$56)),0)","v":0}]
[null,null,null,"058. Eutrophication, marine","kg N eq",{"$f":"IFERROR(IF(Invoerblad!$D$56=\"n.v.t.\",(Milieuprofielen!F39),(Milieuprofielen!F39/Invoerblad!$D$56)),0)","v":5.7407653046599998E-4},{"$f":"IFERROR(IF(Invoerblad!$D$56=\"n.v.t.\",(Milieuprofielen!G39),(Milieuprofielen!G39/Invoerblad!$D$56)),0)","v":2.2711817786700001E-5},{"$f":"IFERROR(IF(Invoerblad!$D$56=\"n.v.t.\",(Milieuprofielen!H39),(Milieuprofielen!H39/Invoerblad!$D$56)),0)","v":6.3459903133307582E-3},{"$f":"IFERROR(IF(Invoerblad!$D$56=\"n.v.t.\",(Milieuprofielen!I39),(Milieuprofielen!I39/Invoerblad!$D$56)),0)","v":6.9427786615834583E-3},null,null,null,"058. Eutrophication, marine","kg N eq",{"$f":"IFERROR(IF(Invoerblad!$E$56=\"n.v.t.\",(Milieuprofielen!O39),(Milieuprofielen!O39/Invoerblad!$E$56)),0)","v":0},{"$f":"IFERROR(IF(Invoerblad!$E$56=\"n.v.t.\",(Milieuprofielen!P39),(Milieuprofielen!P39/Invoerblad!$E$56)),0)","v":0},{"$f":"IFERROR(IF(Invoerblad!$E$56=\"n.v.t.\",(Milieuprofielen!Q39),(Milieuprofielen!Q39/Invoerblad!$E$56)),0)","v":0},{"$f":"IFERROR(IF(Invoerblad!$E$56=\"n.v.t.\",(Milieuprofielen!R39),(Milieuprofielen!R39/Invoerblad!$E$56)),0)","v":0},null,null,null,"058. Eutrophication, marine","kg N eq",{"$f":"IFERROR(IF(Invoerblad!$F$56=\"n.v.t.\",(Milieuprofielen!X39),(Milieuprofielen!X39/Invoerblad!$F$56)),0)","v":0},{"$f":"IFERROR(IF(Invoerblad!$F$56=\"n.v.t.\",(Milieuprofielen!Y39),(Milieuprofielen!Y39/Invoerblad!$F$56)),0)","v":0},{"$f":"IFERROR(IF(Invoerblad!$F$56=\"n.v.t.\",(Milieuprofielen!Z39),(Milieuprofielen!Z39/Invoerblad!$F$56)),0)","v":0},{"$f":"IFERROR(IF(Invoerblad!$F$56=\"n.v.t.\",(Milieuprofielen!AA39),(Milieuprofielen!AA39/Invoerblad!$F$56)),0)","v":0},null,null,null,"058. Eutrophication, marine","kg N eq",{"$f":"IFERROR(IF(Invoerblad!$G$56=\"n.v.t.\",(Milieuprofielen!AG39),(Milieuprofielen!AG39/Invoerblad!$G$56)),0)","v":0},{"$f":"IFERROR(IF(Invoerblad!$G$56=\"n.v.t.\",(Milieuprofielen!AH39),(Milieuprofielen!AH39/Invoerblad!$G$56)),0)","v":0},{"$f":"IFERROR(IF(Invoerblad!$G$56=\"n.v.t.\",(Milieuprofielen!AI39),(Milieuprofielen!AI39/Invoerblad!$G$56)),0)","v":0},{"$f":"IFERROR(IF(Invoerblad!$G$56=\"n.v.t.\",(Milieuprofielen!AJ39),(Milieuprofielen!AJ39/Invoerblad!$G$56)),0)","v":0},null,null,null,"058. Eutrophication, marine","kg N eq",{"$f":"IFERROR(IF(Invoerblad!$H$56=\"n.v.t.\",(Milieuprofielen!AP39),(Milieuprofielen!AP39/Invoerblad!$H$56)),0)","v":0},{"$f":"IFERROR(IF(Invoerblad!$H$56=\"n.v.t.\",(Milieuprofielen!AQ39),(Milieuprofielen!AQ39/Invoerblad!$H$56)),0)","v":0},{"$f":"IFERROR(IF(Invoerblad!$H$56=\"n.v.t.\",(Milieuprofielen!AR39),(Milieuprofielen!AR39/Invoerblad!$H$56)),0)","v":0},{"$f":"IFERROR(IF(Invoerblad!$H$56=\"n.v.t.\",(Milieuprofielen!AS39),(Milieuprofielen!AS39/Invoerblad!$H$56)),0)","v":0}]
[null,null,null,"059. Eutrophication, terrestrial","mol N eq",{"$f":"IFERROR(IF(Invoerblad!$D$56=\"n.v.t.\",(Milieuprofielen!F40),(Milieuprofielen!F40/Invoerblad!$D$56)),0)","v":5.2576791981450008E-3},{"$f":"IFERROR(IF(Invoerblad!$D$56=\"n.v.t.\",(Milieuprofielen!G40),(Milieuprofielen!G40/Invoerblad!$D$56)),0)","v":2.6737970103949999E-4},{"$f":"IFERROR(IF(Invoerblad!$D$56=\"n.v.t.\",(Milieuprofielen!H40),(Milieuprofielen!H40/Invoerblad!$D$56)),0)","v":6.9999304799464979E-2},{"$f":"IFERROR(IF(Invoerblad!$D$56=\"n.v.t.\",(Milieuprofielen!I40),(Milieuprofielen!I40/Invoerblad!$D$56)),0)","v":7.5524363698649483E-2},null,null,null,"059. Eutrophication, terrestrial","mol N eq",{"$f":"IFERROR(IF(Invoerblad!$E$56=\"n.v.t.\",(Milieuprofielen!O40),(Milieuprofielen!O40/Invoerblad!$E$56)),0)","v":0},{"$f":"IFERROR(IF(Invoerblad!$E$56=\"n.v.t.\",(Milieuprofielen!P40),(Milieuprofielen!P40/Invoerblad!$E$56)),0)","v":0},{"$f":"IFERROR(IF(Invoerblad!$E$56=\"n.v.t.\",(Milieuprofielen!Q40),(Milieuprofielen!Q40/Invoerblad!$E$56)),0)","v":0},{"$f":"IFERROR(IF(Invoerblad!$E$56=\"n.v.t.\",(Milieuprofielen!R40),(Milieuprofielen!R40/Invoerblad!$E$56)),0)","v":0},null,null,null,"059. Eutrophication, terrestrial","mol N eq",{"$f":"IFERROR(IF(Invoerblad!$F$56=\"n.v.t.\",(Milieuprofielen!X40),(Milieuprofielen!X40/Invoerblad!$F$56)),0)","v":0},{"$f":"IFERROR(IF(Invoerblad!$F$56=\"n.v.t.\",(Milieuprofielen!Y40),(Milieuprofielen!Y40/Invoerblad!$F$56)),0)","v":0},{"$f":"IFERROR(IF(Invoerblad!$F$56=\"n.v.t.\",(Milieuprofielen!Z40),(Milieuprofielen!Z40/Invoerblad!$F$56)),0)","v":0},{"$f":"IFERROR(IF(Invoerblad!$F$56=\"n.v.t.\",(Milieuprofielen!AA40),(Milieuprofielen!AA40/Invoerblad!$F$56)),0)","v":0},null,null,null,"059. Eutrophication, terrestrial","mol N eq",{"$f":"IFERROR(IF(Invoerblad!$G$56=\"n.v.t.\",(Milieuprofielen!AG40),(Milieuprofielen!AG40/Invoerblad!$G$56)),0)","v":0},{"$f":"IFERROR(IF(Invoerblad!$G$56=\"n.v.t.\",(Milieuprofielen!AH40),(Milieuprofielen!AH40/Invoerblad!$G$56)),0)","v":0},{"$f":"IFERROR(IF(Invoerblad!$G$56=\"n.v.t.\",(Milieuprofielen!AI40),(Milieuprofielen!AI40/Invoerblad!$G$56)),0)","v":0},{"$f":"IFERROR(IF(Invoerblad!$G$56=\"n.v.t.\",(Milieuprofielen!AJ40),(Milieuprofielen!AJ40/Invoerblad!$G$56)),0)","v":0},null,null,null,"059. Eutrophication, terrestrial","mol N eq",{"$f":"IFERROR(IF(Invoerblad!$H$56=\"n.v.t.\",(Milieuprofielen!AP40),(Milieuprofielen!AP40/Invoerblad!$H$56)),0)","v":0},{"$f":"IFERROR(IF(Invoerblad!$H$56=\"n.v.t.\",(Milieuprofielen!AQ40),(Milieuprofielen!AQ40/Invoerblad!$H$56)),0)","v":0},{"$f":"IFERROR(IF(Invoerblad!$H$56=\"n.v.t.\",(Milieuprofielen!AR40),(Milieuprofielen!AR40/Invoerblad!$H$56)),0)","v":0},{"$f":"IFERROR(IF(Invoerblad!$H$56=\"n.v.t.\",(Milieuprofielen!AS40),(Milieuprofielen!AS40/Invoerblad!$H$56)),0)","v":0}]
[null,null,null,"060. Photochemical ozone formation","kg NMVOC eq",{"$f":"IFERROR(IF(Invoerblad!$D$56=\"n.v.t.\",(Milieuprofielen!F41),(Milieuprofielen!F41/Invoerblad!$D$56)),0)","v":4.1414907112849999E-3},{"$f":"IFERROR(IF(Invoerblad!$D$56=\"n.v.t.\",(Milieuprofielen!G41),(Milieuprofielen!G41/Invoerblad!$D$56)),0)","v":9.2172868284350003E-5},{"$f":"IFERROR(IF(Invoerblad!$D$56=\"n.v.t.\",(Milieuprofielen!H41),(Milieuprofielen!H41/Invoerblad!$D$56)),0)","v":1.7450912578463505E-2},{"$f":"IFERROR(IF(Invoerblad!$D$56=\"n.v.t.\",(Milieuprofielen!I41),(Milieuprofielen!I41/Invoerblad!$D$56)),0)","v":2.1684576158032851E-2},null,null,null,"060. Photochemical ozone formation","kg NMVOC eq",{"$f":"IFERROR(IF(Invoerblad!$E$56=\"n.v.t.\",(Milieuprofielen!O41),(Milieuprofielen!O41/Invoerblad!$E$56)),0)","v":0},{"$f":"IFERROR(IF(Invoerblad!$E$56=\"n.v.t.\",(Milieuprofielen!P41),(Milieuprofielen!P41/Invoerblad!$E$56)),0)","v":0},{"$f":"IFERROR(IF(Invoerblad!$E$56=\"n.v.t.\",(Milieuprofielen!Q41),(Milieuprofielen!Q41/Invoerblad!$E$56)),0)","v":0},{"$f":"IFERROR(IF(Invoerblad!$E$56=\"n.v.t.\",(Milieuprofielen!R41),(Milieuprofielen!R41/Invoerblad!$E$56)),0)","v":0},null,null,null,"060. Photochemical ozone formation","kg NMVOC eq",{"$f":"IFERROR(IF(Invoerblad!$F$56=\"n.v.t.\",(Milieuprofielen!X41),(Milieuprofielen!X41/Invoerblad!$F$56)),0)","v":0},{"$f":"IFERROR(IF(Invoerblad!$F$56=\"n.v.t.\",(Milieuprofielen!Y41),(Milieuprofielen!Y41/Invoerblad!$F$56)),0)","v":0},{"$f":"IFERROR(IF(Invoerblad!$F$56=\"n.v.t.\",(Milieuprofielen!Z41),(Milieuprofielen!Z41/Invoerblad!$F$56)),0)","v":0},{"$f":"IFERROR(IF(Invoerblad!$F$56=\"n.v.t.\",(Milieuprofielen!AA41),(Milieuprofielen!AA41/Invoerblad!$F$56)),0)","v":0},null,null,null,"060. Photochemical ozone formation","kg NMVOC eq",{"$f":"IFERROR(IF(Invoerblad!$G$56=\"n.v.t.\",(Milieuprofielen!AG41),(Milieuprofielen!AG41/Invoerblad!$G$56)),0)","v":0},{"$f":"IFERROR(IF(Invoerblad!$G$56=\"n.v.t.\",(Milieuprofielen!AH41),(Milieuprofielen!AH41/Invoerblad!$G$56)),0)","v":0},{"$f":"IFERROR(IF(Invoerblad!$G$56=\"n.v.t.\",(Milieuprofielen!AI41),(Milieuprofielen!AI41/Invoerblad!$G$56)),0)","v":0},{"$f":"IFERROR(IF(Invoerblad!$G$56=\"n.v.t.\",(Milieuprofielen!AJ41),(Milieuprofielen!AJ41/Invoerblad!$G$56)),0)","v":0},null,null,null,"060. Photochemical ozone formation","kg NMVOC eq",{"$f":"IFERROR(IF(Invoerblad!$H$56=\"n.v.t.\",(Milieuprofielen!AP41),(Milieuprofielen!AP41/Invoerblad!$H$56)),0)","v":0},{"$f":"IFERROR(IF(Invoerblad!$H$56=\"n.v.t.\",(Milieuprofielen!AQ41),(Milieuprofielen!AQ41/Invoerblad!$H$56)),0)","v":0},{"$f":"IFERROR(IF(Invoerblad!$H$56=\"n.v.t.\",(Milieuprofielen!AR41),(Milieuprofielen!AR41/Invoerblad!$H$56)),0)","v":0},{"$f":"IFERROR(IF(Invoerblad!$H$56=\"n.v.t.\",(Milieuprofielen!AS41),(Milieuprofielen!AS41/Invoerblad!$H$56)),0)","v":0}]
[null,null,null,"061. Resource use, minerals and metals","kg Sb eq",{"$f":"IFERROR(IF(Invoerblad!$D$56=\"n.v.t.\",(Milieuprofielen!F42),(Milieuprofielen!F42/Invoerblad!$D$56)),0)","v":6.4095715755500002E-7},{"$f":"IFERROR(IF(Invoerblad!$D$56=\"n.v.t.\",(Milieuprofielen!G42),(Milieuprofielen!G42/Invoerblad!$D$56)),0)","v":6.5517631260300004E-8},{"$f":"IFERROR(IF(Invoerblad!$D$56=\"n.v.t.\",(Milieuprofielen!H42),(Milieuprofielen!H42/Invoerblad!$D$56)),0)","v":5.3890406321262545E-7},{"$f":"IFERROR(IF(Invoerblad!$D$56=\"n.v.t.\",(Milieuprofielen!I42),(Milieuprofielen!I42/Invoerblad!$D$56)),0)","v":1.2453788520279255E-6},null,null,null,"061. Resource use, minerals and metals","kg Sb eq",{"$f":"IFERROR(IF(Invoerblad!$E$56=\"n.v.t.\",(Milieuprofielen!O42),(Milieuprofielen!O42/Invoerblad!$E$56)),0)","v":0},{"$f":"IFERROR(IF(Invoerblad!$E$56=\"n.v.t.\",(Milieuprofielen!P42),(Milieuprofielen!P42/Invoerblad!$E$56)),0)","v":0},{"$f":"IFERROR(IF(Invoerblad!$E$56=\"n.v.t.\",(Milieuprofielen!Q42),(Milieuprofielen!Q42/Invoerblad!$E$56)),0)","v":0},{"$f":"IFERROR(IF(Invoerblad!$E$56=\"n.v.t.\",(Milieuprofielen!R42),(Milieuprofielen!R42/Invoerblad!$E$56)),0)","v":0},null,null,null,"061. Resource use, minerals and metals","kg Sb eq",{"$f":"IFERROR(IF(Invoerblad!$F$56=\"n.v.t.\",(Milieuprofielen!X42),(Milieuprofielen!X42/Invoerblad!$F$56)),0)","v":0},{"$f":"IFERROR(IF(Invoerblad!$F$56=\"n.v.t.\",(Milieuprofielen!Y42),(Milieuprofielen!Y42/Invoerblad!$F$56)),0)","v":0},{"$f":"IFERROR(IF(Invoerblad!$F$56=\"n.v.t.\",(Milieuprofielen!Z42),(Milieuprofielen!Z42/Invoerblad!$F$56)),0)","v":0},{"$f":"IFERROR(IF(Invoerblad!$F$56=\"n.v.t.\",(Milieuprofielen!AA42),(Milieuprofielen!AA42/Invoerblad!$F$56)),0)","v":0},null,null,null,"061. Resource use, minerals and metals","kg Sb eq",{"$f":"IFERROR(IF(Invoerblad!$G$56=\"n.v.t.\",(Milieuprofielen!AG42),(Milieuprofielen!AG42/Invoerblad!$G$56)),0)","v":0},{"$f":"IFERROR(IF(Invoerblad!$G$56=\"n.v.t.\",(Milieuprofielen!AH42),(Milieuprofielen!AH42/Invoerblad!$G$56)),0)","v":0},{"$f":"IFERROR(IF(Invoerblad!$G$56=\"n.v.t.\",(Milieuprofielen!AI42),(Milieuprofielen!AI42/Invoerblad!$G$56)),0)","v":0},{"$f":"IFERROR(IF(Invoerblad!$G$56=\"n.v.t.\",(Milieuprofielen!AJ42),(Milieuprofielen!AJ42/Invoerblad!$G$56)),0)","v":0},null,null,null,"061. Resource use, minerals and metals","kg Sb eq",{"$f":"IFERROR(IF(Invoerblad!$H$56=\"n.v.t.\",(Milieuprofielen!AP42),(Milieuprofielen!AP42/Invoerblad!$H$56)),0)","v":0},{"$f":"IFERROR(IF(Invoerblad!$H$56=\"n.v.t.\",(Milieuprofielen!AQ42),(Milieuprofielen!AQ42/Invoerblad!$H$56)),0)","v":0},{"$f":"IFERROR(IF(Invoerblad!$H$56=\"n.v.t.\",(Milieuprofielen!AR42),(Milieuprofielen!AR42/Invoerblad!$H$56)),0)","v":0},{"$f":"IFERROR(IF(Invoerblad!$H$56=\"n.v.t.\",(Milieuprofielen!AS42),(Milieuprofielen!AS42/Invoerblad!$H$56)),0)","v":0}]
[null,null,null,"062. Resource use, fossils","MJ",{"$f":"IFERROR(IF(Invoerblad!$D$56=\"n.v.t.\",(Milieuprofielen!F43),(Milieuprofielen!F43/Invoerblad!$D$56)),0)","v":45.426928885624996},{"$f":"IFERROR(IF(Invoerblad!$D$56=\"n.v.t.\",(Milieuprofielen!G43),(Milieuprofielen!G43/Invoerblad!$D$56)),0)","v":0.256253140017},{"$f":"IFERROR(IF(Invoerblad!$D$56=\"n.v.t.\",(Milieuprofielen!H43),(Milieuprofielen!H43/Invoerblad!$D$56)),0)","v":0.66637824529152911},{"$f":"IFERROR(IF(Invoerblad!$D$56=\"n.v.t.\",(Milieuprofielen!I43),(Milieuprofielen!I43/Invoerblad!$D$56)),0)","v":46.34956027093353},null,null,null,"062. Resource use, fossils","MJ",{"$f":"IFERROR(IF(Invoerblad!$E$56=\"n.v.t.\",(Milieuprofielen!O43),(Milieuprofielen!O43/Invoerblad!$E$56)),0)","v":0},{"$f":"IFERROR(IF(Invoerblad!$E$56=\"n.v.t.\",(Milieuprofielen!P43),(Milieuprofielen!P43/Invoerblad!$E$56)),0)","v":0},{"$f":"IFERROR(IF(Invoerblad!$E$56=\"n.v.t.\",(Milieuprofielen!Q43),(Milieuprofielen!Q43/Invoerblad!$E$56)),0)","v":0},{"$f":"IFERROR(IF(Invoerblad!$E$56=\"n.v.t.\",(Milieuprofielen!R43),(Milieuprofielen!R43/Invoerblad!$E$56)),0)","v":0},null,null,null,"062. Resource use, fossils","MJ",{"$f":"IFERROR(IF(Invoerblad!$F$56=\"n.v.t.\",(Milieuprofielen!X43),(Milieuprofielen!X43/Invoerblad!$F$56)),0)","v":0},{"$f":"IFERROR(IF(Invoerblad!$F$56=\"n.v.t.\",(Milieuprofielen!Y43),(Milieuprofielen!Y43/Invoerblad!$F$56)),0)","v":0},{"$f":"IFERROR(IF(Invoerblad!$F$56=\"n.v.t.\",(Milieuprofielen!Z43),(Milieuprofielen!Z43/Invoerblad!$F$56)),0)","v":0},{"$f":"IFERROR(IF(Invoerblad!$F$56=\"n.v.t.\",(Milieuprofielen!AA43),(Milieuprofielen!AA43/Invoerblad!$F$56)),0)","v":0},null,null,null,"062. Resource use, fossils","MJ",{"$f":"IFERROR(IF(Invoerblad!$G$56=\"n.v.t.\",(Milieuprofielen!AG43),(Milieuprofielen!AG43/Invoerblad!$G$56)),0)","v":0},{"$f":"IFERROR(IF(Invoerblad!$G$56=\"n.v.t.\",(Milieuprofielen!AH43),(Milieuprofielen!AH43/Invoerblad!$G$56)),0)","v":0},{"$f":"IFERROR(IF(Invoerblad!$G$56=\"n.v.t.\",(Milieuprofielen!AI43),(Milieuprofielen!AI43/Invoerblad!$G$56)),0)","v":0},{"$f":"IFERROR(IF(Invoerblad!$G$56=\"n.v.t.\",(Milieuprofielen!AJ43),(Milieuprofielen!AJ43/Invoerblad!$G$56)),0)","v":0},null,null,null,"062. Resource use, fossils","MJ",{"$f":"IFERROR(IF(Invoerblad!$H$56=\"n.v.t.\",(Milieuprofielen!AP43),(Milieuprofielen!AP43/Invoerblad!$H$56)),0)","v":0},{"$f":"IFERROR(IF(Invoerblad!$H$56=\"n.v.t.\",(Milieuprofielen!AQ43),(Milieuprofielen!AQ43/Invoerblad!$H$56)),0)","v":0},{"$f":"IFERROR(IF(Invoerblad!$H$56=\"n.v.t.\",(Milieuprofielen!AR43),(Milieuprofielen!AR43/Invoerblad!$H$56)),0)","v":0},{"$f":"IFERROR(IF(Invoerblad!$H$56=\"n.v.t.\",(Milieuprofielen!AS43),(Milieuprofielen!AS43/Invoerblad!$H$56)),0)","v":0}]
[null,null,null,"063. Water use","m3 depriv.",{"$f":"IFERROR(IF(Invoerblad!$D$56=\"n.v.t.\",(Milieuprofielen!F44),(Milieuprofielen!F44/Invoerblad!$D$56)),0)","v":0.105332287634},{"$f":"IFERROR(IF(Invoerblad!$D$56=\"n.v.t.\",(Milieuprofielen!G44),(Milieuprofielen!G44/Invoerblad!$D$56)),0)","v":-9.1998681890300001E-4},{"$f":"IFERROR(IF(Invoerblad!$D$56=\"n.v.t.\",(Milieuprofielen!H44),(Milieuprofielen!H44/Invoerblad!$D$56)),0)","v":1.8632383524411138E-2},{"$f":"IFERROR(IF(Invoerblad!$D$56=\"n.v.t.\",(Milieuprofielen!I44),(Milieuprofielen!I44/Invoerblad!$D$56)),0)","v":0.12304468433950813},null,null,null,"063. Water use","m3 depriv.",{"$f":"IFERROR(IF(Invoerblad!$E$56=\"n.v.t.\",(Milieuprofielen!O44),(Milieuprofielen!O44/Invoerblad!$E$56)),0)","v":0},{"$f":"IFERROR(IF(Invoerblad!$E$56=\"n.v.t.\",(Milieuprofielen!P44),(Milieuprofielen!P44/Invoerblad!$E$56)),0)","v":0},{"$f":"IFERROR(IF(Invoerblad!$E$56=\"n.v.t.\",(Milieuprofielen!Q44),(Milieuprofielen!Q44/Invoerblad!$E$56)),0)","v":0},{"$f":"IFERROR(IF(Invoerblad!$E$56=\"n.v.t.\",(Milieuprofielen!R44),(Milieuprofielen!R44/Invoerblad!$E$56)),0)","v":0},null,null,null,"063. Water use","m3 depriv.",{"$f":"IFERROR(IF(Invoerblad!$F$56=\"n.v.t.\",(Milieuprofielen!X44),(Milieuprofielen!X44/Invoerblad!$F$56)),0)","v":0},{"$f":"IFERROR(IF(Invoerblad!$F$56=\"n.v.t.\",(Milieuprofielen!Y44),(Milieuprofielen!Y44/Invoerblad!$F$56)),0)","v":0},{"$f":"IFERROR(IF(Invoerblad!$F$56=\"n.v.t.\",(Milieuprofielen!Z44),(Milieuprofielen!Z44/Invoerblad!$F$56)),0)","v":0},{"$f":"IFERROR(IF(Invoerblad!$F$56=\"n.v.t.\",(Milieuprofielen!AA44),(Milieuprofielen!AA44/Invoerblad!$F$56)),0)","v":0},null,null,null,"063. Water use","m3 depriv.",{"$f":"IFERROR(IF(Invoerblad!$G$56=\"n.v.t.\",(Milieuprofielen!AG44),(Milieuprofielen!AG44/Invoerblad!$G$56)),0)","v":0},{"$f":"IFERROR(IF(Invoerblad!$G$56=\"n.v.t.\",(Milieuprofielen!AH44),(Milieuprofielen!AH44/Invoerblad!$G$56)),0)","v":0},{"$f":"IFERROR(IF(Invoerblad!$G$56=\"n.v.t.\",(Milieuprofielen!AI44),(Milieuprofielen!AI44/Invoerblad!$G$56)),0)","v":0},{"$f":"IFERROR(IF(Invoerblad!$G$56=\"n.v.t.\",(Milieuprofielen!AJ44),(Milieuprofielen!AJ44/Invoerblad!$G$56)),0)","v":0},null,null,null,"063. Water use","m3 depriv.",{"$f":"IFERROR(IF(Invoerblad!$H$56=\"n.v.t.\",(Milieuprofielen!AP44),(Milieuprofielen!AP44/Invoerblad!$H$56)),0)","v":0},{"$f":"IFERROR(IF(Invoerblad!$H$56=\"n.v.t.\",(Milieuprofielen!AQ44),(Milieuprofielen!AQ44/Invoerblad!$H$56)),0)","v":0},{"$f":"IFERROR(IF(Invoerblad!$H$56=\"n.v.t.\",(Milieuprofielen!AR44),(Milieuprofielen!AR44/Invoerblad!$H$56)),0)","v":0},{"$f":"IFERROR(IF(Invoerblad!$H$56=\"n.v.t.\",(Milieuprofielen!AS44),(Milieuprofielen!AS44/Invoerblad!$H$56)),0)","v":0}]
[null,null,null,"064. Particulate matter","disease inc.",{"$f":"IFERROR(IF(Invoerblad!$D$56=\"n.v.t.\",(Milieuprofielen!F45),(Milieuprofielen!F45/Invoerblad!$D$56)),0)","v":3.0227623661700001E-8},{"$f":"IFERROR(IF(Invoerblad!$D$56=\"n.v.t.\",(Milieuprofielen!G45),(Milieuprofielen!G45/Invoerblad!$D$56)),0)","v":1.3770450735250001E-9},{"$f":"IFERROR(IF(Invoerblad!$D$56=\"n.v.t.\",(Milieuprofielen!H45),(Milieuprofielen!H45/Invoerblad!$D$56)),0)","v":8.1526545006415011E-9},{"$f":"IFERROR(IF(Invoerblad!$D$56=\"n.v.t.\",(Milieuprofielen!I45),(Milieuprofielen!I45/Invoerblad!$D$56)),0)","v":3.9757323235866499E-8},null,null,null,"064. Particulate matter","disease inc.",{"$f":"IFERROR(IF(Invoerblad!$E$56=\"n.v.t.\",(Milieuprofielen!O45),(Milieuprofielen!O45/Invoerblad!$E$56)),0)","v":0},{"$f":"IFERROR(IF(Invoerblad!$E$56=\"n.v.t.\",(Milieuprofielen!P45),(Milieuprofielen!P45/Invoerblad!$E$56)),0)","v":0},{"$f":"IFERROR(IF(Invoerblad!$E$56=\"n.v.t.\",(Milieuprofielen!Q45),(Milieuprofielen!Q45/Invoerblad!$E$56)),0)","v":0},{"$f":"IFERROR(IF(Invoerblad!$E$56=\"n.v.t.\",(Milieuprofielen!R45),(Milieuprofielen!R45/Invoerblad!$E$56)),0)","v":0},null,null,null,"064. Particulate matter","disease inc.",{"$f":"IFERROR(IF(Invoerblad!$F$56=\"n.v.t.\",(Milieuprofielen!X45),(Milieuprofielen!X45/Invoerblad!$F$56)),0)","v":0},{"$f":"IFERROR(IF(Invoerblad!$F$56=\"n.v.t.\",(Milieuprofielen!Y45),(Milieuprofielen!Y45/Invoerblad!$F$56)),0)","v":0},{"$f":"IFERROR(IF(Invoerblad!$F$56=\"n.v.t.\",(Milieuprofielen!Z45),(Milieuprofielen!Z45/Invoerblad!$F$56)),0)","v":0},{"$f":"IFERROR(IF(Invoerblad!$F$56=\"n.v.t.\",(Milieuprofielen!AA45),(Milieuprofielen!AA45/Invoerblad!$F$56)),0)","v":0},null,null,null,"064. Particulate matter","disease inc.",{"$f":"IFERROR(IF(Invoerblad!$G$56=\"n.v.t.\",(Milieuprofielen!AG45),(Milieuprofielen!AG45/Invoerblad!$G$56)),0)","v":0},{"$f":"IFERROR(IF(Invoerblad!$G$56=\"n.v.t.\",(Milieuprofielen!AH45),(Milieuprofielen!AH45/Invoerblad!$G$56)),0)","v":0},{"$f":"IFERROR(IF(Invoerblad!$G$56=\"n.v.t.\",(Milieuprofielen!AI45),(Milieuprofielen!AI45/Invoerblad!$G$56)),0)","v":0},{"$f":"IFERROR(IF(Invoerblad!$G$56=\"n.v.t.\",(Milieuprofielen!AJ45),(Milieuprofielen!AJ45/Invoerblad!$G$56)),0)","v":0},null,null,null,"064. Particulate matter","disease inc.",{"$f":"IFERROR(IF(Invoerblad!$H$56=\"n.v.t.\",(Milieuprofielen!AP45),(Milieuprofielen!AP45/Invoerblad!$H$56)),0)","v":0},{"$f":"IFERROR(IF(Invoerblad!$H$56=\"n.v.t.\",(Milieuprofielen!AQ45),(Milieuprofielen!AQ45/Invoerblad!$H$56)),0)","v":0},{"$f":"IFERROR(IF(Invoerblad!$H$56=\"n.v.t.\",(Milieuprofielen!AR45),(Milieuprofielen!AR45/Invoerblad!$H$56)),0)","v":0},{"$f":"IFERROR(IF(Invoerblad!$H$56=\"n.v.t.\",(Milieuprofielen!AS45),(Milieuprofielen!AS45/Invoerblad!$H$56)),0)","v":0}]
[null,null,null,"065. Ionising radiation","kBq U-235 eq",{"$f":"IFERROR(IF(Invoerblad!$D$56=\"n.v.t.\",(Milieuprofielen!F46),(Milieuprofielen!F46/Invoerblad!$D$56)),0)","v":7.8021265320900009E-3},{"$f":"IFERROR(IF(Invoerblad!$D$56=\"n.v.t.\",(Milieuprofielen!G46),(Milieuprofielen!G46/Invoerblad!$D$56)),0)","v":4.9420522224710001E-4},{"$f":"IFERROR(IF(Invoerblad!$D$56=\"n.v.t.\",(Milieuprofielen!H46),(Milieuprofielen!H46/Invoerblad!$D$56)),0)","v":1.0987296628642317E-3},{"$f":"IFERROR(IF(Invoerblad!$D$56=\"n.v.t.\",(Milieuprofielen!I46),(Milieuprofielen!I46/Invoerblad!$D$56)),0)","v":9.3950614172013322E-3},null,null,null,"065. Ionising radiation","kBq U-235 eq",{"$f":"IFERROR(IF(Invoerblad!$E$56=\"n.v.t.\",(Milieuprofielen!O46),(Milieuprofielen!O46/Invoerblad!$E$56)),0)","v":0},{"$f":"IFERROR(IF(Invoerblad!$E$56=\"n.v.t.\",(Milieuprofielen!P46),(Milieuprofielen!P46/Invoerblad!$E$56)),0)","v":0},{"$f":"IFERROR(IF(Invoerblad!$E$56=\"n.v.t.\",(Milieuprofielen!Q46),(Milieuprofielen!Q46/Invoerblad!$E$56)),0)","v":0},{"$f":"IFERROR(IF(Invoerblad!$E$56=\"n.v.t.\",(Milieuprofielen!R46),(Milieuprofielen!R46/Invoerblad!$E$56)),0)","v":0},null,null,null,"065. Ionising radiation","kBq U-235 eq",{"$f":"IFERROR(IF(Invoerblad!$F$56=\"n.v.t.\",(Milieuprofielen!X46),(Milieuprofielen!X46/Invoerblad!$F$56)),0)","v":0},{"$f":"IFERROR(IF(Invoerblad!$F$56=\"n.v.t.\",(Milieuprofielen!Y46),(Milieuprofielen!Y46/Invoerblad!$F$56)),0)","v":0},{"$f":"IFERROR(IF(Invoerblad!$F$56=\"n.v.t.\",(Milieuprofielen!Z46),(Milieuprofielen!Z46/Invoerblad!$F$56)),0)","v":0},{"$f":"IFERROR(IF(Invoerblad!$F$56=\"n.v.t.\",(Milieuprofielen!AA46),(Milieuprofielen!AA46/Invoerblad!$F$56)),0)","v":0},null,null,null,"065. Ionising radiation","kBq U-235 eq",{"$f":"IFERROR(IF(Invoerblad!$G$56=\"n.v.t.\",(Milieuprofielen!AG46),(Milieuprofielen!AG46/Invoerblad!$G$56)),0)","v":0},{"$f":"IFERROR(IF(Invoerblad!$G$56=\"n.v.t.\",(Milieuprofielen!AH46),(Milieuprofielen!AH46/Invoerblad!$G$56)),0)","v":0},{"$f":"IFERROR(IF(Invoerblad!$G$56=\"n.v.t.\",(Milieuprofielen!AI46),(Milieuprofielen!AI46/Invoerblad!$G$56)),0)","v":0},{"$f":"IFERROR(IF(Invoerblad!$G$56=\"n.v.t.\",(Milieuprofielen!AJ46),(Milieuprofielen!AJ46/Invoerblad!$G$56)),0)","v":0},null,null,null,"065. Ionising radiation","kBq U-235 eq",{"$f":"IFERROR(IF(Invoerblad!$H$56=\"n.v.t.\",(Milieuprofielen!AP46),(Milieuprofielen!AP46/Invoerblad!$H$56)),0)","v":0},{"$f":"IFERROR(IF(Invoerblad!$H$56=\"n.v.t.\",(Milieuprofielen!AQ46),(Milieuprofielen!AQ46/Invoerblad!$H$56)),0)","v":0},{"$f":"IFERROR(IF(Invoerblad!$H$56=\"n.v.t.\",(Milieuprofielen!AR46),(Milieuprofielen!AR46/Invoerblad!$H$56)),0)","v":0},{"$f":"IFERROR(IF(Invoerblad!$H$56=\"n.v.t.\",(Milieuprofielen!AS46),(Milieuprofielen!AS46/Invoerblad!$H$56)),0)","v":0}]
[null,null,null,"066. Ecotoxicity, freshwater","CTUe",{"$f":"IFERROR(IF(Invoerblad!$D$56=\"n.v.t.\",(Milieuprofielen!F47),(Milieuprofielen!F47/Invoerblad!$D$56)),0)","v":13.326627806819999},{"$f":"IFERROR(IF(Invoerblad!$D$56=\"n.v.t.\",(Milieuprofielen!G47),(Milieuprofielen!G47/Invoerblad!$D$56)),0)","v":0.14537131735104999},{"$f":"IFERROR(IF(Invoerblad!$D$56=\"n.v.t.\",(Milieuprofielen!H47),(Milieuprofielen!H47/Invoerblad!$D$56)),0)","v":0.49505241209808576},{"$f":"IFERROR(IF(Invoerblad!$D$56=\"n.v.t.\",(Milieuprofielen!I47),(Milieuprofielen!I47/Invoerblad!$D$56)),0)","v":13.967051536269135},null,null,null,"066. Ecotoxicity, freshwater","CTUe",{"$f":"IFERROR(IF(Invoerblad!$E$56=\"n.v.t.\",(Milieuprofielen!O47),(Milieuprofielen!O47/Invoerblad!$E$56)),0)","v":0},{"$f":"IFERROR(IF(Invoerblad!$E$56=\"n.v.t.\",(Milieuprofielen!P47),(Milieuprofielen!P47/Invoerblad!$E$56)),0)","v":0},{"$f":"IFERROR(IF(Invoerblad!$E$56=\"n.v.t.\",(Milieuprofielen!Q47),(Milieuprofielen!Q47/Invoerblad!$E$56)),0)","v":0},{"$f":"IFERROR(IF(Invoerblad!$E$56=\"n.v.t.\",(Milieuprofielen!R47),(Milieuprofielen!R47/Invoerblad!$E$56)),0)","v":0},null,null,null,"066. Ecotoxicity, freshwater","CTUe",{"$f":"IFERROR(IF(Invoerblad!$F$56=\"n.v.t.\",(Milieuprofielen!X47),(Milieuprofielen!X47/Invoerblad!$F$56)),0)","v":0},{"$f":"IFERROR(IF(Invoerblad!$F$56=\"n.v.t.\",(Milieuprofielen!Y47),(Milieuprofielen!Y47/Invoerblad!$F$56)),0)","v":0},{"$f":"IFERROR(IF(Invoerblad!$F$56=\"n.v.t.\",(Milieuprofielen!Z47),(Milieuprofielen!Z47/Invoerblad!$F$56)),0)","v":0},{"$f":"IFERROR(IF(Invoerblad!$F$56=\"n.v.t.\",(Milieuprofielen!AA47),(Milieuprofielen!AA47/Invoerblad!$F$56)),0)","v":0},null,null,null,"066. Ecotoxicity, freshwater","CTUe",{"$f":"IFERROR(IF(Invoerblad!$G$56=\"n.v.t.\",(Milieuprofielen!AG47),(Milieuprofielen!AG47/Invoerblad!$G$56)),0)","v":0},{"$f":"IFERROR(IF(Invoerblad!$G$56=\"n.v.t.\",(Milieuprofielen!AH47),(Milieuprofielen!AH47/Invoerblad!$G$56)),0)","v":0},{"$f":"IFERROR(IF(Invoerblad!$G$56=\"n.v.t.\",(Milieuprofielen!AI47),(Milieuprofielen!AI47/Invoerblad!$G$56)),0)","v":0},{"$f":"IFERROR(IF(Invoerblad!$G$56=\"n.v.t.\",(Milieuprofielen!AJ47),(Milieuprofielen!AJ47/Invoerblad!$G$56)),0)","v":0},null,null,null,"066. Ecotoxicity, freshwater","CTUe",{"$f":"IFERROR(IF(Invoerblad!$H$56=\"n.v.t.\",(Milieuprofielen!AP47),(Milieuprofielen!AP47/Invoerblad!$H$56)),0)","v":0},{"$f":"IFERROR(IF(Invoerblad!$H$56=\"n.v.t.\",(Milieuprofielen!AQ47),(Milieuprofielen!AQ47/Invoerblad!$H$56)),0)","v":0},{"$f":"IFERROR(IF(Invoerblad!$H$56=\"n.v.t.\",(Milieuprofielen!AR47),(Milieuprofielen!AR47/Invoerblad!$H$56)),0)","v":0},{"$f":"IFERROR(IF(Invoerblad!$H$56=\"n.v.t.\",(Milieuprofielen!AS47),(Milieuprofielen!AS47/Invoerblad!$H$56)),0)","v":0}]
[null,null,null,"067. Human toxicity, cancer","CTUh",{"$f":"IFERROR(IF(Invoerblad!$D$56=\"n.v.t.\",(Milieuprofielen!F48),(Milieuprofielen!F48/Invoerblad!$D$56)),0)","v":2.3472844558950006E-10},{"$f":"IFERROR(IF(Invoerblad!$D$56=\"n.v.t.\",(Milieuprofielen!G48),(Milieuprofielen!G48/Invoerblad!$D$56)),0)","v":8.0330626727299999E-12},{"$f":"IFERROR(IF(Invoerblad!$D$56=\"n.v.t.\",(Milieuprofielen!H48),(Milieuprofielen!H48/Invoerblad!$D$56)),0)","v":4.2298268162053395E-10},{"$f":"IFERROR(IF(Invoerblad!$D$56=\"n.v.t.\",(Milieuprofielen!I48),(Milieuprofielen!I48/Invoerblad!$D$56)),0)","v":6.6574418988276397E-10},null,null,null,"067. Human toxicity, cancer","CTUh",{"$f":"IFERROR(IF(Invoerblad!$E$56=\"n.v.t.\",(Milieuprofielen!O48),(Milieuprofielen!O48/Invoerblad!$E$56)),0)","v":0},{"$f":"IFERROR(IF(Invoerblad!$E$56=\"n.v.t.\",(Milieuprofielen!P48),(Milieuprofielen!P48/Invoerblad!$E$56)),0)","v":0},{"$f":"IFERROR(IF(Invoerblad!$E$56=\"n.v.t.\",(Milieuprofielen!Q48),(Milieuprofielen!Q48/Invoerblad!$E$56)),0)","v":0},{"$f":"IFERROR(IF(Invoerblad!$E$56=\"n.v.t.\",(Milieuprofielen!R48),(Milieuprofielen!R48/Invoerblad!$E$56)),0)","v":0},null,null,null,"067. Human toxicity, cancer","CTUh",{"$f":"IFERROR(IF(Invoerblad!$F$56=\"n.v.t.\",(Milieuprofielen!X48),(Milieuprofielen!X48/Invoerblad!$F$56)),0)","v":0},{"$f":"IFERROR(IF(Invoerblad!$F$56=\"n.v.t.\",(Milieuprofielen!Y48),(Milieuprofielen!Y48/Invoerblad!$F$56)),0)","v":0},{"$f":"IFERROR(IF(Invoerblad!$F$56=\"n.v.t.\",(Milieuprofielen!Z48),(Milieuprofielen!Z48/Invoerblad!$F$56)),0)","v":0},{"$f":"IFERROR(IF(Invoerblad!$F$56=\"n.v.t.\",(Milieuprofielen!AA48),(Milieuprofielen!AA48/Invoerblad!$F$56)),0)","v":0},null,null,null,"067. Human toxicity, cancer","CTUh",{"$f":"IFERROR(IF(Invoerblad!$G$56=\"n.v.t.\",(Milieuprofielen!AG48),(Milieuprofielen!AG48/Invoerblad!$G$56)),0)","v":0},{"$f":"IFERROR(IF(Invoerblad!$G$56=\"n.v.t.\",(Milieuprofielen!AH48),(Milieuprofielen!AH48/Invoerblad!$G$56)),0)","v":0},{"$f":"IFERROR(IF(Invoerblad!$G$56=\"n.v.t.\",(Milieuprofielen!AI48),(Milieuprofielen!AI48/Invoerblad!$G$56)),0)","v":0},{"$f":"IFERROR(IF(Invoerblad!$G$56=\"n.v.t.\",(Milieuprofielen!AJ48),(Milieuprofielen!AJ48/Invoerblad!$G$56)),0)","v":0},null,null,null,"067. Human toxicity, cancer","CTUh",{"$f":"IFERROR(IF(Invoerblad!$H$56=\"n.v.t.\",(Milieuprofielen!AP48),(Milieuprofielen!AP48/Invoerblad!$H$56)),0)","v":0},{"$f":"IFERROR(IF(Invoerblad!$H$56=\"n.v.t.\",(Milieuprofielen!AQ48),(Milieuprofielen!AQ48/Invoerblad!$H$56)),0)","v":0},{"$f":"IFERROR(IF(Invoerblad!$H$56=\"n.v.t.\",(Milieuprofielen!AR48),(Milieuprofielen!AR48/Invoerblad!$H$56)),0)","v":0},{"$f":"IFERROR(IF(Invoerblad!$H$56=\"n.v.t.\",(Milieuprofielen!AS48),(Milieuprofielen!AS48/Invoerblad!$H$56)),0)","v":0}]
[null,null,null,"068. Human toxicity, non-cancer","CTUh",{"$f":"IFERROR(IF(Invoerblad!$D$56=\"n.v.t.\",(Milieuprofielen!F49),(Milieuprofielen!F49/Invoerblad!$D$56)),0)","v":4.4074005226499998E-9},{"$f":"IFERROR(IF(Invoerblad!$D$56=\"n.v.t.\",(Milieuprofielen!G49),(Milieuprofielen!G49/Invoerblad!$D$56)),0)","v":1.4240344529725E-10},{"$f":"IFERROR(IF(Invoerblad!$D$56=\"n.v.t.\",(Milieuprofielen!H49),(Milieuprofielen!H49/Invoerblad!$D$56)),0)","v":2.2459584211503493E-9},{"$f":"IFERROR(IF(Invoerblad!$D$56=\"n.v.t.\",(Milieuprofielen!I49),(Milieuprofielen!I49/Invoerblad!$D$56)),0)","v":6.7957623890975979E-9},null,null,null,"068. Human toxicity, non-cancer","CTUh",{"$f":"IFERROR(IF(Invoerblad!$E$56=\"n.v.t.\",(Milieuprofielen!O49),(Milieuprofielen!O49/Invoerblad!$E$56)),0)","v":0},{"$f":"IFERROR(IF(Invoerblad!$E$56=\"n.v.t.\",(Milieuprofielen!P49),(Milieuprofielen!P49/Invoerblad!$E$56)),0)","v":0},{"$f":"IFERROR(IF(Invoerblad!$E$56=\"n.v.t.\",(Milieuprofielen!Q49),(Milieuprofielen!Q49/Invoerblad!$E$56)),0)","v":0},{"$f":"IFERROR(IF(Invoerblad!$E$56=\"n.v.t.\",(Milieuprofielen!R49),(Milieuprofielen!R49/Invoerblad!$E$56)),0)","v":0},null,null,null,"068. Human toxicity, non-cancer","CTUh",{"$f":"IFERROR(IF(Invoerblad!$F$56=\"n.v.t.\",(Milieuprofielen!X49),(Milieuprofielen!X49/Invoerblad!$F$56)),0)","v":0},{"$f":"IFERROR(IF(Invoerblad!$F$56=\"n.v.t.\",(Milieuprofielen!Y49),(Milieuprofielen!Y49/Invoerblad!$F$56)),0)","v":0},{"$f":"IFERROR(IF(Invoerblad!$F$56=\"n.v.t.\",(Milieuprofielen!Z49),(Milieuprofielen!Z49/Invoerblad!$F$56)),0)","v":0},{"$f":"IFERROR(IF(Invoerblad!$F$56=\"n.v.t.\",(Milieuprofielen!AA49),(Milieuprofielen!AA49/Invoerblad!$F$56)),0)","v":0},null,null,null,"068. Human toxicity, non-cancer","CTUh",{"$f":"IFERROR(IF(Invoerblad!$G$56=\"n.v.t.\",(Milieuprofielen!AG49),(Milieuprofielen!AG49/Invoerblad!$G$56)),0)","v":0},{"$f":"IFERROR(IF(Invoerblad!$G$56=\"n.v.t.\",(Milieuprofielen!AH49),(Milieuprofielen!AH49/Invoerblad!$G$56)),0)","v":0},{"$f":"IFERROR(IF(Invoerblad!$G$56=\"n.v.t.\",(Milieuprofielen!AI49),(Milieuprofielen!AI49/Invoerblad!$G$56)),0)","v":0},{"$f":"IFERROR(IF(Invoerblad!$G$56=\"n.v.t.\",(Milieuprofielen!AJ49),(Milieuprofielen!AJ49/Invoerblad!$G$56)),0)","v":0},null,null,null,"068. Human toxicity, non-cancer","CTUh",{"$f":"IFERROR(IF(Invoerblad!$H$56=\"n.v.t.\",(Milieuprofielen!AP49),(Milieuprofielen!AP49/Invoerblad!$H$56)),0)","v":0},{"$f":"IFERROR(IF(Invoerblad!$H$56=\"n.v.t.\",(Milieuprofielen!AQ49),(Milieuprofielen!AQ49/Invoerblad!$H$56)),0)","v":0},{"$f":"IFERROR(IF(Invoerblad!$H$56=\"n.v.t.\",(Milieuprofielen!AR49),(Milieuprofielen!AR49/Invoerblad!$H$56)),0)","v":0},{"$f":"IFERROR(IF(Invoerblad!$H$56=\"n.v.t.\",(Milieuprofielen!AS49),(Milieuprofielen!AS49/Invoerblad!$H$56)),0)","v":0}]
[null,null,null,"069. Land use","Pt",{"$f":"IFERROR(IF(Invoerblad!$D$56=\"n.v.t.\",(Milieuprofielen!F50),(Milieuprofielen!F50/Invoerblad!$D$56)),0)","v":0.90017317569200006},{"$f":"IFERROR(IF(Invoerblad!$D$56=\"n.v.t.\",(Milieuprofielen!G50),(Milieuprofielen!G50/Invoerblad!$D$56)),0)","v":0.44196654664450002},{"$f":"IFERROR(IF(Invoerblad!$D$56=\"n.v.t.\",(Milieuprofielen!H50),(Milieuprofielen!H50/Invoerblad!$D$56)),0)","v":1.6674867335830559},{"$f":"IFERROR(IF(Invoerblad!$D$56=\"n.v.t.\",(Milieuprofielen!I50),(Milieuprofielen!I50/Invoerblad!$D$56)),0)","v":3.0096264559195562},null,null,null,"069. Land use","Pt",{"$f":"IFERROR(IF(Invoerblad!$E$56=\"n.v.t.\",(Milieuprofielen!O50),(Milieuprofielen!O50/Invoerblad!$E$56)),0)","v":0},{"$f":"IFERROR(IF(Invoerblad!$E$56=\"n.v.t.\",(Milieuprofielen!P50),(Milieuprofielen!P50/Invoerblad!$E$56)),0)","v":0},{"$f":"IFERROR(IF(Invoerblad!$E$56=\"n.v.t.\",(Milieuprofielen!Q50),(Milieuprofielen!Q50/Invoerblad!$E$56)),0)","v":0},{"$f":"IFERROR(IF(Invoerblad!$E$56=\"n.v.t.\",(Milieuprofielen!R50),(Milieuprofielen!R50/Invoerblad!$E$56)),0)","v":0},null,null,null,"069. Land use","Pt",{"$f":"IFERROR(IF(Invoerblad!$F$56=\"n.v.t.\",(Milieuprofielen!X50),(Milieuprofielen!X50/Invoerblad!$F$56)),0)","v":0},{"$f":"IFERROR(IF(Invoerblad!$F$56=\"n.v.t.\",(Milieuprofielen!Y50),(Milieuprofielen!Y50/Invoerblad!$F$56)),0)","v":0},{"$f":"IFERROR(IF(Invoerblad!$F$56=\"n.v.t.\",(Milieuprofielen!Z50),(Milieuprofielen!Z50/Invoerblad!$F$56)),0)","v":0},{"$f":"IFERROR(IF(Invoerblad!$F$56=\"n.v.t.\",(Milieuprofielen!AA50),(Milieuprofielen!AA50/Invoerblad!$F$56)),0)","v":0},null,null,null,"069. Land use","Pt",{"$f":"IFERROR(IF(Invoerblad!$G$56=\"n.v.t.\",(Milieuprofielen!AG50),(Milieuprofielen!AG50/Invoerblad!$G$56)),0)","v":0},{"$f":"IFERROR(IF(Invoerblad!$G$56=\"n.v.t.\",(Milieuprofielen!AH50),(Milieuprofielen!AH50/Invoerblad!$G$56)),0)","v":0},{"$f":"IFERROR(IF(Invoerblad!$G$56=\"n.v.t.\",(Milieuprofielen!AI50),(Milieuprofielen!AI50/Invoerblad!$G$56)),0)","v":0},{"$f":"IFERROR(IF(Invoerblad!$G$56=\"n.v.t.\",(Milieuprofielen!AJ50),(Milieuprofielen!AJ50/Invoerblad!$G$56)),0)","v":0},null,null,null,"069. Land use","Pt",{"$f":"IFERROR(IF(Invoerblad!$H$56=\"n.v.t.\",(Milieuprofielen!AP50),(Milieuprofielen!AP50/Invoerblad!$H$56)),0)","v":0},{"$f":"IFERROR(IF(Invoerblad!$H$56=\"n.v.t.\",(Milieuprofielen!AQ50),(Milieuprofielen!AQ50/Invoerblad!$H$56)),0)","v":0},{"$f":"IFERROR(IF(Invoerblad!$H$56=\"n.v.t.\",(Milieuprofielen!AR50),(Milieuprofielen!AR50/Invoerblad!$H$56)),0)","v":0},{"$f":"IFERROR(IF(Invoerblad!$H$56=\"n.v.t.\",(Milieuprofielen!AS50),(Milieuprofielen!AS50/Invoerblad!$H$56)),0)","v":0}]
[null,null,"Parameters EN15804+A2","111. Energy, primary, renewable, excludi","MJ",{"$f":"IFERROR(IF(Invoerblad!$D$56=\"n.v.t.\",(Milieuprofielen!F51),(Milieuprofielen!F51/Invoerblad!$D$56)),0)","v":0},{"$f":"IFERROR(IF(Invoerblad!$D$56=\"n.v.t.\",(Milieuprofielen!G51),(Milieuprofielen!G51/Invoerblad!$D$56)),0)","v":0},{"$f":"IFERROR(IF(Invoerblad!$D$56=\"n.v.t.\",(Milieuprofielen!H51),(Milieuprofielen!H51/Invoerblad!$D$56)),0)","v":0},{"$f":"IFERROR(IF(Invoerblad!$D$56=\"n.v.t.\",(Milieuprofielen!I51),(Milieuprofielen!I51/Invoerblad!$D$56)),0)","v":0},null,null,"Parameters EN15804+A2","111. Energy, primary, renewable, excludi","MJ",{"$f":"IFERROR(IF(Invoerblad!$E$56=\"n.v.t.\",(Milieuprofielen!O51),(Milieuprofielen!O51/Invoerblad!$E$56)),0)","v":0},{"$f":"IFERROR(IF(Invoerblad!$E$56=\"n.v.t.\",(Milieuprofielen!P51),(Milieuprofielen!P51/Invoerblad!$E$56)),0)","v":0},{"$f":"IFERROR(IF(Invoerblad!$E$56=\"n.v.t.\",(Milieuprofielen!Q51),(Milieuprofielen!Q51/Invoerblad!$E$56)),0)","v":0},{"$f":"IFERROR(IF(Invoerblad!$E$56=\"n.v.t.\",(Milieuprofielen!R51),(Milieuprofielen!R51/Invoerblad!$E$56)),0)","v":0},null,null,"Parameters EN15804+A2","111. Energy, primary, renewable, excludi","MJ",{"$f":"IFERROR(IF(Invoerblad!$F$56=\"n.v.t.\",(Milieuprofielen!X51),(Milieuprofielen!X51/Invoerblad!$F$56)),0)","v":0},{"$f":"IFERROR(IF(Invoerblad!$F$56=\"n.v.t.\",(Milieuprofielen!Y51),(Milieuprofielen!Y51/Invoerblad!$F$56)),0)","v":0},{"$f":"IFERROR(IF(Invoerblad!$F$56=\"n.v.t.\",(Milieuprofielen!Z51),(Milieuprofielen!Z51/Invoerblad!$F$56)),0)","v":0},{"$f":"IFERROR(IF(Invoerblad!$F$56=\"n.v.t.\",(Milieuprofielen!AA51),(Milieuprofielen!AA51/Invoerblad!$F$56)),0)","v":0},null,null,"Parameters EN15804+A2","111. Energy, primary, renewable, excludi","MJ",{"$f":"IFERROR(IF(Invoerblad!$G$56=\"n.v.t.\",(Milieuprofielen!AG51),(Milieuprofielen!AG51/Invoerblad!$G$56)),0)","v":0},{"$f":"IFERROR(IF(Invoerblad!$G$56=\"n.v.t.\",(Milieuprofielen!AH51),(Milieuprofielen!AH51/Invoerblad!$G$56)),0)","v":0},{"$f":"IFERROR(IF(Invoerblad!$G$56=\"n.v.t.\",(Milieuprofielen!AI51),(Milieuprofielen!AI51/Invoerblad!$G$56)),0)","v":0},{"$f":"IFERROR(IF(Invoerblad!$G$56=\"n.v.t.\",(Milieuprofielen!AJ51),(Milieuprofielen!AJ51/Invoerblad!$G$56)),0)","v":0},null,null,"Parameters EN15804+A2","111. Energy, primary, renewable, excludi","MJ",{"$f":"IFERROR(IF(Invoerblad!$H$56=\"n.v.t.\",(Milieuprofielen!AP51),(Milieuprofielen!AP51/Invoerblad!$H$56)),0)","v":0},{"$f":"IFERROR(IF(Invoerblad!$H$56=\"n.v.t.\",(Milieuprofielen!AQ51),(Milieuprofielen!AQ51/Invoerblad!$H$56)),0)","v":0},{"$f":"IFERROR(IF(Invoerblad!$H$56=\"n.v.t.\",(Milieuprofielen!AR51),(Milieuprofielen!AR51/Invoerblad!$H$56)),0)","v":0},{"$f":"IFERROR(IF(Invoerblad!$H$56=\"n.v.t.\",(Milieuprofielen!AS51),(Milieuprofielen!AS51/Invoerblad!$H$56)),0)","v":0}]
[null,null,null,"113. Energy, primary, renewable, materia","MJ",{"$f":"IFERROR(IF(Invoerblad!$D$56=\"n.v.t.\",(Milieuprofielen!F52),(Milieuprofielen!F52/Invoerblad!$D$56)),0)","v":0},{"$f":"IFERROR(IF(Invoerblad!$D$56=\"n.v.t.\",(Milieuprofielen!G52),(Milieuprofielen!G52/Invoerblad!$D$56)),0)","v":0},{"$f":"IFERROR(IF(Invoerblad!$D$56=\"n.v.t.\",(Milieuprofielen!H52),(Milieuprofielen!H52/Invoerblad!$D$56)),0)","v":0},{"$f":"IFERROR(IF(Invoerblad!$D$56=\"n.v.t.\",(Milieuprofielen!I52),(Milieuprofielen!I52/Invoerblad!$D$56)),0)","v":0},null,null,null,"113. Energy, primary, renewable, materia","MJ",{"$f":"IFERROR(IF(Invoerblad!$E$56=\"n.v.t.\",(Milieuprofielen!O52),(Milieuprofielen!O52/Invoerblad!$E$56)),0)","v":0},{"$f":"IFERROR(IF(Invoerblad!$E$56=\"n.v.t.\",(Milieuprofielen!P52),(Milieuprofielen!P52/Invoerblad!$E$56)),0)","v":0},{"$f":"IFERROR(IF(Invoerblad!$E$56=\"n.v.t.\",(Milieuprofielen!Q52),(Milieuprofielen!Q52/Invoerblad!$E$56)),0)","v":0},{"$f":"IFERROR(IF(Invoerblad!$E$56=\"n.v.t.\",(Milieuprofielen!R52),(Milieuprofielen!R52/Invoerblad!$E$56)),0)","v":0},null,null,null,"113. Energy, primary, renewable, materia","MJ",{"$f":"IFERROR(IF(Invoerblad!$F$56=\"n.v.t.\",(Milieuprofielen!X52),(Milieuprofielen!X52/Invoerblad!$F$56)),0)","v":0},{"$f":"IFERROR(IF(Invoerblad!$F$56=\"n.v.t.\",(Milieuprofielen!Y52),(Milieuprofielen!Y52/Invoerblad!$F$56)),0)","v":0},{"$f":"IFERROR(IF(Invoerblad!$F$56=\"n.v.t.\",(Milieuprofielen!Z52),(Milieuprofielen!Z52/Invoerblad!$F$56)),0)","v":0},{"$f":"IFERROR(IF(Invoerblad!$F$56=\"n.v.t.\",(Milieuprofielen!AA52),(Milieuprofielen!AA52/Invoerblad!$F$56)),0)","v":0},null,null,null,"113. Energy, primary, renewable, materia","MJ",{"$f":"IFERROR(IF(Invoerblad!$G$56=\"n.v.t.\",(Milieuprofielen!AG52),(Milieuprofielen!AG52/Invoerblad!$G$56)),0)","v":0},{"$f":"IFERROR(IF(Invoerblad!$G$56=\"n.v.t.\",(Milieuprofielen!AH52),(Milieuprofielen!AH52/Invoerblad!$G$56)),0)","v":0},{"$f":"IFERROR(IF(Invoerblad!$G$56=\"n.v.t.\",(Milieuprofielen!AI52),(Milieuprofielen!AI52/Invoerblad!$G$56)),0)","v":0},{"$f":"IFERROR(IF(Invoerblad!$G$56=\"n.v.t.\",(Milieuprofielen!AJ52),(Milieuprofielen!AJ52/Invoerblad!$G$56)),0)","v":0},null,null,null,"113. Energy, primary, renewable, materia","MJ",{"$f":"IFERROR(IF(Invoerblad!$H$56=\"n.v.t.\",(Milieuprofielen!AP52),(Milieuprofielen!AP52/Invoerblad!$H$56)),0)","v":0},{"$f":"IFERROR(IF(Invoerblad!$H$56=\"n.v.t.\",(Milieuprofielen!AQ52),(Milieuprofielen!AQ52/Invoerblad!$H$56)),0)","v":0},{"$f":"IFERROR(IF(Invoerblad!$H$56=\"n.v.t.\",(Milieuprofielen!AR52),(Milieuprofielen!AR52/Invoerblad!$H$56)),0)","v":0},{"$f":"IFERROR(IF(Invoerblad!$H$56=\"n.v.t.\",(Milieuprofielen!AS52),(Milieuprofielen!AS52/Invoerblad!$H$56)),0)","v":0}]
[null,null,null,"101. Energy, primary, renewable (MJ)","MJ",{"$f":"IFERROR(IF(Invoerblad!$D$56=\"n.v.t.\",(Milieuprofielen!F53),(Milieuprofielen!F53/Invoerblad!$D$56)),0)","v":0.13677530675549998},{"$f":"IFERROR(IF(Invoerblad!$D$56=\"n.v.t.\",(Milieuprofielen!G53),(Milieuprofielen!G53/Invoerblad!$D$56)),0)","v":1.5449759140694999E-2},{"$f":"IFERROR(IF(Invoerblad!$D$56=\"n.v.t.\",(Milieuprofielen!H53),(Milieuprofielen!H53/Invoerblad!$D$56)),0)","v":4.6759719966162294E-2},{"$f":"IFERROR(IF(Invoerblad!$D$56=\"n.v.t.\",(Milieuprofielen!I53),(Milieuprofielen!I53/Invoerblad!$D$56)),0)","v":0.19898478586235729},null,null,null,"101. Energy, primary, renewable (MJ)","MJ",{"$f":"IFERROR(IF(Invoerblad!$E$56=\"n.v.t.\",(Milieuprofielen!O53),(Milieuprofielen!O53/Invoerblad!$E$56)),0)","v":0},{"$f":"IFERROR(IF(Invoerblad!$E$56=\"n.v.t.\",(Milieuprofielen!P53),(Milieuprofielen!P53/Invoerblad!$E$56)),0)","v":0},{"$f":"IFERROR(IF(Invoerblad!$E$56=\"n.v.t.\",(Milieuprofielen!Q53),(Milieuprofielen!Q53/Invoerblad!$E$56)),0)","v":0},{"$f":"IFERROR(IF(Invoerblad!$E$56=\"n.v.t.\",(Milieuprofielen!R53),(Milieuprofielen!R53/Invoerblad!$E$56)),0)","v":0},null,null,null,"101. Energy, primary, renewable (MJ)","MJ",{"$f":"IFERROR(IF(Invoerblad!$F$56=\"n.v.t.\",(Milieuprofielen!X53),(Milieuprofielen!X53/Invoerblad!$F$56)),0)","v":0},{"$f":"IFERROR(IF(Invoerblad!$F$56=\"n.v.t.\",(Milieuprofielen!Y53),(Milieuprofielen!Y53/Invoerblad!$F$56)),0)","v":0},{"$f":"IFERROR(IF(Invoerblad!$F$56=\"n.v.t.\",(Milieuprofielen!Z53),(Milieuprofielen!Z53/Invoerblad!$F$56)),0)","v":0},{"$f":"IFERROR(IF(Invoerblad!$F$56=\"n.v.t.\",(Milieuprofielen!AA53),(Milieuprofielen!AA53/Invoerblad!$F$56)),0)","v":0},null,null,null,"101. Energy, primary, renewable (MJ)","MJ",{"$f":"IFERROR(IF(Invoerblad!$G$56=\"n.v.t.\",(Milieuprofielen!AG53),(Milieuprofielen!AG53/Invoerblad!$G$56)),0)","v":0},{"$f":"IFERROR(IF(Invoerblad!$G$56=\"n.v.t.\",(Milieuprofielen!AH53),(Milieuprofielen!AH53/Invoerblad!$G$56)),0)","v":0},{"$f":"IFERROR(IF(Invoerblad!$G$56=\"n.v.t.\",(Milieuprofielen!AI53),(Milieuprofielen!AI53/Invoerblad!$G$56)),0)","v":0},{"$f":"IFERROR(IF(Invoerblad!$G$56=\"n.v.t.\",(Milieuprofielen!AJ53),(Milieuprofielen!AJ53/Invoerblad!$G$56)),0)","v":0},null,null,null,"101. Energy, primary, renewable (MJ)","MJ",{"$f":"IFERROR(IF(Invoerblad!$H$56=\"n.v.t.\",(Milieuprofielen!AP53),(Milieuprofielen!AP53/Invoerblad!$H$56)),0)","v":0},{"$f":"IFERROR(IF(Invoerblad!$H$56=\"n.v.t.\",(Milieuprofielen!AQ53),(Milieuprofielen!AQ53/Invoerblad!$H$56)),0)","v":0},{"$f":"IFERROR(IF(Invoerblad!$H$56=\"n.v.t.\",(Milieuprofielen!AR53),(Milieuprofielen!AR53/Invoerblad!$H$56)),0)","v":0},{"$f":"IFERROR(IF(Invoerblad!$H$56=\"n.v.t.\",(Milieuprofielen!AS53),(Milieuprofielen!AS53/Invoerblad!$H$56)),0)","v":0}]
[null,null,null,"112. Energy, primary, non-renewable, exc","MJ",{"$f":"IFERROR(IF(Invoerblad!$D$56=\"n.v.t.\",(Milieuprofielen!F54),(Milieuprofielen!F54/Invoerblad!$D$56)),0)","v":0},{"$f":"IFERROR(IF(Invoerblad!$D$56=\"n.v.t.\",(Milieuprofielen!G54),(Milieuprofielen!G54/Invoerblad!$D$56)),0)","v":0},{"$f":"IFERROR(IF(Invoerblad!$D$56=\"n.v.t.\",(Milieuprofielen!H54),(Milieuprofielen!H54/Invoerblad!$D$56)),0)","v":0},{"$f":"IFERROR(IF(Invoerblad!$D$56=\"n.v.t.\",(Milieuprofielen!I54),(Milieuprofielen!I54/Invoerblad!$D$56)),0)","v":0},null,null,null,"112. Energy, primary, non-renewable, exc","MJ",{"$f":"IFERROR(IF(Invoerblad!$E$56=\"n.v.t.\",(Milieuprofielen!O54),(Milieuprofielen!O54/Invoerblad!$E$56)),0)","v":0},{"$f":"IFERROR(IF(Invoerblad!$E$56=\"n.v.t.\",(Milieuprofielen!P54),(Milieuprofielen!P54/Invoerblad!$E$56)),0)","v":0},{"$f":"IFERROR(IF(Invoerblad!$E$56=\"n.v.t.\",(Milieuprofielen!Q54),(Milieuprofielen!Q54/Invoerblad!$E$56)),0)","v":0},{"$f":"IFERROR(IF(Invoerblad!$E$56=\"n.v.t.\",(Milieuprofielen!R54),(Milieuprofielen!R54/Invoerblad!$E$56)),0)","v":0},null,null,null,"112. Energy, primary, non-renewable, exc","MJ",{"$f":"IFERROR(IF(Invoerblad!$F$56=\"n.v.t.\",(Milieuprofielen!X54),(Milieuprofielen!X54/Invoerblad!$F$56)),0)","v":0},{"$f":"IFERROR(IF(Invoerblad!$F$56=\"n.v.t.\",(Milieuprofielen!Y54),(Milieuprofielen!Y54/Invoerblad!$F$56)),0)","v":0},{"$f":"IFERROR(IF(Invoerblad!$F$56=\"n.v.t.\",(Milieuprofielen!Z54),(Milieuprofielen!Z54/Invoerblad!$F$56)),0)","v":0},{"$f":"IFERROR(IF(Invoerblad!$F$56=\"n.v.t.\",(Milieuprofielen!AA54),(Milieuprofielen!AA54/Invoerblad!$F$56)),0)","v":0},null,null,null,"112. Energy, primary, non-renewable, exc","MJ",{"$f":"IFERROR(IF(Invoerblad!$G$56=\"n.v.t.\",(Milieuprofielen!AG54),(Milieuprofielen!AG54/Invoerblad!$G$56)),0)","v":0},{"$f":"IFERROR(IF(Invoerblad!$G$56=\"n.v.t.\",(Milieuprofielen!AH54),(Milieuprofielen!AH54/Invoerblad!$G$56)),0)","v":0},{"$f":"IFERROR(IF(Invoerblad!$G$56=\"n.v.t.\",(Milieuprofielen!AI54),(Milieuprofielen!AI54/Invoerblad!$G$56)),0)","v":0},{"$f":"IFERROR(IF(Invoerblad!$G$56=\"n.v.t.\",(Milieuprofielen!AJ54),(Milieuprofielen!AJ54/Invoerblad!$G$56)),0)","v":0},null,null,null,"112. Energy, primary, non-renewable, exc","MJ",{"$f":"IFERROR(IF(Invoerblad!$H$56=\"n.v.t.\",(Milieuprofielen!AP54),(Milieuprofielen!AP54/Invoerblad!$H$56)),0)","v":0},{"$f":"IFERROR(IF(Invoerblad!$H$56=\"n.v.t.\",(Milieuprofielen!AQ54),(Milieuprofielen!AQ54/Invoerblad!$H$56)),0)","v":0},{"$f":"IFERROR(IF(Invoerblad!$H$56=\"n.v.t.\",(Milieuprofielen!AR54),(Milieuprofielen!AR54/Invoerblad!$H$56)),0)","v":0},{"$f":"IFERROR(IF(Invoerblad!$H$56=\"n.v.t.\",(Milieuprofielen!AS54),(Milieuprofielen!AS54/Invoerblad!$H$56)),0)","v":0}]
[null,null,null,"114. Energy, primary, non-renewable, mat","MJ",{"$f":"IFERROR(IF(Invoerblad!$D$56=\"n.v.t.\",(Milieuprofielen!F55),(Milieuprofielen!F55/Invoerblad!$D$56)),0)","v":0},{"$f":"IFERROR(IF(Invoerblad!$D$56=\"n.v.t.\",(Milieuprofielen!G55),(Milieuprofielen!G55/Invoerblad!$D$56)),0)","v":0},{"$f":"IFERROR(IF(Invoerblad!$D$56=\"n.v.t.\",(Milieuprofielen!H55),(Milieuprofielen!H55/Invoerblad!$D$56)),0)","v":0},{"$f":"IFERROR(IF(Invoerblad!$D$56=\"n.v.t.\",(Milieuprofielen!I55),(Milieuprofielen!I55/Invoerblad!$D$56)),0)","v":0},null,null,null,"114. Energy, primary, non-renewable, mat","MJ",{"$f":"IFERROR(IF(Invoerblad!$E$56=\"n.v.t.\",(Milieuprofielen!O55),(Milieuprofielen!O55/Invoerblad!$E$56)),0)","v":0},{"$f":"IFERROR(IF(Invoerblad!$E$56=\"n.v.t.\",(Milieuprofielen!P55),(Milieuprofielen!P55/Invoerblad!$E$56)),0)","v":0},{"$f":"IFERROR(IF(Invoerblad!$E$56=\"n.v.t.\",(Milieuprofielen!Q55),(Milieuprofielen!Q55/Invoerblad!$E$56)),0)","v":0},{"$f":"IFERROR(IF(Invoerblad!$E$56=\"n.v.t.\",(Milieuprofielen!R55),(Milieuprofielen!R55/Invoerblad!$E$56)),0)","v":0},null,null,null,"114. Energy, primary, non-renewable, mat","MJ",{"$f":"IFERROR(IF(Invoerblad!$F$56=\"n.v.t.\",(Milieuprofielen!X55),(Milieuprofielen!X55/Invoerblad!$F$56)),0)","v":0},{"$f":"IFERROR(IF(Invoerblad!$F$56=\"n.v.t.\",(Milieuprofielen!Y55),(Milieuprofielen!Y55/Invoerblad!$F$56)),0)","v":0},{"$f":"IFERROR(IF(Invoerblad!$F$56=\"n.v.t.\",(Milieuprofielen!Z55),(Milieuprofielen!Z55/Invoerblad!$F$56)),0)","v":0},{"$f":"IFERROR(IF(Invoerblad!$F$56=\"n.v.t.\",(Milieuprofielen!AA55),(Milieuprofielen!AA55/Invoerblad!$F$56)),0)","v":0},null,null,null,"114. Energy, primary, non-renewable, mat","MJ",{"$f":"IFERROR(IF(Invoerblad!$G$56=\"n.v.t.\",(Milieuprofielen!AG55),(Milieuprofielen!AG55/Invoerblad!$G$56)),0)","v":0},{"$f":"IFERROR(IF(Invoerblad!$G$56=\"n.v.t.\",(Milieuprofielen!AH55),(Milieuprofielen!AH55/Invoerblad!$G$56)),0)","v":0},{"$f":"IFERROR(IF(Invoerblad!$G$56=\"n.v.t.\",(Milieuprofielen!AI55),(Milieuprofielen!AI55/Invoerblad!$G$56)),0)","v":0},{"$f":"IFERROR(IF(Invoerblad!$G$56=\"n.v.t.\",(Milieuprofielen!AJ55),(Milieuprofielen!AJ55/Invoerblad!$G$56)),0)","v":0},null,null,null,"114. Energy, primary, non-renewable, mat","MJ",{"$f":"IFERROR(IF(Invoerblad!$H$56=\"n.v.t.\",(Milieuprofielen!AP55),(Milieuprofielen!AP55/Invoerblad!$H$56)),0)","v":0},{"$f":"IFERROR(IF(Invoerblad!$H$56=\"n.v.t.\",(Milieuprofielen!AQ55),(Milieuprofielen!AQ55/Invoerblad!$H$56)),0)","v":0},{"$f":"IFERROR(IF(Invoerblad!$H$56=\"n.v.t.\",(Milieuprofielen!AR55),(Milieuprofielen!AR55/Invoerblad!$H$56)),0)","v":0},{"$f":"IFERROR(IF(Invoerblad!$H$56=\"n.v.t.\",(Milieuprofielen!AS55),(Milieuprofielen!AS55/Invoerblad!$H$56)),0)","v":0}]
[null,null,null,"102. Energy, primary, non-renewable (MJ)","MJ",{"$f":"IFERROR(IF(Invoerblad!$D$56=\"n.v.t.\",(Milieuprofielen!F56),(Milieuprofielen!F56/Invoerblad!$D$56)),0)","v":45.426845511434998},{"$f":"IFERROR(IF(Invoerblad!$D$56=\"n.v.t.\",(Milieuprofielen!G56),(Milieuprofielen!G56/Invoerblad!$D$56)),0)","v":0.25623566131050002},{"$f":"IFERROR(IF(Invoerblad!$D$56=\"n.v.t.\",(Milieuprofielen!H56),(Milieuprofielen!H56/Invoerblad!$D$56)),0)","v":0.66646073435505748},{"$f":"IFERROR(IF(Invoerblad!$D$56=\"n.v.t.\",(Milieuprofielen!I56),(Milieuprofielen!I56/Invoerblad!$D$56)),0)","v":46.349541907100559},null,null,null,"102. Energy, primary, non-renewable (MJ)","MJ",{"$f":"IFERROR(IF(Invoerblad!$E$56=\"n.v.t.\",(Milieuprofielen!O56),(Milieuprofielen!O56/Invoerblad!$E$56)),0)","v":0},{"$f":"IFERROR(IF(Invoerblad!$E$56=\"n.v.t.\",(Milieuprofielen!P56),(Milieuprofielen!P56/Invoerblad!$E$56)),0)","v":0},{"$f":"IFERROR(IF(Invoerblad!$E$56=\"n.v.t.\",(Milieuprofielen!Q56),(Milieuprofielen!Q56/Invoerblad!$E$56)),0)","v":0},{"$f":"IFERROR(IF(Invoerblad!$E$56=\"n.v.t.\",(Milieuprofielen!R56),(Milieuprofielen!R56/Invoerblad!$E$56)),0)","v":0},null,null,null,"102. Energy, primary, non-renewable (MJ)","MJ",{"$f":"IFERROR(IF(Invoerblad!$F$56=\"n.v.t.\",(Milieuprofielen!X56),(Milieuprofielen!X56/Invoerblad!$F$56)),0)","v":0},{"$f":"IFERROR(IF(Invoerblad!$F$56=\"n.v.t.\",(Milieuprofielen!Y56),(Milieuprofielen!Y56/Invoerblad!$F$56)),0)","v":0},{"$f":"IFERROR(IF(Invoerblad!$F$56=\"n.v.t.\",(Milieuprofielen!Z56),(Milieuprofielen!Z56/Invoerblad!$F$56)),0)","v":0},{"$f":"IFERROR(IF(Invoerblad!$F$56=\"n.v.t.\",(Milieuprofielen!AA56),(Milieuprofielen!AA56/Invoerblad!$F$56)),0)","v":0},null,null,null,"102. Energy, primary, non-renewable (MJ)","MJ",{"$f":"IFERROR(IF(Invoerblad!$G$56=\"n.v.t.\",(Milieuprofielen!AG56),(Milieuprofielen!AG56/Invoerblad!$G$56)),0)","v":0},{"$f":"IFERROR(IF(Invoerblad!$G$56=\"n.v.t.\",(Milieuprofielen!AH56),(Milieuprofielen!AH56/Invoerblad!$G$56)),0)","v":0},{"$f":"IFERROR(IF(Invoerblad!$G$56=\"n.v.t.\",(Milieuprofielen!AI56),(Milieuprofielen!AI56/Invoerblad!$G$56)),0)","v":0},{"$f":"IFERROR(IF(Invoerblad!$G$56=\"n.v.t.\",(Milieuprofielen!AJ56),(Milieuprofielen!AJ56/Invoerblad!$G$56)),0)","v":0},null,null,null,"102. Energy, primary, non-renewable (MJ)","MJ",{"$f":"IFERROR(IF(Invoerblad!$H$56=\"n.v.t.\",(Milieuprofielen!AP56),(Milieuprofielen!AP56/Invoerblad!$H$56)),0)","v":0},{"$f":"IFERROR(IF(Invoerblad!$H$56=\"n.v.t.\",(Milieuprofielen!AQ56),(Milieuprofielen!AQ56/Invoerblad!$H$56)),0)","v":0},{"$f":"IFERROR(IF(Invoerblad!$H$56=\"n.v.t.\",(Milieuprofielen!AR56),(Milieuprofielen!AR56/Invoerblad!$H$56)),0)","v":0},{"$f":"IFERROR(IF(Invoerblad!$H$56=\"n.v.t.\",(Milieuprofielen!AS56),(Milieuprofielen!AS56/Invoerblad!$H$56)),0)","v":0}]
[null,null,null,"108. Secondary material (kg)","kg",{"$f":"IFERROR(IF(Invoerblad!$D$56=\"n.v.t.\",(Milieuprofielen!F57),(Milieuprofielen!F57/Invoerblad!$D$56)),0)","v":0},{"$f":"IFERROR(IF(Invoerblad!$D$56=\"n.v.t.\",(Milieuprofielen!G57),(Milieuprofielen!G57/Invoerblad!$D$56)),0)","v":0},{"$f":"IFERROR(IF(Invoerblad!$D$56=\"n.v.t.\",(Milieuprofielen!H57),(Milieuprofielen!H57/Invoerblad!$D$56)),0)","v":0},{"$f":"IFERROR(IF(Invoerblad!$D$56=\"n.v.t.\",(Milieuprofielen!I57),(Milieuprofielen!I57/Invoerblad!$D$56)),0)","v":0},null,null,null,"108. Secondary material (kg)","kg",{"$f":"IFERROR(IF(Invoerblad!$E$56=\"n.v.t.\",(Milieuprofielen!O57),(Milieuprofielen!O57/Invoerblad!$E$56)),0)","v":0},{"$f":"IFERROR(IF(Invoerblad!$E$56=\"n.v.t.\",(Milieuprofielen!P57),(Milieuprofielen!P57/Invoerblad!$E$56)),0)","v":0},{"$f":"IFERROR(IF(Invoerblad!$E$56=\"n.v.t.\",(Milieuprofielen!Q57),(Milieuprofielen!Q57/Invoerblad!$E$56)),0)","v":0},{"$f":"IFERROR(IF(Invoerblad!$E$56=\"n.v.t.\",(Milieuprofielen!R57),(Milieuprofielen!R57/Invoerblad!$E$56)),0)","v":0},null,null,null,"108. Secondary material (kg)","kg",{"$f":"IFERROR(IF(Invoerblad!$F$56=\"n.v.t.\",(Milieuprofielen!X57),(Milieuprofielen!X57/Invoerblad!$F$56)),0)","v":0},{"$f":"IFERROR(IF(Invoerblad!$F$56=\"n.v.t.\",(Milieuprofielen!Y57),(Milieuprofielen!Y57/Invoerblad!$F$56)),0)","v":0},{"$f":"IFERROR(IF(Invoerblad!$F$56=\"n.v.t.\",(Milieuprofielen!Z57),(Milieuprofielen!Z57/Invoerblad!$F$56)),0)","v":0},{"$f":"IFERROR(IF(Invoerblad!$F$56=\"n.v.t.\",(Milieuprofielen!AA57),(Milieuprofielen!AA57/Invoerblad!$F$56)),0)","v":0},null,null,null,"108. Secondary material (kg)","kg",{"$f":"IFERROR(IF(Invoerblad!$G$56=\"n.v.t.\",(Milieuprofielen!AG57),(Milieuprofielen!AG57/Invoerblad!$G$56)),0)","v":0},{"$f":"IFERROR(IF(Invoerblad!$G$56=\"n.v.t.\",(Milieuprofielen!AH57),(Milieuprofielen!AH57/Invoerblad!$G$56)),0)","v":0},{"$f":"IFERROR(IF(Invoerblad!$G$56=\"n.v.t.\",(Milieuprofielen!AI57),(Milieuprofielen!AI57/Invoerblad!$G$56)),0)","v":0},{"$f":"IFERROR(IF(Invoerblad!$G$56=\"n.v.t.\",(Milieuprofielen!AJ57),(Milieuprofielen!AJ57/Invoerblad!$G$56)),0)","v":0},null,null,null,"108. Secondary material (kg)","kg",{"$f":"IFERROR(IF(Invoerblad!$H$56=\"n.v.t.\",(Milieuprofielen!AP57),(Milieuprofielen!AP57/Invoerblad!$H$56)),0)","v":0},{"$f":"IFERROR(IF(Invoerblad!$H$56=\"n.v.t.\",(Milieuprofielen!AQ57),(Milieuprofielen!AQ57/Invoerblad!$H$56)),0)","v":0},{"$f":"IFERROR(IF(Invoerblad!$H$56=\"n.v.t.\",(Milieuprofielen!AR57),(Milieuprofielen!AR57/Invoerblad!$H$56)),0)","v":0},{"$f":"IFERROR(IF(Invoerblad!$H$56=\"n.v.t.\",(Milieuprofielen!AS57),(Milieuprofielen!AS57/Invoerblad!$H$56)),0)","v":0}]
[null,null,null,"109. Secondary fuel, renewable (kg)","MJ",{"$f":"IFERROR(IF(Invoerblad!$D$56=\"n.v.t.\",(Milieuprofielen!F58),(Milieuprofielen!F58/Invoerblad!$D$56)),0)","v":0},{"$f":"IFERROR(IF(Invoerblad!$D$56=\"n.v.t.\",(Milieuprofielen!G58),(Milieuprofielen!G58/Invoerblad!$D$56)),0)","v":0},{"$f":"IFERROR(IF(Invoerblad!$D$56=\"n.v.t.\",(Milieuprofielen!H58),(Milieuprofielen!H58/Invoerblad!$D$56)),0)","v":0},{"$f":"IFERROR(IF(Invoerblad!$D$56=\"n.v.t.\",(Milieuprofielen!I58),(Milieuprofielen!I58/Invoerblad!$D$56)),0)","v":0},null,null,null,"109. Secondary fuel, renewable (kg)","MJ",{"$f":"IFERROR(IF(Invoerblad!$E$56=\"n.v.t.\",(Milieuprofielen!O58),(Milieuprofielen!O58/Invoerblad!$E$56)),0)","v":0},{"$f":"IFERROR(IF(Invoerblad!$E$56=\"n.v.t.\",(Milieuprofielen!P58),(Milieuprofielen!P58/Invoerblad!$E$56)),0)","v":0},{"$f":"IFERROR(IF(Invoerblad!$E$56=\"n.v.t.\",(Milieuprofielen!Q58),(Milieuprofielen!Q58/Invoerblad!$E$56)),0)","v":0},{"$f":"IFERROR(IF(Invoerblad!$E$56=\"n.v.t.\",(Milieuprofielen!R58),(Milieuprofielen!R58/Invoerblad!$E$56)),0)","v":0},null,null,null,"109. Secondary fuel, renewable (kg)","MJ",{"$f":"IFERROR(IF(Invoerblad!$F$56=\"n.v.t.\",(Milieuprofielen!X58),(Milieuprofielen!X58/Invoerblad!$F$56)),0)","v":0},{"$f":"IFERROR(IF(Invoerblad!$F$56=\"n.v.t.\",(Milieuprofielen!Y58),(Milieuprofielen!Y58/Invoerblad!$F$56)),0)","v":0},{"$f":"IFERROR(IF(Invoerblad!$F$56=\"n.v.t.\",(Milieuprofielen!Z58),(Milieuprofielen!Z58/Invoerblad!$F$56)),0)","v":0},{"$f":"IFERROR(IF(Invoerblad!$F$56=\"n.v.t.\",(Milieuprofielen!AA58),(Milieuprofielen!AA58/Invoerblad!$F$56)),0)","v":0},null,null,null,"109. Secondary fuel, renewable (kg)","MJ",{"$f":"IFERROR(IF(Invoerblad!$G$56=\"n.v.t.\",(Milieuprofielen!AG58),(Milieuprofielen!AG58/Invoerblad!$G$56)),0)","v":0},{"$f":"IFERROR(IF(Invoerblad!$G$56=\"n.v.t.\",(Milieuprofielen!AH58),(Milieuprofielen!AH58/Invoerblad!$G$56)),0)","v":0},{"$f":"IFERROR(IF(Invoerblad!$G$56=\"n.v.t.\",(Milieuprofielen!AI58),(Milieuprofielen!AI58/Invoerblad!$G$56)),0)","v":0},{"$f":"IFERROR(IF(Invoerblad!$G$56=\"n.v.t.\",(Milieuprofielen!AJ58),(Milieuprofielen!AJ58/Invoerblad!$G$56)),0)","v":0},null,null,null,"109. Secondary fuel, renewable (kg)","MJ",{"$f":"IFERROR(IF(Invoerblad!$H$56=\"n.v.t.\",(Milieuprofielen!AP58),(Milieuprofielen!AP58/Invoerblad!$H$56)),0)","v":0},{"$f":"IFERROR(IF(Invoerblad!$H$56=\"n.v.t.\",(Milieuprofielen!AQ58),(Milieuprofielen!AQ58/Invoerblad!$H$56)),0)","v":0},{"$f":"IFERROR(IF(Invoerblad!$H$56=\"n.v.t.\",(Milieuprofielen!AR58),(Milieuprofielen!AR58/Invoerblad!$H$56)),0)","v":0},{"$f":"IFERROR(IF(Invoerblad!$H$56=\"n.v.t.\",(Milieuprofielen!AS58),(Milieuprofielen!AS58/Invoerblad!$H$56)),0)","v":0}]
[null,null,null,"110. Secondary fuel, non-renewable (kg)","MJ",{"$f":"IFERROR(IF(Invoerblad!$D$56=\"n.v.t.\",(Milieuprofielen!F59),(Milieuprofielen!F59/Invoerblad!$D$56)),0)","v":0},{"$f":"IFERROR(IF(Invoerblad!$D$56=\"n.v.t.\",(Milieuprofielen!G59),(Milieuprofielen!G59/Invoerblad!$D$56)),0)","v":0},{"$f":"IFERROR(IF(Invoerblad!$D$56=\"n.v.t.\",(Milieuprofielen!H59),(Milieuprofielen!H59/Invoerblad!$D$56)),0)","v":0},{"$f":"IFERROR(IF(Invoerblad!$D$56=\"n.v.t.\",(Milieuprofielen!I59),(Milieuprofielen!I59/Invoerblad!$D$56)),0)","v":0},null,null,null,"110. Secondary fuel, non-renewable (kg)","MJ",{"$f":"IFERROR(IF(Invoerblad!$E$56=\"n.v.t.\",(Milieuprofielen!O59),(Milieuprofielen!O59/Invoerblad!$E$56)),0)","v":0},{"$f":"IFERROR(IF(Invoerblad!$E$56=\"n.v.t.\",(Milieuprofielen!P59),(Milieuprofielen!P59/Invoerblad!$E$56)),0)","v":0},{"$f":"IFERROR(IF(Invoerblad!$E$56=\"n.v.t.\",(Milieuprofielen!Q59),(Milieuprofielen!Q59/Invoerblad!$E$56)),0)","v":0},{"$f":"IFERROR(IF(Invoerblad!$E$56=\"n.v.t.\",(Milieuprofielen!R59),(Milieuprofielen!R59/Invoerblad!$E$56)),0)","v":0},null,null,null,"110. Secondary fuel, non-renewable (kg)","MJ",{"$f":"IFERROR(IF(Invoerblad!$F$56=\"n.v.t.\",(Milieuprofielen!X59),(Milieuprofielen!X59/Invoerblad!$F$56)),0)","v":0},{"$f":"IFERROR(IF(Invoerblad!$F$56=\"n.v.t.\",(Milieuprofielen!Y59),(Milieuprofielen!Y59/Invoerblad!$F$56)),0)","v":0},{"$f":"IFERROR(IF(Invoerblad!$F$56=\"n.v.t.\",(Milieuprofielen!Z59),(Milieuprofielen!Z59/Invoerblad!$F$56)),0)","v":0},{"$f":"IFERROR(IF(Invoerblad!$F$56=\"n.v.t.\",(Milieuprofielen!AA59),(Milieuprofielen!AA59/Invoerblad!$F$56)),0)","v":0},null,null,null,"110. Secondary fuel, non-renewable (kg)","MJ",{"$f":"IFERROR(IF(Invoerblad!$G$56=\"n.v.t.\",(Milieuprofielen!AG59),(Milieuprofielen!AG59/Invoerblad!$G$56)),0)","v":0},{"$f":"IFERROR(IF(Invoerblad!$G$56=\"n.v.t.\",(Milieuprofielen!AH59),(Milieuprofielen!AH59/Invoerblad!$G$56)),0)","v":0},{"$f":"IFERROR(IF(Invoerblad!$G$56=\"n.v.t.\",(Milieuprofielen!AI59),(Milieuprofielen!AI59/Invoerblad!$G$56)),0)","v":0},{"$f":"IFERROR(IF(Invoerblad!$G$56=\"n.v.t.\",(Milieuprofielen!AJ59),(Milieuprofielen!AJ59/Invoerblad!$G$56)),0)","v":0},null,null,null,"110. Secondary fuel, non-renewable (kg)","MJ",{"$f":"IFERROR(IF(Invoerblad!$H$56=\"n.v.t.\",(Milieuprofielen!AP59),(Milieuprofielen!AP59/Invoerblad!$H$56)),0)","v":0},{"$f":"IFERROR(IF(Invoerblad!$H$56=\"n.v.t.\",(Milieuprofielen!AQ59),(Milieuprofielen!AQ59/Invoerblad!$H$56)),0)","v":0},{"$f":"IFERROR(IF(Invoerblad!$H$56=\"n.v.t.\",(Milieuprofielen!AR59),(Milieuprofielen!AR59/Invoerblad!$H$56)),0)","v":0},{"$f":"IFERROR(IF(Invoerblad!$H$56=\"n.v.t.\",(Milieuprofielen!AS59),(Milieuprofielen!AS59/Invoerblad!$H$56)),0)","v":0}]
[null,null,null,"104. Water, fresh water use (m3)","m3",{"$f":"IFERROR(IF(Invoerblad!$D$56=\"n.v.t.\",(Milieuprofielen!F60),(Milieuprofielen!F60/Invoerblad!$D$56)),0)","v":3.45015549605E-3},{"$f":"IFERROR(IF(Invoerblad!$D$56=\"n.v.t.\",(Milieuprofielen!G60),(Milieuprofielen!G60/Invoerblad!$D$56)),0)","v":1.180836421855E-5},{"$f":"IFERROR(IF(Invoerblad!$D$56=\"n.v.t.\",(Milieuprofielen!H60),(Milieuprofielen!H60/Invoerblad!$D$56)),0)","v":5.9013661632027173E-4},{"$f":"IFERROR(IF(Invoerblad!$D$56=\"n.v.t.\",(Milieuprofielen!I60),(Milieuprofielen!I60/Invoerblad!$D$56)),0)","v":4.0521004765888217E-3},null,null,null,"104. Water, fresh water use (m3)","m3",{"$f":"IFERROR(IF(Invoerblad!$E$56=\"n.v.t.\",(Milieuprofielen!O60),(Milieuprofielen!O60/Invoerblad!$E$56)),0)","v":0},{"$f":"IFERROR(IF(Invoerblad!$E$56=\"n.v.t.\",(Milieuprofielen!P60),(Milieuprofielen!P60/Invoerblad!$E$56)),0)","v":0},{"$f":"IFERROR(IF(Invoerblad!$E$56=\"n.v.t.\",(Milieuprofielen!Q60),(Milieuprofielen!Q60/Invoerblad!$E$56)),0)","v":0},{"$f":"IFERROR(IF(Invoerblad!$E$56=\"n.v.t.\",(Milieuprofielen!R60),(Milieuprofielen!R60/Invoerblad!$E$56)),0)","v":0},null,null,null,"104. Water, fresh water use (m3)","m3",{"$f":"IFERROR(IF(Invoerblad!$F$56=\"n.v.t.\",(Milieuprofielen!X60),(Milieuprofielen!X60/Invoerblad!$F$56)),0)","v":0},{"$f":"IFERROR(IF(Invoerblad!$F$56=\"n.v.t.\",(Milieuprofielen!Y60),(Milieuprofielen!Y60/Invoerblad!$F$56)),0)","v":0},{"$f":"IFERROR(IF(Invoerblad!$F$56=\"n.v.t.\",(Milieuprofielen!Z60),(Milieuprofielen!Z60/Invoerblad!$F$56)),0)","v":0},{"$f":"IFERROR(IF(Invoerblad!$F$56=\"n.v.t.\",(Milieuprofielen!AA60),(Milieuprofielen!AA60/Invoerblad!$F$56)),0)","v":0},null,null,null,"104. Water, fresh water use (m3)","m3",{"$f":"IFERROR(IF(Invoerblad!$G$56=\"n.v.t.\",(Milieuprofielen!AG60),(Milieuprofielen!AG60/Invoerblad!$G$56)),0)","v":0},{"$f":"IFERROR(IF(Invoerblad!$G$56=\"n.v.t.\",(Milieuprofielen!AH60),(Milieuprofielen!AH60/Invoerblad!$G$56)),0)","v":0},{"$f":"IFERROR(IF(Invoerblad!$G$56=\"n.v.t.\",(Milieuprofielen!AI60),(Milieuprofielen!AI60/Invoerblad!$G$56)),0)","v":0},{"$f":"IFERROR(IF(Invoerblad!$G$56=\"n.v.t.\",(Milieuprofielen!AJ60),(Milieuprofielen!AJ60/Invoerblad!$G$56)),0)","v":0},null,null,null,"104. Water, fresh water use (m3)","m3",{"$f":"IFERROR(IF(Invoerblad!$H$56=\"n.v.t.\",(Milieuprofielen!AP60),(Milieuprofielen!AP60/Invoerblad!$H$56)),0)","v":0},{"$f":"IFERROR(IF(Invoerblad!$H$56=\"n.v.t.\",(Milieuprofielen!AQ60),(Milieuprofielen!AQ60/Invoerblad!$H$56)),0)","v":0},{"$f":"IFERROR(IF(Invoerblad!$H$56=\"n.v.t.\",(Milieuprofielen!AR60),(Milieuprofielen!AR60/Invoerblad!$H$56)),0)","v":0},{"$f":"IFERROR(IF(Invoerblad!$H$56=\"n.v.t.\",(Milieuprofielen!AS60),(Milieuprofielen!AS60/Invoerblad!$H$56)),0)","v":0}]
[null,null,null,"106. Waste, hazardous (kg)","kg",{"$f":"IFERROR(IF(Invoerblad!$D$56=\"n.v.t.\",(Milieuprofielen!F61),(Milieuprofielen!F61/Invoerblad!$D$56)),0)","v":2.555044429223E-4},{"$f":"IFERROR(IF(Invoerblad!$D$56=\"n.v.t.\",(Milieuprofielen!G61),(Milieuprofielen!G61/Invoerblad!$D$56)),0)","v":1.490114281785E-6},{"$f":"IFERROR(IF(Invoerblad!$D$56=\"n.v.t.\",(Milieuprofielen!H61),(Milieuprofielen!H61/Invoerblad!$D$56)),0)","v":3.771094449288271E-6},{"$f":"IFERROR(IF(Invoerblad!$D$56=\"n.v.t.\",(Milieuprofielen!I61),(Milieuprofielen!I61/Invoerblad!$D$56)),0)","v":2.6076565165337329E-4},null,null,null,"106. Waste, hazardous (kg)","kg",{"$f":"IFERROR(IF(Invoerblad!$E$56=\"n.v.t.\",(Milieuprofielen!O61),(Milieuprofielen!O61/Invoerblad!$E$56)),0)","v":0},{"$f":"IFERROR(IF(Invoerblad!$E$56=\"n.v.t.\",(Milieuprofielen!P61),(Milieuprofielen!P61/Invoerblad!$E$56)),0)","v":0},{"$f":"IFERROR(IF(Invoerblad!$E$56=\"n.v.t.\",(Milieuprofielen!Q61),(Milieuprofielen!Q61/Invoerblad!$E$56)),0)","v":0},{"$f":"IFERROR(IF(Invoerblad!$E$56=\"n.v.t.\",(Milieuprofielen!R61),(Milieuprofielen!R61/Invoerblad!$E$56)),0)","v":0},null,null,null,"106. Waste, hazardous (kg)","kg",{"$f":"IFERROR(IF(Invoerblad!$F$56=\"n.v.t.\",(Milieuprofielen!X61),(Milieuprofielen!X61/Invoerblad!$F$56)),0)","v":0},{"$f":"IFERROR(IF(Invoerblad!$F$56=\"n.v.t.\",(Milieuprofielen!Y61),(Milieuprofielen!Y61/Invoerblad!$F$56)),0)","v":0},{"$f":"IFERROR(IF(Invoerblad!$F$56=\"n.v.t.\",(Milieuprofielen!Z61),(Milieuprofielen!Z61/Invoerblad!$F$56)),0)","v":0},{"$f":"IFERROR(IF(Invoerblad!$F$56=\"n.v.t.\",(Milieuprofielen!AA61),(Milieuprofielen!AA61/Invoerblad!$F$56)),0)","v":0},null,null,null,"106. Waste, hazardous (kg)","kg",{"$f":"IFERROR(IF(Invoerblad!$G$56=\"n.v.t.\",(Milieuprofielen!AG61),(Milieuprofielen!AG61/Invoerblad!$G$56)),0)","v":0},{"$f":"IFERROR(IF(Invoerblad!$G$56=\"n.v.t.\",(Milieuprofielen!AH61),(Milieuprofielen!AH61/Invoerblad!$G$56)),0)","v":0},{"$f":"IFERROR(IF(Invoerblad!$G$56=\"n.v.t.\",(Milieuprofielen!AI61),(Milieuprofielen!AI61/Invoerblad!$G$56)),0)","v":0},{"$f":"IFERROR(IF(Invoerblad!$G$56=\"n.v.t.\",(Milieuprofielen!AJ61),(Milieuprofielen!AJ61/Invoerblad!$G$56)),0)","v":0},null,null,null,"106. Waste, hazardous (kg)","kg",{"$f":"IFERROR(IF(Invoerblad!$H$56=\"n.v.t.\",(Milieuprofielen!AP61),(Milieuprofielen!AP61/Invoerblad!$H$56)),0)","v":0},{"$f":"IFERROR(IF(Invoerblad!$H$56=\"n.v.t.\",(Milieuprofielen!AQ61),(Milieuprofielen!AQ61/Invoerblad!$H$56)),0)","v":0},{"$f":"IFERROR(IF(Invoerblad!$H$56=\"n.v.t.\",(Milieuprofielen!AR61),(Milieuprofielen!AR61/Invoerblad!$H$56)),0)","v":0},{"$f":"IFERROR(IF(Invoerblad!$H$56=\"n.v.t.\",(Milieuprofielen!AS61),(Milieuprofielen!AS61/Invoerblad!$H$56)),0)","v":0}]
[null,null,null,"105. Waste, non hazardous (kg)","kg",{"$f":"IFERROR(IF(Invoerblad!$D$56=\"n.v.t.\",(Milieuprofielen!F62),(Milieuprofielen!F62/Invoerblad!$D$56)),0)","v":1.6055321263049999E-2},{"$f":"IFERROR(IF(Invoerblad!$D$56=\"n.v.t.\",(Milieuprofielen!G62),(Milieuprofielen!G62/Invoerblad!$D$56)),0)","v":1.9499729593350001E-2},{"$f":"IFERROR(IF(Invoerblad!$D$56=\"n.v.t.\",(Milieuprofielen!H62),(Milieuprofielen!H62/Invoerblad!$D$56)),0)","v":2.3322898520328934E-2},{"$f":"IFERROR(IF(Invoerblad!$D$56=\"n.v.t.\",(Milieuprofielen!I62),(Milieuprofielen!I62/Invoerblad!$D$56)),0)","v":5.8877949376728939E-2},null,null,null,"105. Waste, non hazardous (kg)","kg",{"$f":"IFERROR(IF(Invoerblad!$E$56=\"n.v.t.\",(Milieuprofielen!O62),(Milieuprofielen!O62/Invoerblad!$E$56)),0)","v":0},{"$f":"IFERROR(IF(Invoerblad!$E$56=\"n.v.t.\",(Milieuprofielen!P62),(Milieuprofielen!P62/Invoerblad!$E$56)),0)","v":0},{"$f":"IFERROR(IF(Invoerblad!$E$56=\"n.v.t.\",(Milieuprofielen!Q62),(Milieuprofielen!Q62/Invoerblad!$E$56)),0)","v":0},{"$f":"IFERROR(IF(Invoerblad!$E$56=\"n.v.t.\",(Milieuprofielen!R62),(Milieuprofielen!R62/Invoerblad!$E$56)),0)","v":0},null,null,null,"105. Waste, non hazardous (kg)","kg",{"$f":"IFERROR(IF(Invoerblad!$F$56=\"n.v.t.\",(Milieuprofielen!X62),(Milieuprofielen!X62/Invoerblad!$F$56)),0)","v":0},{"$f":"IFERROR(IF(Invoerblad!$F$56=\"n.v.t.\",(Milieuprofielen!Y62),(Milieuprofielen!Y62/Invoerblad!$F$56)),0)","v":0},{"$f":"IFERROR(IF(Invoerblad!$F$56=\"n.v.t.\",(Milieuprofielen!Z62),(Milieuprofielen!Z62/Invoerblad!$F$56)),0)","v":0},{"$f":"IFERROR(IF(Invoerblad!$F$56=\"n.v.t.\",(Milieuprofielen!AA62),(Milieuprofielen!AA62/Invoerblad!$F$56)),0)","v":0},null,null,null,"105. Waste, non hazardous (kg)","kg",{"$f":"IFERROR(IF(Invoerblad!$G$56=\"n.v.t.\",(Milieuprofielen!AG62),(Milieuprofielen!AG62/Invoerblad!$G$56)),0)","v":0},{"$f":"IFERROR(IF(Invoerblad!$G$56=\"n.v.t.\",(Milieuprofielen!AH62),(Milieuprofielen!AH62/Invoerblad!$G$56)),0)","v":0},{"$f":"IFERROR(IF(Invoerblad!$G$56=\"n.v.t.\",(Milieuprofielen!AI62),(Milieuprofielen!AI62/Invoerblad!$G$56)),0)","v":0},{"$f":"IFERROR(IF(Invoerblad!$G$56=\"n.v.t.\",(Milieuprofielen!AJ62),(Milieuprofielen!AJ62/Invoerblad!$G$56)),0)","v":0},null,null,null,"105. Waste, non hazardous (kg)","kg",{"$f":"IFERROR(IF(Invoerblad!$H$56=\"n.v.t.\",(Milieuprofielen!AP62),(Milieuprofielen!AP62/Invoerblad!$H$56)),0)","v":0},{"$f":"IFERROR(IF(Invoerblad!$H$56=\"n.v.t.\",(Milieuprofielen!AQ62),(Milieuprofielen!AQ62/Invoerblad!$H$56)),0)","v":0},{"$f":"IFERROR(IF(Invoerblad!$H$56=\"n.v.t.\",(Milieuprofielen!AR62),(Milieuprofielen!AR62/Invoerblad!$H$56)),0)","v":0},{"$f":"IFERROR(IF(Invoerblad!$H$56=\"n.v.t.\",(Milieuprofielen!AS62),(Milieuprofielen!AS62/Invoerblad!$H$56)),0)","v":0}]
[null,null,null,"107. Waste, radioactive (kg)","kg",{"$f":"IFERROR(IF(Invoerblad!$D$56=\"n.v.t.\",(Milieuprofielen!F63),(Milieuprofielen!F63/Invoerblad!$D$56)),0)","v":5.165470308325E-6},{"$f":"IFERROR(IF(Invoerblad!$D$56=\"n.v.t.\",(Milieuprofielen!G63),(Milieuprofielen!G63/Invoerblad!$D$56)),0)","v":3.8121218539429997E-7},{"$f":"IFERROR(IF(Invoerblad!$D$56=\"n.v.t.\",(Milieuprofielen!H63),(Milieuprofielen!H63/Invoerblad!$D$56)),0)","v":7.3686359411121845E-7},{"$f":"IFERROR(IF(Invoerblad!$D$56=\"n.v.t.\",(Milieuprofielen!I63),(Milieuprofielen!I63/Invoerblad!$D$56)),0)","v":6.2835460878305184E-6},null,null,null,"107. Waste, radioactive (kg)","kg",{"$f":"IFERROR(IF(Invoerblad!$E$56=\"n.v.t.\",(Milieuprofielen!O63),(Milieuprofielen!O63/Invoerblad!$E$56)),0)","v":0},{"$f":"IFERROR(IF(Invoerblad!$E$56=\"n.v.t.\",(Milieuprofielen!P63),(Milieuprofielen!P63/Invoerblad!$E$56)),0)","v":0},{"$f":"IFERROR(IF(Invoerblad!$E$56=\"n.v.t.\",(Milieuprofielen!Q63),(Milieuprofielen!Q63/Invoerblad!$E$56)),0)","v":0},{"$f":"IFERROR(IF(Invoerblad!$E$56=\"n.v.t.\",(Milieuprofielen!R63),(Milieuprofielen!R63/Invoerblad!$E$56)),0)","v":0},null,null,null,"107. Waste, radioactive (kg)","kg",{"$f":"IFERROR(IF(Invoerblad!$F$56=\"n.v.t.\",(Milieuprofielen!X63),(Milieuprofielen!X63/Invoerblad!$F$56)),0)","v":0},{"$f":"IFERROR(IF(Invoerblad!$F$56=\"n.v.t.\",(Milieuprofielen!Y63),(Milieuprofielen!Y63/Invoerblad!$F$56)),0)","v":0},{"$f":"IFERROR(IF(Invoerblad!$F$56=\"n.v.t.\",(Milieuprofielen!Z63),(Milieuprofielen!Z63/Invoerblad!$F$56)),0)","v":0},{"$f":"IFERROR(IF(Invoerblad!$F$56=\"n.v.t.\",(Milieuprofielen!AA63),(Milieuprofielen!AA63/Invoerblad!$F$56)),0)","v":0},null,null,null,"107. Waste, radioactive (kg)","kg",{"$f":"IFERROR(IF(Invoerblad!$G$56=\"n.v.t.\",(Milieuprofielen!AG63),(Milieuprofielen!AG63/Invoerblad!$G$56)),0)","v":0},{"$f":"IFERROR(IF(Invoerblad!$G$56=\"n.v.t.\",(Milieuprofielen!AH63),(Milieuprofielen!AH63/Invoerblad!$G$56)),0)","v":0},{"$f":"IFERROR(IF(Invoerblad!$G$56=\"n.v.t.\",(Milieuprofielen!AI63),(Milieuprofielen!AI63/Invoerblad!$G$56)),0)","v":0},{"$f":"IFERROR(IF(Invoerblad!$G$56=\"n.v.t.\",(Milieuprofielen!AJ63),(Milieuprofielen!AJ63/Invoerblad!$G$56)),0)","v":0},null,null,null,"107. Waste, radioactive (kg)","kg",{"$f":"IFERROR(IF(Invoerblad!$H$56=\"n.v.t.\",(Milieuprofielen!AP63),(Milieuprofielen!AP63/Invoerblad!$H$56)),0)","v":0},{"$f":"IFERROR(IF(Invoerblad!$H$56=\"n.v.t.\",(Milieuprofielen!AQ63),(Milieuprofielen!AQ63/Invoerblad!$H$56)),0)","v":0},{"$f":"IFERROR(IF(Invoerblad!$H$56=\"n.v.t.\",(Milieuprofielen!AR63),(Milieuprofielen!AR63/Invoerblad!$H$56)),0)","v":0},{"$f":"IFERROR(IF(Invoerblad!$H$56=\"n.v.t.\",(Milieuprofielen!AS63),(Milieuprofielen!AS63/Invoerblad!$H$56)),0)","v":0}]
[null,null,null,"120. Components for re-use (kg)","kg",{"$f":"IFERROR(IF(Invoerblad!$D$56=\"n.v.t.\",(Milieuprofielen!F64),(Milieuprofielen!F64/Invoerblad!$D$56)),0)","v":0},{"$f":"IFERROR(IF(Invoerblad!$D$56=\"n.v.t.\",(Milieuprofielen!G64),(Milieuprofielen!G64/Invoerblad!$D$56)),0)","v":0},{"$f":"IFERROR(IF(Invoerblad!$D$56=\"n.v.t.\",(Milieuprofielen!H64),(Milieuprofielen!H64/Invoerblad!$D$56)),0)","v":0},{"$f":"IFERROR(IF(Invoerblad!$D$56=\"n.v.t.\",(Milieuprofielen!I64),(Milieuprofielen!I64/Invoerblad!$D$56)),0)","v":0},null,null,null,"120. Components for re-use (kg)","kg",{"$f":"IFERROR(IF(Invoerblad!$E$56=\"n.v.t.\",(Milieuprofielen!O64),(Milieuprofielen!O64/Invoerblad!$E$56)),0)","v":0},{"$f":"IFERROR(IF(Invoerblad!$E$56=\"n.v.t.\",(Milieuprofielen!P64),(Milieuprofielen!P64/Invoerblad!$E$56)),0)","v":0},{"$f":"IFERROR(IF(Invoerblad!$E$56=\"n.v.t.\",(Milieuprofielen!Q64),(Milieuprofielen!Q64/Invoerblad!$E$56)),0)","v":0},{"$f":"IFERROR(IF(Invoerblad!$E$56=\"n.v.t.\",(Milieuprofielen!R64),(Milieuprofielen!R64/Invoerblad!$E$56)),0)","v":0},null,null,null,"120. Components for re-use (kg)","kg",{"$f":"IFERROR(IF(Invoerblad!$F$56=\"n.v.t.\",(Milieuprofielen!X64),(Milieuprofielen!X64/Invoerblad!$F$56)),0)","v":0},{"$f":"IFERROR(IF(Invoerblad!$F$56=\"n.v.t.\",(Milieuprofielen!Y64),(Milieuprofielen!Y64/Invoerblad!$F$56)),0)","v":0},{"$f":"IFERROR(IF(Invoerblad!$F$56=\"n.v.t.\",(Milieuprofielen!Z64),(Milieuprofielen!Z64/Invoerblad!$F$56)),0)","v":0},{"$f":"IFERROR(IF(Invoerblad!$F$56=\"n.v.t.\",(Milieuprofielen!AA64),(Milieuprofielen!AA64/Invoerblad!$F$56)),0)","v":0},null,null,null,"120. Components for re-use (kg)","kg",{"$f":"IFERROR(IF(Invoerblad!$G$56=\"n.v.t.\",(Milieuprofielen!AG64),(Milieuprofielen!AG64/Invoerblad!$G$56)),0)","v":0},{"$f":"IFERROR(IF(Invoerblad!$G$56=\"n.v.t.\",(Milieuprofielen!AH64),(Milieuprofielen!AH64/Invoerblad!$G$56)),0)","v":0},{"$f":"IFERROR(IF(Invoerblad!$G$56=\"n.v.t.\",(Milieuprofielen!AI64),(Milieuprofielen!AI64/Invoerblad!$G$56)),0)","v":0},{"$f":"IFERROR(IF(Invoerblad!$G$56=\"n.v.t.\",(Milieuprofielen!AJ64),(Milieuprofielen!AJ64/Invoerblad!$G$56)),0)","v":0},null,null,null,"120. Components for re-use (kg)","kg",{"$f":"IFERROR(IF(Invoerblad!$H$56=\"n.v.t.\",(Milieuprofielen!AP64),(Milieuprofielen!AP64/Invoerblad!$H$56)),0)","v":0},{"$f":"IFERROR(IF(Invoerblad!$H$56=\"n.v.t.\",(Milieuprofielen!AQ64),(Milieuprofielen!AQ64/Invoerblad!$H$56)),0)","v":0},{"$f":"IFERROR(IF(Invoerblad!$H$56=\"n.v.t.\",(Milieuprofielen!AR64),(Milieuprofielen!AR64/Invoerblad!$H$56)),0)","v":0},{"$f":"IFERROR(IF(Invoerblad!$H$56=\"n.v.t.\",(Milieuprofielen!AS64),(Milieuprofielen!AS64/Invoerblad!$H$56)),0)","v":0}]
[null,null,null,"121. Materials for recycling (kg)","kg",{"$f":"IFERROR(IF(Invoerblad!$D$56=\"n.v.t.\",(Milieuprofielen!F65),(Milieuprofielen!F65/Invoerblad!$D$56)),0)","v":0},{"$f":"IFERROR(IF(Invoerblad!$D$56=\"n.v.t.\",(Milieuprofielen!G65),(Milieuprofielen!G65/Invoerblad!$D$56)),0)","v":0},{"$f":"IFERROR(IF(Invoerblad!$D$56=\"n.v.t.\",(Milieuprofielen!H65),(Milieuprofielen!H65/Invoerblad!$D$56)),0)","v":0},{"$f":"IFERROR(IF(Invoerblad!$D$56=\"n.v.t.\",(Milieuprofielen!I65),(Milieuprofielen!I65/Invoerblad!$D$56)),0)","v":0},null,null,null,"121. Materials for recycling (kg)","kg",{"$f":"IFERROR(IF(Invoerblad!$E$56=\"n.v.t.\",(Milieuprofielen!O65),(Milieuprofielen!O65/Invoerblad!$E$56)),0)","v":0},{"$f":"IFERROR(IF(Invoerblad!$E$56=\"n.v.t.\",(Milieuprofielen!P65),(Milieuprofielen!P65/Invoerblad!$E$56)),0)","v":0},{"$f":"IFERROR(IF(Invoerblad!$E$56=\"n.v.t.\",(Milieuprofielen!Q65),(Milieuprofielen!Q65/Invoerblad!$E$56)),0)","v":0},{"$f":"IFERROR(IF(Invoerblad!$E$56=\"n.v.t.\",(Milieuprofielen!R65),(Milieuprofielen!R65/Invoerblad!$E$56)),0)","v":0},null,null,null,"121. Materials for recycling (kg)","kg",{"$f":"IFERROR(IF(Invoerblad!$F$56=\"n.v.t.\",(Milieuprofielen!X65),(Milieuprofielen!X65/Invoerblad!$F$56)),0)","v":0},{"$f":"IFERROR(IF(Invoerblad!$F$56=\"n.v.t.\",(Milieuprofielen!Y65),(Milieuprofielen!Y65/Invoerblad!$F$56)),0)","v":0},{"$f":"IFERROR(IF(Invoerblad!$F$56=\"n.v.t.\",(Milieuprofielen!Z65),(Milieuprofielen!Z65/Invoerblad!$F$56)),0)","v":0},{"$f":"IFERROR(IF(Invoerblad!$F$56=\"n.v.t.\",(Milieuprofielen!AA65),(Milieuprofielen!AA65/Invoerblad!$F$56)),0)","v":0},null,null,null,"121. Materials for recycling (kg)","kg",{"$f":"IFERROR(IF(Invoerblad!$G$56=\"n.v.t.\",(Milieuprofielen!AG65),(Milieuprofielen!AG65/Invoerblad!$G$56)),0)","v":0},{"$f":"IFERROR(IF(Invoerblad!$G$56=\"n.v.t.\",(Milieuprofielen!AH65),(Milieuprofielen!AH65/Invoerblad!$G$56)),0)","v":0},{"$f":"IFERROR(IF(Invoerblad!$G$56=\"n.v.t.\",(Milieuprofielen!AI65),(Milieuprofielen!AI65/Invoerblad!$G$56)),0)","v":0},{"$f":"IFERROR(IF(Invoerblad!$G$56=\"n.v.t.\",(Milieuprofielen!AJ65),(Milieuprofielen!AJ65/Invoerblad!$G$56)),0)","v":0},null,null,null,"121. Materials for recycling (kg)","kg",{"$f":"IFERROR(IF(Invoerblad!$H$56=\"n.v.t.\",(Milieuprofielen!AP65),(Milieuprofielen!AP65/Invoerblad!$H$56)),0)","v":0},{"$f":"IFERROR(IF(Invoerblad!$H$56=\"n.v.t.\",(Milieuprofielen!AQ65),(Milieuprofielen!AQ65/Invoerblad!$H$56)),0)","v":0},{"$f":"IFERROR(IF(Invoerblad!$H$56=\"n.v.t.\",(Milieuprofielen!AR65),(Milieuprofielen!AR65/Invoerblad!$H$56)),0)","v":0},{"$f":"IFERROR(IF(Invoerblad!$H$56=\"n.v.t.\",(Milieuprofielen!AS65),(Milieuprofielen!AS65/Invoerblad!$H$56)),0)","v":0}]
[null,null,null,"122. Materials for energy recovery (kg)","kg",{"$f":"IFERROR(IF(Invoerblad!$D$56=\"n.v.t.\",(Milieuprofielen!F66),(Milieuprofielen!F66/Invoerblad!$D$56)),0)","v":0},{"$f":"IFERROR(IF(Invoerblad!$D$56=\"n.v.t.\",(Milieuprofielen!G66),(Milieuprofielen!G66/Invoerblad!$D$56)),0)","v":0},{"$f":"IFERROR(IF(Invoerblad!$D$56=\"n.v.t.\",(Milieuprofielen!H66),(Milieuprofielen!H66/Invoerblad!$D$56)),0)","v":0},{"$f":"IFERROR(IF(Invoerblad!$D$56=\"n.v.t.\",(Milieuprofielen!I66),(Milieuprofielen!I66/Invoerblad!$D$56)),0)","v":0},null,null,null,"122. Materials for energy recovery (kg)","kg",{"$f":"IFERROR(IF(Invoerblad!$E$56=\"n.v.t.\",(Milieuprofielen!O66),(Milieuprofielen!O66/Invoerblad!$E$56)),0)","v":0},{"$f":"IFERROR(IF(Invoerblad!$E$56=\"n.v.t.\",(Milieuprofielen!P66),(Milieuprofielen!P66/Invoerblad!$E$56)),0)","v":0},{"$f":"IFERROR(IF(Invoerblad!$E$56=\"n.v.t.\",(Milieuprofielen!Q66),(Milieuprofielen!Q66/Invoerblad!$E$56)),0)","v":0},{"$f":"IFERROR(IF(Invoerblad!$E$56=\"n.v.t.\",(Milieuprofielen!R66),(Milieuprofielen!R66/Invoerblad!$E$56)),0)","v":0},null,null,null,"122. Materials for energy recovery (kg)","kg",{"$f":"IFERROR(IF(Invoerblad!$F$56=\"n.v.t.\",(Milieuprofielen!X66),(Milieuprofielen!X66/Invoerblad!$F$56)),0)","v":0},{"$f":"IFERROR(IF(Invoerblad!$F$56=\"n.v.t.\",(Milieuprofielen!Y66),(Milieuprofielen!Y66/Invoerblad!$F$56)),0)","v":0},{"$f":"IFERROR(IF(Invoerblad!$F$56=\"n.v.t.\",(Milieuprofielen!Z66),(Milieuprofielen!Z66/Invoerblad!$F$56)),0)","v":0},{"$f":"IFERROR(IF(Invoerblad!$F$56=\"n.v.t.\",(Milieuprofielen!AA66),(Milieuprofielen!AA66/Invoerblad!$F$56)),0)","v":0},null,null,null,"122. Materials for energy recovery (kg)","kg",{"$f":"IFERROR(IF(Invoerblad!$G$56=\"n.v.t.\",(Milieuprofielen!AG66),(Milieuprofielen!AG66/Invoerblad!$G$56)),0)","v":0},{"$f":"IFERROR(IF(Invoerblad!$G$56=\"n.v.t.\",(Milieuprofielen!AH66),(Milieuprofielen!AH66/Invoerblad!$G$56)),0)","v":0},{"$f":"IFERROR(IF(Invoerblad!$G$56=\"n.v.t.\",(Milieuprofielen!AI66),(Milieuprofielen!AI66/Invoerblad!$G$56)),0)","v":0},{"$f":"IFERROR(IF(Invoerblad!$G$56=\"n.v.t.\",(Milieuprofielen!AJ66),(Milieuprofielen!AJ66/Invoerblad!$G$56)),0)","v":0},null,null,null,"122. Materials for energy recovery (kg)","kg",{"$f":"IFERROR(IF(Invoerblad!$H$56=\"n.v.t.\",(Milieuprofielen!AP66),(Milieuprofielen!AP66/Invoerblad!$H$56)),0)","v":0},{"$f":"IFERROR(IF(Invoerblad!$H$56=\"n.v.t.\",(Milieuprofielen!AQ66),(Milieuprofielen!AQ66/Invoerblad!$H$56)),0)","v":0},{"$f":"IFERROR(IF(Invoerblad!$H$56=\"n.v.t.\",(Milieuprofielen!AR66),(Milieuprofielen!AR66/Invoerblad!$H$56)),0)","v":0},{"$f":"IFERROR(IF(Invoerblad!$H$56=\"n.v.t.\",(Milieuprofielen!AS66),(Milieuprofielen!AS66/Invoerblad!$H$56)),0)","v":0}]
[null,null,null,"123. Exported energy, electric (MJ)","MJ",{"$f":"IFERROR(IF(Invoerblad!$D$56=\"n.v.t.\",(Milieuprofielen!F67),(Milieuprofielen!F67/Invoerblad!$D$56)),0)","v":0},{"$f":"IFERROR(IF(Invoerblad!$D$56=\"n.v.t.\",(Milieuprofielen!G67),(Milieuprofielen!G67/Invoerblad!$D$56)),0)","v":0},{"$f":"IFERROR(IF(Invoerblad!$D$56=\"n.v.t.\",(Milieuprofielen!H67),(Milieuprofielen!H67/Invoerblad!$D$56)),0)","v":0},{"$f":"IFERROR(IF(Invoerblad!$D$56=\"n.v.t.\",(Milieuprofielen!I67),(Milieuprofielen!I67/Invoerblad!$D$56)),0)","v":0},null,null,null,"123. Exported energy, electric (MJ)","MJ",{"$f":"IFERROR(IF(Invoerblad!$E$56=\"n.v.t.\",(Milieuprofielen!O67),(Milieuprofielen!O67/Invoerblad!$E$56)),0)","v":0},{"$f":"IFERROR(IF(Invoerblad!$E$56=\"n.v.t.\",(Milieuprofielen!P67),(Milieuprofielen!P67/Invoerblad!$E$56)),0)","v":0},{"$f":"IFERROR(IF(Invoerblad!$E$56=\"n.v.t.\",(Milieuprofielen!Q67),(Milieuprofielen!Q67/Invoerblad!$E$56)),0)","v":0},{"$f":"IFERROR(IF(Invoerblad!$E$56=\"n.v.t.\",(Milieuprofielen!R67),(Milieuprofielen!R67/Invoerblad!$E$56)),0)","v":0},null,null,null,"123. Exported energy, electric (MJ)","MJ",{"$f":"IFERROR(IF(Invoerblad!$F$56=\"n.v.t.\",(Milieuprofielen!X67),(Milieuprofielen!X67/Invoerblad!$F$56)),0)","v":0},{"$f":"IFERROR(IF(Invoerblad!$F$56=\"n.v.t.\",(Milieuprofielen!Y67),(Milieuprofielen!Y67/Invoerblad!$F$56)),0)","v":0},{"$f":"IFERROR(IF(Invoerblad!$F$56=\"n.v.t.\",(Milieuprofielen!Z67),(Milieuprofielen!Z67/Invoerblad!$F$56)),0)","v":0},{"$f":"IFERROR(IF(Invoerblad!$F$56=\"n.v.t.\",(Milieuprofielen!AA67),(Milieuprofielen!AA67/Invoerblad!$F$56)),0)","v":0},null,null,null,"123. Exported energy, electric (MJ)","MJ",{"$f":"IFERROR(IF(Invoerblad!$G$56=\"n.v.t.\",(Milieuprofielen!AG67),(Milieuprofielen!AG67/Invoerblad!$G$56)),0)","v":0},{"$f":"IFERROR(IF(Invoerblad!$G$56=\"n.v.t.\",(Milieuprofielen!AH67),(Milieuprofielen!AH67/Invoerblad!$G$56)),0)","v":0},{"$f":"IFERROR(IF(Invoerblad!$G$56=\"n.v.t.\",(Milieuprofielen!AI67),(Milieuprofielen!AI67/Invoerblad!$G$56)),0)","v":0},{"$f":"IFERROR(IF(Invoerblad!$G$56=\"n.v.t.\",(Milieuprofielen!AJ67),(Milieuprofielen!AJ67/Invoerblad!$G$56)),0)","v":0},null,null,null,"123. Exported energy, electric (MJ)","MJ",{"$f":"IFERROR(IF(Invoerblad!$H$56=\"n.v.t.\",(Milieuprofielen!AP67),(Milieuprofielen!AP67/Invoerblad!$H$56)),0)","v":0},{"$f":"IFERROR(IF(Invoerblad!$H$56=\"n.v.t.\",(Milieuprofielen!AQ67),(Milieuprofielen!AQ67/Invoerblad!$H$56)),0)","v":0},{"$f":"IFERROR(IF(Invoerblad!$H$56=\"n.v.t.\",(Milieuprofielen!AR67),(Milieuprofielen!AR67/Invoerblad!$H$56)),0)","v":0},{"$f":"IFERROR(IF(Invoerblad!$H$56=\"n.v.t.\",(Milieuprofielen!AS67),(Milieuprofielen!AS67/Invoerblad!$H$56)),0)","v":0}]
[null,null,null,"124. Exported energy, thermal (MJ)","MJ",{"$f":"IFERROR(IF(Invoerblad!$D$56=\"n.v.t.\",(Milieuprofielen!F68),(Milieuprofielen!F68/Invoerblad!$D$56)),0)","v":0},{"$f":"IFERROR(IF(Invoerblad!$D$56=\"n.v.t.\",(Milieuprofielen!G68),(Milieuprofielen!G68/Invoerblad!$D$56)),0)","v":0},{"$f":"IFERROR(IF(Invoerblad!$D$56=\"n.v.t.\",(Milieuprofielen!H68),(Milieuprofielen!H68/Invoerblad!$D$56)),0)","v":0},{"$f":"IFERROR(IF(Invoerblad!$D$56=\"n.v.t.\",(Milieuprofielen!I68),(Milieuprofielen!I68/Invoerblad!$D$56)),0)","v":0},null,null,null,"124. Exported energy, thermal (MJ)","MJ",{"$f":"IFERROR(IF(Invoerblad!$E$56=\"n.v.t.\",(Milieuprofielen!O68),(Milieuprofielen!O68/Invoerblad!$E$56)),0)","v":0},{"$f":"IFERROR(IF(Invoerblad!$E$56=\"n.v.t.\",(Milieuprofielen!P68),(Milieuprofielen!P68/Invoerblad!$E$56)),0)","v":0},{"$f":"IFERROR(IF(Invoerblad!$E$56=\"n.v.t.\",(Milieuprofielen!Q68),(Milieuprofielen!Q68/Invoerblad!$E$56)),0)","v":0},{"$f":"IFERROR(IF(Invoerblad!$E$56=\"n.v.t.\",(Milieuprofielen!R68),(Milieuprofielen!R68/Invoerblad!$E$56)),0)","v":0},null,null,null,"124. Exported energy, thermal (MJ)","MJ",{"$f":"IFERROR(IF(Invoerblad!$F$56=\"n.v.t.\",(Milieuprofielen!X68),(Milieuprofielen!X68/Invoerblad!$F$56)),0)","v":0},{"$f":"IFERROR(IF(Invoerblad!$F$56=\"n.v.t.\",(Milieuprofielen!Y68),(Milieuprofielen!Y68/Invoerblad!$F$56)),0)","v":0},{"$f":"IFERROR(IF(Invoerblad!$F$56=\"n.v.t.\",(Milieuprofielen!Z68),(Milieuprofielen!Z68/Invoerblad!$F$56)),0)","v":0},{"$f":"IFERROR(IF(Invoerblad!$F$56=\"n.v.t.\",(Milieuprofielen!AA68),(Milieuprofielen!AA68/Invoerblad!$F$56)),0)","v":0},null,null,null,"124. Exported energy, thermal (MJ)","MJ",{"$f":"IFERROR(IF(Invoerblad!$G$56=\"n.v.t.\",(Milieuprofielen!AG68),(Milieuprofielen!AG68/Invoerblad!$G$56)),0)","v":0},{"$f":"IFERROR(IF(Invoerblad!$G$56=\"n.v.t.\",(Milieuprofielen!AH68),(Milieuprofielen!AH68/Invoerblad!$G$56)),0)","v":0},{"$f":"IFERROR(IF(Invoerblad!$G$56=\"n.v.t.\",(Milieuprofielen!AI68),(Milieuprofielen!AI68/Invoerblad!$G$56)),0)","v":0},{"$f":"IFERROR(IF(Invoerblad!$G$56=\"n.v.t.\",(Milieuprofielen!AJ68),(Milieuprofielen!AJ68/Invoerblad!$G$56)),0)","v":0},null,null,null,"124. Exported energy, thermal (MJ)","MJ",{"$f":"IFERROR(IF(Invoerblad!$H$56=\"n.v.t.\",(Milieuprofielen!AP68),(Milieuprofielen!AP68/Invoerblad!$H$56)),0)","v":0},{"$f":"IFERROR(IF(Invoerblad!$H$56=\"n.v.t.\",(Milieuprofielen!AQ68),(Milieuprofielen!AQ68/Invoerblad!$H$56)),0)","v":0},{"$f":"IFERROR(IF(Invoerblad!$H$56=\"n.v.t.\",(Milieuprofielen!AR68),(Milieuprofielen!AR68/Invoerblad!$H$56)),0)","v":0},{"$f":"IFERROR(IF(Invoerblad!$H$56=\"n.v.t.\",(Milieuprofielen!AS68),(Milieuprofielen!AS68/Invoerblad!$H$56)),0)","v":0}]

{"sheet":"MP per GJ","index":8,"n_rows":68,"n_cols":45,"rows_kept":68,"cut":false,"hidden":false,"merged":[[31,2,49,2],[31,11,49,11],[31,20,49,20],[31,29,49,29],[31,38,49,38],[50,2,67,2],[50,11,67,11],[50,20,67,20],[50,29,67,29],[50,38,67,38],[20,2,30,2],[20,11,30,11],[20,20,30,20],[20,29,30,29],[20,38,30,38],[16,22,16,26],[16,29,16,30],[16,31,16,35],[16,38,16,39],[16,40,16,44],[16,2,16,3],[16,4,16,8],[16,11,16,12],[16,13,16,17],[16,20,16,21],[15,22,15,26],[15,29,15,30],[15,31,15,35],[15,38,15,39],[15,40,15,44],[15,2,15,3],[15,4,15,8],[15,11,15,12],[15,13,15,17],[15,20,15,21],[13,38,13,44],[14,2,14,3],[14,4,14,8],[14,11,14,12],[14,13,14,17],[14,20,14,21],[14,22,14,26],[14,29,14,30],[14,31,14,35],[14,38,14,39],[13,29,13,35],[14,40,14,44],[5,2,5,8],[6,2,10,8],[13,2,13,8],[13,11,13,17],[13,20,13,26]]}
[]
[]
[]
[]
[]
[null,null,"Milieuprofielen "]
[null,null,"In dit onderdeel worden de volledige milieuprofielen van het schip en de motoren weergegeven. Alle relevante indicatoren voor EN15804+A1, EN15804+A2 en bijbehorende parameters zijn opgenomen en weergegeven per relevante LCA module. Motoren zijn weergegeven op volgorde van links naar rechts. "]
[]
[]
[]
[]
[]
[]
[null,null,{"$f":"\"Milieuprofiel 1: \"&Invoerblad!D43&\" (per GJ)\"","v":"Milieuprofiel 1: Milieuprofiel 1 (per GJ)"},{"$nulls":8},{"$f":"\"Milieuprofiel 2: \"&Invoerblad!E43&\" (per GJ)\"","v":"Milieuprofiel 2: Milieuprofiel 2 (per GJ)"},{"$nulls":8},{"$f":"\"Milieuprofiel 3: \"&Invoerblad!F43&\" (per GJ)\"","v":"Milieuprofiel 3: Milieuprofiel 3 (per GJ)"},{"$nulls":8},{"$f":"\"Milieuprofiel 4: \"&Invoerblad!G43&\" (per GJ)\"","v":"Milieuprofiel 4: Milieuprofiel 4 (per GJ)"},{"$nulls":8},{"$f":"\"Milieuprofiel 5: \"&Invoerblad!H43&\" (per GJ)\"","v":"Milieuprofiel 5: Milieuprofiel 5 (per GJ)"}]
[null,null,"Energiedrager",null,{"$f":"Invoerblad!D44","v":"Diesel (ULSD)"},{"$nulls":6},"Energiedrager",null,{"$f":"Invoerblad!E44","v":0},{"$nulls":6},"Energiedrager",null,{"$f":"Invoerblad!F44","v":0},{"$nulls":6},"Energiedrager",null,{"$f":"Invoerblad!G43","v":"Milieuprofiel 4"},{"$nulls":6},"Energiedrager",null,{"$f":"Invoerblad!H44","v":0}]
[null,null,"Verdieping Energiedrager",null,{"$f":"Invoerblad!D45","v":"Diesel, Algemeen"},{"$nulls":6},"Verdieping Energiedrager",null,{"$f":"Invoerblad!E45","v":0},{"$nulls":6},"Verdieping Energiedrager",null,{"$f":"Invoerblad!F45","v":0},{"$nulls":6},"Verdieping Energiedrager",null,{"$f":"Invoerblad!G44","v":0},{"$nulls":6},"Verdieping Energiedrager",null,{"$f":"Invoerblad!H45","v":0}]
[null,null,"Classificatie Motor",null,{"$f":"Invoerblad!D46","v":"ULEV (Stage V IWP/IWA)"},{"$nulls":6},"Classificatie Motor",null,{"$f":"Invoerblad!E46","v":0},{"$nulls":6},"Classificatie Motor",null,{"$f":"Invoerblad!F46","v":0},{"$nulls":6},"Classificatie Motor",null,{"$f":"Invoerblad!G46","v":0},{"$nulls":6},"Classificatie Motor",null,{"$f":"Invoerblad!H46","v":0}]
[null,null,"Module","Impact Category","Unit","A1-A3","A4","B1","Total",null,null,"Module","Impact Category","Unit","A1-A3","A4","B1","Total",null,null,"Module","Impact Category","Unit","A1-A3","A4","B1","Total",null,null,"Module","Impact Category","Unit","A1-A3","A4","B1","Total",null,null,"Module","Impact Category","Unit","A1-A3","A4","B1","Total"]
[null,null,"ECI-A1","Environmental Cost Indicator (ECI) - Set 1","€",{"$f":"IFERROR((SUMIFS((_xlfn.XLOOKUP('Weighting Set'!$Z3,Modellering!$K$5:$BH$5,Modellering!$K$6:$BH$17)),Modellering!$E$6:$E$17,'MP per GJ'!F$18))/Invoerblad!$D$57*1000,0)","v":5.4216974285511199},{"$f":"IFERROR((SUMIFS((_xlfn.XLOOKUP('Weighting Set'!$Z3,Modellering!$K$5:$BH$5,Modellering!$K$6:$BH$17)),Modellering!$E$6:$E$17,'MP per GJ'!G$18))/Invoerblad!$D$57*1000,0)","v":0.10351570974085467},{"$f":"IFERROR((SUMIFS((_xlfn.XLOOKUP('Weighting Set'!$Z3,Modellering!$K$5:$BH$5,Modellering!$K$6:$BH$17)),Modellering!$E$6:$E$17,'MP per GJ'!H$18))/Invoerblad!$D$57*1000,0)","v":12.713236096977385},{"$f":"SUM(F19:H19)","v":18.238449235269357},null,null,"ECI-A1","Environmental Cost Indicator (ECI) - Set 1","€",{"$f":"IFERROR((SUMIFS((_xlfn.XLOOKUP('Weighting Set'!$Z3,Modellering!$K$25:$BH$25,Modellering!$K$26:$BH$37)),Modellering!$E$26:$E$37,'MP per GJ'!O$18))/Invoerblad!$E$57*1000,0)","v":0},{"$f":"IFERROR((SUMIFS((_xlfn.XLOOKUP('Weighting Set'!$Z3,Modellering!$K$25:$BH$25,Modellering!$K$26:$BH$37)),Modellering!$E$26:$E$37,'MP per GJ'!P$18))/Invoerblad!$E$57*1000,0)","v":0},{"$f":"IFERROR((SUMIFS((_xlfn.XLOOKUP('Weighting Set'!$Z3,Modellering!$K$25:$BH$25,Modellering!$K$26:$BH$37)),Modellering!$E$26:$E$37,'MP per GJ'!Q$18))/Invoerblad!$E$57*1000,0)","v":0},{"$f":"SUM(O19:Q19)","v":0},null,null,"ECI-A1","Environmental Cost Indicator (ECI) - Set 1","€",{"$f":"IFERROR((SUMIFS((_xlfn.XLOOKUP('Weighting Set'!$Z3,Modellering!$K$45:$BH$45,Modellering!$K$46:$BH$57)),Modellering!$E$46:$E$57,'MP per GJ'!X$18))/Invoerblad!$F$57*1000,0)","v":0},{"$f":"IFERROR((SUMIFS((_xlfn.XLOOKUP('Weighting Set'!$Z3,Modellering!$K$45:$BH$45,Modellering!$K$46:$BH$57)),Modellering!$E$46:$E$57,'MP per GJ'!Y$18))/Invoerblad!$F$57*1000,0)","v":0},{"$f":"IFERROR((SUMIFS((_xlfn.XLOOKUP('Weighting Set'!$Z3,Modellering!$K$45:$BH$45,Modellering!$K$46:$BH$57)),Modellering!$E$46:$E$57,'MP per GJ'!Z$18))/Invoerblad!$F$57*1000,0)","v":0},{"$f":"SUM(X19:Z19)","v":0},null,null,"ECI-A1","Environmental Cost Indicator (ECI) - Set 1","€",{"$f":"IFERROR((SUMIFS((_xlfn.XLOOKUP('Weighting Set'!$Z3,Modellering!$K$65:$BH$65,Modellering!$K$66:$BH$77)),Modellering!$E$66:$E$77,'MP per GJ'!AG$18))/Invoerblad!$G$57*1000,0)","v":0},{"$f":"IFERROR((SUMIFS((_xlfn.XLOOKUP('Weighting Set'!$Z3,Modellering!$K$65:$BH$65,Modellering!$K$66:$BH$77)),Modellering!$E$66:$E$77,'MP per GJ'!AH$18))/Invoerblad!$G$57*1000,0)","v":0},{"$f":"IFERROR((SUMIFS((_xlfn.XLOOKUP('Weighting Set'!$Z3,Modellering!$K$65:$BH$65,Modellering!$K$66:$BH$77)),Modellering!$E$66:$E$77,'MP per GJ'!AI$18))/Invoerblad!$G$57*1000,0)","v":0},{"$f":"SUM(AG19:AI19)","v":0},null,null,"ECI-A1","Environmental Cost Indicator (ECI) - Set 1","€",{"$f":"IFERROR((SUMIFS((_xlfn.XLOOKUP('Weighting Set'!$Z3,Modellering!$K$85:$BH$85,Modellering!$K$86:$BH$97)),Modellering!$E$86:$E$97,'MP per GJ'!AP$18))/Invoerblad!$H$57*1000,0)","v":0},{"$f":"IFERROR((SUMIFS((_xlfn.XLOOKUP('Weighting Set'!$Z3,Modellering!$K$85:$BH$85,Modellering!$K$86:$BH$97)),Modellering!$E$86:$E$97,'MP per GJ'!AQ$18))/Invoerblad!$H$57*1000,0)","v":0},{"$f":"IFERROR((SUMIFS((_xlfn.XLOOKUP('Weighting Set'!$Z3,Modellering!$K$85:$BH$85,Modellering!$K$86:$BH$97)),Modellering!$E$86:$E$97,'MP per GJ'!AR$18))/Invoerblad!$H$57*1000,0)","v":0},{"$f":"SUM(AP19:AR19)","v":0}]
[null,null,"ECI-A2","Environmental Cost Indicator (ECI) - Set 2","€",{"$f":"IFERROR((SUMIFS((_xlfn.XLOOKUP('Weighting Set'!$Z4,Modellering!$K$5:$BH$5,Modellering!$K$6:$BH$17)),Modellering!$E$6:$E$17,'MP per GJ'!F$18))/Invoerblad!$D$57*1000,0)","v":7.2474823881217612},{"$f":"IFERROR((SUMIFS((_xlfn.XLOOKUP('Weighting Set'!$Z4,Modellering!$K$5:$BH$5,Modellering!$K$6:$BH$17)),Modellering!$E$6:$E$17,'MP per GJ'!G$18))/Invoerblad!$D$57*1000,0)","v":0.19986599930708707},{"$f":"IFERROR((SUMIFS((_xlfn.XLOOKUP('Weighting Set'!$Z4,Modellering!$K$5:$BH$5,Modellering!$K$6:$BH$17)),Modellering!$E$6:$E$17,'MP per GJ'!H$18))/Invoerblad!$D$57*1000,0)","v":24.697740565566708},{"$f":"SUM(F20:H20)","v":32.145088952995557},null,null,"ECI-A2","Environmental Cost Indicator (ECI) - Set 2","€",{"$f":"IFERROR((SUMIFS((_xlfn.XLOOKUP('Weighting Set'!$Z4,Modellering!$K$25:$BH$25,Modellering!$K$26:$BH$37)),Modellering!$E$26:$E$37,'MP per GJ'!O$18))/Invoerblad!$E$57*1000,0)","v":0},{"$f":"IFERROR((SUMIFS((_xlfn.XLOOKUP('Weighting Set'!$Z4,Modellering!$K$25:$BH$25,Modellering!$K$26:$BH$37)),Modellering!$E$26:$E$37,'MP per GJ'!P$18))/Invoerblad!$E$57*1000,0)","v":0},{"$f":"IFERROR((SUMIFS((_xlfn.XLOOKUP('Weighting Set'!$Z4,Modellering!$K$25:$BH$25,Modellering!$K$26:$BH$37)),Modellering!$E$26:$E$37,'MP per GJ'!Q$18))/Invoerblad!$E$57*1000,0)","v":0},{"$f":"SUM(O20:Q20)","v":0},null,null,"ECI-A2","Environmental Cost Indicator (ECI) - Set 2","€",{"$f":"IFERROR((SUMIFS((_xlfn.XLOOKUP('Weighting Set'!$Z4,Modellering!$K$45:$BH$45,Modellering!$K$46:$BH$57)),Modellering!$E$46:$E$57,'MP per GJ'!X$18))/Invoerblad!$F$57*1000,0)","v":0},{"$f":"IFERROR((SUMIFS((_xlfn.XLOOKUP('Weighting Set'!$Z4,Modellering!$K$45:$BH$45,Modellering!$K$46:$BH$57)),Modellering!$E$46:$E$57,'MP per GJ'!Y$18))/Invoerblad!$F$57*1000,0)","v":0},{"$f":"IFERROR((SUMIFS((_xlfn.XLOOKUP('Weighting Set'!$Z4,Modellering!$K$45:$BH$45,Modellering!$K$46:$BH$57)),Modellering!$E$46:$E$57,'MP per GJ'!Z$18))/Invoerblad!$F$57*1000,0)","v":0},{"$f":"SUM(X20:Z20)","v":0},null,null,"ECI-A2","Environmental Cost Indicator (ECI) - Set 2","€",{"$f":"IFERROR((SUMIFS((_xlfn.XLOOKUP('Weighting Set'!$Z4,Modellering!$K$65:$BH$65,Modellering!$K$66:$BH$77)),Modellering!$E$66:$E$77,'MP per GJ'!AG$18))/Invoerblad!$G$57*1000,0)","v":0},{"$f":"IFERROR((SUMIFS((_xlfn.XLOOKUP('Weighting Set'!$Z4,Modellering!$K$65:$BH$65,Modellering!$K$66:$BH$77)),Modellering!$E$66:$E$77,'MP per GJ'!AH$18))/Invoerblad!$G$57*1000,0)","v":0},{"$f":"IFERROR((SUMIFS((_xlfn.XLOOKUP('Weighting Set'!$Z4,Modellering!$K$65:$BH$65,Modellering!$K$66:$BH$77)),Modellering!$E$66:$E$77,'MP per GJ'!AI$18))/Invoerblad!$G$57*1000,0)","v":0},{"$f":"SUM(AG20:AI20)","v":0},null,null,"ECI-A2","Environmental Cost Indicator (ECI) - Set 2","€",{"$f":"IFERROR((SUMIFS((_xlfn.XLOOKUP('Weighting Set'!$Z4,Modellering!$K$85:$BH$85,Modellering!$K$86:$BH$97)),Modellering!$E$86:$E$97,'MP per GJ'!AP$18))/Invoerblad!$H$57*1000,0)","v":0},{"$f":"IFERROR((SUMIFS((_xlfn.XLOOKUP('Weighting Set'!$Z4,Modellering!$K$85:$BH$85,Modellering!$K$86:$BH$97)),Modellering!$E$86:$E$97,'MP per GJ'!AQ$18))/Invoerblad!$H$57*1000,0)","v":0},{"$f":"IFERROR((SUMIFS((_xlfn.XLOOKUP('Weighting Set'!$Z4,Modellering!$K$85:$BH$85,Modellering!$K$86:$BH$97)),Modellering!$E$86:$E$97,'MP per GJ'!AR$18))/Invoerblad!$H$57*1000,0)","v":0},{"$f":"SUM(AP20:AR20)","v":0}]
[null,null,"Characterized EN15804+A1","001. abiotic depletion, non fuel (AD)","kg Sb eq",{"$f":"IFERROR((SUMIFS((_xlfn.XLOOKUP('Weighting Set'!$Z5,Modellering!$K$5:$BH$5,Modellering!$K$6:$BH$17)),Modellering!$E$6:$E$17,'MP per GJ'!F$18))/Invoerblad!$D$57*1000,0)","v":1.4185516168173796E-4},{"$f":"IFERROR((SUMIFS((_xlfn.XLOOKUP('Weighting Set'!$Z5,Modellering!$K$5:$BH$5,Modellering!$K$6:$BH$17)),Modellering!$E$6:$E$17,'MP per GJ'!G$18))/Invoerblad!$D$57*1000,0)","v":6.8979277153608174E-5},{"$f":"IFERROR((SUMIFS((_xlfn.XLOOKUP('Weighting Set'!$Z5,Modellering!$K$5:$BH$5,Modellering!$K$6:$BH$17)),Modellering!$E$6:$E$17,'MP per GJ'!H$18))/Invoerblad!$D$57*1000,0)","v":3.0643389007175848E-4},5.1726832890710466E-4,null,null,"Characterized EN15804+A1","001. abiotic depletion, non fuel (AD)","kg Sb eq",{"$f":"IFERROR((SUMIFS((_xlfn.XLOOKUP('Weighting Set'!$Z5,Modellering!$K$25:$BH$25,Modellering!$K$26:$BH$37)),Modellering!$E$26:$E$37,'MP per GJ'!O$18))/Invoerblad!$E$57*1000,0)","v":0},{"$f":"IFERROR((SUMIFS((_xlfn.XLOOKUP('Weighting Set'!$Z5,Modellering!$K$25:$BH$25,Modellering!$K$26:$BH$37)),Modellering!$E$26:$E$37,'MP per GJ'!P$18))/Invoerblad!$E$57*1000,0)","v":0},{"$f":"IFERROR((SUMIFS((_xlfn.XLOOKUP('Weighting Set'!$Z5,Modellering!$K$25:$BH$25,Modellering!$K$26:$BH$37)),Modellering!$E$26:$E$37,'MP per GJ'!Q$18))/Invoerblad!$E$57*1000,0)","v":0},0,null,null,"Characterized EN15804+A1","001. abiotic depletion, non fuel (AD)","kg Sb eq",{"$f":"IFERROR((SUMIFS((_xlfn.XLOOKUP('Weighting Set'!$Z5,Modellering!$K$45:$BH$45,Modellering!$K$46:$BH$57)),Modellering!$E$46:$E$57,'MP per GJ'!X$18))/Invoerblad!$F$57*1000,0)","v":0},{"$f":"IFERROR((SUMIFS((_xlfn.XLOOKUP('Weighting Set'!$Z5,Modellering!$K$45:$BH$45,Modellering!$K$46:$BH$57)),Modellering!$E$46:$E$57,'MP per GJ'!Y$18))/Invoerblad!$F$57*1000,0)","v":0},{"$f":"IFERROR((SUMIFS((_xlfn.XLOOKUP('Weighting Set'!$Z5,Modellering!$K$45:$BH$45,Modellering!$K$46:$BH$57)),Modellering!$E$46:$E$57,'MP per GJ'!Z$18))/Invoerblad!$F$57*1000,0)","v":0},0,null,null,"Characterized EN15804+A1","001. abiotic depletion, non fuel (AD)","kg Sb eq",{"$f":"IFERROR((SUMIFS((_xlfn.XLOOKUP('Weighting Set'!$Z5,Modellering!$K$65:$BH$65,Modellering!$K$66:$BH$77)),Modellering!$E$66:$E$77,'MP per GJ'!AG$18))/Invoerblad!$G$57*1000,0)","v":0},{"$f":"IFERROR((SUMIFS((_xlfn.XLOOKUP('Weighting Set'!$Z5,Modellering!$K$65:$BH$65,Modellering!$K$66:$BH$77)),Modellering!$E$66:$E$77,'MP per GJ'!AH$18))/Invoerblad!$G$57*1000,0)","v":0},{"$f":"IFERROR((SUMIFS((_xlfn.XLOOKUP('Weighting Set'!$Z5,Modellering!$K$65:$BH$65,Modellering!$K$66:$BH$77)),Modellering!$E$66:$E$77,'MP per GJ'!AI$18))/Invoerblad!$G$57*1000,0)","v":0},0,null,null,"Characterized EN15804+A1","001. abiotic depletion, non fuel (AD)","kg Sb eq",{"$f":"IFERROR((SUMIFS((_xlfn.XLOOKUP('Weighting Set'!$Z5,Modellering!$K$85:$BH$85,Modellering!$K$86:$BH$97)),Modellering!$E$86:$E$97,'MP per GJ'!AP$18))/Invoerblad!$H$57*1000,0)","v":0},{"$f":"IFERROR((SUMIFS((_xlfn.XLOOKUP('Weighting Set'!$Z5,Modellering!$K$85:$BH$85,Modellering!$K$86:$BH$97)),Modellering!$E$86:$E$97,'MP per GJ'!AQ$18))/Invoerblad!$H$57*1000,0)","v":0},{"$f":"IFERROR((SUMIFS((_xlfn.XLOOKUP('Weighting Set'!$Z5,Modellering!$K$85:$BH$85,Modellering!$K$86:$BH$97)),Modellering!$E$86:$E$97,'MP per GJ'!AR$18))/Invoerblad!$H$57*1000,0)","v":0},0]
[null,null,null,"002. abiotic depletion, fuel (AD)","kg Sb eq",{"$f":"IFERROR((SUMIFS((_xlfn.XLOOKUP('Weighting Set'!$Z6,Modellering!$K$5:$BH$5,Modellering!$K$6:$BH$17)),Modellering!$E$6:$E$17,'MP per GJ'!F$18))/Invoerblad!$D$57*1000,0)","v":1.3302805296920548},{"$f":"IFERROR((SUMIFS((_xlfn.XLOOKUP('Weighting Set'!$Z6,Modellering!$K$5:$BH$5,Modellering!$K$6:$BH$17)),Modellering!$E$6:$E$17,'MP per GJ'!G$18))/Invoerblad!$D$57*1000,0)","v":7.1840837177380174E-3},{"$f":"IFERROR((SUMIFS((_xlfn.XLOOKUP('Weighting Set'!$Z6,Modellering!$K$5:$BH$5,Modellering!$K$6:$BH$17)),Modellering!$E$6:$E$17,'MP per GJ'!H$18))/Invoerblad!$D$57*1000,0)","v":2.041143254060488E-2},1.3578760459503976,null,null,null,"002. abiotic depletion, fuel (AD)","kg Sb eq",{"$f":"IFERROR((SUMIFS((_xlfn.XLOOKUP('Weighting Set'!$Z6,Modellering!$K$25:$BH$25,Modellering!$K$26:$BH$37)),Modellering!$E$26:$E$37,'MP per GJ'!O$18))/Invoerblad!$E$57*1000,0)","v":0},{"$f":"IFERROR((SUMIFS((_xlfn.XLOOKUP('Weighting Set'!$Z6,Modellering!$K$25:$BH$25,Modellering!$K$26:$BH$37)),Modellering!$E$26:$E$37,'MP per GJ'!P$18))/Invoerblad!$E$57*1000,0)","v":0},{"$f":"IFERROR((SUMIFS((_xlfn.XLOOKUP('Weighting Set'!$Z6,Modellering!$K$25:$BH$25,Modellering!$K$26:$BH$37)),Modellering!$E$26:$E$37,'MP per GJ'!Q$18))/Invoerblad!$E$57*1000,0)","v":0},0,null,null,null,"002. abiotic depletion, fuel (AD)","kg Sb eq",{"$f":"IFERROR((SUMIFS((_xlfn.XLOOKUP('Weighting Set'!$Z6,Modellering!$K$45:$BH$45,Modellering!$K$46:$BH$57)),Modellering!$E$46:$E$57,'MP per GJ'!X$18))/Invoerblad!$F$57*1000,0)","v":0},{"$f":"IFERROR((SUMIFS((_xlfn.XLOOKUP('Weighting Set'!$Z6,Modellering!$K$45:$BH$45,Modellering!$K$46:$BH$57)),Modellering!$E$46:$E$57,'MP per GJ'!Y$18))/Invoerblad!$F$57*1000,0)","v":0},{"$f":"IFERROR((SUMIFS((_xlfn.XLOOKUP('Weighting Set'!$Z6,Modellering!$K$45:$BH$45,Modellering!$K$46:$BH$57)),Modellering!$E$46:$E$57,'MP per GJ'!Z$18))/Invoerblad!$F$57*1000,0)","v":0},0,null,null,null,"002. abiotic depletion, fuel (AD)","kg Sb eq",{"$f":"IFERROR((SUMIFS((_xlfn.XLOOKUP('Weighting Set'!$Z6,Modellering!$K$65:$BH$65,Modellering!$K$66:$BH$77)),Modellering!$E$66:$E$77,'MP per GJ'!AG$18))/Invoerblad!$G$57*1000,0)","v":0},{"$f":"IFERROR((SUMIFS((_xlfn.XLOOKUP('Weighting Set'!$Z6,Modellering!$K$65:$BH$65,Modellering!$K$66:$BH$77)),Modellering!$E$66:$E$77,'MP per GJ'!AH$18))/Invoerblad!$G$57*1000,0)","v":0},{"$f":"IFERROR((SUMIFS((_xlfn.XLOOKUP('Weighting Set'!$Z6,Modellering!$K$65:$BH$65,Modellering!$K$66:$BH$77)),Modellering!$E$66:$E$77,'MP per GJ'!AI$18))/Invoerblad!$G$57*1000,0)","v":0},0,null,null,null,"002. abiotic depletion, fuel (AD)","kg Sb eq",{"$f":"IFERROR((SUMIFS((_xlfn.XLOOKUP('Weighting Set'!$Z6,Modellering!$K$85:$BH$85,Modellering!$K$86:$BH$97)),Modellering!$E$86:$E$97,'MP per GJ'!AP$18))/Invoerblad!$H$57*1000,0)","v":0},{"$f":"IFERROR((SUMIFS((_xlfn.XLOOKUP('Weighting Set'!$Z6,Modellering!$K$85:$BH$85,Modellering!$K$86:$BH$97)),Modellering!$E$86:$E$97,'MP per GJ'!AQ$18))/Invoerblad!$H$57*1000,0)","v":0},{"$f":"IFERROR((SUMIFS((_xlfn.XLOOKUP('Weighting Set'!$Z6,Modellering!$K$85:$BH$85,Modellering!$K$86:$BH$97)),Modellering!$E$86:$E$97,'MP per GJ'!AR$18))/Invoerblad!$H$57*1000,0)","v":0},0]
[null,null,null,"004. global warming (GWP)","kg CO2 eq",{"$f":"IFERROR((SUMIFS((_xlfn.XLOOKUP('Weighting Set'!$Z7,Modellering!$K$5:$BH$5,Modellering!$K$6:$BH$17)),Modellering!$E$6:$E$17,'MP per GJ'!F$18))/Invoerblad!$D$57*1000,0)","v":33.462847582892103},{"$f":"IFERROR((SUMIFS((_xlfn.XLOOKUP('Weighting Set'!$Z7,Modellering!$K$5:$BH$5,Modellering!$K$6:$BH$17)),Modellering!$E$6:$E$17,'MP per GJ'!G$18))/Invoerblad!$D$57*1000,0)","v":0.9868649088967717},{"$f":"IFERROR((SUMIFS((_xlfn.XLOOKUP('Weighting Set'!$Z7,Modellering!$K$5:$BH$5,Modellering!$K$6:$BH$17)),Modellering!$E$6:$E$17,'MP per GJ'!H$18))/Invoerblad!$D$57*1000,0)","v":170.43522887698248},204.88494136877136,null,null,null,"004. global warming (GWP)","kg CO2 eq",{"$f":"IFERROR((SUMIFS((_xlfn.XLOOKUP('Weighting Set'!$Z7,Modellering!$K$25:$BH$25,Modellering!$K$26:$BH$37)),Modellering!$E$26:$E$37,'MP per GJ'!O$18))/Invoerblad!$E$57*1000,0)","v":0},{"$f":"IFERROR((SUMIFS((_xlfn.XLOOKUP('Weighting Set'!$Z7,Modellering!$K$25:$BH$25,Modellering!$K$26:$BH$37)),Modellering!$E$26:$E$37,'MP per GJ'!P$18))/Invoerblad!$E$57*1000,0)","v":0},{"$f":"IFERROR((SUMIFS((_xlfn.XLOOKUP('Weighting Set'!$Z7,Modellering!$K$25:$BH$25,Modellering!$K$26:$BH$37)),Modellering!$E$26:$E$37,'MP per GJ'!Q$18))/Invoerblad!$E$57*1000,0)","v":0},0,null,null,null,"004. global warming (GWP)","kg CO2 eq",{"$f":"IFERROR((SUMIFS((_xlfn.XLOOKUP('Weighting Set'!$Z7,Modellering!$K$45:$BH$45,Modellering!$K$46:$BH$57)),Modellering!$E$46:$E$57,'MP per GJ'!X$18))/Invoerblad!$F$57*1000,0)","v":0},{"$f":"IFERROR((SUMIFS((_xlfn.XLOOKUP('Weighting Set'!$Z7,Modellering!$K$45:$BH$45,Modellering!$K$46:$BH$57)),Modellering!$E$46:$E$57,'MP per GJ'!Y$18))/Invoerblad!$F$57*1000,0)","v":0},{"$f":"IFERROR((SUMIFS((_xlfn.XLOOKUP('Weighting Set'!$Z7,Modellering!$K$45:$BH$45,Modellering!$K$46:$BH$57)),Modellering!$E$46:$E$57,'MP per GJ'!Z$18))/Invoerblad!$F$57*1000,0)","v":0},0,null,null,null,"004. global warming (GWP)","kg CO2 eq",{"$f":"IFERROR((SUMIFS((_xlfn.XLOOKUP('Weighting Set'!$Z7,Modellering!$K$65:$BH$65,Modellering!$K$66:$BH$77)),Modellering!$E$66:$E$77,'MP per GJ'!AG$18))/Invoerblad!$G$57*1000,0)","v":0},{"$f":"IFERROR((SUMIFS((_xlfn.XLOOKUP('Weighting Set'!$Z7,Modellering!$K$65:$BH$65,Modellering!$K$66:$BH$77)),Modellering!$E$66:$E$77,'MP per GJ'!AH$18))/Invoerblad!$G$57*1000,0)","v":0},{"$f":"IFERROR((SUMIFS((_xlfn.XLOOKUP('Weighting Set'!$Z7,Modellering!$K$65:$BH$65,Modellering!$K$66:$BH$77)),Modellering!$E$66:$E$77,'MP per GJ'!AI$18))/Invoerblad!$G$57*1000,0)","v":0},0,null,null,null,"004. global warming (GWP)","kg CO2 eq",{"$f":"IFERROR((SUMIFS((_xlfn.XLOOKUP('Weighting Set'!$Z7,Modellering!$K$85:$BH$85,Modellering!$K$86:$BH$97)),Modellering!$E$86:$E$97,'MP per GJ'!AP$18))/Invoerblad!$H$57*1000,0)","v":0},{"$f":"IFERROR((SUMIFS((_xlfn.XLOOKUP('Weighting Set'!$Z7,Modellering!$K$85:$BH$85,Modellering!$K$86:$BH$97)),Modellering!$E$86:$E$97,'MP per GJ'!AQ$18))/Invoerblad!$H$57*1000,0)","v":0},{"$f":"IFERROR((SUMIFS((_xlfn.XLOOKUP('Weighting Set'!$Z7,Modellering!$K$85:$BH$85,Modellering!$K$86:$BH$97)),Modellering!$E$86:$E$97,'MP per GJ'!AR$18))/Invoerblad!$H$57*1000,0)","v":0},0]
[null,null,null,"005. ozone layer depletion (ODP)","kg CFC-11 eq",{"$f":"IFERROR((SUMIFS((_xlfn.XLOOKUP('Weighting Set'!$Z8,Modellering!$K$5:$BH$5,Modellering!$K$6:$BH$17)),Modellering!$E$6:$E$17,'MP per GJ'!F$18))/Invoerblad!$D$57*1000,0)","v":3.2080169910960401E-5},{"$f":"IFERROR((SUMIFS((_xlfn.XLOOKUP('Weighting Set'!$Z8,Modellering!$K$5:$BH$5,Modellering!$K$6:$BH$17)),Modellering!$E$6:$E$17,'MP per GJ'!G$18))/Invoerblad!$D$57*1000,0)","v":1.6289115436453932E-7},{"$f":"IFERROR((SUMIFS((_xlfn.XLOOKUP('Weighting Set'!$Z8,Modellering!$K$5:$BH$5,Modellering!$K$6:$BH$17)),Modellering!$E$6:$E$17,'MP per GJ'!H$18))/Invoerblad!$D$57*1000,0)","v":1.0536199719356445E-6},3.3296681037260584E-5,null,null,null,"005. ozone layer depletion (ODP)","kg CFC-11 eq",{"$f":"IFERROR((SUMIFS((_xlfn.XLOOKUP('Weighting Set'!$Z8,Modellering!$K$25:$BH$25,Modellering!$K$26:$BH$37)),Modellering!$E$26:$E$37,'MP per GJ'!O$18))/Invoerblad!$E$57*1000,0)","v":0},{"$f":"IFERROR((SUMIFS((_xlfn.XLOOKUP('Weighting Set'!$Z8,Modellering!$K$25:$BH$25,Modellering!$K$26:$BH$37)),Modellering!$E$26:$E$37,'MP per GJ'!P$18))/Invoerblad!$E$57*1000,0)","v":0},{"$f":"IFERROR((SUMIFS((_xlfn.XLOOKUP('Weighting Set'!$Z8,Modellering!$K$25:$BH$25,Modellering!$K$26:$BH$37)),Modellering!$E$26:$E$37,'MP per GJ'!Q$18))/Invoerblad!$E$57*1000,0)","v":0},0,null,null,null,"005. ozone layer depletion (ODP)","kg CFC-11 eq",{"$f":"IFERROR((SUMIFS((_xlfn.XLOOKUP('Weighting Set'!$Z8,Modellering!$K$45:$BH$45,Modellering!$K$46:$BH$57)),Modellering!$E$46:$E$57,'MP per GJ'!X$18))/Invoerblad!$F$57*1000,0)","v":0},{"$f":"IFERROR((SUMIFS((_xlfn.XLOOKUP('Weighting Set'!$Z8,Modellering!$K$45:$BH$45,Modellering!$K$46:$BH$57)),Modellering!$E$46:$E$57,'MP per GJ'!Y$18))/Invoerblad!$F$57*1000,0)","v":0},{"$f":"IFERROR((SUMIFS((_xlfn.XLOOKUP('Weighting Set'!$Z8,Modellering!$K$45:$BH$45,Modellering!$K$46:$BH$57)),Modellering!$E$46:$E$57,'MP per GJ'!Z$18))/Invoerblad!$F$57*1000,0)","v":0},0,null,null,null,"005. ozone layer depletion (ODP)","kg CFC-11 eq",{"$f":"IFERROR((SUMIFS((_xlfn.XLOOKUP('Weighting Set'!$Z8,Modellering!$K$65:$BH$65,Modellering!$K$66:$BH$77)),Modellering!$E$66:$E$77,'MP per GJ'!AG$18))/Invoerblad!$G$57*1000,0)","v":0},{"$f":"IFERROR((SUMIFS((_xlfn.XLOOKUP('Weighting Set'!$Z8,Modellering!$K$65:$BH$65,Modellering!$K$66:$BH$77)),Modellering!$E$66:$E$77,'MP per GJ'!AH$18))/Invoerblad!$G$57*1000,0)","v":0},{"$f":"IFERROR((SUMIFS((_xlfn.XLOOKUP('Weighting Set'!$Z8,Modellering!$K$65:$BH$65,Modellering!$K$66:$BH$77)),Modellering!$E$66:$E$77,'MP per GJ'!AI$18))/Invoerblad!$G$57*1000,0)","v":0},0,null,null,null,"005. ozone layer depletion (ODP)","kg CFC-11 eq",{"$f":"IFERROR((SUMIFS((_xlfn.XLOOKUP('Weighting Set'!$Z8,Modellering!$K$85:$BH$85,Modellering!$K$86:$BH$97)),Modellering!$E$86:$E$97,'MP per GJ'!AP$18))/Invoerblad!$H$57*1000,0)","v":0},{"$f":"IFERROR((SUMIFS((_xlfn.XLOOKUP('Weighting Set'!$Z8,Modellering!$K$85:$BH$85,Modellering!$K$86:$BH$97)),Modellering!$E$86:$E$97,'MP per GJ'!AQ$18))/Invoerblad!$H$57*1000,0)","v":0},{"$f":"IFERROR((SUMIFS((_xlfn.XLOOKUP('Weighting Set'!$Z8,Modellering!$K$85:$BH$85,Modellering!$K$86:$BH$97)),Modellering!$E$86:$E$97,'MP per GJ'!AR$18))/Invoerblad!$H$57*1000,0)","v":0},0]
[null,null,null,"006. photochemical oxidation (POCP)","kg C2H4",{"$f":"IFERROR((SUMIFS((_xlfn.XLOOKUP('Weighting Set'!$Z9,Modellering!$K$5:$BH$5,Modellering!$K$6:$BH$17)),Modellering!$E$6:$E$17,'MP per GJ'!F$18))/Invoerblad!$D$57*1000,0)","v":4.7186900325656395E-2},{"$f":"IFERROR((SUMIFS((_xlfn.XLOOKUP('Weighting Set'!$Z9,Modellering!$K$5:$BH$5,Modellering!$K$6:$BH$17)),Modellering!$E$6:$E$17,'MP per GJ'!G$18))/Invoerblad!$D$57*1000,0)","v":6.1422807438444433E-4},{"$f":"IFERROR((SUMIFS((_xlfn.XLOOKUP('Weighting Set'!$Z9,Modellering!$K$5:$BH$5,Modellering!$K$6:$BH$17)),Modellering!$E$6:$E$17,'MP per GJ'!H$18))/Invoerblad!$D$57*1000,0)","v":1.008407533101525E-2},5.7885203731056087E-2,null,null,null,"006. photochemical oxidation (POCP)","kg C2H4",{"$f":"IFERROR((SUMIFS((_xlfn.XLOOKUP('Weighting Set'!$Z9,Modellering!$K$25:$BH$25,Modellering!$K$26:$BH$37)),Modellering!$E$26:$E$37,'MP per GJ'!O$18))/Invoerblad!$E$57*1000,0)","v":0},{"$f":"IFERROR((SUMIFS((_xlfn.XLOOKUP('Weighting Set'!$Z9,Modellering!$K$25:$BH$25,Modellering!$K$26:$BH$37)),Modellering!$E$26:$E$37,'MP per GJ'!P$18))/Invoerblad!$E$57*1000,0)","v":0},{"$f":"IFERROR((SUMIFS((_xlfn.XLOOKUP('Weighting Set'!$Z9,Modellering!$K$25:$BH$25,Modellering!$K$26:$BH$37)),Modellering!$E$26:$E$37,'MP per GJ'!Q$18))/Invoerblad!$E$57*1000,0)","v":0},0,null,null,null,"006. photochemical oxidation (POCP)","kg C2H4",{"$f":"IFERROR((SUMIFS((_xlfn.XLOOKUP('Weighting Set'!$Z9,Modellering!$K$45:$BH$45,Modellering!$K$46:$BH$57)),Modellering!$E$46:$E$57,'MP per GJ'!X$18))/Invoerblad!$F$57*1000,0)","v":0},{"$f":"IFERROR((SUMIFS((_xlfn.XLOOKUP('Weighting Set'!$Z9,Modellering!$K$45:$BH$45,Modellering!$K$46:$BH$57)),Modellering!$E$46:$E$57,'MP per GJ'!Y$18))/Invoerblad!$F$57*1000,0)","v":0},{"$f":"IFERROR((SUMIFS((_xlfn.XLOOKUP('Weighting Set'!$Z9,Modellering!$K$45:$BH$45,Modellering!$K$46:$BH$57)),Modellering!$E$46:$E$57,'MP per GJ'!Z$18))/Invoerblad!$F$57*1000,0)","v":0},0,null,null,null,"006. photochemical oxidation (POCP)","kg C2H4",{"$f":"IFERROR((SUMIFS((_xlfn.XLOOKUP('Weighting Set'!$Z9,Modellering!$K$65:$BH$65,Modellering!$K$66:$BH$77)),Modellering!$E$66:$E$77,'MP per GJ'!AG$18))/Invoerblad!$G$57*1000,0)","v":0},{"$f":"IFERROR((SUMIFS((_xlfn.XLOOKUP('Weighting Set'!$Z9,Modellering!$K$65:$BH$65,Modellering!$K$66:$BH$77)),Modellering!$E$66:$E$77,'MP per GJ'!AH$18))/Invoerblad!$G$57*1000,0)","v":0},{"$f":"IFERROR((SUMIFS((_xlfn.XLOOKUP('Weighting Set'!$Z9,Modellering!$K$65:$BH$65,Modellering!$K$66:$BH$77)),Modellering!$E$66:$E$77,'MP per GJ'!AI$18))/Invoerblad!$G$57*1000,0)","v":0},0,null,null,null,"006. photochemical oxidation (POCP)","kg C2H4",{"$f":"IFERROR((SUMIFS((_xlfn.XLOOKUP('Weighting Set'!$Z9,Modellering!$K$85:$BH$85,Modellering!$K$86:$BH$97)),Modellering!$E$86:$E$97,'MP per GJ'!AP$18))/Invoerblad!$H$57*1000,0)","v":0},{"$f":"IFERROR((SUMIFS((_xlfn.XLOOKUP('Weighting Set'!$Z9,Modellering!$K$85:$BH$85,Modellering!$K$86:$BH$97)),Modellering!$E$86:$E$97,'MP per GJ'!AQ$18))/Invoerblad!$H$57*1000,0)","v":0},{"$f":"IFERROR((SUMIFS((_xlfn.XLOOKUP('Weighting Set'!$Z9,Modellering!$K$85:$BH$85,Modellering!$K$86:$BH$97)),Modellering!$E$86:$E$97,'MP per GJ'!AR$18))/Invoerblad!$H$57*1000,0)","v":0},0]
[null,null,null,"007. acidification (AP)","kg SO2 eq",{"$f":"IFERROR((SUMIFS((_xlfn.XLOOKUP('Weighting Set'!$Z10,Modellering!$K$5:$BH$5,Modellering!$K$6:$BH$17)),Modellering!$E$6:$E$17,'MP per GJ'!F$18))/Invoerblad!$D$57*1000,0)","v":0.27111727184624557},{"$f":"IFERROR((SUMIFS((_xlfn.XLOOKUP('Weighting Set'!$Z10,Modellering!$K$5:$BH$5,Modellering!$K$6:$BH$17)),Modellering!$E$6:$E$17,'MP per GJ'!G$18))/Invoerblad!$D$57*1000,0)","v":4.0828839993486878E-3},{"$f":"IFERROR((SUMIFS((_xlfn.XLOOKUP('Weighting Set'!$Z10,Modellering!$K$5:$BH$5,Modellering!$K$6:$BH$17)),Modellering!$E$6:$E$17,'MP per GJ'!H$18))/Invoerblad!$D$57*1000,0)","v":0.55525062639192779},0.830450782237522,null,null,null,"007. acidification (AP)","kg SO2 eq",{"$f":"IFERROR((SUMIFS((_xlfn.XLOOKUP('Weighting Set'!$Z10,Modellering!$K$25:$BH$25,Modellering!$K$26:$BH$37)),Modellering!$E$26:$E$37,'MP per GJ'!O$18))/Invoerblad!$E$57*1000,0)","v":0},{"$f":"IFERROR((SUMIFS((_xlfn.XLOOKUP('Weighting Set'!$Z10,Modellering!$K$25:$BH$25,Modellering!$K$26:$BH$37)),Modellering!$E$26:$E$37,'MP per GJ'!P$18))/Invoerblad!$E$57*1000,0)","v":0},{"$f":"IFERROR((SUMIFS((_xlfn.XLOOKUP('Weighting Set'!$Z10,Modellering!$K$25:$BH$25,Modellering!$K$26:$BH$37)),Modellering!$E$26:$E$37,'MP per GJ'!Q$18))/Invoerblad!$E$57*1000,0)","v":0},0,null,null,null,"007. acidification (AP)","kg SO2 eq",{"$f":"IFERROR((SUMIFS((_xlfn.XLOOKUP('Weighting Set'!$Z10,Modellering!$K$45:$BH$45,Modellering!$K$46:$BH$57)),Modellering!$E$46:$E$57,'MP per GJ'!X$18))/Invoerblad!$F$57*1000,0)","v":0},{"$f":"IFERROR((SUMIFS((_xlfn.XLOOKUP('Weighting Set'!$Z10,Modellering!$K$45:$BH$45,Modellering!$K$46:$BH$57)),Modellering!$E$46:$E$57,'MP per GJ'!Y$18))/Invoerblad!$F$57*1000,0)","v":0},{"$f":"IFERROR((SUMIFS((_xlfn.XLOOKUP('Weighting Set'!$Z10,Modellering!$K$45:$BH$45,Modellering!$K$46:$BH$57)),Modellering!$E$46:$E$57,'MP per GJ'!Z$18))/Invoerblad!$F$57*1000,0)","v":0},0,null,null,null,"007. acidification (AP)","kg SO2 eq",{"$f":"IFERROR((SUMIFS((_xlfn.XLOOKUP('Weighting Set'!$Z10,Modellering!$K$65:$BH$65,Modellering!$K$66:$BH$77)),Modellering!$E$66:$E$77,'MP per GJ'!AG$18))/Invoerblad!$G$57*1000,0)","v":0},{"$f":"IFERROR((SUMIFS((_xlfn.XLOOKUP('Weighting Set'!$Z10,Modellering!$K$65:$BH$65,Modellering!$K$66:$BH$77)),Modellering!$E$66:$E$77,'MP per GJ'!AH$18))/Invoerblad!$G$57*1000,0)","v":0},{"$f":"IFERROR((SUMIFS((_xlfn.XLOOKUP('Weighting Set'!$Z10,Modellering!$K$65:$BH$65,Modellering!$K$66:$BH$77)),Modellering!$E$66:$E$77,'MP per GJ'!AI$18))/Invoerblad!$G$57*1000,0)","v":0},0,null,null,null,"007. acidification (AP)","kg SO2 eq",{"$f":"IFERROR((SUMIFS((_xlfn.XLOOKUP('Weighting Set'!$Z10,Modellering!$K$85:$BH$85,Modellering!$K$86:$BH$97)),Modellering!$E$86:$E$97,'MP per GJ'!AP$18))/Invoerblad!$H$57*1000,0)","v":0},{"$f":"IFERROR((SUMIFS((_xlfn.XLOOKUP('Weighting Set'!$Z10,Modellering!$K$85:$BH$85,Modellering!$K$86:$BH$97)),Modellering!$E$86:$E$97,'MP per GJ'!AQ$18))/Invoerblad!$H$57*1000,0)","v":0},{"$f":"IFERROR((SUMIFS((_xlfn.XLOOKUP('Weighting Set'!$Z10,Modellering!$K$85:$BH$85,Modellering!$K$86:$BH$97)),Modellering!$E$86:$E$97,'MP per GJ'!AR$18))/Invoerblad!$H$57*1000,0)","v":0},0]
[null,null,null,"008. eutrophication (EP)","kg PO4--- eq",{"$f":"IFERROR((SUMIFS((_xlfn.XLOOKUP('Weighting Set'!$Z11,Modellering!$K$5:$BH$5,Modellering!$K$6:$BH$17)),Modellering!$E$6:$E$17,'MP per GJ'!F$18))/Invoerblad!$D$57*1000,0)","v":3.6310233581247402E-2},{"$f":"IFERROR((SUMIFS((_xlfn.XLOOKUP('Weighting Set'!$Z11,Modellering!$K$5:$BH$5,Modellering!$K$6:$BH$17)),Modellering!$E$6:$E$17,'MP per GJ'!G$18))/Invoerblad!$D$57*1000,0)","v":7.2235050727567824E-4},{"$f":"IFERROR((SUMIFS((_xlfn.XLOOKUP('Weighting Set'!$Z11,Modellering!$K$5:$BH$5,Modellering!$K$6:$BH$17)),Modellering!$E$6:$E$17,'MP per GJ'!H$18))/Invoerblad!$D$57*1000,0)","v":0.13781987336600188},0.17485245745452496,null,null,null,"008. eutrophication (EP)","kg PO4--- eq",{"$f":"IFERROR((SUMIFS((_xlfn.XLOOKUP('Weighting Set'!$Z11,Modellering!$K$25:$BH$25,Modellering!$K$26:$BH$37)),Modellering!$E$26:$E$37,'MP per GJ'!O$18))/Invoerblad!$E$57*1000,0)","v":0},{"$f":"IFERROR((SUMIFS((_xlfn.XLOOKUP('Weighting Set'!$Z11,Modellering!$K$25:$BH$25,Modellering!$K$26:$BH$37)),Modellering!$E$26:$E$37,'MP per GJ'!P$18))/Invoerblad!$E$57*1000,0)","v":0},{"$f":"IFERROR((SUMIFS((_xlfn.XLOOKUP('Weighting Set'!$Z11,Modellering!$K$25:$BH$25,Modellering!$K$26:$BH$37)),Modellering!$E$26:$E$37,'MP per GJ'!Q$18))/Invoerblad!$E$57*1000,0)","v":0},0,null,null,null,"008. eutrophication (EP)","kg PO4--- eq",{"$f":"IFERROR((SUMIFS((_xlfn.XLOOKUP('Weighting Set'!$Z11,Modellering!$K$45:$BH$45,Modellering!$K$46:$BH$57)),Modellering!$E$46:$E$57,'MP per GJ'!X$18))/Invoerblad!$F$57*1000,0)","v":0},{"$f":"IFERROR((SUMIFS((_xlfn.XLOOKUP('Weighting Set'!$Z11,Modellering!$K$45:$BH$45,Modellering!$K$46:$BH$57)),Modellering!$E$46:$E$57,'MP per GJ'!Y$18))/Invoerblad!$F$57*1000,0)","v":0},{"$f":"IFERROR((SUMIFS((_xlfn.XLOOKUP('Weighting Set'!$Z11,Modellering!$K$45:$BH$45,Modellering!$K$46:$BH$57)),Modellering!$E$46:$E$57,'MP per GJ'!Z$18))/Invoerblad!$F$57*1000,0)","v":0},0,null,null,null,"008. eutrophication (EP)","kg PO4--- eq",{"$f":"IFERROR((SUMIFS((_xlfn.XLOOKUP('Weighting Set'!$Z11,Modellering!$K$65:$BH$65,Modellering!$K$66:$BH$77)),Modellering!$E$66:$E$77,'MP per GJ'!AG$18))/Invoerblad!$G$57*1000,0)","v":0},{"$f":"IFERROR((SUMIFS((_xlfn.XLOOKUP('Weighting Set'!$Z11,Modellering!$K$65:$BH$65,Modellering!$K$66:$BH$77)),Modellering!$E$66:$E$77,'MP per GJ'!AH$18))/Invoerblad!$G$57*1000,0)","v":0},{"$f":"IFERROR((SUMIFS((_xlfn.XLOOKUP('Weighting Set'!$Z11,Modellering!$K$65:$BH$65,Modellering!$K$66:$BH$77)),Modellering!$E$66:$E$77,'MP per GJ'!AI$18))/Invoerblad!$G$57*1000,0)","v":0},0,null,null,null,"008. eutrophication (EP)","kg PO4--- eq",{"$f":"IFERROR((SUMIFS((_xlfn.XLOOKUP('Weighting Set'!$Z11,Modellering!$K$85:$BH$85,Modellering!$K$86:$BH$97)),Modellering!$E$86:$E$97,'MP per GJ'!AP$18))/Invoerblad!$H$57*1000,0)","v":0},{"$f":"IFERROR((SUMIFS((_xlfn.XLOOKUP('Weighting Set'!$Z11,Modellering!$K$85:$BH$85,Modellering!$K$86:$BH$97)),Modellering!$E$86:$E$97,'MP per GJ'!AQ$18))/Invoerblad!$H$57*1000,0)","v":0},{"$f":"IFERROR((SUMIFS((_xlfn.XLOOKUP('Weighting Set'!$Z11,Modellering!$K$85:$BH$85,Modellering!$K$86:$BH$97)),Modellering!$E$86:$E$97,'MP per GJ'!AR$18))/Invoerblad!$H$57*1000,0)","v":0},0]
[null,null,null,"009. human toxicity (HT)","kg 1,4-DB eq",{"$f":"IFERROR((SUMIFS((_xlfn.XLOOKUP('Weighting Set'!$Z12,Modellering!$K$5:$BH$5,Modellering!$K$6:$BH$17)),Modellering!$E$6:$E$17,'MP per GJ'!F$18))/Invoerblad!$D$57*1000,0)","v":18.542152375215661},{"$f":"IFERROR((SUMIFS((_xlfn.XLOOKUP('Weighting Set'!$Z12,Modellering!$K$5:$BH$5,Modellering!$K$6:$BH$17)),Modellering!$E$6:$E$17,'MP per GJ'!G$18))/Invoerblad!$D$57*1000,0)","v":0.28865517831996002},{"$f":"IFERROR((SUMIFS((_xlfn.XLOOKUP('Weighting Set'!$Z12,Modellering!$K$5:$BH$5,Modellering!$K$6:$BH$17)),Modellering!$E$6:$E$17,'MP per GJ'!H$18))/Invoerblad!$D$57*1000,0)","v":7.6499464755482105},26.480754029083833,null,null,null,"009. human toxicity (HT)","kg 1,4-DB eq",{"$f":"IFERROR((SUMIFS((_xlfn.XLOOKUP('Weighting Set'!$Z12,Modellering!$K$25:$BH$25,Modellering!$K$26:$BH$37)),Modellering!$E$26:$E$37,'MP per GJ'!O$18))/Invoerblad!$E$57*1000,0)","v":0},{"$f":"IFERROR((SUMIFS((_xlfn.XLOOKUP('Weighting Set'!$Z12,Modellering!$K$25:$BH$25,Modellering!$K$26:$BH$37)),Modellering!$E$26:$E$37,'MP per GJ'!P$18))/Invoerblad!$E$57*1000,0)","v":0},{"$f":"IFERROR((SUMIFS((_xlfn.XLOOKUP('Weighting Set'!$Z12,Modellering!$K$25:$BH$25,Modellering!$K$26:$BH$37)),Modellering!$E$26:$E$37,'MP per GJ'!Q$18))/Invoerblad!$E$57*1000,0)","v":0},0,null,null,null,"009. human toxicity (HT)","kg 1,4-DB eq",{"$f":"IFERROR((SUMIFS((_xlfn.XLOOKUP('Weighting Set'!$Z12,Modellering!$K$45:$BH$45,Modellering!$K$46:$BH$57)),Modellering!$E$46:$E$57,'MP per GJ'!X$18))/Invoerblad!$F$57*1000,0)","v":0},{"$f":"IFERROR((SUMIFS((_xlfn.XLOOKUP('Weighting Set'!$Z12,Modellering!$K$45:$BH$45,Modellering!$K$46:$BH$57)),Modellering!$E$46:$E$57,'MP per GJ'!Y$18))/Invoerblad!$F$57*1000,0)","v":0},{"$f":"IFERROR((SUMIFS((_xlfn.XLOOKUP('Weighting Set'!$Z12,Modellering!$K$45:$BH$45,Modellering!$K$46:$BH$57)),Modellering!$E$46:$E$57,'MP per GJ'!Z$18))/Invoerblad!$F$57*1000,0)","v":0},0,null,null,null,"009. human toxicity (HT)","kg 1,4-DB eq",{"$f":"IFERROR((SUMIFS((_xlfn.XLOOKUP('Weighting Set'!$Z12,Modellering!$K$65:$BH$65,Modellering!$K$66:$BH$77)),Modellering!$E$66:$E$77,'MP per GJ'!AG$18))/Invoerblad!$G$57*1000,0)","v":0},{"$f":"IFERROR((SUMIFS((_xlfn.XLOOKUP('Weighting Set'!$Z12,Modellering!$K$65:$BH$65,Modellering!$K$66:$BH$77)),Modellering!$E$66:$E$77,'MP per GJ'!AH$18))/Invoerblad!$G$57*1000,0)","v":0},{"$f":"IFERROR((SUMIFS((_xlfn.XLOOKUP('Weighting Set'!$Z12,Modellering!$K$65:$BH$65,Modellering!$K$66:$BH$77)),Modellering!$E$66:$E$77,'MP per GJ'!AI$18))/Invoerblad!$G$57*1000,0)","v":0},0,null,null,null,"009. human toxicity (HT)","kg 1,4-DB eq",{"$f":"IFERROR((SUMIFS((_xlfn.XLOOKUP('Weighting Set'!$Z12,Modellering!$K$85:$BH$85,Modellering!$K$86:$BH$97)),Modellering!$E$86:$E$97,'MP per GJ'!AP$18))/Invoerblad!$H$57*1000,0)","v":0},{"$f":"IFERROR((SUMIFS((_xlfn.XLOOKUP('Weighting Set'!$Z12,Modellering!$K$85:$BH$85,Modellering!$K$86:$BH$97)),Modellering!$E$86:$E$97,'MP per GJ'!AQ$18))/Invoerblad!$H$57*1000,0)","v":0},{"$f":"IFERROR((SUMIFS((_xlfn.XLOOKUP('Weighting Set'!$Z12,Modellering!$K$85:$BH$85,Modellering!$K$86:$BH$97)),Modellering!$E$86:$E$97,'MP per GJ'!AR$18))/Invoerblad!$H$57*1000,0)","v":0},0]
[null,null,null,"010. Ecotoxicity, fresh water (FAETP)","kg 1,4-DB eq",{"$f":"IFERROR((SUMIFS((_xlfn.XLOOKUP('Weighting Set'!$Z13,Modellering!$K$5:$BH$5,Modellering!$K$6:$BH$17)),Modellering!$E$6:$E$17,'MP per GJ'!F$18))/Invoerblad!$D$57*1000,0)","v":0.74231608808711114},{"$f":"IFERROR((SUMIFS((_xlfn.XLOOKUP('Weighting Set'!$Z13,Modellering!$K$5:$BH$5,Modellering!$K$6:$BH$17)),Modellering!$E$6:$E$17,'MP per GJ'!G$18))/Invoerblad!$D$57*1000,0)","v":9.4428797149220655E-3},{"$f":"IFERROR((SUMIFS((_xlfn.XLOOKUP('Weighting Set'!$Z13,Modellering!$K$5:$BH$5,Modellering!$K$6:$BH$17)),Modellering!$E$6:$E$17,'MP per GJ'!H$18))/Invoerblad!$D$57*1000,0)","v":4.5881943337085396E-2},0.79764091113911861,null,null,null,"010. Ecotoxicity, fresh water (FAETP)","kg 1,4-DB eq",{"$f":"IFERROR((SUMIFS((_xlfn.XLOOKUP('Weighting Set'!$Z13,Modellering!$K$25:$BH$25,Modellering!$K$26:$BH$37)),Modellering!$E$26:$E$37,'MP per GJ'!O$18))/Invoerblad!$E$57*1000,0)","v":0},{"$f":"IFERROR((SUMIFS((_xlfn.XLOOKUP('Weighting Set'!$Z13,Modellering!$K$25:$BH$25,Modellering!$K$26:$BH$37)),Modellering!$E$26:$E$37,'MP per GJ'!P$18))/Invoerblad!$E$57*1000,0)","v":0},{"$f":"IFERROR((SUMIFS((_xlfn.XLOOKUP('Weighting Set'!$Z13,Modellering!$K$25:$BH$25,Modellering!$K$26:$BH$37)),Modellering!$E$26:$E$37,'MP per GJ'!Q$18))/Invoerblad!$E$57*1000,0)","v":0},0,null,null,null,"010. Ecotoxicity, fresh water (FAETP)","kg 1,4-DB eq",{"$f":"IFERROR((SUMIFS((_xlfn.XLOOKUP('Weighting Set'!$Z13,Modellering!$K$45:$BH$45,Modellering!$K$46:$BH$57)),Modellering!$E$46:$E$57,'MP per GJ'!X$18))/Invoerblad!$F$57*1000,0)","v":0},{"$f":"IFERROR((SUMIFS((_xlfn.XLOOKUP('Weighting Set'!$Z13,Modellering!$K$45:$BH$45,Modellering!$K$46:$BH$57)),Modellering!$E$46:$E$57,'MP per GJ'!Y$18))/Invoerblad!$F$57*1000,0)","v":0},{"$f":"IFERROR((SUMIFS((_xlfn.XLOOKUP('Weighting Set'!$Z13,Modellering!$K$45:$BH$45,Modellering!$K$46:$BH$57)),Modellering!$E$46:$E$57,'MP per GJ'!Z$18))/Invoerblad!$F$57*1000,0)","v":0},0,null,null,null,"010. Ecotoxicity, fresh water (FAETP)","kg 1,4-DB eq",{"$f":"IFERROR((SUMIFS((_xlfn.XLOOKUP('Weighting Set'!$Z13,Modellering!$K$65:$BH$65,Modellering!$K$66:$BH$77)),Modellering!$E$66:$E$77,'MP per GJ'!AG$18))/Invoerblad!$G$57*1000,0)","v":0},{"$f":"IFERROR((SUMIFS((_xlfn.XLOOKUP('Weighting Set'!$Z13,Modellering!$K$65:$BH$65,Modellering!$K$66:$BH$77)),Modellering!$E$66:$E$77,'MP per GJ'!AH$18))/Invoerblad!$G$57*1000,0)","v":0},{"$f":"IFERROR((SUMIFS((_xlfn.XLOOKUP('Weighting Set'!$Z13,Modellering!$K$65:$BH$65,Modellering!$K$66:$BH$77)),Modellering!$E$66:$E$77,'MP per GJ'!AI$18))/Invoerblad!$G$57*1000,0)","v":0},0,null,null,null,"010. Ecotoxicity, fresh water (FAETP)","kg 1,4-DB eq",{"$f":"IFERROR((SUMIFS((_xlfn.XLOOKUP('Weighting Set'!$Z13,Modellering!$K$85:$BH$85,Modellering!$K$86:$BH$97)),Modellering!$E$86:$E$97,'MP per GJ'!AP$18))/Invoerblad!$H$57*1000,0)","v":0},{"$f":"IFERROR((SUMIFS((_xlfn.XLOOKUP('Weighting Set'!$Z13,Modellering!$K$85:$BH$85,Modellering!$K$86:$BH$97)),Modellering!$E$86:$E$97,'MP per GJ'!AQ$18))/Invoerblad!$H$57*1000,0)","v":0},{"$f":"IFERROR((SUMIFS((_xlfn.XLOOKUP('Weighting Set'!$Z13,Modellering!$K$85:$BH$85,Modellering!$K$86:$BH$97)),Modellering!$E$86:$E$97,'MP per GJ'!AR$18))/Invoerblad!$H$57*1000,0)","v":0},0]
[null,null,null,"012. Ecotoxcity, marine water (MAETP)","kg 1,4-DB eq",{"$f":"IFERROR((SUMIFS((_xlfn.XLOOKUP('Weighting Set'!$Z14,Modellering!$K$5:$BH$5,Modellering!$K$6:$BH$17)),Modellering!$E$6:$E$17,'MP per GJ'!F$18))/Invoerblad!$D$57*1000,0)","v":3351.4891877305313},{"$f":"IFERROR((SUMIFS((_xlfn.XLOOKUP('Weighting Set'!$Z14,Modellering!$K$5:$BH$5,Modellering!$K$6:$BH$17)),Modellering!$E$6:$E$17,'MP per GJ'!G$18))/Invoerblad!$D$57*1000,0)","v":25.391623354242274},{"$f":"IFERROR((SUMIFS((_xlfn.XLOOKUP('Weighting Set'!$Z14,Modellering!$K$5:$BH$5,Modellering!$K$6:$BH$17)),Modellering!$E$6:$E$17,'MP per GJ'!H$18))/Invoerblad!$D$57*1000,0)","v":120.59782405206452},3497.478635136838,null,null,null,"012. Ecotoxcity, marine water (MAETP)","kg 1,4-DB eq",{"$f":"IFERROR((SUMIFS((_xlfn.XLOOKUP('Weighting Set'!$Z14,Modellering!$K$25:$BH$25,Modellering!$K$26:$BH$37)),Modellering!$E$26:$E$37,'MP per GJ'!O$18))/Invoerblad!$E$57*1000,0)","v":0},{"$f":"IFERROR((SUMIFS((_xlfn.XLOOKUP('Weighting Set'!$Z14,Modellering!$K$25:$BH$25,Modellering!$K$26:$BH$37)),Modellering!$E$26:$E$37,'MP per GJ'!P$18))/Invoerblad!$E$57*1000,0)","v":0},{"$f":"IFERROR((SUMIFS((_xlfn.XLOOKUP('Weighting Set'!$Z14,Modellering!$K$25:$BH$25,Modellering!$K$26:$BH$37)),Modellering!$E$26:$E$37,'MP per GJ'!Q$18))/Invoerblad!$E$57*1000,0)","v":0},0,null,null,null,"012. Ecotoxcity, marine water (MAETP)","kg 1,4-DB eq",{"$f":"IFERROR((SUMIFS((_xlfn.XLOOKUP('Weighting Set'!$Z14,Modellering!$K$45:$BH$45,Modellering!$K$46:$BH$57)),Modellering!$E$46:$E$57,'MP per GJ'!X$18))/Invoerblad!$F$57*1000,0)","v":0},{"$f":"IFERROR((SUMIFS((_xlfn.XLOOKUP('Weighting Set'!$Z14,Modellering!$K$45:$BH$45,Modellering!$K$46:$BH$57)),Modellering!$E$46:$E$57,'MP per GJ'!Y$18))/Invoerblad!$F$57*1000,0)","v":0},{"$f":"IFERROR((SUMIFS((_xlfn.XLOOKUP('Weighting Set'!$Z14,Modellering!$K$45:$BH$45,Modellering!$K$46:$BH$57)),Modellering!$E$46:$E$57,'MP per GJ'!Z$18))/Invoerblad!$F$57*1000,0)","v":0},0,null,null,null,"012. Ecotoxcity, marine water (MAETP)","kg 1,4-DB eq",{"$f":"IFERROR((SUMIFS((_xlfn.XLOOKUP('Weighting Set'!$Z14,Modellering!$K$65:$BH$65,Modellering!$K$66:$BH$77)),Modellering!$E$66:$E$77,'MP per GJ'!AG$18))/Invoerblad!$G$57*1000,0)","v":0},{"$f":"IFERROR((SUMIFS((_xlfn.XLOOKUP('Weighting Set'!$Z14,Modellering!$K$65:$BH$65,Modellering!$K$66:$BH$77)),Modellering!$E$66:$E$77,'MP per GJ'!AH$18))/Invoerblad!$G$57*1000,0)","v":0},{"$f":"IFERROR((SUMIFS((_xlfn.XLOOKUP('Weighting Set'!$Z14,Modellering!$K$65:$BH$65,Modellering!$K$66:$BH$77)),Modellering!$E$66:$E$77,'MP per GJ'!AI$18))/Invoerblad!$G$57*1000,0)","v":0},0,null,null,null,"012. Ecotoxcity, marine water (MAETP)","kg 1,4-DB eq",{"$f":"IFERROR((SUMIFS((_xlfn.XLOOKUP('Weighting Set'!$Z14,Modellering!$K$85:$BH$85,Modellering!$K$86:$BH$97)),Modellering!$E$86:$E$97,'MP per GJ'!AP$18))/Invoerblad!$H$57*1000,0)","v":0},{"$f":"IFERROR((SUMIFS((_xlfn.XLOOKUP('Weighting Set'!$Z14,Modellering!$K$85:$BH$85,Modellering!$K$86:$BH$97)),Modellering!$E$86:$E$97,'MP per GJ'!AQ$18))/Invoerblad!$H$57*1000,0)","v":0},{"$f":"IFERROR((SUMIFS((_xlfn.XLOOKUP('Weighting Set'!$Z14,Modellering!$K$85:$BH$85,Modellering!$K$86:$BH$97)),Modellering!$E$86:$E$97,'MP per GJ'!AR$18))/Invoerblad!$H$57*1000,0)","v":0},0]
[null,null,null,"014. Ecotoxicity, terrestric (TETP)","kg 1,4-DB eq",{"$f":"IFERROR((SUMIFS((_xlfn.XLOOKUP('Weighting Set'!$Z15,Modellering!$K$5:$BH$5,Modellering!$K$6:$BH$17)),Modellering!$E$6:$E$17,'MP per GJ'!F$18))/Invoerblad!$D$57*1000,0)","v":4.7965954666522898E-2},{"$f":"IFERROR((SUMIFS((_xlfn.XLOOKUP('Weighting Set'!$Z15,Modellering!$K$5:$BH$5,Modellering!$K$6:$BH$17)),Modellering!$E$6:$E$17,'MP per GJ'!G$18))/Invoerblad!$D$57*1000,0)","v":2.4087665814909423E-3},{"$f":"IFERROR((SUMIFS((_xlfn.XLOOKUP('Weighting Set'!$Z15,Modellering!$K$5:$BH$5,Modellering!$K$6:$BH$17)),Modellering!$E$6:$E$17,'MP per GJ'!H$18))/Invoerblad!$D$57*1000,0)","v":7.7454097862898585E-2},0.12782881911091243,null,null,null,"014. Ecotoxicity, terrestric (TETP)","kg 1,4-DB eq",{"$f":"IFERROR((SUMIFS((_xlfn.XLOOKUP('Weighting Set'!$Z15,Modellering!$K$25:$BH$25,Modellering!$K$26:$BH$37)),Modellering!$E$26:$E$37,'MP per GJ'!O$18))/Invoerblad!$E$57*1000,0)","v":0},{"$f":"IFERROR((SUMIFS((_xlfn.XLOOKUP('Weighting Set'!$Z15,Modellering!$K$25:$BH$25,Modellering!$K$26:$BH$37)),Modellering!$E$26:$E$37,'MP per GJ'!P$18))/Invoerblad!$E$57*1000,0)","v":0},{"$f":"IFERROR((SUMIFS((_xlfn.XLOOKUP('Weighting Set'!$Z15,Modellering!$K$25:$BH$25,Modellering!$K$26:$BH$37)),Modellering!$E$26:$E$37,'MP per GJ'!Q$18))/Invoerblad!$E$57*1000,0)","v":0},0,null,null,null,"014. Ecotoxicity, terrestric (TETP)","kg 1,4-DB eq",{"$f":"IFERROR((SUMIFS((_xlfn.XLOOKUP('Weighting Set'!$Z15,Modellering!$K$45:$BH$45,Modellering!$K$46:$BH$57)),Modellering!$E$46:$E$57,'MP per GJ'!X$18))/Invoerblad!$F$57*1000,0)","v":0},{"$f":"IFERROR((SUMIFS((_xlfn.XLOOKUP('Weighting Set'!$Z15,Modellering!$K$45:$BH$45,Modellering!$K$46:$BH$57)),Modellering!$E$46:$E$57,'MP per GJ'!Y$18))/Invoerblad!$F$57*1000,0)","v":0},{"$f":"IFERROR((SUMIFS((_xlfn.XLOOKUP('Weighting Set'!$Z15,Modellering!$K$45:$BH$45,Modellering!$K$46:$BH$57)),Modellering!$E$46:$E$57,'MP per GJ'!Z$18))/Invoerblad!$F$57*1000,0)","v":0},0,null,null,null,"014. Ecotoxicity, terrestric (TETP)","kg 1,4-DB eq",{"$f":"IFERROR((SUMIFS((_xlfn.XLOOKUP('Weighting Set'!$Z15,Modellering!$K$65:$BH$65,Modellering!$K$66:$BH$77)),Modellering!$E$66:$E$77,'MP per GJ'!AG$18))/Invoerblad!$G$57*1000,0)","v":0},{"$f":"IFERROR((SUMIFS((_xlfn.XLOOKUP('Weighting Set'!$Z15,Modellering!$K$65:$BH$65,Modellering!$K$66:$BH$77)),Modellering!$E$66:$E$77,'MP per GJ'!AH$18))/Invoerblad!$G$57*1000,0)","v":0},{"$f":"IFERROR((SUMIFS((_xlfn.XLOOKUP('Weighting Set'!$Z15,Modellering!$K$65:$BH$65,Modellering!$K$66:$BH$77)),Modellering!$E$66:$E$77,'MP per GJ'!AI$18))/Invoerblad!$G$57*1000,0)","v":0},0,null,null,null,"014. Ecotoxicity, terrestric (TETP)","kg 1,4-DB eq",{"$f":"IFERROR((SUMIFS((_xlfn.XLOOKUP('Weighting Set'!$Z15,Modellering!$K$85:$BH$85,Modellering!$K$86:$BH$97)),Modellering!$E$86:$E$97,'MP per GJ'!AP$18))/Invoerblad!$H$57*1000,0)","v":0},{"$f":"IFERROR((SUMIFS((_xlfn.XLOOKUP('Weighting Set'!$Z15,Modellering!$K$85:$BH$85,Modellering!$K$86:$BH$97)),Modellering!$E$86:$E$97,'MP per GJ'!AQ$18))/Invoerblad!$H$57*1000,0)","v":0},{"$f":"IFERROR((SUMIFS((_xlfn.XLOOKUP('Weighting Set'!$Z15,Modellering!$K$85:$BH$85,Modellering!$K$86:$BH$97)),Modellering!$E$86:$E$97,'MP per GJ'!AR$18))/Invoerblad!$H$57*1000,0)","v":0},0]
[null,null,"Characterized EN15804+A2","051. Climate change","kg CO2 eq",{"$f":"IFERROR((SUMIFS((_xlfn.XLOOKUP('Weighting Set'!$Z16,Modellering!$K$5:$BH$5,Modellering!$K$6:$BH$17)),Modellering!$E$6:$E$17,'MP per GJ'!F$18))/Invoerblad!$D$57*1000,0)","v":38.239913223663656},{"$f":"IFERROR((SUMIFS((_xlfn.XLOOKUP('Weighting Set'!$Z16,Modellering!$K$5:$BH$5,Modellering!$K$6:$BH$17)),Modellering!$E$6:$E$17,'MP per GJ'!G$18))/Invoerblad!$D$57*1000,0)","v":1.0491400667115338},{"$f":"IFERROR((SUMIFS((_xlfn.XLOOKUP('Weighting Set'!$Z16,Modellering!$K$5:$BH$5,Modellering!$K$6:$BH$17)),Modellering!$E$6:$E$17,'MP per GJ'!H$18))/Invoerblad!$D$57*1000,0)","v":171.11681871313229},210.40587200350748,null,null,"Characterized EN15804+A2","051. Climate change","kg CO2 eq",{"$f":"IFERROR((SUMIFS((_xlfn.XLOOKUP('Weighting Set'!$Z16,Modellering!$K$25:$BH$25,Modellering!$K$26:$BH$37)),Modellering!$E$26:$E$37,'MP per GJ'!O$18))/Invoerblad!$E$57*1000,0)","v":0},{"$f":"IFERROR((SUMIFS((_xlfn.XLOOKUP('Weighting Set'!$Z16,Modellering!$K$25:$BH$25,Modellering!$K$26:$BH$37)),Modellering!$E$26:$E$37,'MP per GJ'!P$18))/Invoerblad!$E$57*1000,0)","v":0},{"$f":"IFERROR((SUMIFS((_xlfn.XLOOKUP('Weighting Set'!$Z16,Modellering!$K$25:$BH$25,Modellering!$K$26:$BH$37)),Modellering!$E$26:$E$37,'MP per GJ'!Q$18))/Invoerblad!$E$57*1000,0)","v":0},0,null,null,"Characterized EN15804+A2","051. Climate change","kg CO2 eq",{"$f":"IFERROR((SUMIFS((_xlfn.XLOOKUP('Weighting Set'!$Z16,Modellering!$K$45:$BH$45,Modellering!$K$46:$BH$57)),Modellering!$E$46:$E$57,'MP per GJ'!X$18))/Invoerblad!$F$57*1000,0)","v":0},{"$f":"IFERROR((SUMIFS((_xlfn.XLOOKUP('Weighting Set'!$Z16,Modellering!$K$45:$BH$45,Modellering!$K$46:$BH$57)),Modellering!$E$46:$E$57,'MP per GJ'!Y$18))/Invoerblad!$F$57*1000,0)","v":0},{"$f":"IFERROR((SUMIFS((_xlfn.XLOOKUP('Weighting Set'!$Z16,Modellering!$K$45:$BH$45,Modellering!$K$46:$BH$57)),Modellering!$E$46:$E$57,'MP per GJ'!Z$18))/Invoerblad!$F$57*1000,0)","v":0},0,null,null,"Characterized EN15804+A2","051. Climate change","kg CO2 eq",{"$f":"IFERROR((SUMIFS((_xlfn.XLOOKUP('Weighting Set'!$Z16,Modellering!$K$65:$BH$65,Modellering!$K$66:$BH$77)),Modellering!$E$66:$E$77,'MP per GJ'!AG$18))/Invoerblad!$G$57*1000,0)","v":0},{"$f":"IFERROR((SUMIFS((_xlfn.XLOOKUP('Weighting Set'!$Z16,Modellering!$K$65:$BH$65,Modellering!$K$66:$BH$77)),Modellering!$E$66:$E$77,'MP per GJ'!AH$18))/Invoerblad!$G$57*1000,0)","v":0},{"$f":"IFERROR((SUMIFS((_xlfn.XLOOKUP('Weighting Set'!$Z16,Modellering!$K$65:$BH$65,Modellering!$K$66:$BH$77)),Modellering!$E$66:$E$77,'MP per GJ'!AI$18))/Invoerblad!$G$57*1000,0)","v":0},0,null,null,"Characterized EN15804+A2","051. Climate change","kg CO2 eq",{"$f":"IFERROR((SUMIFS((_xlfn.XLOOKUP('Weighting Set'!$Z16,Modellering!$K$85:$BH$85,Modellering!$K$86:$BH$97)),Modellering!$E$86:$E$97,'MP per GJ'!AP$18))/Invoerblad!$H$57*1000,0)","v":0},{"$f":"IFERROR((SUMIFS((_xlfn.XLOOKUP('Weighting Set'!$Z16,Modellering!$K$85:$BH$85,Modellering!$K$86:$BH$97)),Modellering!$E$86:$E$97,'MP per GJ'!AQ$18))/Invoerblad!$H$57*1000,0)","v":0},{"$f":"IFERROR((SUMIFS((_xlfn.XLOOKUP('Weighting Set'!$Z16,Modellering!$K$85:$BH$85,Modellering!$K$86:$BH$97)),Modellering!$E$86:$E$97,'MP per GJ'!AR$18))/Invoerblad!$H$57*1000,0)","v":0},0]
[null,null,null,"052. Climate change - Fossil","kg CO2 eq",{"$f":"IFERROR((SUMIFS((_xlfn.XLOOKUP('Weighting Set'!$Z17,Modellering!$K$5:$BH$5,Modellering!$K$6:$BH$17)),Modellering!$E$6:$E$17,'MP per GJ'!F$18))/Invoerblad!$D$57*1000,0)","v":38.173001752471393},{"$f":"IFERROR((SUMIFS((_xlfn.XLOOKUP('Weighting Set'!$Z17,Modellering!$K$5:$BH$5,Modellering!$K$6:$BH$17)),Modellering!$E$6:$E$17,'MP per GJ'!G$18))/Invoerblad!$D$57*1000,0)","v":1.0470504032314036},{"$f":"IFERROR((SUMIFS((_xlfn.XLOOKUP('Weighting Set'!$Z17,Modellering!$K$5:$BH$5,Modellering!$K$6:$BH$17)),Modellering!$E$6:$E$17,'MP per GJ'!H$18))/Invoerblad!$D$57*1000,0)","v":171.09113466040262},210.31118681610542,null,null,null,"052. Climate change - Fossil","kg CO2 eq",{"$f":"IFERROR((SUMIFS((_xlfn.XLOOKUP('Weighting Set'!$Z17,Modellering!$K$25:$BH$25,Modellering!$K$26:$BH$37)),Modellering!$E$26:$E$37,'MP per GJ'!O$18))/Invoerblad!$E$57*1000,0)","v":0},{"$f":"IFERROR((SUMIFS((_xlfn.XLOOKUP('Weighting Set'!$Z17,Modellering!$K$25:$BH$25,Modellering!$K$26:$BH$37)),Modellering!$E$26:$E$37,'MP per GJ'!P$18))/Invoerblad!$E$57*1000,0)","v":0},{"$f":"IFERROR((SUMIFS((_xlfn.XLOOKUP('Weighting Set'!$Z17,Modellering!$K$25:$BH$25,Modellering!$K$26:$BH$37)),Modellering!$E$26:$E$37,'MP per GJ'!Q$18))/Invoerblad!$E$57*1000,0)","v":0},0,null,null,null,"052. Climate change - Fossil","kg CO2 eq",{"$f":"IFERROR((SUMIFS((_xlfn.XLOOKUP('Weighting Set'!$Z17,Modellering!$K$45:$BH$45,Modellering!$K$46:$BH$57)),Modellering!$E$46:$E$57,'MP per GJ'!X$18))/Invoerblad!$F$57*1000,0)","v":0},{"$f":"IFERROR((SUMIFS((_xlfn.XLOOKUP('Weighting Set'!$Z17,Modellering!$K$45:$BH$45,Modellering!$K$46:$BH$57)),Modellering!$E$46:$E$57,'MP per GJ'!Y$18))/Invoerblad!$F$57*1000,0)","v":0},{"$f":"IFERROR((SUMIFS((_xlfn.XLOOKUP('Weighting Set'!$Z17,Modellering!$K$45:$BH$45,Modellering!$K$46:$BH$57)),Modellering!$E$46:$E$57,'MP per GJ'!Z$18))/Invoerblad!$F$57*1000,0)","v":0},0,null,null,null,"052. Climate change - Fossil","kg CO2 eq",{"$f":"IFERROR((SUMIFS((_xlfn.XLOOKUP('Weighting Set'!$Z17,Modellering!$K$65:$BH$65,Modellering!$K$66:$BH$77)),Modellering!$E$66:$E$77,'MP per GJ'!AG$18))/Invoerblad!$G$57*1000,0)","v":0},{"$f":"IFERROR((SUMIFS((_xlfn.XLOOKUP('Weighting Set'!$Z17,Modellering!$K$65:$BH$65,Modellering!$K$66:$BH$77)),Modellering!$E$66:$E$77,'MP per GJ'!AH$18))/Invoerblad!$G$57*1000,0)","v":0},{"$f":"IFERROR((SUMIFS((_xlfn.XLOOKUP('Weighting Set'!$Z17,Modellering!$K$65:$BH$65,Modellering!$K$66:$BH$77)),Modellering!$E$66:$E$77,'MP per GJ'!AI$18))/Invoerblad!$G$57*1000,0)","v":0},0,null,null,null,"052. Climate change - Fossil","kg CO2 eq",{"$f":"IFERROR((SUMIFS((_xlfn.XLOOKUP('Weighting Set'!$Z17,Modellering!$K$85:$BH$85,Modellering!$K$86:$BH$97)),Modellering!$E$86:$E$97,'MP per GJ'!AP$18))/Invoerblad!$H$57*1000,0)","v":0},{"$f":"IFERROR((SUMIFS((_xlfn.XLOOKUP('Weighting Set'!$Z17,Modellering!$K$85:$BH$85,Modellering!$K$86:$BH$97)),Modellering!$E$86:$E$97,'MP per GJ'!AQ$18))/Invoerblad!$H$57*1000,0)","v":0},{"$f":"IFERROR((SUMIFS((_xlfn.XLOOKUP('Weighting Set'!$Z17,Modellering!$K$85:$BH$85,Modellering!$K$86:$BH$97)),Modellering!$E$86:$E$97,'MP per GJ'!AR$18))/Invoerblad!$H$57*1000,0)","v":0},0]
[null,null,null,"053. Climate change - Biogenic","kg CO2 eq",{"$f":"IFERROR((SUMIFS((_xlfn.XLOOKUP('Weighting Set'!$Z18,Modellering!$K$5:$BH$5,Modellering!$K$6:$BH$17)),Modellering!$E$6:$E$17,'MP per GJ'!F$18))/Invoerblad!$D$57*1000,0)","v":5.7755217972297823E-2},{"$f":"IFERROR((SUMIFS((_xlfn.XLOOKUP('Weighting Set'!$Z18,Modellering!$K$5:$BH$5,Modellering!$K$6:$BH$17)),Modellering!$E$6:$E$17,'MP per GJ'!G$18))/Invoerblad!$D$57*1000,0)","v":1.4563275563239933E-3},{"$f":"IFERROR((SUMIFS((_xlfn.XLOOKUP('Weighting Set'!$Z18,Modellering!$K$5:$BH$5,Modellering!$K$6:$BH$17)),Modellering!$E$6:$E$17,'MP per GJ'!H$18))/Invoerblad!$D$57*1000,0)","v":1.8524145531347177E-2},7.7735691059968998E-2,null,null,null,"053. Climate change - Biogenic","kg CO2 eq",{"$f":"IFERROR((SUMIFS((_xlfn.XLOOKUP('Weighting Set'!$Z18,Modellering!$K$25:$BH$25,Modellering!$K$26:$BH$37)),Modellering!$E$26:$E$37,'MP per GJ'!O$18))/Invoerblad!$E$57*1000,0)","v":0},{"$f":"IFERROR((SUMIFS((_xlfn.XLOOKUP('Weighting Set'!$Z18,Modellering!$K$25:$BH$25,Modellering!$K$26:$BH$37)),Modellering!$E$26:$E$37,'MP per GJ'!P$18))/Invoerblad!$E$57*1000,0)","v":0},{"$f":"IFERROR((SUMIFS((_xlfn.XLOOKUP('Weighting Set'!$Z18,Modellering!$K$25:$BH$25,Modellering!$K$26:$BH$37)),Modellering!$E$26:$E$37,'MP per GJ'!Q$18))/Invoerblad!$E$57*1000,0)","v":0},0,null,null,null,"053. Climate change - Biogenic","kg CO2 eq",{"$f":"IFERROR((SUMIFS((_xlfn.XLOOKUP('Weighting Set'!$Z18,Modellering!$K$45:$BH$45,Modellering!$K$46:$BH$57)),Modellering!$E$46:$E$57,'MP per GJ'!X$18))/Invoerblad!$F$57*1000,0)","v":0},{"$f":"IFERROR((SUMIFS((_xlfn.XLOOKUP('Weighting Set'!$Z18,Modellering!$K$45:$BH$45,Modellering!$K$46:$BH$57)),Modellering!$E$46:$E$57,'MP per GJ'!Y$18))/Invoerblad!$F$57*1000,0)","v":0},{"$f":"IFERROR((SUMIFS((_xlfn.XLOOKUP('Weighting Set'!$Z18,Modellering!$K$45:$BH$45,Modellering!$K$46:$BH$57)),Modellering!$E$46:$E$57,'MP per GJ'!Z$18))/Invoerblad!$F$57*1000,0)","v":0},0,null,null,null,"053. Climate change - Biogenic","kg CO2 eq",{"$f":"IFERROR((SUMIFS((_xlfn.XLOOKUP('Weighting Set'!$Z18,Modellering!$K$65:$BH$65,Modellering!$K$66:$BH$77)),Modellering!$E$66:$E$77,'MP per GJ'!AG$18))/Invoerblad!$G$57*1000,0)","v":0},{"$f":"IFERROR((SUMIFS((_xlfn.XLOOKUP('Weighting Set'!$Z18,Modellering!$K$65:$BH$65,Modellering!$K$66:$BH$77)),Modellering!$E$66:$E$77,'MP per GJ'!AH$18))/Invoerblad!$G$57*1000,0)","v":0},{"$f":"IFERROR((SUMIFS((_xlfn.XLOOKUP('Weighting Set'!$Z18,Modellering!$K$65:$BH$65,Modellering!$K$66:$BH$77)),Modellering!$E$66:$E$77,'MP per GJ'!AI$18))/Invoerblad!$G$57*1000,0)","v":0},0,null,null,null,"053. Climate change - Biogenic","kg CO2 eq",{"$f":"IFERROR((SUMIFS((_xlfn.XLOOKUP('Weighting Set'!$Z18,Modellering!$K$85:$BH$85,Modellering!$K$86:$BH$97)),Modellering!$E$86:$E$97,'MP per GJ'!AP$18))/Invoerblad!$H$57*1000,0)","v":0},{"$f":"IFERROR((SUMIFS((_xlfn.XLOOKUP('Weighting Set'!$Z18,Modellering!$K$85:$BH$85,Modellering!$K$86:$BH$97)),Modellering!$E$86:$E$97,'MP per GJ'!AQ$18))/Invoerblad!$H$57*1000,0)","v":0},{"$f":"IFERROR((SUMIFS((_xlfn.XLOOKUP('Weighting Set'!$Z18,Modellering!$K$85:$BH$85,Modellering!$K$86:$BH$97)),Modellering!$E$86:$E$97,'MP per GJ'!AR$18))/Invoerblad!$H$57*1000,0)","v":0},0]
[null,null,null,"054. Climate change - Land use and LU ch","kg CO2 eq",{"$f":"IFERROR((SUMIFS((_xlfn.XLOOKUP('Weighting Set'!$Z19,Modellering!$K$5:$BH$5,Modellering!$K$6:$BH$17)),Modellering!$E$6:$E$17,'MP per GJ'!F$18))/Invoerblad!$D$57*1000,0)","v":9.1562533928686522E-3},{"$f":"IFERROR((SUMIFS((_xlfn.XLOOKUP('Weighting Set'!$Z19,Modellering!$K$5:$BH$5,Modellering!$K$6:$BH$17)),Modellering!$E$6:$E$17,'MP per GJ'!G$18))/Invoerblad!$D$57*1000,0)","v":6.3333520464452329E-4},{"$f":"IFERROR((SUMIFS((_xlfn.XLOOKUP('Weighting Set'!$Z19,Modellering!$K$5:$BH$5,Modellering!$K$6:$BH$17)),Modellering!$E$6:$E$17,'MP per GJ'!H$18))/Invoerblad!$D$57*1000,0)","v":7.1598983222841885E-3},1.6949486919797363E-2,null,null,null,"054. Climate change - Land use and LU ch","kg CO2 eq",{"$f":"IFERROR((SUMIFS((_xlfn.XLOOKUP('Weighting Set'!$Z19,Modellering!$K$25:$BH$25,Modellering!$K$26:$BH$37)),Modellering!$E$26:$E$37,'MP per GJ'!O$18))/Invoerblad!$E$57*1000,0)","v":0},{"$f":"IFERROR((SUMIFS((_xlfn.XLOOKUP('Weighting Set'!$Z19,Modellering!$K$25:$BH$25,Modellering!$K$26:$BH$37)),Modellering!$E$26:$E$37,'MP per GJ'!P$18))/Invoerblad!$E$57*1000,0)","v":0},{"$f":"IFERROR((SUMIFS((_xlfn.XLOOKUP('Weighting Set'!$Z19,Modellering!$K$25:$BH$25,Modellering!$K$26:$BH$37)),Modellering!$E$26:$E$37,'MP per GJ'!Q$18))/Invoerblad!$E$57*1000,0)","v":0},0,null,null,null,"054. Climate change - Land use and LU ch","kg CO2 eq",{"$f":"IFERROR((SUMIFS((_xlfn.XLOOKUP('Weighting Set'!$Z19,Modellering!$K$45:$BH$45,Modellering!$K$46:$BH$57)),Modellering!$E$46:$E$57,'MP per GJ'!X$18))/Invoerblad!$F$57*1000,0)","v":0},{"$f":"IFERROR((SUMIFS((_xlfn.XLOOKUP('Weighting Set'!$Z19,Modellering!$K$45:$BH$45,Modellering!$K$46:$BH$57)),Modellering!$E$46:$E$57,'MP per GJ'!Y$18))/Invoerblad!$F$57*1000,0)","v":0},{"$f":"IFERROR((SUMIFS((_xlfn.XLOOKUP('Weighting Set'!$Z19,Modellering!$K$45:$BH$45,Modellering!$K$46:$BH$57)),Modellering!$E$46:$E$57,'MP per GJ'!Z$18))/Invoerblad!$F$57*1000,0)","v":0},0,null,null,null,"054. Climate change - Land use and LU ch","kg CO2 eq",{"$f":"IFERROR((SUMIFS((_xlfn.XLOOKUP('Weighting Set'!$Z19,Modellering!$K$65:$BH$65,Modellering!$K$66:$BH$77)),Modellering!$E$66:$E$77,'MP per GJ'!AG$18))/Invoerblad!$G$57*1000,0)","v":0},{"$f":"IFERROR((SUMIFS((_xlfn.XLOOKUP('Weighting Set'!$Z19,Modellering!$K$65:$BH$65,Modellering!$K$66:$BH$77)),Modellering!$E$66:$E$77,'MP per GJ'!AH$18))/Invoerblad!$G$57*1000,0)","v":0},{"$f":"IFERROR((SUMIFS((_xlfn.XLOOKUP('Weighting Set'!$Z19,Modellering!$K$65:$BH$65,Modellering!$K$66:$BH$77)),Modellering!$E$66:$E$77,'MP per GJ'!AI$18))/Invoerblad!$G$57*1000,0)","v":0},0,null,null,null,"054. Climate change - Land use and LU ch","kg CO2 eq",{"$f":"IFERROR((SUMIFS((_xlfn.XLOOKUP('Weighting Set'!$Z19,Modellering!$K$85:$BH$85,Modellering!$K$86:$BH$97)),Modellering!$E$86:$E$97,'MP per GJ'!AP$18))/Invoerblad!$H$57*1000,0)","v":0},{"$f":"IFERROR((SUMIFS((_xlfn.XLOOKUP('Weighting Set'!$Z19,Modellering!$K$85:$BH$85,Modellering!$K$86:$BH$97)),Modellering!$E$86:$E$97,'MP per GJ'!AQ$18))/Invoerblad!$H$57*1000,0)","v":0},{"$f":"IFERROR((SUMIFS((_xlfn.XLOOKUP('Weighting Set'!$Z19,Modellering!$K$85:$BH$85,Modellering!$K$86:$BH$97)),Modellering!$E$86:$E$97,'MP per GJ'!AR$18))/Invoerblad!$H$57*1000,0)","v":0},0]
[null,null,null,"055. Ozone depletion","kg CFC11 eq",{"$f":"IFERROR((SUMIFS((_xlfn.XLOOKUP('Weighting Set'!$Z20,Modellering!$K$5:$BH$5,Modellering!$K$6:$BH$17)),Modellering!$E$6:$E$17,'MP per GJ'!F$18))/Invoerblad!$D$57*1000,0)","v":1.913626066615169E-5},{"$f":"IFERROR((SUMIFS((_xlfn.XLOOKUP('Weighting Set'!$Z20,Modellering!$K$5:$BH$5,Modellering!$K$6:$BH$17)),Modellering!$E$6:$E$17,'MP per GJ'!G$18))/Invoerblad!$D$57*1000,0)","v":2.2007727113513095E-8},{"$f":"IFERROR((SUMIFS((_xlfn.XLOOKUP('Weighting Set'!$Z20,Modellering!$K$5:$BH$5,Modellering!$K$6:$BH$17)),Modellering!$E$6:$E$17,'MP per GJ'!H$18))/Invoerblad!$D$57*1000,0)","v":7.0435749180250521E-7},1.9862625885067708E-5,null,null,null,"055. Ozone depletion","kg CFC11 eq",{"$f":"IFERROR((SUMIFS((_xlfn.XLOOKUP('Weighting Set'!$Z20,Modellering!$K$25:$BH$25,Modellering!$K$26:$BH$37)),Modellering!$E$26:$E$37,'MP per GJ'!O$18))/Invoerblad!$E$57*1000,0)","v":0},{"$f":"IFERROR((SUMIFS((_xlfn.XLOOKUP('Weighting Set'!$Z20,Modellering!$K$25:$BH$25,Modellering!$K$26:$BH$37)),Modellering!$E$26:$E$37,'MP per GJ'!P$18))/Invoerblad!$E$57*1000,0)","v":0},{"$f":"IFERROR((SUMIFS((_xlfn.XLOOKUP('Weighting Set'!$Z20,Modellering!$K$25:$BH$25,Modellering!$K$26:$BH$37)),Modellering!$E$26:$E$37,'MP per GJ'!Q$18))/Invoerblad!$E$57*1000,0)","v":0},0,null,null,null,"055. Ozone depletion","kg CFC11 eq",{"$f":"IFERROR((SUMIFS((_xlfn.XLOOKUP('Weighting Set'!$Z20,Modellering!$K$45:$BH$45,Modellering!$K$46:$BH$57)),Modellering!$E$46:$E$57,'MP per GJ'!X$18))/Invoerblad!$F$57*1000,0)","v":0},{"$f":"IFERROR((SUMIFS((_xlfn.XLOOKUP('Weighting Set'!$Z20,Modellering!$K$45:$BH$45,Modellering!$K$46:$BH$57)),Modellering!$E$46:$E$57,'MP per GJ'!Y$18))/Invoerblad!$F$57*1000,0)","v":0},{"$f":"IFERROR((SUMIFS((_xlfn.XLOOKUP('Weighting Set'!$Z20,Modellering!$K$45:$BH$45,Modellering!$K$46:$BH$57)),Modellering!$E$46:$E$57,'MP per GJ'!Z$18))/Invoerblad!$F$57*1000,0)","v":0},0,null,null,null,"055. Ozone depletion","kg CFC11 eq",{"$f":"IFERROR((SUMIFS((_xlfn.XLOOKUP('Weighting Set'!$Z20,Modellering!$K$65:$BH$65,Modellering!$K$66:$BH$77)),Modellering!$E$66:$E$77,'MP per GJ'!AG$18))/Invoerblad!$G$57*1000,0)","v":0},{"$f":"IFERROR((SUMIFS((_xlfn.XLOOKUP('Weighting Set'!$Z20,Modellering!$K$65:$BH$65,Modellering!$K$66:$BH$77)),Modellering!$E$66:$E$77,'MP per GJ'!AH$18))/Invoerblad!$G$57*1000,0)","v":0},{"$f":"IFERROR((SUMIFS((_xlfn.XLOOKUP('Weighting Set'!$Z20,Modellering!$K$65:$BH$65,Modellering!$K$66:$BH$77)),Modellering!$E$66:$E$77,'MP per GJ'!AI$18))/Invoerblad!$G$57*1000,0)","v":0},0,null,null,null,"055. Ozone depletion","kg CFC11 eq",{"$f":"IFERROR((SUMIFS((_xlfn.XLOOKUP('Weighting Set'!$Z20,Modellering!$K$85:$BH$85,Modellering!$K$86:$BH$97)),Modellering!$E$86:$E$97,'MP per GJ'!AP$18))/Invoerblad!$H$57*1000,0)","v":0},{"$f":"IFERROR((SUMIFS((_xlfn.XLOOKUP('Weighting Set'!$Z20,Modellering!$K$85:$BH$85,Modellering!$K$86:$BH$97)),Modellering!$E$86:$E$97,'MP per GJ'!AQ$18))/Invoerblad!$H$57*1000,0)","v":0},{"$f":"IFERROR((SUMIFS((_xlfn.XLOOKUP('Weighting Set'!$Z20,Modellering!$K$85:$BH$85,Modellering!$K$86:$BH$97)),Modellering!$E$86:$E$97,'MP per GJ'!AR$18))/Invoerblad!$H$57*1000,0)","v":0},0]
[null,null,null,"056. Acidification","mol H+ eq",{"$f":"IFERROR((SUMIFS((_xlfn.XLOOKUP('Weighting Set'!$Z21,Modellering!$K$5:$BH$5,Modellering!$K$6:$BH$17)),Modellering!$E$6:$E$17,'MP per GJ'!F$18))/Invoerblad!$D$57*1000,0)","v":0.20353856739445139},{"$f":"IFERROR((SUMIFS((_xlfn.XLOOKUP('Weighting Set'!$Z21,Modellering!$K$5:$BH$5,Modellering!$K$6:$BH$17)),Modellering!$E$6:$E$17,'MP per GJ'!G$18))/Invoerblad!$D$57*1000,0)","v":4.6265821734326352E-3},{"$f":"IFERROR((SUMIFS((_xlfn.XLOOKUP('Weighting Set'!$Z21,Modellering!$K$5:$BH$5,Modellering!$K$6:$BH$17)),Modellering!$E$6:$E$17,'MP per GJ'!H$18))/Invoerblad!$D$57*1000,0)","v":0.80509898063711205},1.0132641302049961,null,null,null,"056. Acidification","mol H+ eq",{"$f":"IFERROR((SUMIFS((_xlfn.XLOOKUP('Weighting Set'!$Z21,Modellering!$K$25:$BH$25,Modellering!$K$26:$BH$37)),Modellering!$E$26:$E$37,'MP per GJ'!O$18))/Invoerblad!$E$57*1000,0)","v":0},{"$f":"IFERROR((SUMIFS((_xlfn.XLOOKUP('Weighting Set'!$Z21,Modellering!$K$25:$BH$25,Modellering!$K$26:$BH$37)),Modellering!$E$26:$E$37,'MP per GJ'!P$18))/Invoerblad!$E$57*1000,0)","v":0},{"$f":"IFERROR((SUMIFS((_xlfn.XLOOKUP('Weighting Set'!$Z21,Modellering!$K$25:$BH$25,Modellering!$K$26:$BH$37)),Modellering!$E$26:$E$37,'MP per GJ'!Q$18))/Invoerblad!$E$57*1000,0)","v":0},0,null,null,null,"056. Acidification","mol H+ eq",{"$f":"IFERROR((SUMIFS((_xlfn.XLOOKUP('Weighting Set'!$Z21,Modellering!$K$45:$BH$45,Modellering!$K$46:$BH$57)),Modellering!$E$46:$E$57,'MP per GJ'!X$18))/Invoerblad!$F$57*1000,0)","v":0},{"$f":"IFERROR((SUMIFS((_xlfn.XLOOKUP('Weighting Set'!$Z21,Modellering!$K$45:$BH$45,Modellering!$K$46:$BH$57)),Modellering!$E$46:$E$57,'MP per GJ'!Y$18))/Invoerblad!$F$57*1000,0)","v":0},{"$f":"IFERROR((SUMIFS((_xlfn.XLOOKUP('Weighting Set'!$Z21,Modellering!$K$45:$BH$45,Modellering!$K$46:$BH$57)),Modellering!$E$46:$E$57,'MP per GJ'!Z$18))/Invoerblad!$F$57*1000,0)","v":0},0,null,null,null,"056. Acidification","mol H+ eq",{"$f":"IFERROR((SUMIFS((_xlfn.XLOOKUP('Weighting Set'!$Z21,Modellering!$K$65:$BH$65,Modellering!$K$66:$BH$77)),Modellering!$E$66:$E$77,'MP per GJ'!AG$18))/Invoerblad!$G$57*1000,0)","v":0},{"$f":"IFERROR((SUMIFS((_xlfn.XLOOKUP('Weighting Set'!$Z21,Modellering!$K$65:$BH$65,Modellering!$K$66:$BH$77)),Modellering!$E$66:$E$77,'MP per GJ'!AH$18))/Invoerblad!$G$57*1000,0)","v":0},{"$f":"IFERROR((SUMIFS((_xlfn.XLOOKUP('Weighting Set'!$Z21,Modellering!$K$65:$BH$65,Modellering!$K$66:$BH$77)),Modellering!$E$66:$E$77,'MP per GJ'!AI$18))/Invoerblad!$G$57*1000,0)","v":0},0,null,null,null,"056. Acidification","mol H+ eq",{"$f":"IFERROR((SUMIFS((_xlfn.XLOOKUP('Weighting Set'!$Z21,Modellering!$K$85:$BH$85,Modellering!$K$86:$BH$97)),Modellering!$E$86:$E$97,'MP per GJ'!AP$18))/Invoerblad!$H$57*1000,0)","v":0},{"$f":"IFERROR((SUMIFS((_xlfn.XLOOKUP('Weighting Set'!$Z21,Modellering!$K$85:$BH$85,Modellering!$K$86:$BH$97)),Modellering!$E$86:$E$97,'MP per GJ'!AQ$18))/Invoerblad!$H$57*1000,0)","v":0},{"$f":"IFERROR((SUMIFS((_xlfn.XLOOKUP('Weighting Set'!$Z21,Modellering!$K$85:$BH$85,Modellering!$K$86:$BH$97)),Modellering!$E$86:$E$97,'MP per GJ'!AR$18))/Invoerblad!$H$57*1000,0)","v":0},0]
[null,null,null,"057. Eutrophication, freshwater","kg P eq",{"$f":"IFERROR((SUMIFS((_xlfn.XLOOKUP('Weighting Set'!$Z22,Modellering!$K$5:$BH$5,Modellering!$K$6:$BH$17)),Modellering!$E$6:$E$17,'MP per GJ'!F$18))/Invoerblad!$D$57*1000,0)","v":2.7998463872094809E-4},{"$f":"IFERROR((SUMIFS((_xlfn.XLOOKUP('Weighting Set'!$Z22,Modellering!$K$5:$BH$5,Modellering!$K$6:$BH$17)),Modellering!$E$6:$E$17,'MP per GJ'!G$18))/Invoerblad!$D$57*1000,0)","v":2.0684908569088733E-5},{"$f":"IFERROR((SUMIFS((_xlfn.XLOOKUP('Weighting Set'!$Z22,Modellering!$K$5:$BH$5,Modellering!$K$6:$BH$17)),Modellering!$E$6:$E$17,'MP per GJ'!H$18))/Invoerblad!$D$57*1000,0)","v":2.193904649335836E-4},5.2006001222362037E-4,null,null,null,"057. Eutrophication, freshwater","kg P eq",{"$f":"IFERROR((SUMIFS((_xlfn.XLOOKUP('Weighting Set'!$Z22,Modellering!$K$25:$BH$25,Modellering!$K$26:$BH$37)),Modellering!$E$26:$E$37,'MP per GJ'!O$18))/Invoerblad!$E$57*1000,0)","v":0},{"$f":"IFERROR((SUMIFS((_xlfn.XLOOKUP('Weighting Set'!$Z22,Modellering!$K$25:$BH$25,Modellering!$K$26:$BH$37)),Modellering!$E$26:$E$37,'MP per GJ'!P$18))/Invoerblad!$E$57*1000,0)","v":0},{"$f":"IFERROR((SUMIFS((_xlfn.XLOOKUP('Weighting Set'!$Z22,Modellering!$K$25:$BH$25,Modellering!$K$26:$BH$37)),Modellering!$E$26:$E$37,'MP per GJ'!Q$18))/Invoerblad!$E$57*1000,0)","v":0},0,null,null,null,"057. Eutrophication, freshwater","kg P eq",{"$f":"IFERROR((SUMIFS((_xlfn.XLOOKUP('Weighting Set'!$Z22,Modellering!$K$45:$BH$45,Modellering!$K$46:$BH$57)),Modellering!$E$46:$E$57,'MP per GJ'!X$18))/Invoerblad!$F$57*1000,0)","v":0},{"$f":"IFERROR((SUMIFS((_xlfn.XLOOKUP('Weighting Set'!$Z22,Modellering!$K$45:$BH$45,Modellering!$K$46:$BH$57)),Modellering!$E$46:$E$57,'MP per GJ'!Y$18))/Invoerblad!$F$57*1000,0)","v":0},{"$f":"IFERROR((SUMIFS((_xlfn.XLOOKUP('Weighting Set'!$Z22,Modellering!$K$45:$BH$45,Modellering!$K$46:$BH$57)),Modellering!$E$46:$E$57,'MP per GJ'!Z$18))/Invoerblad!$F$57*1000,0)","v":0},0,null,null,null,"057. Eutrophication, freshwater","kg P eq",{"$f":"IFERROR((SUMIFS((_xlfn.XLOOKUP('Weighting Set'!$Z22,Modellering!$K$65:$BH$65,Modellering!$K$66:$BH$77)),Modellering!$E$66:$E$77,'MP per GJ'!AG$18))/Invoerblad!$G$57*1000,0)","v":0},{"$f":"IFERROR((SUMIFS((_xlfn.XLOOKUP('Weighting Set'!$Z22,Modellering!$K$65:$BH$65,Modellering!$K$66:$BH$77)),Modellering!$E$66:$E$77,'MP per GJ'!AH$18))/Invoerblad!$G$57*1000,0)","v":0},{"$f":"IFERROR((SUMIFS((_xlfn.XLOOKUP('Weighting Set'!$Z22,Modellering!$K$65:$BH$65,Modellering!$K$66:$BH$77)),Modellering!$E$66:$E$77,'MP per GJ'!AI$18))/Invoerblad!$G$57*1000,0)","v":0},0,null,null,null,"057. Eutrophication, freshwater","kg P eq",{"$f":"IFERROR((SUMIFS((_xlfn.XLOOKUP('Weighting Set'!$Z22,Modellering!$K$85:$BH$85,Modellering!$K$86:$BH$97)),Modellering!$E$86:$E$97,'MP per GJ'!AP$18))/Invoerblad!$H$57*1000,0)","v":0},{"$f":"IFERROR((SUMIFS((_xlfn.XLOOKUP('Weighting Set'!$Z22,Modellering!$K$85:$BH$85,Modellering!$K$86:$BH$97)),Modellering!$E$86:$E$97,'MP per GJ'!AQ$18))/Invoerblad!$H$57*1000,0)","v":0},{"$f":"IFERROR((SUMIFS((_xlfn.XLOOKUP('Weighting Set'!$Z22,Modellering!$K$85:$BH$85,Modellering!$K$86:$BH$97)),Modellering!$E$86:$E$97,'MP per GJ'!AR$18))/Invoerblad!$H$57*1000,0)","v":0},0]
[null,null,null,"058. Eutrophication, marine","kg N eq",{"$f":"IFERROR((SUMIFS((_xlfn.XLOOKUP('Weighting Set'!$Z23,Modellering!$K$5:$BH$5,Modellering!$K$6:$BH$17)),Modellering!$E$6:$E$17,'MP per GJ'!F$18))/Invoerblad!$D$57*1000,0)","v":3.557596441799532E-2},{"$f":"IFERROR((SUMIFS((_xlfn.XLOOKUP('Weighting Set'!$Z23,Modellering!$K$5:$BH$5,Modellering!$K$6:$BH$17)),Modellering!$E$6:$E$17,'MP per GJ'!G$18))/Invoerblad!$D$57*1000,0)","v":1.4074688278786663E-3},{"$f":"IFERROR((SUMIFS((_xlfn.XLOOKUP('Weighting Set'!$Z23,Modellering!$K$5:$BH$5,Modellering!$K$6:$BH$17)),Modellering!$E$6:$E$17,'MP per GJ'!H$18))/Invoerblad!$D$57*1000,0)","v":0.39326590376501913},0.43024933701089313,null,null,null,"058. Eutrophication, marine","kg N eq",{"$f":"IFERROR((SUMIFS((_xlfn.XLOOKUP('Weighting Set'!$Z23,Modellering!$K$25:$BH$25,Modellering!$K$26:$BH$37)),Modellering!$E$26:$E$37,'MP per GJ'!O$18))/Invoerblad!$E$57*1000,0)","v":0},{"$f":"IFERROR((SUMIFS((_xlfn.XLOOKUP('Weighting Set'!$Z23,Modellering!$K$25:$BH$25,Modellering!$K$26:$BH$37)),Modellering!$E$26:$E$37,'MP per GJ'!P$18))/Invoerblad!$E$57*1000,0)","v":0},{"$f":"IFERROR((SUMIFS((_xlfn.XLOOKUP('Weighting Set'!$Z23,Modellering!$K$25:$BH$25,Modellering!$K$26:$BH$37)),Modellering!$E$26:$E$37,'MP per GJ'!Q$18))/Invoerblad!$E$57*1000,0)","v":0},0,null,null,null,"058. Eutrophication, marine","kg N eq",{"$f":"IFERROR((SUMIFS((_xlfn.XLOOKUP('Weighting Set'!$Z23,Modellering!$K$45:$BH$45,Modellering!$K$46:$BH$57)),Modellering!$E$46:$E$57,'MP per GJ'!X$18))/Invoerblad!$F$57*1000,0)","v":0},{"$f":"IFERROR((SUMIFS((_xlfn.XLOOKUP('Weighting Set'!$Z23,Modellering!$K$45:$BH$45,Modellering!$K$46:$BH$57)),Modellering!$E$46:$E$57,'MP per GJ'!Y$18))/Invoerblad!$F$57*1000,0)","v":0},{"$f":"IFERROR((SUMIFS((_xlfn.XLOOKUP('Weighting Set'!$Z23,Modellering!$K$45:$BH$45,Modellering!$K$46:$BH$57)),Modellering!$E$46:$E$57,'MP per GJ'!Z$18))/Invoerblad!$F$57*1000,0)","v":0},0,null,null,null,"058. Eutrophication, marine","kg N eq",{"$f":"IFERROR((SUMIFS((_xlfn.XLOOKUP('Weighting Set'!$Z23,Modellering!$K$65:$BH$65,Modellering!$K$66:$BH$77)),Modellering!$E$66:$E$77,'MP per GJ'!AG$18))/Invoerblad!$G$57*1000,0)","v":0},{"$f":"IFERROR((SUMIFS((_xlfn.XLOOKUP('Weighting Set'!$Z23,Modellering!$K$65:$BH$65,Modellering!$K$66:$BH$77)),Modellering!$E$66:$E$77,'MP per GJ'!AH$18))/Invoerblad!$G$57*1000,0)","v":0},{"$f":"IFERROR((SUMIFS((_xlfn.XLOOKUP('Weighting Set'!$Z23,Modellering!$K$65:$BH$65,Modellering!$K$66:$BH$77)),Modellering!$E$66:$E$77,'MP per GJ'!AI$18))/Invoerblad!$G$57*1000,0)","v":0},0,null,null,null,"058. Eutrophication, marine","kg N eq",{"$f":"IFERROR((SUMIFS((_xlfn.XLOOKUP('Weighting Set'!$Z23,Modellering!$K$85:$BH$85,Modellering!$K$86:$BH$97)),Modellering!$E$86:$E$97,'MP per GJ'!AP$18))/Invoerblad!$H$57*1000,0)","v":0},{"$f":"IFERROR((SUMIFS((_xlfn.XLOOKUP('Weighting Set'!$Z23,Modellering!$K$85:$BH$85,Modellering!$K$86:$BH$97)),Modellering!$E$86:$E$97,'MP per GJ'!AQ$18))/Invoerblad!$H$57*1000,0)","v":0},{"$f":"IFERROR((SUMIFS((_xlfn.XLOOKUP('Weighting Set'!$Z23,Modellering!$K$85:$BH$85,Modellering!$K$86:$BH$97)),Modellering!$E$86:$E$97,'MP per GJ'!AR$18))/Invoerblad!$H$57*1000,0)","v":0},0]
[null,null,null,"059. Eutrophication, terrestrial","mol N eq",{"$f":"IFERROR((SUMIFS((_xlfn.XLOOKUP('Weighting Set'!$Z24,Modellering!$K$5:$BH$5,Modellering!$K$6:$BH$17)),Modellering!$E$6:$E$17,'MP per GJ'!F$18))/Invoerblad!$D$57*1000,0)","v":0.32582242636292319},{"$f":"IFERROR((SUMIFS((_xlfn.XLOOKUP('Weighting Set'!$Z24,Modellering!$K$5:$BH$5,Modellering!$K$6:$BH$17)),Modellering!$E$6:$E$17,'MP per GJ'!G$18))/Invoerblad!$D$57*1000,0)","v":1.6569725856157166E-2},{"$f":"IFERROR((SUMIFS((_xlfn.XLOOKUP('Weighting Set'!$Z24,Modellering!$K$5:$BH$5,Modellering!$K$6:$BH$17)),Modellering!$E$6:$E$17,'MP per GJ'!H$18))/Invoerblad!$D$57*1000,0)","v":4.3379107918045499},4.6803029440236301,null,null,null,"059. Eutrophication, terrestrial","mol N eq",{"$f":"IFERROR((SUMIFS((_xlfn.XLOOKUP('Weighting Set'!$Z24,Modellering!$K$25:$BH$25,Modellering!$K$26:$BH$37)),Modellering!$E$26:$E$37,'MP per GJ'!O$18))/Invoerblad!$E$57*1000,0)","v":0},{"$f":"IFERROR((SUMIFS((_xlfn.XLOOKUP('Weighting Set'!$Z24,Modellering!$K$25:$BH$25,Modellering!$K$26:$BH$37)),Modellering!$E$26:$E$37,'MP per GJ'!P$18))/Invoerblad!$E$57*1000,0)","v":0},{"$f":"IFERROR((SUMIFS((_xlfn.XLOOKUP('Weighting Set'!$Z24,Modellering!$K$25:$BH$25,Modellering!$K$26:$BH$37)),Modellering!$E$26:$E$37,'MP per GJ'!Q$18))/Invoerblad!$E$57*1000,0)","v":0},0,null,null,null,"059. Eutrophication, terrestrial","mol N eq",{"$f":"IFERROR((SUMIFS((_xlfn.XLOOKUP('Weighting Set'!$Z24,Modellering!$K$45:$BH$45,Modellering!$K$46:$BH$57)),Modellering!$E$46:$E$57,'MP per GJ'!X$18))/Invoerblad!$F$57*1000,0)","v":0},{"$f":"IFERROR((SUMIFS((_xlfn.XLOOKUP('Weighting Set'!$Z24,Modellering!$K$45:$BH$45,Modellering!$K$46:$BH$57)),Modellering!$E$46:$E$57,'MP per GJ'!Y$18))/Invoerblad!$F$57*1000,0)","v":0},{"$f":"IFERROR((SUMIFS((_xlfn.XLOOKUP('Weighting Set'!$Z24,Modellering!$K$45:$BH$45,Modellering!$K$46:$BH$57)),Modellering!$E$46:$E$57,'MP per GJ'!Z$18))/Invoerblad!$F$57*1000,0)","v":0},0,null,null,null,"059. Eutrophication, terrestrial","mol N eq",{"$f":"IFERROR((SUMIFS((_xlfn.XLOOKUP('Weighting Set'!$Z24,Modellering!$K$65:$BH$65,Modellering!$K$66:$BH$77)),Modellering!$E$66:$E$77,'MP per GJ'!AG$18))/Invoerblad!$G$57*1000,0)","v":0},{"$f":"IFERROR((SUMIFS((_xlfn.XLOOKUP('Weighting Set'!$Z24,Modellering!$K$65:$BH$65,Modellering!$K$66:$BH$77)),Modellering!$E$66:$E$77,'MP per GJ'!AH$18))/Invoerblad!$G$57*1000,0)","v":0},{"$f":"IFERROR((SUMIFS((_xlfn.XLOOKUP('Weighting Set'!$Z24,Modellering!$K$65:$BH$65,Modellering!$K$66:$BH$77)),Modellering!$E$66:$E$77,'MP per GJ'!AI$18))/Invoerblad!$G$57*1000,0)","v":0},0,null,null,null,"059. Eutrophication, terrestrial","mol N eq",{"$f":"IFERROR((SUMIFS((_xlfn.XLOOKUP('Weighting Set'!$Z24,Modellering!$K$85:$BH$85,Modellering!$K$86:$BH$97)),Modellering!$E$86:$E$97,'MP per GJ'!AP$18))/Invoerblad!$H$57*1000,0)","v":0},{"$f":"IFERROR((SUMIFS((_xlfn.XLOOKUP('Weighting Set'!$Z24,Modellering!$K$85:$BH$85,Modellering!$K$86:$BH$97)),Modellering!$E$86:$E$97,'MP per GJ'!AQ$18))/Invoerblad!$H$57*1000,0)","v":0},{"$f":"IFERROR((SUMIFS((_xlfn.XLOOKUP('Weighting Set'!$Z24,Modellering!$K$85:$BH$85,Modellering!$K$86:$BH$97)),Modellering!$E$86:$E$97,'MP per GJ'!AR$18))/Invoerblad!$H$57*1000,0)","v":0},0]
[null,null,null,"060. Photochemical ozone formation","kg NMVOC eq",{"$f":"IFERROR((SUMIFS((_xlfn.XLOOKUP('Weighting Set'!$Z25,Modellering!$K$5:$BH$5,Modellering!$K$6:$BH$17)),Modellering!$E$6:$E$17,'MP per GJ'!F$18))/Invoerblad!$D$57*1000,0)","v":0.25665136678298583},{"$f":"IFERROR((SUMIFS((_xlfn.XLOOKUP('Weighting Set'!$Z25,Modellering!$K$5:$BH$5,Modellering!$K$6:$BH$17)),Modellering!$E$6:$E$17,'MP per GJ'!G$18))/Invoerblad!$D$57*1000,0)","v":5.712023586344493E-3},{"$f":"IFERROR((SUMIFS((_xlfn.XLOOKUP('Weighting Set'!$Z25,Modellering!$K$5:$BH$5,Modellering!$K$6:$BH$17)),Modellering!$E$6:$E$17,'MP per GJ'!H$18))/Invoerblad!$D$57*1000,0)","v":1.0814464831875472},1.3438098735568775,null,null,null,"060. Photochemical ozone formation","kg NMVOC eq",{"$f":"IFERROR((SUMIFS((_xlfn.XLOOKUP('Weighting Set'!$Z25,Modellering!$K$25:$BH$25,Modellering!$K$26:$BH$37)),Modellering!$E$26:$E$37,'MP per GJ'!O$18))/Invoerblad!$E$57*1000,0)","v":0},{"$f":"IFERROR((SUMIFS((_xlfn.XLOOKUP('Weighting Set'!$Z25,Modellering!$K$25:$BH$25,Modellering!$K$26:$BH$37)),Modellering!$E$26:$E$37,'MP per GJ'!P$18))/Invoerblad!$E$57*1000,0)","v":0},{"$f":"IFERROR((SUMIFS((_xlfn.XLOOKUP('Weighting Set'!$Z25,Modellering!$K$25:$BH$25,Modellering!$K$26:$BH$37)),Modellering!$E$26:$E$37,'MP per GJ'!Q$18))/Invoerblad!$E$57*1000,0)","v":0},0,null,null,null,"060. Photochemical ozone formation","kg NMVOC eq",{"$f":"IFERROR((SUMIFS((_xlfn.XLOOKUP('Weighting Set'!$Z25,Modellering!$K$45:$BH$45,Modellering!$K$46:$BH$57)),Modellering!$E$46:$E$57,'MP per GJ'!X$18))/Invoerblad!$F$57*1000,0)","v":0},{"$f":"IFERROR((SUMIFS((_xlfn.XLOOKUP('Weighting Set'!$Z25,Modellering!$K$45:$BH$45,Modellering!$K$46:$BH$57)),Modellering!$E$46:$E$57,'MP per GJ'!Y$18))/Invoerblad!$F$57*1000,0)","v":0},{"$f":"IFERROR((SUMIFS((_xlfn.XLOOKUP('Weighting Set'!$Z25,Modellering!$K$45:$BH$45,Modellering!$K$46:$BH$57)),Modellering!$E$46:$E$57,'MP per GJ'!Z$18))/Invoerblad!$F$57*1000,0)","v":0},0,null,null,null,"060. Photochemical ozone formation","kg NMVOC eq",{"$f":"IFERROR((SUMIFS((_xlfn.XLOOKUP('Weighting Set'!$Z25,Modellering!$K$65:$BH$65,Modellering!$K$66:$BH$77)),Modellering!$E$66:$E$77,'MP per GJ'!AG$18))/Invoerblad!$G$57*1000,0)","v":0},{"$f":"IFERROR((SUMIFS((_xlfn.XLOOKUP('Weighting Set'!$Z25,Modellering!$K$65:$BH$65,Modellering!$K$66:$BH$77)),Modellering!$E$66:$E$77,'MP per GJ'!AH$18))/Invoerblad!$G$57*1000,0)","v":0},{"$f":"IFERROR((SUMIFS((_xlfn.XLOOKUP('Weighting Set'!$Z25,Modellering!$K$65:$BH$65,Modellering!$K$66:$BH$77)),Modellering!$E$66:$E$77,'MP per GJ'!AI$18))/Invoerblad!$G$57*1000,0)","v":0},0,null,null,null,"060. Photochemical ozone formation","kg NMVOC eq",{"$f":"IFERROR((SUMIFS((_xlfn.XLOOKUP('Weighting Set'!$Z25,Modellering!$K$85:$BH$85,Modellering!$K$86:$BH$97)),Modellering!$E$86:$E$97,'MP per GJ'!AP$18))/Invoerblad!$H$57*1000,0)","v":0},{"$f":"IFERROR((SUMIFS((_xlfn.XLOOKUP('Weighting Set'!$Z25,Modellering!$K$85:$BH$85,Modellering!$K$86:$BH$97)),Modellering!$E$86:$E$97,'MP per GJ'!AQ$18))/Invoerblad!$H$57*1000,0)","v":0},{"$f":"IFERROR((SUMIFS((_xlfn.XLOOKUP('Weighting Set'!$Z25,Modellering!$K$85:$BH$85,Modellering!$K$86:$BH$97)),Modellering!$E$86:$E$97,'MP per GJ'!AR$18))/Invoerblad!$H$57*1000,0)","v":0},0]
[null,null,null,"061. Resource use, minerals and metals","kg Sb eq",{"$f":"IFERROR((SUMIFS((_xlfn.XLOOKUP('Weighting Set'!$Z26,Modellering!$K$5:$BH$5,Modellering!$K$6:$BH$17)),Modellering!$E$6:$E$17,'MP per GJ'!F$18))/Invoerblad!$D$57*1000,0)","v":3.9720608351862591E-5},{"$f":"IFERROR((SUMIFS((_xlfn.XLOOKUP('Weighting Set'!$Z26,Modellering!$K$5:$BH$5,Modellering!$K$6:$BH$17)),Modellering!$E$6:$E$17,'MP per GJ'!G$18))/Invoerblad!$D$57*1000,0)","v":4.0601780333638235E-6},{"$f":"IFERROR((SUMIFS((_xlfn.XLOOKUP('Weighting Set'!$Z26,Modellering!$K$5:$BH$5,Modellering!$K$6:$BH$17)),Modellering!$E$6:$E$17,'MP per GJ'!H$18))/Invoerblad!$D$57*1000,0)","v":3.3396299552609805E-5},7.7177085937836217E-5,null,null,null,"061. Resource use, minerals and metals","kg Sb eq",{"$f":"IFERROR((SUMIFS((_xlfn.XLOOKUP('Weighting Set'!$Z26,Modellering!$K$25:$BH$25,Modellering!$K$26:$BH$37)),Modellering!$E$26:$E$37,'MP per GJ'!O$18))/Invoerblad!$E$57*1000,0)","v":0},{"$f":"IFERROR((SUMIFS((_xlfn.XLOOKUP('Weighting Set'!$Z26,Modellering!$K$25:$BH$25,Modellering!$K$26:$BH$37)),Modellering!$E$26:$E$37,'MP per GJ'!P$18))/Invoerblad!$E$57*1000,0)","v":0},{"$f":"IFERROR((SUMIFS((_xlfn.XLOOKUP('Weighting Set'!$Z26,Modellering!$K$25:$BH$25,Modellering!$K$26:$BH$37)),Modellering!$E$26:$E$37,'MP per GJ'!Q$18))/Invoerblad!$E$57*1000,0)","v":0},0,null,null,null,"061. Resource use, minerals and metals","kg Sb eq",{"$f":"IFERROR((SUMIFS((_xlfn.XLOOKUP('Weighting Set'!$Z26,Modellering!$K$45:$BH$45,Modellering!$K$46:$BH$57)),Modellering!$E$46:$E$57,'MP per GJ'!X$18))/Invoerblad!$F$57*1000,0)","v":0},{"$f":"IFERROR((SUMIFS((_xlfn.XLOOKUP('Weighting Set'!$Z26,Modellering!$K$45:$BH$45,Modellering!$K$46:$BH$57)),Modellering!$E$46:$E$57,'MP per GJ'!Y$18))/Invoerblad!$F$57*1000,0)","v":0},{"$f":"IFERROR((SUMIFS((_xlfn.XLOOKUP('Weighting Set'!$Z26,Modellering!$K$45:$BH$45,Modellering!$K$46:$BH$57)),Modellering!$E$46:$E$57,'MP per GJ'!Z$18))/Invoerblad!$F$57*1000,0)","v":0},0,null,null,null,"061. Resource use, minerals and metals","kg Sb eq",{"$f":"IFERROR((SUMIFS((_xlfn.XLOOKUP('Weighting Set'!$Z26,Modellering!$K$65:$BH$65,Modellering!$K$66:$BH$77)),Modellering!$E$66:$E$77,'MP per GJ'!AG$18))/Invoerblad!$G$57*1000,0)","v":0},{"$f":"IFERROR((SUMIFS((_xlfn.XLOOKUP('Weighting Set'!$Z26,Modellering!$K$65:$BH$65,Modellering!$K$66:$BH$77)),Modellering!$E$66:$E$77,'MP per GJ'!AH$18))/Invoerblad!$G$57*1000,0)","v":0},{"$f":"IFERROR((SUMIFS((_xlfn.XLOOKUP('Weighting Set'!$Z26,Modellering!$K$65:$BH$65,Modellering!$K$66:$BH$77)),Modellering!$E$66:$E$77,'MP per GJ'!AI$18))/Invoerblad!$G$57*1000,0)","v":0},0,null,null,null,"061. Resource use, minerals and metals","kg Sb eq",{"$f":"IFERROR((SUMIFS((_xlfn.XLOOKUP('Weighting Set'!$Z26,Modellering!$K$85:$BH$85,Modellering!$K$86:$BH$97)),Modellering!$E$86:$E$97,'MP per GJ'!AP$18))/Invoerblad!$H$57*1000,0)","v":0},{"$f":"IFERROR((SUMIFS((_xlfn.XLOOKUP('Weighting Set'!$Z26,Modellering!$K$85:$BH$85,Modellering!$K$86:$BH$97)),Modellering!$E$86:$E$97,'MP per GJ'!AQ$18))/Invoerblad!$H$57*1000,0)","v":0},{"$f":"IFERROR((SUMIFS((_xlfn.XLOOKUP('Weighting Set'!$Z26,Modellering!$K$85:$BH$85,Modellering!$K$86:$BH$97)),Modellering!$E$86:$E$97,'MP per GJ'!AR$18))/Invoerblad!$H$57*1000,0)","v":0},0]
[null,null,null,"062. Resource use, fossils","MJ",{"$f":"IFERROR((SUMIFS((_xlfn.XLOOKUP('Weighting Set'!$Z27,Modellering!$K$5:$BH$5,Modellering!$K$6:$BH$17)),Modellering!$E$6:$E$17,'MP per GJ'!F$18))/Invoerblad!$D$57*1000,0)","v":2815.1417448505385},{"$f":"IFERROR((SUMIFS((_xlfn.XLOOKUP('Weighting Set'!$Z27,Modellering!$K$5:$BH$5,Modellering!$K$6:$BH$17)),Modellering!$E$6:$E$17,'MP per GJ'!G$18))/Invoerblad!$D$57*1000,0)","v":15.88020430628681},{"$f":"IFERROR((SUMIFS((_xlfn.XLOOKUP('Weighting Set'!$Z27,Modellering!$K$5:$BH$5,Modellering!$K$6:$BH$17)),Modellering!$E$6:$E$17,'MP per GJ'!H$18))/Invoerblad!$D$57*1000,0)","v":41.295972723660505},2872.3179218804862,null,null,null,"062. Resource use, fossils","MJ",{"$f":"IFERROR((SUMIFS((_xlfn.XLOOKUP('Weighting Set'!$Z27,Modellering!$K$25:$BH$25,Modellering!$K$26:$BH$37)),Modellering!$E$26:$E$37,'MP per GJ'!O$18))/Invoerblad!$E$57*1000,0)","v":0},{"$f":"IFERROR((SUMIFS((_xlfn.XLOOKUP('Weighting Set'!$Z27,Modellering!$K$25:$BH$25,Modellering!$K$26:$BH$37)),Modellering!$E$26:$E$37,'MP per GJ'!P$18))/Invoerblad!$E$57*1000,0)","v":0},{"$f":"IFERROR((SUMIFS((_xlfn.XLOOKUP('Weighting Set'!$Z27,Modellering!$K$25:$BH$25,Modellering!$K$26:$BH$37)),Modellering!$E$26:$E$37,'MP per GJ'!Q$18))/Invoerblad!$E$57*1000,0)","v":0},0,null,null,null,"062. Resource use, fossils","MJ",{"$f":"IFERROR((SUMIFS((_xlfn.XLOOKUP('Weighting Set'!$Z27,Modellering!$K$45:$BH$45,Modellering!$K$46:$BH$57)),Modellering!$E$46:$E$57,'MP per GJ'!X$18))/Invoerblad!$F$57*1000,0)","v":0},{"$f":"IFERROR((SUMIFS((_xlfn.XLOOKUP('Weighting Set'!$Z27,Modellering!$K$45:$BH$45,Modellering!$K$46:$BH$57)),Modellering!$E$46:$E$57,'MP per GJ'!Y$18))/Invoerblad!$F$57*1000,0)","v":0},{"$f":"IFERROR((SUMIFS((_xlfn.XLOOKUP('Weighting Set'!$Z27,Modellering!$K$45:$BH$45,Modellering!$K$46:$BH$57)),Modellering!$E$46:$E$57,'MP per GJ'!Z$18))/Invoerblad!$F$57*1000,0)","v":0},0,null,null,null,"062. Resource use, fossils","MJ",{"$f":"IFERROR((SUMIFS((_xlfn.XLOOKUP('Weighting Set'!$Z27,Modellering!$K$65:$BH$65,Modellering!$K$66:$BH$77)),Modellering!$E$66:$E$77,'MP per GJ'!AG$18))/Invoerblad!$G$57*1000,0)","v":0},{"$f":"IFERROR((SUMIFS((_xlfn.XLOOKUP('Weighting Set'!$Z27,Modellering!$K$65:$BH$65,Modellering!$K$66:$BH$77)),Modellering!$E$66:$E$77,'MP per GJ'!AH$18))/Invoerblad!$G$57*1000,0)","v":0},{"$f":"IFERROR((SUMIFS((_xlfn.XLOOKUP('Weighting Set'!$Z27,Modellering!$K$65:$BH$65,Modellering!$K$66:$BH$77)),Modellering!$E$66:$E$77,'MP per GJ'!AI$18))/Invoerblad!$G$57*1000,0)","v":0},0,null,null,null,"062. Resource use, fossils","MJ",{"$f":"IFERROR((SUMIFS((_xlfn.XLOOKUP('Weighting Set'!$Z27,Modellering!$K$85:$BH$85,Modellering!$K$86:$BH$97)),Modellering!$E$86:$E$97,'MP per GJ'!AP$18))/Invoerblad!$H$57*1000,0)","v":0},{"$f":"IFERROR((SUMIFS((_xlfn.XLOOKUP('Weighting Set'!$Z27,Modellering!$K$85:$BH$85,Modellering!$K$86:$BH$97)),Modellering!$E$86:$E$97,'MP per GJ'!AQ$18))/Invoerblad!$H$57*1000,0)","v":0},{"$f":"IFERROR((SUMIFS((_xlfn.XLOOKUP('Weighting Set'!$Z27,Modellering!$K$85:$BH$85,Modellering!$K$86:$BH$97)),Modellering!$E$86:$E$97,'MP per GJ'!AR$18))/Invoerblad!$H$57*1000,0)","v":0},0]
[null,null,null,"063. Water use","m3 depriv.",{"$f":"IFERROR((SUMIFS((_xlfn.XLOOKUP('Weighting Set'!$Z28,Modellering!$K$5:$BH$5,Modellering!$K$6:$BH$17)),Modellering!$E$6:$E$17,'MP per GJ'!F$18))/Invoerblad!$D$57*1000,0)","v":6.5275229312917675},{"$f":"IFERROR((SUMIFS((_xlfn.XLOOKUP('Weighting Set'!$Z28,Modellering!$K$5:$BH$5,Modellering!$K$6:$BH$17)),Modellering!$E$6:$E$17,'MP per GJ'!G$18))/Invoerblad!$D$57*1000,0)","v":-5.7012291214465965E-2},{"$f":"IFERROR((SUMIFS((_xlfn.XLOOKUP('Weighting Set'!$Z28,Modellering!$K$5:$BH$5,Modellering!$K$6:$BH$17)),Modellering!$E$6:$E$17,'MP per GJ'!H$18))/Invoerblad!$D$57*1000,0)","v":1.1546631470003137},7.6251737870776148,null,null,null,"063. Water use","m3 depriv.",{"$f":"IFERROR((SUMIFS((_xlfn.XLOOKUP('Weighting Set'!$Z28,Modellering!$K$25:$BH$25,Modellering!$K$26:$BH$37)),Modellering!$E$26:$E$37,'MP per GJ'!O$18))/Invoerblad!$E$57*1000,0)","v":0},{"$f":"IFERROR((SUMIFS((_xlfn.XLOOKUP('Weighting Set'!$Z28,Modellering!$K$25:$BH$25,Modellering!$K$26:$BH$37)),Modellering!$E$26:$E$37,'MP per GJ'!P$18))/Invoerblad!$E$57*1000,0)","v":0},{"$f":"IFERROR((SUMIFS((_xlfn.XLOOKUP('Weighting Set'!$Z28,Modellering!$K$25:$BH$25,Modellering!$K$26:$BH$37)),Modellering!$E$26:$E$37,'MP per GJ'!Q$18))/Invoerblad!$E$57*1000,0)","v":0},0,null,null,null,"063. Water use","m3 depriv.",{"$f":"IFERROR((SUMIFS((_xlfn.XLOOKUP('Weighting Set'!$Z28,Modellering!$K$45:$BH$45,Modellering!$K$46:$BH$57)),Modellering!$E$46:$E$57,'MP per GJ'!X$18))/Invoerblad!$F$57*1000,0)","v":0},{"$f":"IFERROR((SUMIFS((_xlfn.XLOOKUP('Weighting Set'!$Z28,Modellering!$K$45:$BH$45,Modellering!$K$46:$BH$57)),Modellering!$E$46:$E$57,'MP per GJ'!Y$18))/Invoerblad!$F$57*1000,0)","v":0},{"$f":"IFERROR((SUMIFS((_xlfn.XLOOKUP('Weighting Set'!$Z28,Modellering!$K$45:$BH$45,Modellering!$K$46:$BH$57)),Modellering!$E$46:$E$57,'MP per GJ'!Z$18))/Invoerblad!$F$57*1000,0)","v":0},0,null,null,null,"063. Water use","m3 depriv.",{"$f":"IFERROR((SUMIFS((_xlfn.XLOOKUP('Weighting Set'!$Z28,Modellering!$K$65:$BH$65,Modellering!$K$66:$BH$77)),Modellering!$E$66:$E$77,'MP per GJ'!AG$18))/Invoerblad!$G$57*1000,0)","v":0},{"$f":"IFERROR((SUMIFS((_xlfn.XLOOKUP('Weighting Set'!$Z28,Modellering!$K$65:$BH$65,Modellering!$K$66:$BH$77)),Modellering!$E$66:$E$77,'MP per GJ'!AH$18))/Invoerblad!$G$57*1000,0)","v":0},{"$f":"IFERROR((SUMIFS((_xlfn.XLOOKUP('Weighting Set'!$Z28,Modellering!$K$65:$BH$65,Modellering!$K$66:$BH$77)),Modellering!$E$66:$E$77,'MP per GJ'!AI$18))/Invoerblad!$G$57*1000,0)","v":0},0,null,null,null,"063. Water use","m3 depriv.",{"$f":"IFERROR((SUMIFS((_xlfn.XLOOKUP('Weighting Set'!$Z28,Modellering!$K$85:$BH$85,Modellering!$K$86:$BH$97)),Modellering!$E$86:$E$97,'MP per GJ'!AP$18))/Invoerblad!$H$57*1000,0)","v":0},{"$f":"IFERROR((SUMIFS((_xlfn.XLOOKUP('Weighting Set'!$Z28,Modellering!$K$85:$BH$85,Modellering!$K$86:$BH$97)),Modellering!$E$86:$E$97,'MP per GJ'!AQ$18))/Invoerblad!$H$57*1000,0)","v":0},{"$f":"IFERROR((SUMIFS((_xlfn.XLOOKUP('Weighting Set'!$Z28,Modellering!$K$85:$BH$85,Modellering!$K$86:$BH$97)),Modellering!$E$86:$E$97,'MP per GJ'!AR$18))/Invoerblad!$H$57*1000,0)","v":0},0]
[null,null,null,"064. Particulate matter","disease inc.",{"$f":"IFERROR((SUMIFS((_xlfn.XLOOKUP('Weighting Set'!$Z29,Modellering!$K$5:$BH$5,Modellering!$K$6:$BH$17)),Modellering!$E$6:$E$17,'MP per GJ'!F$18))/Invoerblad!$D$57*1000,0)","v":1.8732291023224166E-6},{"$f":"IFERROR((SUMIFS((_xlfn.XLOOKUP('Weighting Set'!$Z29,Modellering!$K$5:$BH$5,Modellering!$K$6:$BH$17)),Modellering!$E$6:$E$17,'MP per GJ'!G$18))/Invoerblad!$D$57*1000,0)","v":8.5336543017939299E-8},{"$f":"IFERROR((SUMIFS((_xlfn.XLOOKUP('Weighting Set'!$Z29,Modellering!$K$5:$BH$5,Modellering!$K$6:$BH$17)),Modellering!$E$6:$E$17,'MP per GJ'!H$18))/Invoerblad!$D$57*1000,0)","v":5.0522627391089474E-7},2.4637919192512508E-6,null,null,null,"064. Particulate matter","disease inc.",{"$f":"IFERROR((SUMIFS((_xlfn.XLOOKUP('Weighting Set'!$Z29,Modellering!$K$25:$BH$25,Modellering!$K$26:$BH$37)),Modellering!$E$26:$E$37,'MP per GJ'!O$18))/Invoerblad!$E$57*1000,0)","v":0},{"$f":"IFERROR((SUMIFS((_xlfn.XLOOKUP('Weighting Set'!$Z29,Modellering!$K$25:$BH$25,Modellering!$K$26:$BH$37)),Modellering!$E$26:$E$37,'MP per GJ'!P$18))/Invoerblad!$E$57*1000,0)","v":0},{"$f":"IFERROR((SUMIFS((_xlfn.XLOOKUP('Weighting Set'!$Z29,Modellering!$K$25:$BH$25,Modellering!$K$26:$BH$37)),Modellering!$E$26:$E$37,'MP per GJ'!Q$18))/Invoerblad!$E$57*1000,0)","v":0},0,null,null,null,"064. Particulate matter","disease inc.",{"$f":"IFERROR((SUMIFS((_xlfn.XLOOKUP('Weighting Set'!$Z29,Modellering!$K$45:$BH$45,Modellering!$K$46:$BH$57)),Modellering!$E$46:$E$57,'MP per GJ'!X$18))/Invoerblad!$F$57*1000,0)","v":0},{"$f":"IFERROR((SUMIFS((_xlfn.XLOOKUP('Weighting Set'!$Z29,Modellering!$K$45:$BH$45,Modellering!$K$46:$BH$57)),Modellering!$E$46:$E$57,'MP per GJ'!Y$18))/Invoerblad!$F$57*1000,0)","v":0},{"$f":"IFERROR((SUMIFS((_xlfn.XLOOKUP('Weighting Set'!$Z29,Modellering!$K$45:$BH$45,Modellering!$K$46:$BH$57)),Modellering!$E$46:$E$57,'MP per GJ'!Z$18))/Invoerblad!$F$57*1000,0)","v":0},0,null,null,null,"064. Particulate matter","disease inc.",{"$f":"IFERROR((SUMIFS((_xlfn.XLOOKUP('Weighting Set'!$Z29,Modellering!$K$65:$BH$65,Modellering!$K$66:$BH$77)),Modellering!$E$66:$E$77,'MP per GJ'!AG$18))/Invoerblad!$G$57*1000,0)","v":0},{"$f":"IFERROR((SUMIFS((_xlfn.XLOOKUP('Weighting Set'!$Z29,Modellering!$K$65:$BH$65,Modellering!$K$66:$BH$77)),Modellering!$E$66:$E$77,'MP per GJ'!AH$18))/Invoerblad!$G$57*1000,0)","v":0},{"$f":"IFERROR((SUMIFS((_xlfn.XLOOKUP('Weighting Set'!$Z29,Modellering!$K$65:$BH$65,Modellering!$K$66:$BH$77)),Modellering!$E$66:$E$77,'MP per GJ'!AI$18))/Invoerblad!$G$57*1000,0)","v":0},0,null,null,null,"064. Particulate matter","disease inc.",{"$f":"IFERROR((SUMIFS((_xlfn.XLOOKUP('Weighting Set'!$Z29,Modellering!$K$85:$BH$85,Modellering!$K$86:$BH$97)),Modellering!$E$86:$E$97,'MP per GJ'!AP$18))/Invoerblad!$H$57*1000,0)","v":0},{"$f":"IFERROR((SUMIFS((_xlfn.XLOOKUP('Weighting Set'!$Z29,Modellering!$K$85:$BH$85,Modellering!$K$86:$BH$97)),Modellering!$E$86:$E$97,'MP per GJ'!AQ$18))/Invoerblad!$H$57*1000,0)","v":0},{"$f":"IFERROR((SUMIFS((_xlfn.XLOOKUP('Weighting Set'!$Z29,Modellering!$K$85:$BH$85,Modellering!$K$86:$BH$97)),Modellering!$E$86:$E$97,'MP per GJ'!AR$18))/Invoerblad!$H$57*1000,0)","v":0},0]
[null,null,null,"065. Ionising radiation","kBq U-235 eq",{"$f":"IFERROR((SUMIFS((_xlfn.XLOOKUP('Weighting Set'!$Z30,Modellering!$K$5:$BH$5,Modellering!$K$6:$BH$17)),Modellering!$E$6:$E$17,'MP per GJ'!F$18))/Invoerblad!$D$57*1000,0)","v":0.48350378592383547},{"$f":"IFERROR((SUMIFS((_xlfn.XLOOKUP('Weighting Set'!$Z30,Modellering!$K$5:$BH$5,Modellering!$K$6:$BH$17)),Modellering!$E$6:$E$17,'MP per GJ'!G$18))/Invoerblad!$D$57*1000,0)","v":3.0626277976524233E-2},{"$f":"IFERROR((SUMIFS((_xlfn.XLOOKUP('Weighting Set'!$Z30,Modellering!$K$5:$BH$5,Modellering!$K$6:$BH$17)),Modellering!$E$6:$E$17,'MP per GJ'!H$18))/Invoerblad!$D$57*1000,0)","v":6.8089122820130563E-2},0.58221918672049033,null,null,null,"065. Ionising radiation","kBq U-235 eq",{"$f":"IFERROR((SUMIFS((_xlfn.XLOOKUP('Weighting Set'!$Z30,Modellering!$K$25:$BH$25,Modellering!$K$26:$BH$37)),Modellering!$E$26:$E$37,'MP per GJ'!O$18))/Invoerblad!$E$57*1000,0)","v":0},{"$f":"IFERROR((SUMIFS((_xlfn.XLOOKUP('Weighting Set'!$Z30,Modellering!$K$25:$BH$25,Modellering!$K$26:$BH$37)),Modellering!$E$26:$E$37,'MP per GJ'!P$18))/Invoerblad!$E$57*1000,0)","v":0},{"$f":"IFERROR((SUMIFS((_xlfn.XLOOKUP('Weighting Set'!$Z30,Modellering!$K$25:$BH$25,Modellering!$K$26:$BH$37)),Modellering!$E$26:$E$37,'MP per GJ'!Q$18))/Invoerblad!$E$57*1000,0)","v":0},0,null,null,null,"065. Ionising radiation","kBq U-235 eq",{"$f":"IFERROR((SUMIFS((_xlfn.XLOOKUP('Weighting Set'!$Z30,Modellering!$K$45:$BH$45,Modellering!$K$46:$BH$57)),Modellering!$E$46:$E$57,'MP per GJ'!X$18))/Invoerblad!$F$57*1000,0)","v":0},{"$f":"IFERROR((SUMIFS((_xlfn.XLOOKUP('Weighting Set'!$Z30,Modellering!$K$45:$BH$45,Modellering!$K$46:$BH$57)),Modellering!$E$46:$E$57,'MP per GJ'!Y$18))/Invoerblad!$F$57*1000,0)","v":0},{"$f":"IFERROR((SUMIFS((_xlfn.XLOOKUP('Weighting Set'!$Z30,Modellering!$K$45:$BH$45,Modellering!$K$46:$BH$57)),Modellering!$E$46:$E$57,'MP per GJ'!Z$18))/Invoerblad!$F$57*1000,0)","v":0},0,null,null,null,"065. Ionising radiation","kBq U-235 eq",{"$f":"IFERROR((SUMIFS((_xlfn.XLOOKUP('Weighting Set'!$Z30,Modellering!$K$65:$BH$65,Modellering!$K$66:$BH$77)),Modellering!$E$66:$E$77,'MP per GJ'!AG$18))/Invoerblad!$G$57*1000,0)","v":0},{"$f":"IFERROR((SUMIFS((_xlfn.XLOOKUP('Weighting Set'!$Z30,Modellering!$K$65:$BH$65,Modellering!$K$66:$BH$77)),Modellering!$E$66:$E$77,'MP per GJ'!AH$18))/Invoerblad!$G$57*1000,0)","v":0},{"$f":"IFERROR((SUMIFS((_xlfn.XLOOKUP('Weighting Set'!$Z30,Modellering!$K$65:$BH$65,Modellering!$K$66:$BH$77)),Modellering!$E$66:$E$77,'MP per GJ'!AI$18))/Invoerblad!$G$57*1000,0)","v":0},0,null,null,null,"065. Ionising radiation","kBq U-235 eq",{"$f":"IFERROR((SUMIFS((_xlfn.XLOOKUP('Weighting Set'!$Z30,Modellering!$K$85:$BH$85,Modellering!$K$86:$BH$97)),Modellering!$E$86:$E$97,'MP per GJ'!AP$18))/Invoerblad!$H$57*1000,0)","v":0},{"$f":"IFERROR((SUMIFS((_xlfn.XLOOKUP('Weighting Set'!$Z30,Modellering!$K$85:$BH$85,Modellering!$K$86:$BH$97)),Modellering!$E$86:$E$97,'MP per GJ'!AQ$18))/Invoerblad!$H$57*1000,0)","v":0},{"$f":"IFERROR((SUMIFS((_xlfn.XLOOKUP('Weighting Set'!$Z30,Modellering!$K$85:$BH$85,Modellering!$K$86:$BH$97)),Modellering!$E$86:$E$97,'MP per GJ'!AR$18))/Invoerblad!$H$57*1000,0)","v":0},0]
[null,null,null,"066. Ecotoxicity, freshwater","CTUe",{"$f":"IFERROR((SUMIFS((_xlfn.XLOOKUP('Weighting Set'!$Z31,Modellering!$K$5:$BH$5,Modellering!$K$6:$BH$17)),Modellering!$E$6:$E$17,'MP per GJ'!F$18))/Invoerblad!$D$57*1000,0)","v":825.86138172630729},{"$f":"IFERROR((SUMIFS((_xlfn.XLOOKUP('Weighting Set'!$Z31,Modellering!$K$5:$BH$5,Modellering!$K$6:$BH$17)),Modellering!$E$6:$E$17,'MP per GJ'!G$18))/Invoerblad!$D$57*1000,0)","v":9.0087724179909809},{"$f":"IFERROR((SUMIFS((_xlfn.XLOOKUP('Weighting Set'!$Z31,Modellering!$K$5:$BH$5,Modellering!$K$6:$BH$17)),Modellering!$E$6:$E$17,'MP per GJ'!H$18))/Invoerblad!$D$57*1000,0)","v":30.678778983610325},865.54893312790853,null,null,null,"066. Ecotoxicity, freshwater","CTUe",{"$f":"IFERROR((SUMIFS((_xlfn.XLOOKUP('Weighting Set'!$Z31,Modellering!$K$25:$BH$25,Modellering!$K$26:$BH$37)),Modellering!$E$26:$E$37,'MP per GJ'!O$18))/Invoerblad!$E$57*1000,0)","v":0},{"$f":"IFERROR((SUMIFS((_xlfn.XLOOKUP('Weighting Set'!$Z31,Modellering!$K$25:$BH$25,Modellering!$K$26:$BH$37)),Modellering!$E$26:$E$37,'MP per GJ'!P$18))/Invoerblad!$E$57*1000,0)","v":0},{"$f":"IFERROR((SUMIFS((_xlfn.XLOOKUP('Weighting Set'!$Z31,Modellering!$K$25:$BH$25,Modellering!$K$26:$BH$37)),Modellering!$E$26:$E$37,'MP per GJ'!Q$18))/Invoerblad!$E$57*1000,0)","v":0},0,null,null,null,"066. Ecotoxicity, freshwater","CTUe",{"$f":"IFERROR((SUMIFS((_xlfn.XLOOKUP('Weighting Set'!$Z31,Modellering!$K$45:$BH$45,Modellering!$K$46:$BH$57)),Modellering!$E$46:$E$57,'MP per GJ'!X$18))/Invoerblad!$F$57*1000,0)","v":0},{"$f":"IFERROR((SUMIFS((_xlfn.XLOOKUP('Weighting Set'!$Z31,Modellering!$K$45:$BH$45,Modellering!$K$46:$BH$57)),Modellering!$E$46:$E$57,'MP per GJ'!Y$18))/Invoerblad!$F$57*1000,0)","v":0},{"$f":"IFERROR((SUMIFS((_xlfn.XLOOKUP('Weighting Set'!$Z31,Modellering!$K$45:$BH$45,Modellering!$K$46:$BH$57)),Modellering!$E$46:$E$57,'MP per GJ'!Z$18))/Invoerblad!$F$57*1000,0)","v":0},0,null,null,null,"066. Ecotoxicity, freshwater","CTUe",{"$f":"IFERROR((SUMIFS((_xlfn.XLOOKUP('Weighting Set'!$Z31,Modellering!$K$65:$BH$65,Modellering!$K$66:$BH$77)),Modellering!$E$66:$E$77,'MP per GJ'!AG$18))/Invoerblad!$G$57*1000,0)","v":0},{"$f":"IFERROR((SUMIFS((_xlfn.XLOOKUP('Weighting Set'!$Z31,Modellering!$K$65:$BH$65,Modellering!$K$66:$BH$77)),Modellering!$E$66:$E$77,'MP per GJ'!AH$18))/Invoerblad!$G$57*1000,0)","v":0},{"$f":"IFERROR((SUMIFS((_xlfn.XLOOKUP('Weighting Set'!$Z31,Modellering!$K$65:$BH$65,Modellering!$K$66:$BH$77)),Modellering!$E$66:$E$77,'MP per GJ'!AI$18))/Invoerblad!$G$57*1000,0)","v":0},0,null,null,null,"066. Ecotoxicity, freshwater","CTUe",{"$f":"IFERROR((SUMIFS((_xlfn.XLOOKUP('Weighting Set'!$Z31,Modellering!$K$85:$BH$85,Modellering!$K$86:$BH$97)),Modellering!$E$86:$E$97,'MP per GJ'!AP$18))/Invoerblad!$H$57*1000,0)","v":0},{"$f":"IFERROR((SUMIFS((_xlfn.XLOOKUP('Weighting Set'!$Z31,Modellering!$K$85:$BH$85,Modellering!$K$86:$BH$97)),Modellering!$E$86:$E$97,'MP per GJ'!AQ$18))/Invoerblad!$H$57*1000,0)","v":0},{"$f":"IFERROR((SUMIFS((_xlfn.XLOOKUP('Weighting Set'!$Z31,Modellering!$K$85:$BH$85,Modellering!$K$86:$BH$97)),Modellering!$E$86:$E$97,'MP per GJ'!AR$18))/Invoerblad!$H$57*1000,0)","v":0},0]
[null,null,null,"067. Human toxicity, cancer","CTUh",{"$f":"IFERROR((SUMIFS((_xlfn.XLOOKUP('Weighting Set'!$Z32,Modellering!$K$5:$BH$5,Modellering!$K$6:$BH$17)),Modellering!$E$6:$E$17,'MP per GJ'!F$18))/Invoerblad!$D$57*1000,0)","v":1.4546302426620415E-8},{"$f":"IFERROR((SUMIFS((_xlfn.XLOOKUP('Weighting Set'!$Z32,Modellering!$K$5:$BH$5,Modellering!$K$6:$BH$17)),Modellering!$E$6:$E$17,'MP per GJ'!G$18))/Invoerblad!$D$57*1000,0)","v":4.9781507629407364E-10},{"$f":"IFERROR((SUMIFS((_xlfn.XLOOKUP('Weighting Set'!$Z32,Modellering!$K$5:$BH$5,Modellering!$K$6:$BH$17)),Modellering!$E$6:$E$17,'MP per GJ'!H$18))/Invoerblad!$D$57*1000,0)","v":2.621256231907844E-8},4.125667982199293E-8,null,null,null,"067. Human toxicity, cancer","CTUh",{"$f":"IFERROR((SUMIFS((_xlfn.XLOOKUP('Weighting Set'!$Z32,Modellering!$K$25:$BH$25,Modellering!$K$26:$BH$37)),Modellering!$E$26:$E$37,'MP per GJ'!O$18))/Invoerblad!$E$57*1000,0)","v":0},{"$f":"IFERROR((SUMIFS((_xlfn.XLOOKUP('Weighting Set'!$Z32,Modellering!$K$25:$BH$25,Modellering!$K$26:$BH$37)),Modellering!$E$26:$E$37,'MP per GJ'!P$18))/Invoerblad!$E$57*1000,0)","v":0},{"$f":"IFERROR((SUMIFS((_xlfn.XLOOKUP('Weighting Set'!$Z32,Modellering!$K$25:$BH$25,Modellering!$K$26:$BH$37)),Modellering!$E$26:$E$37,'MP per GJ'!Q$18))/Invoerblad!$E$57*1000,0)","v":0},0,null,null,null,"067. Human toxicity, cancer","CTUh",{"$f":"IFERROR((SUMIFS((_xlfn.XLOOKUP('Weighting Set'!$Z32,Modellering!$K$45:$BH$45,Modellering!$K$46:$BH$57)),Modellering!$E$46:$E$57,'MP per GJ'!X$18))/Invoerblad!$F$57*1000,0)","v":0},{"$f":"IFERROR((SUMIFS((_xlfn.XLOOKUP('Weighting Set'!$Z32,Modellering!$K$45:$BH$45,Modellering!$K$46:$BH$57)),Modellering!$E$46:$E$57,'MP per GJ'!Y$18))/Invoerblad!$F$57*1000,0)","v":0},{"$f":"IFERROR((SUMIFS((_xlfn.XLOOKUP('Weighting Set'!$Z32,Modellering!$K$45:$BH$45,Modellering!$K$46:$BH$57)),Modellering!$E$46:$E$57,'MP per GJ'!Z$18))/Invoerblad!$F$57*1000,0)","v":0},0,null,null,null,"067. Human toxicity, cancer","CTUh",{"$f":"IFERROR((SUMIFS((_xlfn.XLOOKUP('Weighting Set'!$Z32,Modellering!$K$65:$BH$65,Modellering!$K$66:$BH$77)),Modellering!$E$66:$E$77,'MP per GJ'!AG$18))/Invoerblad!$G$57*1000,0)","v":0},{"$f":"IFERROR((SUMIFS((_xlfn.XLOOKUP('Weighting Set'!$Z32,Modellering!$K$65:$BH$65,Modellering!$K$66:$BH$77)),Modellering!$E$66:$E$77,'MP per GJ'!AH$18))/Invoerblad!$G$57*1000,0)","v":0},{"$f":"IFERROR((SUMIFS((_xlfn.XLOOKUP('Weighting Set'!$Z32,Modellering!$K$65:$BH$65,Modellering!$K$66:$BH$77)),Modellering!$E$66:$E$77,'MP per GJ'!AI$18))/Invoerblad!$G$57*1000,0)","v":0},0,null,null,null,"067. Human toxicity, cancer","CTUh",{"$f":"IFERROR((SUMIFS((_xlfn.XLOOKUP('Weighting Set'!$Z32,Modellering!$K$85:$BH$85,Modellering!$K$86:$BH$97)),Modellering!$E$86:$E$97,'MP per GJ'!AP$18))/Invoerblad!$H$57*1000,0)","v":0},{"$f":"IFERROR((SUMIFS((_xlfn.XLOOKUP('Weighting Set'!$Z32,Modellering!$K$85:$BH$85,Modellering!$K$86:$BH$97)),Modellering!$E$86:$E$97,'MP per GJ'!AQ$18))/Invoerblad!$H$57*1000,0)","v":0},{"$f":"IFERROR((SUMIFS((_xlfn.XLOOKUP('Weighting Set'!$Z32,Modellering!$K$85:$BH$85,Modellering!$K$86:$BH$97)),Modellering!$E$86:$E$97,'MP per GJ'!AR$18))/Invoerblad!$H$57*1000,0)","v":0},0]
[null,null,null,"068. Human toxicity, non-cancer","CTUh",{"$f":"IFERROR((SUMIFS((_xlfn.XLOOKUP('Weighting Set'!$Z33,Modellering!$K$5:$BH$5,Modellering!$K$6:$BH$17)),Modellering!$E$6:$E$17,'MP per GJ'!F$18))/Invoerblad!$D$57*1000,0)","v":2.7313000244474684E-7},{"$f":"IFERROR((SUMIFS((_xlfn.XLOOKUP('Weighting Set'!$Z33,Modellering!$K$5:$BH$5,Modellering!$K$6:$BH$17)),Modellering!$E$6:$E$17,'MP per GJ'!G$18))/Invoerblad!$D$57*1000,0)","v":8.8248511026613958E-9},{"$f":"IFERROR((SUMIFS((_xlfn.XLOOKUP('Weighting Set'!$Z33,Modellering!$K$5:$BH$5,Modellering!$K$6:$BH$17)),Modellering!$E$6:$E$17,'MP per GJ'!H$18))/Invoerblad!$D$57*1000,0)","v":1.3918377190978726E-7},4.2113862545719552E-7,null,null,null,"068. Human toxicity, non-cancer","CTUh",{"$f":"IFERROR((SUMIFS((_xlfn.XLOOKUP('Weighting Set'!$Z33,Modellering!$K$25:$BH$25,Modellering!$K$26:$BH$37)),Modellering!$E$26:$E$37,'MP per GJ'!O$18))/Invoerblad!$E$57*1000,0)","v":0},{"$f":"IFERROR((SUMIFS((_xlfn.XLOOKUP('Weighting Set'!$Z33,Modellering!$K$25:$BH$25,Modellering!$K$26:$BH$37)),Modellering!$E$26:$E$37,'MP per GJ'!P$18))/Invoerblad!$E$57*1000,0)","v":0},{"$f":"IFERROR((SUMIFS((_xlfn.XLOOKUP('Weighting Set'!$Z33,Modellering!$K$25:$BH$25,Modellering!$K$26:$BH$37)),Modellering!$E$26:$E$37,'MP per GJ'!Q$18))/Invoerblad!$E$57*1000,0)","v":0},0,null,null,null,"068. Human toxicity, non-cancer","CTUh",{"$f":"IFERROR((SUMIFS((_xlfn.XLOOKUP('Weighting Set'!$Z33,Modellering!$K$45:$BH$45,Modellering!$K$46:$BH$57)),Modellering!$E$46:$E$57,'MP per GJ'!X$18))/Invoerblad!$F$57*1000,0)","v":0},{"$f":"IFERROR((SUMIFS((_xlfn.XLOOKUP('Weighting Set'!$Z33,Modellering!$K$45:$BH$45,Modellering!$K$46:$BH$57)),Modellering!$E$46:$E$57,'MP per GJ'!Y$18))/Invoerblad!$F$57*1000,0)","v":0},{"$f":"IFERROR((SUMIFS((_xlfn.XLOOKUP('Weighting Set'!$Z33,Modellering!$K$45:$BH$45,Modellering!$K$46:$BH$57)),Modellering!$E$46:$E$57,'MP per GJ'!Z$18))/Invoerblad!$F$57*1000,0)","v":0},0,null,null,null,"068. Human toxicity, non-cancer","CTUh",{"$f":"IFERROR((SUMIFS((_xlfn.XLOOKUP('Weighting Set'!$Z33,Modellering!$K$65:$BH$65,Modellering!$K$66:$BH$77)),Modellering!$E$66:$E$77,'MP per GJ'!AG$18))/Invoerblad!$G$57*1000,0)","v":0},{"$f":"IFERROR((SUMIFS((_xlfn.XLOOKUP('Weighting Set'!$Z33,Modellering!$K$65:$BH$65,Modellering!$K$66:$BH$77)),Modellering!$E$66:$E$77,'MP per GJ'!AH$18))/Invoerblad!$G$57*1000,0)","v":0},{"$f":"IFERROR((SUMIFS((_xlfn.XLOOKUP('Weighting Set'!$Z33,Modellering!$K$65:$BH$65,Modellering!$K$66:$BH$77)),Modellering!$E$66:$E$77,'MP per GJ'!AI$18))/Invoerblad!$G$57*1000,0)","v":0},0,null,null,null,"068. Human toxicity, non-cancer","CTUh",{"$f":"IFERROR((SUMIFS((_xlfn.XLOOKUP('Weighting Set'!$Z33,Modellering!$K$85:$BH$85,Modellering!$K$86:$BH$97)),Modellering!$E$86:$E$97,'MP per GJ'!AP$18))/Invoerblad!$H$57*1000,0)","v":0},{"$f":"IFERROR((SUMIFS((_xlfn.XLOOKUP('Weighting Set'!$Z33,Modellering!$K$85:$BH$85,Modellering!$K$86:$BH$97)),Modellering!$E$86:$E$97,'MP per GJ'!AQ$18))/Invoerblad!$H$57*1000,0)","v":0},{"$f":"IFERROR((SUMIFS((_xlfn.XLOOKUP('Weighting Set'!$Z33,Modellering!$K$85:$BH$85,Modellering!$K$86:$BH$97)),Modellering!$E$86:$E$97,'MP per GJ'!AR$18))/Invoerblad!$H$57*1000,0)","v":0},0]
[null,null,null,"069. Land use","Pt",{"$f":"IFERROR((SUMIFS((_xlfn.XLOOKUP('Weighting Set'!$Z34,Modellering!$K$5:$BH$5,Modellering!$K$6:$BH$17)),Modellering!$E$6:$E$17,'MP per GJ'!F$18))/Invoerblad!$D$57*1000,0)","v":55.784424495557936},{"$f":"IFERROR((SUMIFS((_xlfn.XLOOKUP('Weighting Set'!$Z34,Modellering!$K$5:$BH$5,Modellering!$K$6:$BH$17)),Modellering!$E$6:$E$17,'MP per GJ'!G$18))/Invoerblad!$D$57*1000,0)","v":27.38900704511596},{"$f":"IFERROR((SUMIFS((_xlfn.XLOOKUP('Weighting Set'!$Z34,Modellering!$K$5:$BH$5,Modellering!$K$6:$BH$17)),Modellering!$E$6:$E$17,'MP per GJ'!H$18))/Invoerblad!$D$57*1000,0)","v":103.33543622359153},186.50886776426543,null,null,null,"069. Land use","Pt",{"$f":"IFERROR((SUMIFS((_xlfn.XLOOKUP('Weighting Set'!$Z34,Modellering!$K$25:$BH$25,Modellering!$K$26:$BH$37)),Modellering!$E$26:$E$37,'MP per GJ'!O$18))/Invoerblad!$E$57*1000,0)","v":0},{"$f":"IFERROR((SUMIFS((_xlfn.XLOOKUP('Weighting Set'!$Z34,Modellering!$K$25:$BH$25,Modellering!$K$26:$BH$37)),Modellering!$E$26:$E$37,'MP per GJ'!P$18))/Invoerblad!$E$57*1000,0)","v":0},{"$f":"IFERROR((SUMIFS((_xlfn.XLOOKUP('Weighting Set'!$Z34,Modellering!$K$25:$BH$25,Modellering!$K$26:$BH$37)),Modellering!$E$26:$E$37,'MP per GJ'!Q$18))/Invoerblad!$E$57*1000,0)","v":0},0,null,null,null,"069. Land use","Pt",{"$f":"IFERROR((SUMIFS((_xlfn.XLOOKUP('Weighting Set'!$Z34,Modellering!$K$45:$BH$45,Modellering!$K$46:$BH$57)),Modellering!$E$46:$E$57,'MP per GJ'!X$18))/Invoerblad!$F$57*1000,0)","v":0},{"$f":"IFERROR((SUMIFS((_xlfn.XLOOKUP('Weighting Set'!$Z34,Modellering!$K$45:$BH$45,Modellering!$K$46:$BH$57)),Modellering!$E$46:$E$57,'MP per GJ'!Y$18))/Invoerblad!$F$57*1000,0)","v":0},{"$f":"IFERROR((SUMIFS((_xlfn.XLOOKUP('Weighting Set'!$Z34,Modellering!$K$45:$BH$45,Modellering!$K$46:$BH$57)),Modellering!$E$46:$E$57,'MP per GJ'!Z$18))/Invoerblad!$F$57*1000,0)","v":0},0,null,null,null,"069. Land use","Pt",{"$f":"IFERROR((SUMIFS((_xlfn.XLOOKUP('Weighting Set'!$Z34,Modellering!$K$65:$BH$65,Modellering!$K$66:$BH$77)),Modellering!$E$66:$E$77,'MP per GJ'!AG$18))/Invoerblad!$G$57*1000,0)","v":0},{"$f":"IFERROR((SUMIFS((_xlfn.XLOOKUP('Weighting Set'!$Z34,Modellering!$K$65:$BH$65,Modellering!$K$66:$BH$77)),Modellering!$E$66:$E$77,'MP per GJ'!AH$18))/Invoerblad!$G$57*1000,0)","v":0},{"$f":"IFERROR((SUMIFS((_xlfn.XLOOKUP('Weighting Set'!$Z34,Modellering!$K$65:$BH$65,Modellering!$K$66:$BH$77)),Modellering!$E$66:$E$77,'MP per GJ'!AI$18))/Invoerblad!$G$57*1000,0)","v":0},0,null,null,null,"069. Land use","Pt",{"$f":"IFERROR((SUMIFS((_xlfn.XLOOKUP('Weighting Set'!$Z34,Modellering!$K$85:$BH$85,Modellering!$K$86:$BH$97)),Modellering!$E$86:$E$97,'MP per GJ'!AP$18))/Invoerblad!$H$57*1000,0)","v":0},{"$f":"IFERROR((SUMIFS((_xlfn.XLOOKUP('Weighting Set'!$Z34,Modellering!$K$85:$BH$85,Modellering!$K$86:$BH$97)),Modellering!$E$86:$E$97,'MP per GJ'!AQ$18))/Invoerblad!$H$57*1000,0)","v":0},{"$f":"IFERROR((SUMIFS((_xlfn.XLOOKUP('Weighting Set'!$Z34,Modellering!$K$85:$BH$85,Modellering!$K$86:$BH$97)),Modellering!$E$86:$E$97,'MP per GJ'!AR$18))/Invoerblad!$H$57*1000,0)","v":0},0]
[null,null,"Parameters EN15804+A2","111. Energy, primary, renewable, excludi","MJ",{"$f":"IFERROR((SUMIFS((_xlfn.XLOOKUP('Weighting Set'!$Z35,Modellering!$K$5:$BH$5,Modellering!$K$6:$BH$17)),Modellering!$E$6:$E$17,'MP per GJ'!F$18))/Invoerblad!$D$57*1000,0)","v":0},{"$f":"IFERROR((SUMIFS((_xlfn.XLOOKUP('Weighting Set'!$Z35,Modellering!$K$5:$BH$5,Modellering!$K$6:$BH$17)),Modellering!$E$6:$E$17,'MP per GJ'!G$18))/Invoerblad!$D$57*1000,0)","v":0},{"$f":"IFERROR((SUMIFS((_xlfn.XLOOKUP('Weighting Set'!$Z35,Modellering!$K$5:$BH$5,Modellering!$K$6:$BH$17)),Modellering!$E$6:$E$17,'MP per GJ'!H$18))/Invoerblad!$D$57*1000,0)","v":0},0,null,null,"Parameters EN15804+A2","111. Energy, primary, renewable, excludi","MJ",{"$f":"IFERROR((SUMIFS((_xlfn.XLOOKUP('Weighting Set'!$Z35,Modellering!$K$25:$BH$25,Modellering!$K$26:$BH$37)),Modellering!$E$26:$E$37,'MP per GJ'!O$18))/Invoerblad!$E$57*1000,0)","v":0},{"$f":"IFERROR((SUMIFS((_xlfn.XLOOKUP('Weighting Set'!$Z35,Modellering!$K$25:$BH$25,Modellering!$K$26:$BH$37)),Modellering!$E$26:$E$37,'MP per GJ'!P$18))/Invoerblad!$E$57*1000,0)","v":0},{"$f":"IFERROR((SUMIFS((_xlfn.XLOOKUP('Weighting Set'!$Z35,Modellering!$K$25:$BH$25,Modellering!$K$26:$BH$37)),Modellering!$E$26:$E$37,'MP per GJ'!Q$18))/Invoerblad!$E$57*1000,0)","v":0},0,null,null,"Parameters EN15804+A2","111. Energy, primary, renewable, excludi","MJ",{"$f":"IFERROR((SUMIFS((_xlfn.XLOOKUP('Weighting Set'!$Z35,Modellering!$K$45:$BH$45,Modellering!$K$46:$BH$57)),Modellering!$E$46:$E$57,'MP per GJ'!X$18))/Invoerblad!$F$57*1000,0)","v":0},{"$f":"IFERROR((SUMIFS((_xlfn.XLOOKUP('Weighting Set'!$Z35,Modellering!$K$45:$BH$45,Modellering!$K$46:$BH$57)),Modellering!$E$46:$E$57,'MP per GJ'!Y$18))/Invoerblad!$F$57*1000,0)","v":0},{"$f":"IFERROR((SUMIFS((_xlfn.XLOOKUP('Weighting Set'!$Z35,Modellering!$K$45:$BH$45,Modellering!$K$46:$BH$57)),Modellering!$E$46:$E$57,'MP per GJ'!Z$18))/Invoerblad!$F$57*1000,0)","v":0},0,null,null,"Parameters EN15804+A2","111. Energy, primary, renewable, excludi","MJ",{"$f":"IFERROR((SUMIFS((_xlfn.XLOOKUP('Weighting Set'!$Z35,Modellering!$K$65:$BH$65,Modellering!$K$66:$BH$77)),Modellering!$E$66:$E$77,'MP per GJ'!AG$18))/Invoerblad!$G$57*1000,0)","v":0},{"$f":"IFERROR((SUMIFS((_xlfn.XLOOKUP('Weighting Set'!$Z35,Modellering!$K$65:$BH$65,Modellering!$K$66:$BH$77)),Modellering!$E$66:$E$77,'MP per GJ'!AH$18))/Invoerblad!$G$57*1000,0)","v":0},{"$f":"IFERROR((SUMIFS((_xlfn.XLOOKUP('Weighting Set'!$Z35,Modellering!$K$65:$BH$65,Modellering!$K$66:$BH$77)),Modellering!$E$66:$E$77,'MP per GJ'!AI$18))/Invoerblad!$G$57*1000,0)","v":0},0,null,null,"Parameters EN15804+A2","111. Energy, primary, renewable, excludi","MJ",{"$f":"IFERROR((SUMIFS((_xlfn.XLOOKUP('Weighting Set'!$Z35,Modellering!$K$85:$BH$85,Modellering!$K$86:$BH$97)),Modellering!$E$86:$E$97,'MP per GJ'!AP$18))/Invoerblad!$H$57*1000,0)","v":0},{"$f":"IFERROR((SUMIFS((_xlfn.XLOOKUP('Weighting Set'!$Z35,Modellering!$K$85:$BH$85,Modellering!$K$86:$BH$97)),Modellering!$E$86:$E$97,'MP per GJ'!AQ$18))/Invoerblad!$H$57*1000,0)","v":0},{"$f":"IFERROR((SUMIFS((_xlfn.XLOOKUP('Weighting Set'!$Z35,Modellering!$K$85:$BH$85,Modellering!$K$86:$BH$97)),Modellering!$E$86:$E$97,'MP per GJ'!AR$18))/Invoerblad!$H$57*1000,0)","v":0},0]
[null,null,null,"113. Energy, primary, renewable, materia","MJ",{"$f":"IFERROR((SUMIFS((_xlfn.XLOOKUP('Weighting Set'!$Z36,Modellering!$K$5:$BH$5,Modellering!$K$6:$BH$17)),Modellering!$E$6:$E$17,'MP per GJ'!F$18))/Invoerblad!$D$57*1000,0)","v":0},{"$f":"IFERROR((SUMIFS((_xlfn.XLOOKUP('Weighting Set'!$Z36,Modellering!$K$5:$BH$5,Modellering!$K$6:$BH$17)),Modellering!$E$6:$E$17,'MP per GJ'!G$18))/Invoerblad!$D$57*1000,0)","v":0},{"$f":"IFERROR((SUMIFS((_xlfn.XLOOKUP('Weighting Set'!$Z36,Modellering!$K$5:$BH$5,Modellering!$K$6:$BH$17)),Modellering!$E$6:$E$17,'MP per GJ'!H$18))/Invoerblad!$D$57*1000,0)","v":0},0,null,null,null,"113. Energy, primary, renewable, materia","MJ",{"$f":"IFERROR((SUMIFS((_xlfn.XLOOKUP('Weighting Set'!$Z36,Modellering!$K$25:$BH$25,Modellering!$K$26:$BH$37)),Modellering!$E$26:$E$37,'MP per GJ'!O$18))/Invoerblad!$E$57*1000,0)","v":0},{"$f":"IFERROR((SUMIFS((_xlfn.XLOOKUP('Weighting Set'!$Z36,Modellering!$K$25:$BH$25,Modellering!$K$26:$BH$37)),Modellering!$E$26:$E$37,'MP per GJ'!P$18))/Invoerblad!$E$57*1000,0)","v":0},{"$f":"IFERROR((SUMIFS((_xlfn.XLOOKUP('Weighting Set'!$Z36,Modellering!$K$25:$BH$25,Modellering!$K$26:$BH$37)),Modellering!$E$26:$E$37,'MP per GJ'!Q$18))/Invoerblad!$E$57*1000,0)","v":0},0,null,null,null,"113. Energy, primary, renewable, materia","MJ",{"$f":"IFERROR((SUMIFS((_xlfn.XLOOKUP('Weighting Set'!$Z36,Modellering!$K$45:$BH$45,Modellering!$K$46:$BH$57)),Modellering!$E$46:$E$57,'MP per GJ'!X$18))/Invoerblad!$F$57*1000,0)","v":0},{"$f":"IFERROR((SUMIFS((_xlfn.XLOOKUP('Weighting Set'!$Z36,Modellering!$K$45:$BH$45,Modellering!$K$46:$BH$57)),Modellering!$E$46:$E$57,'MP per GJ'!Y$18))/Invoerblad!$F$57*1000,0)","v":0},{"$f":"IFERROR((SUMIFS((_xlfn.XLOOKUP('Weighting Set'!$Z36,Modellering!$K$45:$BH$45,Modellering!$K$46:$BH$57)),Modellering!$E$46:$E$57,'MP per GJ'!Z$18))/Invoerblad!$F$57*1000,0)","v":0},0,null,null,null,"113. Energy, primary, renewable, materia","MJ",{"$f":"IFERROR((SUMIFS((_xlfn.XLOOKUP('Weighting Set'!$Z36,Modellering!$K$65:$BH$65,Modellering!$K$66:$BH$77)),Modellering!$E$66:$E$77,'MP per GJ'!AG$18))/Invoerblad!$G$57*1000,0)","v":0},{"$f":"IFERROR((SUMIFS((_xlfn.XLOOKUP('Weighting Set'!$Z36,Modellering!$K$65:$BH$65,Modellering!$K$66:$BH$77)),Modellering!$E$66:$E$77,'MP per GJ'!AH$18))/Invoerblad!$G$57*1000,0)","v":0},{"$f":"IFERROR((SUMIFS((_xlfn.XLOOKUP('Weighting Set'!$Z36,Modellering!$K$65:$BH$65,Modellering!$K$66:$BH$77)),Modellering!$E$66:$E$77,'MP per GJ'!AI$18))/Invoerblad!$G$57*1000,0)","v":0},0,null,null,null,"113. Energy, primary, renewable, materia","MJ",{"$f":"IFERROR((SUMIFS((_xlfn.XLOOKUP('Weighting Set'!$Z36,Modellering!$K$85:$BH$85,Modellering!$K$86:$BH$97)),Modellering!$E$86:$E$97,'MP per GJ'!AP$18))/Invoerblad!$H$57*1000,0)","v":0},{"$f":"IFERROR((SUMIFS((_xlfn.XLOOKUP('Weighting Set'!$Z36,Modellering!$K$85:$BH$85,Modellering!$K$86:$BH$97)),Modellering!$E$86:$E$97,'MP per GJ'!AQ$18))/Invoerblad!$H$57*1000,0)","v":0},{"$f":"IFERROR((SUMIFS((_xlfn.XLOOKUP('Weighting Set'!$Z36,Modellering!$K$85:$BH$85,Modellering!$K$86:$BH$97)),Modellering!$E$86:$E$97,'MP per GJ'!AR$18))/Invoerblad!$H$57*1000,0)","v":0},0]
[null,null,null,"101. Energy, primary, renewable (MJ)","MJ",{"$f":"IFERROR((SUMIFS((_xlfn.XLOOKUP('Weighting Set'!$Z37,Modellering!$K$5:$BH$5,Modellering!$K$6:$BH$17)),Modellering!$E$6:$E$17,'MP per GJ'!F$18))/Invoerblad!$D$57*1000,0)","v":8.4760710256596159},{"$f":"IFERROR((SUMIFS((_xlfn.XLOOKUP('Weighting Set'!$Z37,Modellering!$K$5:$BH$5,Modellering!$K$6:$BH$17)),Modellering!$E$6:$E$17,'MP per GJ'!G$18))/Invoerblad!$D$57*1000,0)","v":0.95743346450655153},{"$f":"IFERROR((SUMIFS((_xlfn.XLOOKUP('Weighting Set'!$Z37,Modellering!$K$5:$BH$5,Modellering!$K$6:$BH$17)),Modellering!$E$6:$E$17,'MP per GJ'!H$18))/Invoerblad!$D$57*1000,0)","v":2.897735833863945},12.331240324030112,null,null,null,"101. Energy, primary, renewable (MJ)","MJ",{"$f":"IFERROR((SUMIFS((_xlfn.XLOOKUP('Weighting Set'!$Z37,Modellering!$K$25:$BH$25,Modellering!$K$26:$BH$37)),Modellering!$E$26:$E$37,'MP per GJ'!O$18))/Invoerblad!$E$57*1000,0)","v":0},{"$f":"IFERROR((SUMIFS((_xlfn.XLOOKUP('Weighting Set'!$Z37,Modellering!$K$25:$BH$25,Modellering!$K$26:$BH$37)),Modellering!$E$26:$E$37,'MP per GJ'!P$18))/Invoerblad!$E$57*1000,0)","v":0},{"$f":"IFERROR((SUMIFS((_xlfn.XLOOKUP('Weighting Set'!$Z37,Modellering!$K$25:$BH$25,Modellering!$K$26:$BH$37)),Modellering!$E$26:$E$37,'MP per GJ'!Q$18))/Invoerblad!$E$57*1000,0)","v":0},0,null,null,null,"101. Energy, primary, renewable (MJ)","MJ",{"$f":"IFERROR((SUMIFS((_xlfn.XLOOKUP('Weighting Set'!$Z37,Modellering!$K$45:$BH$45,Modellering!$K$46:$BH$57)),Modellering!$E$46:$E$57,'MP per GJ'!X$18))/Invoerblad!$F$57*1000,0)","v":0},{"$f":"IFERROR((SUMIFS((_xlfn.XLOOKUP('Weighting Set'!$Z37,Modellering!$K$45:$BH$45,Modellering!$K$46:$BH$57)),Modellering!$E$46:$E$57,'MP per GJ'!Y$18))/Invoerblad!$F$57*1000,0)","v":0},{"$f":"IFERROR((SUMIFS((_xlfn.XLOOKUP('Weighting Set'!$Z37,Modellering!$K$45:$BH$45,Modellering!$K$46:$BH$57)),Modellering!$E$46:$E$57,'MP per GJ'!Z$18))/Invoerblad!$F$57*1000,0)","v":0},0,null,null,null,"101. Energy, primary, renewable (MJ)","MJ",{"$f":"IFERROR((SUMIFS((_xlfn.XLOOKUP('Weighting Set'!$Z37,Modellering!$K$65:$BH$65,Modellering!$K$66:$BH$77)),Modellering!$E$66:$E$77,'MP per GJ'!AG$18))/Invoerblad!$G$57*1000,0)","v":0},{"$f":"IFERROR((SUMIFS((_xlfn.XLOOKUP('Weighting Set'!$Z37,Modellering!$K$65:$BH$65,Modellering!$K$66:$BH$77)),Modellering!$E$66:$E$77,'MP per GJ'!AH$18))/Invoerblad!$G$57*1000,0)","v":0},{"$f":"IFERROR((SUMIFS((_xlfn.XLOOKUP('Weighting Set'!$Z37,Modellering!$K$65:$BH$65,Modellering!$K$66:$BH$77)),Modellering!$E$66:$E$77,'MP per GJ'!AI$18))/Invoerblad!$G$57*1000,0)","v":0},0,null,null,null,"101. Energy, primary, renewable (MJ)","MJ",{"$f":"IFERROR((SUMIFS((_xlfn.XLOOKUP('Weighting Set'!$Z37,Modellering!$K$85:$BH$85,Modellering!$K$86:$BH$97)),Modellering!$E$86:$E$97,'MP per GJ'!AP$18))/Invoerblad!$H$57*1000,0)","v":0},{"$f":"IFERROR((SUMIFS((_xlfn.XLOOKUP('Weighting Set'!$Z37,Modellering!$K$85:$BH$85,Modellering!$K$86:$BH$97)),Modellering!$E$86:$E$97,'MP per GJ'!AQ$18))/Invoerblad!$H$57*1000,0)","v":0},{"$f":"IFERROR((SUMIFS((_xlfn.XLOOKUP('Weighting Set'!$Z37,Modellering!$K$85:$BH$85,Modellering!$K$86:$BH$97)),Modellering!$E$86:$E$97,'MP per GJ'!AR$18))/Invoerblad!$H$57*1000,0)","v":0},0]
[null,null,null,"112. Energy, primary, non-renewable, exc","MJ",{"$f":"IFERROR((SUMIFS((_xlfn.XLOOKUP('Weighting Set'!$Z38,Modellering!$K$5:$BH$5,Modellering!$K$6:$BH$17)),Modellering!$E$6:$E$17,'MP per GJ'!F$18))/Invoerblad!$D$57*1000,0)","v":0},{"$f":"IFERROR((SUMIFS((_xlfn.XLOOKUP('Weighting Set'!$Z38,Modellering!$K$5:$BH$5,Modellering!$K$6:$BH$17)),Modellering!$E$6:$E$17,'MP per GJ'!G$18))/Invoerblad!$D$57*1000,0)","v":0},{"$f":"IFERROR((SUMIFS((_xlfn.XLOOKUP('Weighting Set'!$Z38,Modellering!$K$5:$BH$5,Modellering!$K$6:$BH$17)),Modellering!$E$6:$E$17,'MP per GJ'!H$18))/Invoerblad!$D$57*1000,0)","v":0},0,null,null,null,"112. Energy, primary, non-renewable, exc","MJ",{"$f":"IFERROR((SUMIFS((_xlfn.XLOOKUP('Weighting Set'!$Z38,Modellering!$K$25:$BH$25,Modellering!$K$26:$BH$37)),Modellering!$E$26:$E$37,'MP per GJ'!O$18))/Invoerblad!$E$57*1000,0)","v":0},{"$f":"IFERROR((SUMIFS((_xlfn.XLOOKUP('Weighting Set'!$Z38,Modellering!$K$25:$BH$25,Modellering!$K$26:$BH$37)),Modellering!$E$26:$E$37,'MP per GJ'!P$18))/Invoerblad!$E$57*1000,0)","v":0},{"$f":"IFERROR((SUMIFS((_xlfn.XLOOKUP('Weighting Set'!$Z38,Modellering!$K$25:$BH$25,Modellering!$K$26:$BH$37)),Modellering!$E$26:$E$37,'MP per GJ'!Q$18))/Invoerblad!$E$57*1000,0)","v":0},0,null,null,null,"112. Energy, primary, non-renewable, exc","MJ",{"$f":"IFERROR((SUMIFS((_xlfn.XLOOKUP('Weighting Set'!$Z38,Modellering!$K$45:$BH$45,Modellering!$K$46:$BH$57)),Modellering!$E$46:$E$57,'MP per GJ'!X$18))/Invoerblad!$F$57*1000,0)","v":0},{"$f":"IFERROR((SUMIFS((_xlfn.XLOOKUP('Weighting Set'!$Z38,Modellering!$K$45:$BH$45,Modellering!$K$46:$BH$57)),Modellering!$E$46:$E$57,'MP per GJ'!Y$18))/Invoerblad!$F$57*1000,0)","v":0},{"$f":"IFERROR((SUMIFS((_xlfn.XLOOKUP('Weighting Set'!$Z38,Modellering!$K$45:$BH$45,Modellering!$K$46:$BH$57)),Modellering!$E$46:$E$57,'MP per GJ'!Z$18))/Invoerblad!$F$57*1000,0)","v":0},0,null,null,null,"112. Energy, primary, non-renewable, exc","MJ",{"$f":"IFERROR((SUMIFS((_xlfn.XLOOKUP('Weighting Set'!$Z38,Modellering!$K$65:$BH$65,Modellering!$K$66:$BH$77)),Modellering!$E$66:$E$77,'MP per GJ'!AG$18))/Invoerblad!$G$57*1000,0)","v":0},{"$f":"IFERROR((SUMIFS((_xlfn.XLOOKUP('Weighting Set'!$Z38,Modellering!$K$65:$BH$65,Modellering!$K$66:$BH$77)),Modellering!$E$66:$E$77,'MP per GJ'!AH$18))/Invoerblad!$G$57*1000,0)","v":0},{"$f":"IFERROR((SUMIFS((_xlfn.XLOOKUP('Weighting Set'!$Z38,Modellering!$K$65:$BH$65,Modellering!$K$66:$BH$77)),Modellering!$E$66:$E$77,'MP per GJ'!AI$18))/Invoerblad!$G$57*1000,0)","v":0},0,null,null,null,"112. Energy, primary, non-renewable, exc","MJ",{"$f":"IFERROR((SUMIFS((_xlfn.XLOOKUP('Weighting Set'!$Z38,Modellering!$K$85:$BH$85,Modellering!$K$86:$BH$97)),Modellering!$E$86:$E$97,'MP per GJ'!AP$18))/Invoerblad!$H$57*1000,0)","v":0},{"$f":"IFERROR((SUMIFS((_xlfn.XLOOKUP('Weighting Set'!$Z38,Modellering!$K$85:$BH$85,Modellering!$K$86:$BH$97)),Modellering!$E$86:$E$97,'MP per GJ'!AQ$18))/Invoerblad!$H$57*1000,0)","v":0},{"$f":"IFERROR((SUMIFS((_xlfn.XLOOKUP('Weighting Set'!$Z38,Modellering!$K$85:$BH$85,Modellering!$K$86:$BH$97)),Modellering!$E$86:$E$97,'MP per GJ'!AR$18))/Invoerblad!$H$57*1000,0)","v":0},0]
[null,null,null,"114. Energy, primary, non-renewable, mat","MJ",{"$f":"IFERROR((SUMIFS((_xlfn.XLOOKUP('Weighting Set'!$Z39,Modellering!$K$5:$BH$5,Modellering!$K$6:$BH$17)),Modellering!$E$6:$E$17,'MP per GJ'!F$18))/Invoerblad!$D$57*1000,0)","v":0},{"$f":"IFERROR((SUMIFS((_xlfn.XLOOKUP('Weighting Set'!$Z39,Modellering!$K$5:$BH$5,Modellering!$K$6:$BH$17)),Modellering!$E$6:$E$17,'MP per GJ'!G$18))/Invoerblad!$D$57*1000,0)","v":0},{"$f":"IFERROR((SUMIFS((_xlfn.XLOOKUP('Weighting Set'!$Z39,Modellering!$K$5:$BH$5,Modellering!$K$6:$BH$17)),Modellering!$E$6:$E$17,'MP per GJ'!H$18))/Invoerblad!$D$57*1000,0)","v":0},0,null,null,null,"114. Energy, primary, non-renewable, mat","MJ",{"$f":"IFERROR((SUMIFS((_xlfn.XLOOKUP('Weighting Set'!$Z39,Modellering!$K$25:$BH$25,Modellering!$K$26:$BH$37)),Modellering!$E$26:$E$37,'MP per GJ'!O$18))/Invoerblad!$E$57*1000,0)","v":0},{"$f":"IFERROR((SUMIFS((_xlfn.XLOOKUP('Weighting Set'!$Z39,Modellering!$K$25:$BH$25,Modellering!$K$26:$BH$37)),Modellering!$E$26:$E$37,'MP per GJ'!P$18))/Invoerblad!$E$57*1000,0)","v":0},{"$f":"IFERROR((SUMIFS((_xlfn.XLOOKUP('Weighting Set'!$Z39,Modellering!$K$25:$BH$25,Modellering!$K$26:$BH$37)),Modellering!$E$26:$E$37,'MP per GJ'!Q$18))/Invoerblad!$E$57*1000,0)","v":0},0,null,null,null,"114. Energy, primary, non-renewable, mat","MJ",{"$f":"IFERROR((SUMIFS((_xlfn.XLOOKUP('Weighting Set'!$Z39,Modellering!$K$45:$BH$45,Modellering!$K$46:$BH$57)),Modellering!$E$46:$E$57,'MP per GJ'!X$18))/Invoerblad!$F$57*1000,0)","v":0},{"$f":"IFERROR((SUMIFS((_xlfn.XLOOKUP('Weighting Set'!$Z39,Modellering!$K$45:$BH$45,Modellering!$K$46:$BH$57)),Modellering!$E$46:$E$57,'MP per GJ'!Y$18))/Invoerblad!$F$57*1000,0)","v":0},{"$f":"IFERROR((SUMIFS((_xlfn.XLOOKUP('Weighting Set'!$Z39,Modellering!$K$45:$BH$45,Modellering!$K$46:$BH$57)),Modellering!$E$46:$E$57,'MP per GJ'!Z$18))/Invoerblad!$F$57*1000,0)","v":0},0,null,null,null,"114. Energy, primary, non-renewable, mat","MJ",{"$f":"IFERROR((SUMIFS((_xlfn.XLOOKUP('Weighting Set'!$Z39,Modellering!$K$65:$BH$65,Modellering!$K$66:$BH$77)),Modellering!$E$66:$E$77,'MP per GJ'!AG$18))/Invoerblad!$G$57*1000,0)","v":0},{"$f":"IFERROR((SUMIFS((_xlfn.XLOOKUP('Weighting Set'!$Z39,Modellering!$K$65:$BH$65,Modellering!$K$66:$BH$77)),Modellering!$E$66:$E$77,'MP per GJ'!AH$18))/Invoerblad!$G$57*1000,0)","v":0},{"$f":"IFERROR((SUMIFS((_xlfn.XLOOKUP('Weighting Set'!$Z39,Modellering!$K$65:$BH$65,Modellering!$K$66:$BH$77)),Modellering!$E$66:$E$77,'MP per GJ'!AI$18))/Invoerblad!$G$57*1000,0)","v":0},0,null,null,null,"114. Energy, primary, non-renewable, mat","MJ",{"$f":"IFERROR((SUMIFS((_xlfn.XLOOKUP('Weighting Set'!$Z39,Modellering!$K$85:$BH$85,Modellering!$K$86:$BH$97)),Modellering!$E$86:$E$97,'MP per GJ'!AP$18))/Invoerblad!$H$57*1000,0)","v":0},{"$f":"IFERROR((SUMIFS((_xlfn.XLOOKUP('Weighting Set'!$Z39,Modellering!$K$85:$BH$85,Modellering!$K$86:$BH$97)),Modellering!$E$86:$E$97,'MP per GJ'!AQ$18))/Invoerblad!$H$57*1000,0)","v":0},{"$f":"IFERROR((SUMIFS((_xlfn.XLOOKUP('Weighting Set'!$Z39,Modellering!$K$85:$BH$85,Modellering!$K$86:$BH$97)),Modellering!$E$86:$E$97,'MP per GJ'!AR$18))/Invoerblad!$H$57*1000,0)","v":0},0]
[null,null,null,"102. Energy, primary, non-renewable (MJ)","MJ",{"$f":"IFERROR((SUMIFS((_xlfn.XLOOKUP('Weighting Set'!$Z40,Modellering!$K$5:$BH$5,Modellering!$K$6:$BH$17)),Modellering!$E$6:$E$17,'MP per GJ'!F$18))/Invoerblad!$D$57*1000,0)","v":2815.1365780878173},{"$f":"IFERROR((SUMIFS((_xlfn.XLOOKUP('Weighting Set'!$Z40,Modellering!$K$5:$BH$5,Modellering!$K$6:$BH$17)),Modellering!$E$6:$E$17,'MP per GJ'!G$18))/Invoerblad!$D$57*1000,0)","v":15.879121137392916},{"$f":"IFERROR((SUMIFS((_xlfn.XLOOKUP('Weighting Set'!$Z40,Modellering!$K$5:$BH$5,Modellering!$K$6:$BH$17)),Modellering!$E$6:$E$17,'MP per GJ'!H$18))/Invoerblad!$D$57*1000,0)","v":41.301084634413208},2872.3167838596232,null,null,null,"102. Energy, primary, non-renewable (MJ)","MJ",{"$f":"IFERROR((SUMIFS((_xlfn.XLOOKUP('Weighting Set'!$Z40,Modellering!$K$25:$BH$25,Modellering!$K$26:$BH$37)),Modellering!$E$26:$E$37,'MP per GJ'!O$18))/Invoerblad!$E$57*1000,0)","v":0},{"$f":"IFERROR((SUMIFS((_xlfn.XLOOKUP('Weighting Set'!$Z40,Modellering!$K$25:$BH$25,Modellering!$K$26:$BH$37)),Modellering!$E$26:$E$37,'MP per GJ'!P$18))/Invoerblad!$E$57*1000,0)","v":0},{"$f":"IFERROR((SUMIFS((_xlfn.XLOOKUP('Weighting Set'!$Z40,Modellering!$K$25:$BH$25,Modellering!$K$26:$BH$37)),Modellering!$E$26:$E$37,'MP per GJ'!Q$18))/Invoerblad!$E$57*1000,0)","v":0},0,null,null,null,"102. Energy, primary, non-renewable (MJ)","MJ",{"$f":"IFERROR((SUMIFS((_xlfn.XLOOKUP('Weighting Set'!$Z40,Modellering!$K$45:$BH$45,Modellering!$K$46:$BH$57)),Modellering!$E$46:$E$57,'MP per GJ'!X$18))/Invoerblad!$F$57*1000,0)","v":0},{"$f":"IFERROR((SUMIFS((_xlfn.XLOOKUP('Weighting Set'!$Z40,Modellering!$K$45:$BH$45,Modellering!$K$46:$BH$57)),Modellering!$E$46:$E$57,'MP per GJ'!Y$18))/Invoerblad!$F$57*1000,0)","v":0},{"$f":"IFERROR((SUMIFS((_xlfn.XLOOKUP('Weighting Set'!$Z40,Modellering!$K$45:$BH$45,Modellering!$K$46:$BH$57)),Modellering!$E$46:$E$57,'MP per GJ'!Z$18))/Invoerblad!$F$57*1000,0)","v":0},0,null,null,null,"102. Energy, primary, non-renewable (MJ)","MJ",{"$f":"IFERROR((SUMIFS((_xlfn.XLOOKUP('Weighting Set'!$Z40,Modellering!$K$65:$BH$65,Modellering!$K$66:$BH$77)),Modellering!$E$66:$E$77,'MP per GJ'!AG$18))/Invoerblad!$G$57*1000,0)","v":0},{"$f":"IFERROR((SUMIFS((_xlfn.XLOOKUP('Weighting Set'!$Z40,Modellering!$K$65:$BH$65,Modellering!$K$66:$BH$77)),Modellering!$E$66:$E$77,'MP per GJ'!AH$18))/Invoerblad!$G$57*1000,0)","v":0},{"$f":"IFERROR((SUMIFS((_xlfn.XLOOKUP('Weighting Set'!$Z40,Modellering!$K$65:$BH$65,Modellering!$K$66:$BH$77)),Modellering!$E$66:$E$77,'MP per GJ'!AI$18))/Invoerblad!$G$57*1000,0)","v":0},0,null,null,null,"102. Energy, primary, non-renewable (MJ)","MJ",{"$f":"IFERROR((SUMIFS((_xlfn.XLOOKUP('Weighting Set'!$Z40,Modellering!$K$85:$BH$85,Modellering!$K$86:$BH$97)),Modellering!$E$86:$E$97,'MP per GJ'!AP$18))/Invoerblad!$H$57*1000,0)","v":0},{"$f":"IFERROR((SUMIFS((_xlfn.XLOOKUP('Weighting Set'!$Z40,Modellering!$K$85:$BH$85,Modellering!$K$86:$BH$97)),Modellering!$E$86:$E$97,'MP per GJ'!AQ$18))/Invoerblad!$H$57*1000,0)","v":0},{"$f":"IFERROR((SUMIFS((_xlfn.XLOOKUP('Weighting Set'!$Z40,Modellering!$K$85:$BH$85,Modellering!$K$86:$BH$97)),Modellering!$E$86:$E$97,'MP per GJ'!AR$18))/Invoerblad!$H$57*1000,0)","v":0},0]
[null,null,null,"108. Secondary material (kg)","kg",{"$f":"IFERROR((SUMIFS((_xlfn.XLOOKUP('Weighting Set'!$Z41,Modellering!$K$5:$BH$5,Modellering!$K$6:$BH$17)),Modellering!$E$6:$E$17,'MP per GJ'!F$18))/Invoerblad!$D$57*1000,0)","v":0},{"$f":"IFERROR((SUMIFS((_xlfn.XLOOKUP('Weighting Set'!$Z41,Modellering!$K$5:$BH$5,Modellering!$K$6:$BH$17)),Modellering!$E$6:$E$17,'MP per GJ'!G$18))/Invoerblad!$D$57*1000,0)","v":0},{"$f":"IFERROR((SUMIFS((_xlfn.XLOOKUP('Weighting Set'!$Z41,Modellering!$K$5:$BH$5,Modellering!$K$6:$BH$17)),Modellering!$E$6:$E$17,'MP per GJ'!H$18))/Invoerblad!$D$57*1000,0)","v":0},0,null,null,null,"108. Secondary material (kg)","kg",{"$f":"IFERROR((SUMIFS((_xlfn.XLOOKUP('Weighting Set'!$Z41,Modellering!$K$25:$BH$25,Modellering!$K$26:$BH$37)),Modellering!$E$26:$E$37,'MP per GJ'!O$18))/Invoerblad!$E$57*1000,0)","v":0},{"$f":"IFERROR((SUMIFS((_xlfn.XLOOKUP('Weighting Set'!$Z41,Modellering!$K$25:$BH$25,Modellering!$K$26:$BH$37)),Modellering!$E$26:$E$37,'MP per GJ'!P$18))/Invoerblad!$E$57*1000,0)","v":0},{"$f":"IFERROR((SUMIFS((_xlfn.XLOOKUP('Weighting Set'!$Z41,Modellering!$K$25:$BH$25,Modellering!$K$26:$BH$37)),Modellering!$E$26:$E$37,'MP per GJ'!Q$18))/Invoerblad!$E$57*1000,0)","v":0},0,null,null,null,"108. Secondary material (kg)","kg",{"$f":"IFERROR((SUMIFS((_xlfn.XLOOKUP('Weighting Set'!$Z41,Modellering!$K$45:$BH$45,Modellering!$K$46:$BH$57)),Modellering!$E$46:$E$57,'MP per GJ'!X$18))/Invoerblad!$F$57*1000,0)","v":0},{"$f":"IFERROR((SUMIFS((_xlfn.XLOOKUP('Weighting Set'!$Z41,Modellering!$K$45:$BH$45,Modellering!$K$46:$BH$57)),Modellering!$E$46:$E$57,'MP per GJ'!Y$18))/Invoerblad!$F$57*1000,0)","v":0},{"$f":"IFERROR((SUMIFS((_xlfn.XLOOKUP('Weighting Set'!$Z41,Modellering!$K$45:$BH$45,Modellering!$K$46:$BH$57)),Modellering!$E$46:$E$57,'MP per GJ'!Z$18))/Invoerblad!$F$57*1000,0)","v":0},0,null,null,null,"108. Secondary material (kg)","kg",{"$f":"IFERROR((SUMIFS((_xlfn.XLOOKUP('Weighting Set'!$Z41,Modellering!$K$65:$BH$65,Modellering!$K$66:$BH$77)),Modellering!$E$66:$E$77,'MP per GJ'!AG$18))/Invoerblad!$G$57*1000,0)","v":0},{"$f":"IFERROR((SUMIFS((_xlfn.XLOOKUP('Weighting Set'!$Z41,Modellering!$K$65:$BH$65,Modellering!$K$66:$BH$77)),Modellering!$E$66:$E$77,'MP per GJ'!AH$18))/Invoerblad!$G$57*1000,0)","v":0},{"$f":"IFERROR((SUMIFS((_xlfn.XLOOKUP('Weighting Set'!$Z41,Modellering!$K$65:$BH$65,Modellering!$K$66:$BH$77)),Modellering!$E$66:$E$77,'MP per GJ'!AI$18))/Invoerblad!$G$57*1000,0)","v":0},0,null,null,null,"108. Secondary material (kg)","kg",{"$f":"IFERROR((SUMIFS((_xlfn.XLOOKUP('Weighting Set'!$Z41,Modellering!$K$85:$BH$85,Modellering!$K$86:$BH$97)),Modellering!$E$86:$E$97,'MP per GJ'!AP$18))/Invoerblad!$H$57*1000,0)","v":0},{"$f":"IFERROR((SUMIFS((_xlfn.XLOOKUP('Weighting Set'!$Z41,Modellering!$K$85:$BH$85,Modellering!$K$86:$BH$97)),Modellering!$E$86:$E$97,'MP per GJ'!AQ$18))/Invoerblad!$H$57*1000,0)","v":0},{"$f":"IFERROR((SUMIFS((_xlfn.XLOOKUP('Weighting Set'!$Z41,Modellering!$K$85:$BH$85,Modellering!$K$86:$BH$97)),Modellering!$E$86:$E$97,'MP per GJ'!AR$18))/Invoerblad!$H$57*1000,0)","v":0},0]
[null,null,null,"109. Secondary fuel, renewable (kg)","MJ",{"$f":"IFERROR((SUMIFS((_xlfn.XLOOKUP('Weighting Set'!$Z42,Modellering!$K$5:$BH$5,Modellering!$K$6:$BH$17)),Modellering!$E$6:$E$17,'MP per GJ'!F$18))/Invoerblad!$D$57*1000,0)","v":0},{"$f":"IFERROR((SUMIFS((_xlfn.XLOOKUP('Weighting Set'!$Z42,Modellering!$K$5:$BH$5,Modellering!$K$6:$BH$17)),Modellering!$E$6:$E$17,'MP per GJ'!G$18))/Invoerblad!$D$57*1000,0)","v":0},{"$f":"IFERROR((SUMIFS((_xlfn.XLOOKUP('Weighting Set'!$Z42,Modellering!$K$5:$BH$5,Modellering!$K$6:$BH$17)),Modellering!$E$6:$E$17,'MP per GJ'!H$18))/Invoerblad!$D$57*1000,0)","v":0},0,null,null,null,"109. Secondary fuel, renewable (kg)","MJ",{"$f":"IFERROR((SUMIFS((_xlfn.XLOOKUP('Weighting Set'!$Z42,Modellering!$K$25:$BH$25,Modellering!$K$26:$BH$37)),Modellering!$E$26:$E$37,'MP per GJ'!O$18))/Invoerblad!$E$57*1000,0)","v":0},{"$f":"IFERROR((SUMIFS((_xlfn.XLOOKUP('Weighting Set'!$Z42,Modellering!$K$25:$BH$25,Modellering!$K$26:$BH$37)),Modellering!$E$26:$E$37,'MP per GJ'!P$18))/Invoerblad!$E$57*1000,0)","v":0},{"$f":"IFERROR((SUMIFS((_xlfn.XLOOKUP('Weighting Set'!$Z42,Modellering!$K$25:$BH$25,Modellering!$K$26:$BH$37)),Modellering!$E$26:$E$37,'MP per GJ'!Q$18))/Invoerblad!$E$57*1000,0)","v":0},0,null,null,null,"109. Secondary fuel, renewable (kg)","MJ",{"$f":"IFERROR((SUMIFS((_xlfn.XLOOKUP('Weighting Set'!$Z42,Modellering!$K$45:$BH$45,Modellering!$K$46:$BH$57)),Modellering!$E$46:$E$57,'MP per GJ'!X$18))/Invoerblad!$F$57*1000,0)","v":0},{"$f":"IFERROR((SUMIFS((_xlfn.XLOOKUP('Weighting Set'!$Z42,Modellering!$K$45:$BH$45,Modellering!$K$46:$BH$57)),Modellering!$E$46:$E$57,'MP per GJ'!Y$18))/Invoerblad!$F$57*1000,0)","v":0},{"$f":"IFERROR((SUMIFS((_xlfn.XLOOKUP('Weighting Set'!$Z42,Modellering!$K$45:$BH$45,Modellering!$K$46:$BH$57)),Modellering!$E$46:$E$57,'MP per GJ'!Z$18))/Invoerblad!$F$57*1000,0)","v":0},0,null,null,null,"109. Secondary fuel, renewable (kg)","MJ",{"$f":"IFERROR((SUMIFS((_xlfn.XLOOKUP('Weighting Set'!$Z42,Modellering!$K$65:$BH$65,Modellering!$K$66:$BH$77)),Modellering!$E$66:$E$77,'MP per GJ'!AG$18))/Invoerblad!$G$57*1000,0)","v":0},{"$f":"IFERROR((SUMIFS((_xlfn.XLOOKUP('Weighting Set'!$Z42,Modellering!$K$65:$BH$65,Modellering!$K$66:$BH$77)),Modellering!$E$66:$E$77,'MP per GJ'!AH$18))/Invoerblad!$G$57*1000,0)","v":0},{"$f":"IFERROR((SUMIFS((_xlfn.XLOOKUP('Weighting Set'!$Z42,Modellering!$K$65:$BH$65,Modellering!$K$66:$BH$77)),Modellering!$E$66:$E$77,'MP per GJ'!AI$18))/Invoerblad!$G$57*1000,0)","v":0},0,null,null,null,"109. Secondary fuel, renewable (kg)","MJ",{"$f":"IFERROR((SUMIFS((_xlfn.XLOOKUP('Weighting Set'!$Z42,Modellering!$K$85:$BH$85,Modellering!$K$86:$BH$97)),Modellering!$E$86:$E$97,'MP per GJ'!AP$18))/Invoerblad!$H$57*1000,0)","v":0},{"$f":"IFERROR((SUMIFS((_xlfn.XLOOKUP('Weighting Set'!$Z42,Modellering!$K$85:$BH$85,Modellering!$K$86:$BH$97)),Modellering!$E$86:$E$97,'MP per GJ'!AQ$18))/Invoerblad!$H$57*1000,0)","v":0},{"$f":"IFERROR((SUMIFS((_xlfn.XLOOKUP('Weighting Set'!$Z42,Modellering!$K$85:$BH$85,Modellering!$K$86:$BH$97)),Modellering!$E$86:$E$97,'MP per GJ'!AR$18))/Invoerblad!$H$57*1000,0)","v":0},0]
[null,null,null,"110. Secondary fuel, non-renewable (kg)","MJ",{"$f":"IFERROR((SUMIFS((_xlfn.XLOOKUP('Weighting Set'!$Z43,Modellering!$K$5:$BH$5,Modellering!$K$6:$BH$17)),Modellering!$E$6:$E$17,'MP per GJ'!F$18))/Invoerblad!$D$57*1000,0)","v":0},{"$f":"IFERROR((SUMIFS((_xlfn.XLOOKUP('Weighting Set'!$Z43,Modellering!$K$5:$BH$5,Modellering!$K$6:$BH$17)),Modellering!$E$6:$E$17,'MP per GJ'!G$18))/Invoerblad!$D$57*1000,0)","v":0},{"$f":"IFERROR((SUMIFS((_xlfn.XLOOKUP('Weighting Set'!$Z43,Modellering!$K$5:$BH$5,Modellering!$K$6:$BH$17)),Modellering!$E$6:$E$17,'MP per GJ'!H$18))/Invoerblad!$D$57*1000,0)","v":0},0,null,null,null,"110. Secondary fuel, non-renewable (kg)","MJ",{"$f":"IFERROR((SUMIFS((_xlfn.XLOOKUP('Weighting Set'!$Z43,Modellering!$K$25:$BH$25,Modellering!$K$26:$BH$37)),Modellering!$E$26:$E$37,'MP per GJ'!O$18))/Invoerblad!$E$57*1000,0)","v":0},{"$f":"IFERROR((SUMIFS((_xlfn.XLOOKUP('Weighting Set'!$Z43,Modellering!$K$25:$BH$25,Modellering!$K$26:$BH$37)),Modellering!$E$26:$E$37,'MP per GJ'!P$18))/Invoerblad!$E$57*1000,0)","v":0},{"$f":"IFERROR((SUMIFS((_xlfn.XLOOKUP('Weighting Set'!$Z43,Modellering!$K$25:$BH$25,Modellering!$K$26:$BH$37)),Modellering!$E$26:$E$37,'MP per GJ'!Q$18))/Invoerblad!$E$57*1000,0)","v":0},0,null,null,null,"110. Secondary fuel, non-renewable (kg)","MJ",{"$f":"IFERROR((SUMIFS((_xlfn.XLOOKUP('Weighting Set'!$Z43,Modellering!$K$45:$BH$45,Modellering!$K$46:$BH$57)),Modellering!$E$46:$E$57,'MP per GJ'!X$18))/Invoerblad!$F$57*1000,0)","v":0},{"$f":"IFERROR((SUMIFS((_xlfn.XLOOKUP('Weighting Set'!$Z43,Modellering!$K$45:$BH$45,Modellering!$K$46:$BH$57)),Modellering!$E$46:$E$57,'MP per GJ'!Y$18))/Invoerblad!$F$57*1000,0)","v":0},{"$f":"IFERROR((SUMIFS((_xlfn.XLOOKUP('Weighting Set'!$Z43,Modellering!$K$45:$BH$45,Modellering!$K$46:$BH$57)),Modellering!$E$46:$E$57,'MP per GJ'!Z$18))/Invoerblad!$F$57*1000,0)","v":0},0,null,null,null,"110. Secondary fuel, non-renewable (kg)","MJ",{"$f":"IFERROR((SUMIFS((_xlfn.XLOOKUP('Weighting Set'!$Z43,Modellering!$K$65:$BH$65,Modellering!$K$66:$BH$77)),Modellering!$E$66:$E$77,'MP per GJ'!AG$18))/Invoerblad!$G$57*1000,0)","v":0},{"$f":"IFERROR((SUMIFS((_xlfn.XLOOKUP('Weighting Set'!$Z43,Modellering!$K$65:$BH$65,Modellering!$K$66:$BH$77)),Modellering!$E$66:$E$77,'MP per GJ'!AH$18))/Invoerblad!$G$57*1000,0)","v":0},{"$f":"IFERROR((SUMIFS((_xlfn.XLOOKUP('Weighting Set'!$Z43,Modellering!$K$65:$BH$65,Modellering!$K$66:$BH$77)),Modellering!$E$66:$E$77,'MP per GJ'!AI$18))/Invoerblad!$G$57*1000,0)","v":0},0,null,null,null,"110. Secondary fuel, non-renewable (kg)","MJ",{"$f":"IFERROR((SUMIFS((_xlfn.XLOOKUP('Weighting Set'!$Z43,Modellering!$K$85:$BH$85,Modellering!$K$86:$BH$97)),Modellering!$E$86:$E$97,'MP per GJ'!AP$18))/Invoerblad!$H$57*1000,0)","v":0},{"$f":"IFERROR((SUMIFS((_xlfn.XLOOKUP('Weighting Set'!$Z43,Modellering!$K$85:$BH$85,Modellering!$K$86:$BH$97)),Modellering!$E$86:$E$97,'MP per GJ'!AQ$18))/Invoerblad!$H$57*1000,0)","v":0},{"$f":"IFERROR((SUMIFS((_xlfn.XLOOKUP('Weighting Set'!$Z43,Modellering!$K$85:$BH$85,Modellering!$K$86:$BH$97)),Modellering!$E$86:$E$97,'MP per GJ'!AR$18))/Invoerblad!$H$57*1000,0)","v":0},0]
[null,null,null,"104. Water, fresh water use (m3)","m3",{"$f":"IFERROR((SUMIFS((_xlfn.XLOOKUP('Weighting Set'!$Z44,Modellering!$K$5:$BH$5,Modellering!$K$6:$BH$17)),Modellering!$E$6:$E$17,'MP per GJ'!F$18))/Invoerblad!$D$57*1000,0)","v":0.21380879142436096},{"$f":"IFERROR((SUMIFS((_xlfn.XLOOKUP('Weighting Set'!$Z44,Modellering!$K$5:$BH$5,Modellering!$K$6:$BH$17)),Modellering!$E$6:$E$17,'MP per GJ'!G$18))/Invoerblad!$D$57*1000,0)","v":7.3177341866398468E-4},{"$f":"IFERROR((SUMIFS((_xlfn.XLOOKUP('Weighting Set'!$Z44,Modellering!$K$5:$BH$5,Modellering!$K$6:$BH$17)),Modellering!$E$6:$E$17,'MP per GJ'!H$18))/Invoerblad!$D$57*1000,0)","v":3.6571220298666371E-2},0.2511117851416913,null,null,null,"104. Water, fresh water use (m3)","m3",{"$f":"IFERROR((SUMIFS((_xlfn.XLOOKUP('Weighting Set'!$Z44,Modellering!$K$25:$BH$25,Modellering!$K$26:$BH$37)),Modellering!$E$26:$E$37,'MP per GJ'!O$18))/Invoerblad!$E$57*1000,0)","v":0},{"$f":"IFERROR((SUMIFS((_xlfn.XLOOKUP('Weighting Set'!$Z44,Modellering!$K$25:$BH$25,Modellering!$K$26:$BH$37)),Modellering!$E$26:$E$37,'MP per GJ'!P$18))/Invoerblad!$E$57*1000,0)","v":0},{"$f":"IFERROR((SUMIFS((_xlfn.XLOOKUP('Weighting Set'!$Z44,Modellering!$K$25:$BH$25,Modellering!$K$26:$BH$37)),Modellering!$E$26:$E$37,'MP per GJ'!Q$18))/Invoerblad!$E$57*1000,0)","v":0},0,null,null,null,"104. Water, fresh water use (m3)","m3",{"$f":"IFERROR((SUMIFS((_xlfn.XLOOKUP('Weighting Set'!$Z44,Modellering!$K$45:$BH$45,Modellering!$K$46:$BH$57)),Modellering!$E$46:$E$57,'MP per GJ'!X$18))/Invoerblad!$F$57*1000,0)","v":0},{"$f":"IFERROR((SUMIFS((_xlfn.XLOOKUP('Weighting Set'!$Z44,Modellering!$K$45:$BH$45,Modellering!$K$46:$BH$57)),Modellering!$E$46:$E$57,'MP per GJ'!Y$18))/Invoerblad!$F$57*1000,0)","v":0},{"$f":"IFERROR((SUMIFS((_xlfn.XLOOKUP('Weighting Set'!$Z44,Modellering!$K$45:$BH$45,Modellering!$K$46:$BH$57)),Modellering!$E$46:$E$57,'MP per GJ'!Z$18))/Invoerblad!$F$57*1000,0)","v":0},0,null,null,null,"104. Water, fresh water use (m3)","m3",{"$f":"IFERROR((SUMIFS((_xlfn.XLOOKUP('Weighting Set'!$Z44,Modellering!$K$65:$BH$65,Modellering!$K$66:$BH$77)),Modellering!$E$66:$E$77,'MP per GJ'!AG$18))/Invoerblad!$G$57*1000,0)","v":0},{"$f":"IFERROR((SUMIFS((_xlfn.XLOOKUP('Weighting Set'!$Z44,Modellering!$K$65:$BH$65,Modellering!$K$66:$BH$77)),Modellering!$E$66:$E$77,'MP per GJ'!AH$18))/Invoerblad!$G$57*1000,0)","v":0},{"$f":"IFERROR((SUMIFS((_xlfn.XLOOKUP('Weighting Set'!$Z44,Modellering!$K$65:$BH$65,Modellering!$K$66:$BH$77)),Modellering!$E$66:$E$77,'MP per GJ'!AI$18))/Invoerblad!$G$57*1000,0)","v":0},0,null,null,null,"104. Water, fresh water use (m3)","m3",{"$f":"IFERROR((SUMIFS((_xlfn.XLOOKUP('Weighting Set'!$Z44,Modellering!$K$85:$BH$85,Modellering!$K$86:$BH$97)),Modellering!$E$86:$E$97,'MP per GJ'!AP$18))/Invoerblad!$H$57*1000,0)","v":0},{"$f":"IFERROR((SUMIFS((_xlfn.XLOOKUP('Weighting Set'!$Z44,Modellering!$K$85:$BH$85,Modellering!$K$86:$BH$97)),Modellering!$E$86:$E$97,'MP per GJ'!AQ$18))/Invoerblad!$H$57*1000,0)","v":0},{"$f":"IFERROR((SUMIFS((_xlfn.XLOOKUP('Weighting Set'!$Z44,Modellering!$K$85:$BH$85,Modellering!$K$86:$BH$97)),Modellering!$E$86:$E$97,'MP per GJ'!AR$18))/Invoerblad!$H$57*1000,0)","v":0},0]
[null,null,null,"106. Waste, hazardous (kg)","kg",{"$f":"IFERROR((SUMIFS((_xlfn.XLOOKUP('Weighting Set'!$Z45,Modellering!$K$5:$BH$5,Modellering!$K$6:$BH$17)),Modellering!$E$6:$E$17,'MP per GJ'!F$18))/Invoerblad!$D$57*1000,0)","v":1.5833806971110469E-2},{"$f":"IFERROR((SUMIFS((_xlfn.XLOOKUP('Weighting Set'!$Z45,Modellering!$K$5:$BH$5,Modellering!$K$6:$BH$17)),Modellering!$E$6:$E$17,'MP per GJ'!G$18))/Invoerblad!$D$57*1000,0)","v":9.2343528874970246E-5},{"$f":"IFERROR((SUMIFS((_xlfn.XLOOKUP('Weighting Set'!$Z45,Modellering!$K$5:$BH$5,Modellering!$K$6:$BH$17)),Modellering!$E$6:$E$17,'MP per GJ'!H$18))/Invoerblad!$D$57*1000,0)","v":2.3369762535994302E-4},1.6159848125345381E-2,null,null,null,"106. Waste, hazardous (kg)","kg",{"$f":"IFERROR((SUMIFS((_xlfn.XLOOKUP('Weighting Set'!$Z45,Modellering!$K$25:$BH$25,Modellering!$K$26:$BH$37)),Modellering!$E$26:$E$37,'MP per GJ'!O$18))/Invoerblad!$E$57*1000,0)","v":0},{"$f":"IFERROR((SUMIFS((_xlfn.XLOOKUP('Weighting Set'!$Z45,Modellering!$K$25:$BH$25,Modellering!$K$26:$BH$37)),Modellering!$E$26:$E$37,'MP per GJ'!P$18))/Invoerblad!$E$57*1000,0)","v":0},{"$f":"IFERROR((SUMIFS((_xlfn.XLOOKUP('Weighting Set'!$Z45,Modellering!$K$25:$BH$25,Modellering!$K$26:$BH$37)),Modellering!$E$26:$E$37,'MP per GJ'!Q$18))/Invoerblad!$E$57*1000,0)","v":0},0,null,null,null,"106. Waste, hazardous (kg)","kg",{"$f":"IFERROR((SUMIFS((_xlfn.XLOOKUP('Weighting Set'!$Z45,Modellering!$K$45:$BH$45,Modellering!$K$46:$BH$57)),Modellering!$E$46:$E$57,'MP per GJ'!X$18))/Invoerblad!$F$57*1000,0)","v":0},{"$f":"IFERROR((SUMIFS((_xlfn.XLOOKUP('Weighting Set'!$Z45,Modellering!$K$45:$BH$45,Modellering!$K$46:$BH$57)),Modellering!$E$46:$E$57,'MP per GJ'!Y$18))/Invoerblad!$F$57*1000,0)","v":0},{"$f":"IFERROR((SUMIFS((_xlfn.XLOOKUP('Weighting Set'!$Z45,Modellering!$K$45:$BH$45,Modellering!$K$46:$BH$57)),Modellering!$E$46:$E$57,'MP per GJ'!Z$18))/Invoerblad!$F$57*1000,0)","v":0},0,null,null,null,"106. Waste, hazardous (kg)","kg",{"$f":"IFERROR((SUMIFS((_xlfn.XLOOKUP('Weighting Set'!$Z45,Modellering!$K$65:$BH$65,Modellering!$K$66:$BH$77)),Modellering!$E$66:$E$77,'MP per GJ'!AG$18))/Invoerblad!$G$57*1000,0)","v":0},{"$f":"IFERROR((SUMIFS((_xlfn.XLOOKUP('Weighting Set'!$Z45,Modellering!$K$65:$BH$65,Modellering!$K$66:$BH$77)),Modellering!$E$66:$E$77,'MP per GJ'!AH$18))/Invoerblad!$G$57*1000,0)","v":0},{"$f":"IFERROR((SUMIFS((_xlfn.XLOOKUP('Weighting Set'!$Z45,Modellering!$K$65:$BH$65,Modellering!$K$66:$BH$77)),Modellering!$E$66:$E$77,'MP per GJ'!AI$18))/Invoerblad!$G$57*1000,0)","v":0},0,null,null,null,"106. Waste, hazardous (kg)","kg",{"$f":"IFERROR((SUMIFS((_xlfn.XLOOKUP('Weighting Set'!$Z45,Modellering!$K$85:$BH$85,Modellering!$K$86:$BH$97)),Modellering!$E$86:$E$97,'MP per GJ'!AP$18))/Invoerblad!$H$57*1000,0)","v":0},{"$f":"IFERROR((SUMIFS((_xlfn.XLOOKUP('Weighting Set'!$Z45,Modellering!$K$85:$BH$85,Modellering!$K$86:$BH$97)),Modellering!$E$86:$E$97,'MP per GJ'!AQ$18))/Invoerblad!$H$57*1000,0)","v":0},{"$f":"IFERROR((SUMIFS((_xlfn.XLOOKUP('Weighting Set'!$Z45,Modellering!$K$85:$BH$85,Modellering!$K$86:$BH$97)),Modellering!$E$86:$E$97,'MP per GJ'!AR$18))/Invoerblad!$H$57*1000,0)","v":0},0]
[null,null,null,"105. Waste, non hazardous (kg)","kg",{"$f":"IFERROR((SUMIFS((_xlfn.XLOOKUP('Weighting Set'!$Z46,Modellering!$K$5:$BH$5,Modellering!$K$6:$BH$17)),Modellering!$E$6:$E$17,'MP per GJ'!F$18))/Invoerblad!$D$57*1000,0)","v":0.99496061528608193},{"$f":"IFERROR((SUMIFS((_xlfn.XLOOKUP('Weighting Set'!$Z46,Modellering!$K$5:$BH$5,Modellering!$K$6:$BH$17)),Modellering!$E$6:$E$17,'MP per GJ'!G$18))/Invoerblad!$D$57*1000,0)","v":1.2084132504257392},{"$f":"IFERROR((SUMIFS((_xlfn.XLOOKUP('Weighting Set'!$Z46,Modellering!$K$5:$BH$5,Modellering!$K$6:$BH$17)),Modellering!$E$6:$E$17,'MP per GJ'!H$18))/Invoerblad!$D$57*1000,0)","v":1.4453379712461165},3.6487118369579381,null,null,null,"105. Waste, non hazardous (kg)","kg",{"$f":"IFERROR((SUMIFS((_xlfn.XLOOKUP('Weighting Set'!$Z46,Modellering!$K$25:$BH$25,Modellering!$K$26:$BH$37)),Modellering!$E$26:$E$37,'MP per GJ'!O$18))/Invoerblad!$E$57*1000,0)","v":0},{"$f":"IFERROR((SUMIFS((_xlfn.XLOOKUP('Weighting Set'!$Z46,Modellering!$K$25:$BH$25,Modellering!$K$26:$BH$37)),Modellering!$E$26:$E$37,'MP per GJ'!P$18))/Invoerblad!$E$57*1000,0)","v":0},{"$f":"IFERROR((SUMIFS((_xlfn.XLOOKUP('Weighting Set'!$Z46,Modellering!$K$25:$BH$25,Modellering!$K$26:$BH$37)),Modellering!$E$26:$E$37,'MP per GJ'!Q$18))/Invoerblad!$E$57*1000,0)","v":0},0,null,null,null,"105. Waste, non hazardous (kg)","kg",{"$f":"IFERROR((SUMIFS((_xlfn.XLOOKUP('Weighting Set'!$Z46,Modellering!$K$45:$BH$45,Modellering!$K$46:$BH$57)),Modellering!$E$46:$E$57,'MP per GJ'!X$18))/Invoerblad!$F$57*1000,0)","v":0},{"$f":"IFERROR((SUMIFS((_xlfn.XLOOKUP('Weighting Set'!$Z46,Modellering!$K$45:$BH$45,Modellering!$K$46:$BH$57)),Modellering!$E$46:$E$57,'MP per GJ'!Y$18))/Invoerblad!$F$57*1000,0)","v":0},{"$f":"IFERROR((SUMIFS((_xlfn.XLOOKUP('Weighting Set'!$Z46,Modellering!$K$45:$BH$45,Modellering!$K$46:$BH$57)),Modellering!$E$46:$E$57,'MP per GJ'!Z$18))/Invoerblad!$F$57*1000,0)","v":0},0,null,null,null,"105. Waste, non hazardous (kg)","kg",{"$f":"IFERROR((SUMIFS((_xlfn.XLOOKUP('Weighting Set'!$Z46,Modellering!$K$65:$BH$65,Modellering!$K$66:$BH$77)),Modellering!$E$66:$E$77,'MP per GJ'!AG$18))/Invoerblad!$G$57*1000,0)","v":0},{"$f":"IFERROR((SUMIFS((_xlfn.XLOOKUP('Weighting Set'!$Z46,Modellering!$K$65:$BH$65,Modellering!$K$66:$BH$77)),Modellering!$E$66:$E$77,'MP per GJ'!AH$18))/Invoerblad!$G$57*1000,0)","v":0},{"$f":"IFERROR((SUMIFS((_xlfn.XLOOKUP('Weighting Set'!$Z46,Modellering!$K$65:$BH$65,Modellering!$K$66:$BH$77)),Modellering!$E$66:$E$77,'MP per GJ'!AI$18))/Invoerblad!$G$57*1000,0)","v":0},0,null,null,null,"105. Waste, non hazardous (kg)","kg",{"$f":"IFERROR((SUMIFS((_xlfn.XLOOKUP('Weighting Set'!$Z46,Modellering!$K$85:$BH$85,Modellering!$K$86:$BH$97)),Modellering!$E$86:$E$97,'MP per GJ'!AP$18))/Invoerblad!$H$57*1000,0)","v":0},{"$f":"IFERROR((SUMIFS((_xlfn.XLOOKUP('Weighting Set'!$Z46,Modellering!$K$85:$BH$85,Modellering!$K$86:$BH$97)),Modellering!$E$86:$E$97,'MP per GJ'!AQ$18))/Invoerblad!$H$57*1000,0)","v":0},{"$f":"IFERROR((SUMIFS((_xlfn.XLOOKUP('Weighting Set'!$Z46,Modellering!$K$85:$BH$85,Modellering!$K$86:$BH$97)),Modellering!$E$86:$E$97,'MP per GJ'!AR$18))/Invoerblad!$H$57*1000,0)","v":0},0]
[null,null,null,"107. Waste, radioactive (kg)","kg",{"$f":"IFERROR((SUMIFS((_xlfn.XLOOKUP('Weighting Set'!$Z47,Modellering!$K$5:$BH$5,Modellering!$K$6:$BH$17)),Modellering!$E$6:$E$17,'MP per GJ'!F$18))/Invoerblad!$D$57*1000,0)","v":3.201081704942912E-4},{"$f":"IFERROR((SUMIFS((_xlfn.XLOOKUP('Weighting Set'!$Z47,Modellering!$K$5:$BH$5,Modellering!$K$6:$BH$17)),Modellering!$E$6:$E$17,'MP per GJ'!G$18))/Invoerblad!$D$57*1000,0)","v":2.3624012520221062E-5},{"$f":"IFERROR((SUMIFS((_xlfn.XLOOKUP('Weighting Set'!$Z47,Modellering!$K$5:$BH$5,Modellering!$K$6:$BH$17)),Modellering!$E$6:$E$17,'MP per GJ'!H$18))/Invoerblad!$D$57*1000,0)","v":4.5664004037471151E-5},3.8939618705198341E-4,null,null,null,"107. Waste, radioactive (kg)","kg",{"$f":"IFERROR((SUMIFS((_xlfn.XLOOKUP('Weighting Set'!$Z47,Modellering!$K$25:$BH$25,Modellering!$K$26:$BH$37)),Modellering!$E$26:$E$37,'MP per GJ'!O$18))/Invoerblad!$E$57*1000,0)","v":0},{"$f":"IFERROR((SUMIFS((_xlfn.XLOOKUP('Weighting Set'!$Z47,Modellering!$K$25:$BH$25,Modellering!$K$26:$BH$37)),Modellering!$E$26:$E$37,'MP per GJ'!P$18))/Invoerblad!$E$57*1000,0)","v":0},{"$f":"IFERROR((SUMIFS((_xlfn.XLOOKUP('Weighting Set'!$Z47,Modellering!$K$25:$BH$25,Modellering!$K$26:$BH$37)),Modellering!$E$26:$E$37,'MP per GJ'!Q$18))/Invoerblad!$E$57*1000,0)","v":0},0,null,null,null,"107. Waste, radioactive (kg)","kg",{"$f":"IFERROR((SUMIFS((_xlfn.XLOOKUP('Weighting Set'!$Z47,Modellering!$K$45:$BH$45,Modellering!$K$46:$BH$57)),Modellering!$E$46:$E$57,'MP per GJ'!X$18))/Invoerblad!$F$57*1000,0)","v":0},{"$f":"IFERROR((SUMIFS((_xlfn.XLOOKUP('Weighting Set'!$Z47,Modellering!$K$45:$BH$45,Modellering!$K$46:$BH$57)),Modellering!$E$46:$E$57,'MP per GJ'!Y$18))/Invoerblad!$F$57*1000,0)","v":0},{"$f":"IFERROR((SUMIFS((_xlfn.XLOOKUP('Weighting Set'!$Z47,Modellering!$K$45:$BH$45,Modellering!$K$46:$BH$57)),Modellering!$E$46:$E$57,'MP per GJ'!Z$18))/Invoerblad!$F$57*1000,0)","v":0},0,null,null,null,"107. Waste, radioactive (kg)","kg",{"$f":"IFERROR((SUMIFS((_xlfn.XLOOKUP('Weighting Set'!$Z47,Modellering!$K$65:$BH$65,Modellering!$K$66:$BH$77)),Modellering!$E$66:$E$77,'MP per GJ'!AG$18))/Invoerblad!$G$57*1000,0)","v":0},{"$f":"IFERROR((SUMIFS((_xlfn.XLOOKUP('Weighting Set'!$Z47,Modellering!$K$65:$BH$65,Modellering!$K$66:$BH$77)),Modellering!$E$66:$E$77,'MP per GJ'!AH$18))/Invoerblad!$G$57*1000,0)","v":0},{"$f":"IFERROR((SUMIFS((_xlfn.XLOOKUP('Weighting Set'!$Z47,Modellering!$K$65:$BH$65,Modellering!$K$66:$BH$77)),Modellering!$E$66:$E$77,'MP per GJ'!AI$18))/Invoerblad!$G$57*1000,0)","v":0},0,null,null,null,"107. Waste, radioactive (kg)","kg",{"$f":"IFERROR((SUMIFS((_xlfn.XLOOKUP('Weighting Set'!$Z47,Modellering!$K$85:$BH$85,Modellering!$K$86:$BH$97)),Modellering!$E$86:$E$97,'MP per GJ'!AP$18))/Invoerblad!$H$57*1000,0)","v":0},{"$f":"IFERROR((SUMIFS((_xlfn.XLOOKUP('Weighting Set'!$Z47,Modellering!$K$85:$BH$85,Modellering!$K$86:$BH$97)),Modellering!$E$86:$E$97,'MP per GJ'!AQ$18))/Invoerblad!$H$57*1000,0)","v":0},{"$f":"IFERROR((SUMIFS((_xlfn.XLOOKUP('Weighting Set'!$Z47,Modellering!$K$85:$BH$85,Modellering!$K$86:$BH$97)),Modellering!$E$86:$E$97,'MP per GJ'!AR$18))/Invoerblad!$H$57*1000,0)","v":0},0]
[null,null,null,"120. Components for re-use (kg)","kg",{"$f":"IFERROR((SUMIFS((_xlfn.XLOOKUP('Weighting Set'!$Z48,Modellering!$K$5:$BH$5,Modellering!$K$6:$BH$17)),Modellering!$E$6:$E$17,'MP per GJ'!F$18))/Invoerblad!$D$57*1000,0)","v":0},{"$f":"IFERROR((SUMIFS((_xlfn.XLOOKUP('Weighting Set'!$Z48,Modellering!$K$5:$BH$5,Modellering!$K$6:$BH$17)),Modellering!$E$6:$E$17,'MP per GJ'!G$18))/Invoerblad!$D$57*1000,0)","v":0},{"$f":"IFERROR((SUMIFS((_xlfn.XLOOKUP('Weighting Set'!$Z48,Modellering!$K$5:$BH$5,Modellering!$K$6:$BH$17)),Modellering!$E$6:$E$17,'MP per GJ'!H$18))/Invoerblad!$D$57*1000,0)","v":0},0,null,null,null,"120. Components for re-use (kg)","kg",{"$f":"IFERROR((SUMIFS((_xlfn.XLOOKUP('Weighting Set'!$Z48,Modellering!$K$25:$BH$25,Modellering!$K$26:$BH$37)),Modellering!$E$26:$E$37,'MP per GJ'!O$18))/Invoerblad!$E$57*1000,0)","v":0},{"$f":"IFERROR((SUMIFS((_xlfn.XLOOKUP('Weighting Set'!$Z48,Modellering!$K$25:$BH$25,Modellering!$K$26:$BH$37)),Modellering!$E$26:$E$37,'MP per GJ'!P$18))/Invoerblad!$E$57*1000,0)","v":0},{"$f":"IFERROR((SUMIFS((_xlfn.XLOOKUP('Weighting Set'!$Z48,Modellering!$K$25:$BH$25,Modellering!$K$26:$BH$37)),Modellering!$E$26:$E$37,'MP per GJ'!Q$18))/Invoerblad!$E$57*1000,0)","v":0},0,null,null,null,"120. Components for re-use (kg)","kg",{"$f":"IFERROR((SUMIFS((_xlfn.XLOOKUP('Weighting Set'!$Z48,Modellering!$K$45:$BH$45,Modellering!$K$46:$BH$57)),Modellering!$E$46:$E$57,'MP per GJ'!X$18))/Invoerblad!$F$57*1000,0)","v":0},{"$f":"IFERROR((SUMIFS((_xlfn.XLOOKUP('Weighting Set'!$Z48,Modellering!$K$45:$BH$45,Modellering!$K$46:$BH$57)),Modellering!$E$46:$E$57,'MP per GJ'!Y$18))/Invoerblad!$F$57*1000,0)","v":0},{"$f":"IFERROR((SUMIFS((_xlfn.XLOOKUP('Weighting Set'!$Z48,Modellering!$K$45:$BH$45,Modellering!$K$46:$BH$57)),Modellering!$E$46:$E$57,'MP per GJ'!Z$18))/Invoerblad!$F$57*1000,0)","v":0},0,null,null,null,"120. Components for re-use (kg)","kg",{"$f":"IFERROR((SUMIFS((_xlfn.XLOOKUP('Weighting Set'!$Z48,Modellering!$K$65:$BH$65,Modellering!$K$66:$BH$77)),Modellering!$E$66:$E$77,'MP per GJ'!AG$18))/Invoerblad!$G$57*1000,0)","v":0},{"$f":"IFERROR((SUMIFS((_xlfn.XLOOKUP('Weighting Set'!$Z48,Modellering!$K$65:$BH$65,Modellering!$K$66:$BH$77)),Modellering!$E$66:$E$77,'MP per GJ'!AH$18))/Invoerblad!$G$57*1000,0)","v":0},{"$f":"IFERROR((SUMIFS((_xlfn.XLOOKUP('Weighting Set'!$Z48,Modellering!$K$65:$BH$65,Modellering!$K$66:$BH$77)),Modellering!$E$66:$E$77,'MP per GJ'!AI$18))/Invoerblad!$G$57*1000,0)","v":0},0,null,null,null,"120. Components for re-use (kg)","kg",{"$f":"IFERROR((SUMIFS((_xlfn.XLOOKUP('Weighting Set'!$Z48,Modellering!$K$85:$BH$85,Modellering!$K$86:$BH$97)),Modellering!$E$86:$E$97,'MP per GJ'!AP$18))/Invoerblad!$H$57*1000,0)","v":0},{"$f":"IFERROR((SUMIFS((_xlfn.XLOOKUP('Weighting Set'!$Z48,Modellering!$K$85:$BH$85,Modellering!$K$86:$BH$97)),Modellering!$E$86:$E$97,'MP per GJ'!AQ$18))/Invoerblad!$H$57*1000,0)","v":0},{"$f":"IFERROR((SUMIFS((_xlfn.XLOOKUP('Weighting Set'!$Z48,Modellering!$K$85:$BH$85,Modellering!$K$86:$BH$97)),Modellering!$E$86:$E$97,'MP per GJ'!AR$18))/Invoerblad!$H$57*1000,0)","v":0},0]
[null,null,null,"121. Materials for recycling (kg)","kg",{"$f":"IFERROR((SUMIFS((_xlfn.XLOOKUP('Weighting Set'!$Z49,Modellering!$K$5:$BH$5,Modellering!$K$6:$BH$17)),Modellering!$E$6:$E$17,'MP per GJ'!F$18))/Invoerblad!$D$57*1000,0)","v":0},{"$f":"IFERROR((SUMIFS((_xlfn.XLOOKUP('Weighting Set'!$Z49,Modellering!$K$5:$BH$5,Modellering!$K$6:$BH$17)),Modellering!$E$6:$E$17,'MP per GJ'!G$18))/Invoerblad!$D$57*1000,0)","v":0},{"$f":"IFERROR((SUMIFS((_xlfn.XLOOKUP('Weighting Set'!$Z49,Modellering!$K$5:$BH$5,Modellering!$K$6:$BH$17)),Modellering!$E$6:$E$17,'MP per GJ'!H$18))/Invoerblad!$D$57*1000,0)","v":0},0,null,null,null,"121. Materials for recycling (kg)","kg",{"$f":"IFERROR((SUMIFS((_xlfn.XLOOKUP('Weighting Set'!$Z49,Modellering!$K$25:$BH$25,Modellering!$K$26:$BH$37)),Modellering!$E$26:$E$37,'MP per GJ'!O$18))/Invoerblad!$E$57*1000,0)","v":0},{"$f":"IFERROR((SUMIFS((_xlfn.XLOOKUP('Weighting Set'!$Z49,Modellering!$K$25:$BH$25,Modellering!$K$26:$BH$37)),Modellering!$E$26:$E$37,'MP per GJ'!P$18))/Invoerblad!$E$57*1000,0)","v":0},{"$f":"IFERROR((SUMIFS((_xlfn.XLOOKUP('Weighting Set'!$Z49,Modellering!$K$25:$BH$25,Modellering!$K$26:$BH$37)),Modellering!$E$26:$E$37,'MP per GJ'!Q$18))/Invoerblad!$E$57*1000,0)","v":0},0,null,null,null,"121. Materials for recycling (kg)","kg",{"$f":"IFERROR((SUMIFS((_xlfn.XLOOKUP('Weighting Set'!$Z49,Modellering!$K$45:$BH$45,Modellering!$K$46:$BH$57)),Modellering!$E$46:$E$57,'MP per GJ'!X$18))/Invoerblad!$F$57*1000,0)","v":0},{"$f":"IFERROR((SUMIFS((_xlfn.XLOOKUP('Weighting Set'!$Z49,Modellering!$K$45:$BH$45,Modellering!$K$46:$BH$57)),Modellering!$E$46:$E$57,'MP per GJ'!Y$18))/Invoerblad!$F$57*1000,0)","v":0},{"$f":"IFERROR((SUMIFS((_xlfn.XLOOKUP('Weighting Set'!$Z49,Modellering!$K$45:$BH$45,Modellering!$K$46:$BH$57)),Modellering!$E$46:$E$57,'MP per GJ'!Z$18))/Invoerblad!$F$57*1000,0)","v":0},0,null,null,null,"121. Materials for recycling (kg)","kg",{"$f":"IFERROR((SUMIFS((_xlfn.XLOOKUP('Weighting Set'!$Z49,Modellering!$K$65:$BH$65,Modellering!$K$66:$BH$77)),Modellering!$E$66:$E$77,'MP per GJ'!AG$18))/Invoerblad!$G$57*1000,0)","v":0},{"$f":"IFERROR((SUMIFS((_xlfn.XLOOKUP('Weighting Set'!$Z49,Modellering!$K$65:$BH$65,Modellering!$K$66:$BH$77)),Modellering!$E$66:$E$77,'MP per GJ'!AH$18))/Invoerblad!$G$57*1000,0)","v":0},{"$f":"IFERROR((SUMIFS((_xlfn.XLOOKUP('Weighting Set'!$Z49,Modellering!$K$65:$BH$65,Modellering!$K$66:$BH$77)),Modellering!$E$66:$E$77,'MP per GJ'!AI$18))/Invoerblad!$G$57*1000,0)","v":0},0,null,null,null,"121. Materials for recycling (kg)","kg",{"$f":"IFERROR((SUMIFS((_xlfn.XLOOKUP('Weighting Set'!$Z49,Modellering!$K$85:$BH$85,Modellering!$K$86:$BH$97)),Modellering!$E$86:$E$97,'MP per GJ'!AP$18))/Invoerblad!$H$57*1000,0)","v":0},{"$f":"IFERROR((SUMIFS((_xlfn.XLOOKUP('Weighting Set'!$Z49,Modellering!$K$85:$BH$85,Modellering!$K$86:$BH$97)),Modellering!$E$86:$E$97,'MP per GJ'!AQ$18))/Invoerblad!$H$57*1000,0)","v":0},{"$f":"IFERROR((SUMIFS((_xlfn.XLOOKUP('Weighting Set'!$Z49,Modellering!$K$85:$BH$85,Modellering!$K$86:$BH$97)),Modellering!$E$86:$E$97,'MP per GJ'!AR$18))/Invoerblad!$H$57*1000,0)","v":0},0]
[null,null,null,"122. Materials for energy recovery (kg)","kg",{"$f":"IFERROR((SUMIFS((_xlfn.XLOOKUP('Weighting Set'!$Z50,Modellering!$K$5:$BH$5,Modellering!$K$6:$BH$17)),Modellering!$E$6:$E$17,'MP per GJ'!F$18))/Invoerblad!$D$57*1000,0)","v":0},{"$f":"IFERROR((SUMIFS((_xlfn.XLOOKUP('Weighting Set'!$Z50,Modellering!$K$5:$BH$5,Modellering!$K$6:$BH$17)),Modellering!$E$6:$E$17,'MP per GJ'!G$18))/Invoerblad!$D$57*1000,0)","v":0},{"$f":"IFERROR((SUMIFS((_xlfn.XLOOKUP('Weighting Set'!$Z50,Modellering!$K$5:$BH$5,Modellering!$K$6:$BH$17)),Modellering!$E$6:$E$17,'MP per GJ'!H$18))/Invoerblad!$D$57*1000,0)","v":0},0,null,null,null,"122. Materials for energy recovery (kg)","kg",{"$f":"IFERROR((SUMIFS((_xlfn.XLOOKUP('Weighting Set'!$Z50,Modellering!$K$25:$BH$25,Modellering!$K$26:$BH$37)),Modellering!$E$26:$E$37,'MP per GJ'!O$18))/Invoerblad!$E$57*1000,0)","v":0},{"$f":"IFERROR((SUMIFS((_xlfn.XLOOKUP('Weighting Set'!$Z50,Modellering!$K$25:$BH$25,Modellering!$K$26:$BH$37)),Modellering!$E$26:$E$37,'MP per GJ'!P$18))/Invoerblad!$E$57*1000,0)","v":0},{"$f":"IFERROR((SUMIFS((_xlfn.XLOOKUP('Weighting Set'!$Z50,Modellering!$K$25:$BH$25,Modellering!$K$26:$BH$37)),Modellering!$E$26:$E$37,'MP per GJ'!Q$18))/Invoerblad!$E$57*1000,0)","v":0},0,null,null,null,"122. Materials for energy recovery (kg)","kg",{"$f":"IFERROR((SUMIFS((_xlfn.XLOOKUP('Weighting Set'!$Z50,Modellering!$K$45:$BH$45,Modellering!$K$46:$BH$57)),Modellering!$E$46:$E$57,'MP per GJ'!X$18))/Invoerblad!$F$57*1000,0)","v":0},{"$f":"IFERROR((SUMIFS((_xlfn.XLOOKUP('Weighting Set'!$Z50,Modellering!$K$45:$BH$45,Modellering!$K$46:$BH$57)),Modellering!$E$46:$E$57,'MP per GJ'!Y$18))/Invoerblad!$F$57*1000,0)","v":0},{"$f":"IFERROR((SUMIFS((_xlfn.XLOOKUP('Weighting Set'!$Z50,Modellering!$K$45:$BH$45,Modellering!$K$46:$BH$57)),Modellering!$E$46:$E$57,'MP per GJ'!Z$18))/Invoerblad!$F$57*1000,0)","v":0},0,null,null,null,"122. Materials for energy recovery (kg)","kg",{"$f":"IFERROR((SUMIFS((_xlfn.XLOOKUP('Weighting Set'!$Z50,Modellering!$K$65:$BH$65,Modellering!$K$66:$BH$77)),Modellering!$E$66:$E$77,'MP per GJ'!AG$18))/Invoerblad!$G$57*1000,0)","v":0},{"$f":"IFERROR((SUMIFS((_xlfn.XLOOKUP('Weighting Set'!$Z50,Modellering!$K$65:$BH$65,Modellering!$K$66:$BH$77)),Modellering!$E$66:$E$77,'MP per GJ'!AH$18))/Invoerblad!$G$57*1000,0)","v":0},{"$f":"IFERROR((SUMIFS((_xlfn.XLOOKUP('Weighting Set'!$Z50,Modellering!$K$65:$BH$65,Modellering!$K$66:$BH$77)),Modellering!$E$66:$E$77,'MP per GJ'!AI$18))/Invoerblad!$G$57*1000,0)","v":0},0,null,null,null,"122. Materials for energy recovery (kg)","kg",{"$f":"IFERROR((SUMIFS((_xlfn.XLOOKUP('Weighting Set'!$Z50,Modellering!$K$85:$BH$85,Modellering!$K$86:$BH$97)),Modellering!$E$86:$E$97,'MP per GJ'!AP$18))/Invoerblad!$H$57*1000,0)","v":0},{"$f":"IFERROR((SUMIFS((_xlfn.XLOOKUP('Weighting Set'!$Z50,Modellering!$K$85:$BH$85,Modellering!$K$86:$BH$97)),Modellering!$E$86:$E$97,'MP per GJ'!AQ$18))/Invoerblad!$H$57*1000,0)","v":0},{"$f":"IFERROR((SUMIFS((_xlfn.XLOOKUP('Weighting Set'!$Z50,Modellering!$K$85:$BH$85,Modellering!$K$86:$BH$97)),Modellering!$E$86:$E$97,'MP per GJ'!AR$18))/Invoerblad!$H$57*1000,0)","v":0},0]
[null,null,null,"123. Exported energy, electric (MJ)","MJ",{"$f":"IFERROR((SUMIFS((_xlfn.XLOOKUP('Weighting Set'!$Z51,Modellering!$K$5:$BH$5,Modellering!$K$6:$BH$17)),Modellering!$E$6:$E$17,'MP per GJ'!F$18))/Invoerblad!$D$57*1000,0)","v":0},{"$f":"IFERROR((SUMIFS((_xlfn.XLOOKUP('Weighting Set'!$Z51,Modellering!$K$5:$BH$5,Modellering!$K$6:$BH$17)),Modellering!$E$6:$E$17,'MP per GJ'!G$18))/Invoerblad!$D$57*1000,0)","v":0},{"$f":"IFERROR((SUMIFS((_xlfn.XLOOKUP('Weighting Set'!$Z51,Modellering!$K$5:$BH$5,Modellering!$K$6:$BH$17)),Modellering!$E$6:$E$17,'MP per GJ'!H$18))/Invoerblad!$D$57*1000,0)","v":0},0,null,null,null,"123. Exported energy, electric (MJ)","MJ",{"$f":"IFERROR((SUMIFS((_xlfn.XLOOKUP('Weighting Set'!$Z51,Modellering!$K$25:$BH$25,Modellering!$K$26:$BH$37)),Modellering!$E$26:$E$37,'MP per GJ'!O$18))/Invoerblad!$E$57*1000,0)","v":0},{"$f":"IFERROR((SUMIFS((_xlfn.XLOOKUP('Weighting Set'!$Z51,Modellering!$K$25:$BH$25,Modellering!$K$26:$BH$37)),Modellering!$E$26:$E$37,'MP per GJ'!P$18))/Invoerblad!$E$57*1000,0)","v":0},{"$f":"IFERROR((SUMIFS((_xlfn.XLOOKUP('Weighting Set'!$Z51,Modellering!$K$25:$BH$25,Modellering!$K$26:$BH$37)),Modellering!$E$26:$E$37,'MP per GJ'!Q$18))/Invoerblad!$E$57*1000,0)","v":0},0,null,null,null,"123. Exported energy, electric (MJ)","MJ",{"$f":"IFERROR((SUMIFS((_xlfn.XLOOKUP('Weighting Set'!$Z51,Modellering!$K$45:$BH$45,Modellering!$K$46:$BH$57)),Modellering!$E$46:$E$57,'MP per GJ'!X$18))/Invoerblad!$F$57*1000,0)","v":0},{"$f":"IFERROR((SUMIFS((_xlfn.XLOOKUP('Weighting Set'!$Z51,Modellering!$K$45:$BH$45,Modellering!$K$46:$BH$57)),Modellering!$E$46:$E$57,'MP per GJ'!Y$18))/Invoerblad!$F$57*1000,0)","v":0},{"$f":"IFERROR((SUMIFS((_xlfn.XLOOKUP('Weighting Set'!$Z51,Modellering!$K$45:$BH$45,Modellering!$K$46:$BH$57)),Modellering!$E$46:$E$57,'MP per GJ'!Z$18))/Invoerblad!$F$57*1000,0)","v":0},0,null,null,null,"123. Exported energy, electric (MJ)","MJ",{"$f":"IFERROR((SUMIFS((_xlfn.XLOOKUP('Weighting Set'!$Z51,Modellering!$K$65:$BH$65,Modellering!$K$66:$BH$77)),Modellering!$E$66:$E$77,'MP per GJ'!AG$18))/Invoerblad!$G$57*1000,0)","v":0},{"$f":"IFERROR((SUMIFS((_xlfn.XLOOKUP('Weighting Set'!$Z51,Modellering!$K$65:$BH$65,Modellering!$K$66:$BH$77)),Modellering!$E$66:$E$77,'MP per GJ'!AH$18))/Invoerblad!$G$57*1000,0)","v":0},{"$f":"IFERROR((SUMIFS((_xlfn.XLOOKUP('Weighting Set'!$Z51,Modellering!$K$65:$BH$65,Modellering!$K$66:$BH$77)),Modellering!$E$66:$E$77,'MP per GJ'!AI$18))/Invoerblad!$G$57*1000,0)","v":0},0,null,null,null,"123. Exported energy, electric (MJ)","MJ",{"$f":"IFERROR((SUMIFS((_xlfn.XLOOKUP('Weighting Set'!$Z51,Modellering!$K$85:$BH$85,Modellering!$K$86:$BH$97)),Modellering!$E$86:$E$97,'MP per GJ'!AP$18))/Invoerblad!$H$57*1000,0)","v":0},{"$f":"IFERROR((SUMIFS((_xlfn.XLOOKUP('Weighting Set'!$Z51,Modellering!$K$85:$BH$85,Modellering!$K$86:$BH$97)),Modellering!$E$86:$E$97,'MP per GJ'!AQ$18))/Invoerblad!$H$57*1000,0)","v":0},{"$f":"IFERROR((SUMIFS((_xlfn.XLOOKUP('Weighting Set'!$Z51,Modellering!$K$85:$BH$85,Modellering!$K$86:$BH$97)),Modellering!$E$86:$E$97,'MP per GJ'!AR$18))/Invoerblad!$H$57*1000,0)","v":0},0]
[null,null,null,"124. Exported energy, thermal (MJ)","MJ",{"$f":"IFERROR((SUMIFS((_xlfn.XLOOKUP('Weighting Set'!$Z52,Modellering!$K$5:$BH$5,Modellering!$K$6:$BH$17)),Modellering!$E$6:$E$17,'MP per GJ'!F$18))/Invoerblad!$D$57*1000,0)","v":0},{"$f":"IFERROR((SUMIFS((_xlfn.XLOOKUP('Weighting Set'!$Z52,Modellering!$K$5:$BH$5,Modellering!$K$6:$BH$17)),Modellering!$E$6:$E$17,'MP per GJ'!G$18))/Invoerblad!$D$57*1000,0)","v":0},{"$f":"IFERROR((SUMIFS((_xlfn.XLOOKUP('Weighting Set'!$Z52,Modellering!$K$5:$BH$5,Modellering!$K$6:$BH$17)),Modellering!$E$6:$E$17,'MP per GJ'!H$18))/Invoerblad!$D$57*1000,0)","v":0},0,null,null,null,"124. Exported energy, thermal (MJ)","MJ",{"$f":"IFERROR((SUMIFS((_xlfn.XLOOKUP('Weighting Set'!$Z52,Modellering!$K$25:$BH$25,Modellering!$K$26:$BH$37)),Modellering!$E$26:$E$37,'MP per GJ'!O$18))/Invoerblad!$E$57*1000,0)","v":0},{"$f":"IFERROR((SUMIFS((_xlfn.XLOOKUP('Weighting Set'!$Z52,Modellering!$K$25:$BH$25,Modellering!$K$26:$BH$37)),Modellering!$E$26:$E$37,'MP per GJ'!P$18))/Invoerblad!$E$57*1000,0)","v":0},{"$f":"IFERROR((SUMIFS((_xlfn.XLOOKUP('Weighting Set'!$Z52,Modellering!$K$25:$BH$25,Modellering!$K$26:$BH$37)),Modellering!$E$26:$E$37,'MP per GJ'!Q$18))/Invoerblad!$E$57*1000,0)","v":0},0,null,null,null,"124. Exported energy, thermal (MJ)","MJ",{"$f":"IFERROR((SUMIFS((_xlfn.XLOOKUP('Weighting Set'!$Z52,Modellering!$K$45:$BH$45,Modellering!$K$46:$BH$57)),Modellering!$E$46:$E$57,'MP per GJ'!X$18))/Invoerblad!$F$57*1000,0)","v":0},{"$f":"IFERROR((SUMIFS((_xlfn.XLOOKUP('Weighting Set'!$Z52,Modellering!$K$45:$BH$45,Modellering!$K$46:$BH$57)),Modellering!$E$46:$E$57,'MP per GJ'!Y$18))/Invoerblad!$F$57*1000,0)","v":0},{"$f":"IFERROR((SUMIFS((_xlfn.XLOOKUP('Weighting Set'!$Z52,Modellering!$K$45:$BH$45,Modellering!$K$46:$BH$57)),Modellering!$E$46:$E$57,'MP per GJ'!Z$18))/Invoerblad!$F$57*1000,0)","v":0},0,null,null,null,"124. Exported energy, thermal (MJ)","MJ",{"$f":"IFERROR((SUMIFS((_xlfn.XLOOKUP('Weighting Set'!$Z52,Modellering!$K$65:$BH$65,Modellering!$K$66:$BH$77)),Modellering!$E$66:$E$77,'MP per GJ'!AG$18))/Invoerblad!$G$57*1000,0)","v":0},{"$f":"IFERROR((SUMIFS((_xlfn.XLOOKUP('Weighting Set'!$Z52,Modellering!$K$65:$BH$65,Modellering!$K$66:$BH$77)),Modellering!$E$66:$E$77,'MP per GJ'!AH$18))/Invoerblad!$G$57*1000,0)","v":0},{"$f":"IFERROR((SUMIFS((_xlfn.XLOOKUP('Weighting Set'!$Z52,Modellering!$K$65:$BH$65,Modellering!$K$66:$BH$77)),Modellering!$E$66:$E$77,'MP per GJ'!AI$18))/Invoerblad!$G$57*1000,0)","v":0},0,null,null,null,"124. Exported energy, thermal (MJ)","MJ",{"$f":"IFERROR((SUMIFS((_xlfn.XLOOKUP('Weighting Set'!$Z52,Modellering!$K$85:$BH$85,Modellering!$K$86:$BH$97)),Modellering!$E$86:$E$97,'MP per GJ'!AP$18))/Invoerblad!$H$57*1000,0)","v":0},{"$f":"IFERROR((SUMIFS((_xlfn.XLOOKUP('Weighting Set'!$Z52,Modellering!$K$85:$BH$85,Modellering!$K$86:$BH$97)),Modellering!$E$86:$E$97,'MP per GJ'!AQ$18))/Invoerblad!$H$57*1000,0)","v":0},{"$f":"IFERROR((SUMIFS((_xlfn.XLOOKUP('Weighting Set'!$Z52,Modellering!$K$85:$BH$85,Modellering!$K$86:$BH$97)),Modellering!$E$86:$E$97,'MP per GJ'!AR$18))/Invoerblad!$H$57*1000,0)","v":0},0]

{"sheet":"Figuren Werken Zoet","index":9,"n_rows":131,"n_cols":2,"rows_kept":131,"cut":false,"hidden":false,"merged":[]}
[]
[null,"MKI:A2 "]
{"$rows_empty":39}
[null,"MKI:A2 "]
{"$rows_empty":49}
[null,"MKI:A1"]
{"$rows_empty":38}
[null,"MKI:A1"]

{"sheet":"Figuren Zout Resultaten","index":10,"n_rows":131,"n_cols":2,"rows_kept":131,"cut":false,"hidden":false,"merged":[]}
[]
[null,"MKI:A2 "]
{"$rows_empty":39}
[null,"MKI:A2 "]
{"$rows_empty":49}
[null,"MKI:A1"]
{"$rows_empty":38}
[null,"MKI:A1"]

{"sheet":"Record Selection","index":11,"n_rows":238,"n_cols":29,"rows_kept":238,"cut":false,"hidden":true,"merged":[]}
["Brandstof","Type Brandstof","Short","Division","Winning Energiedrager A1-A3","Unit A1-A3","Opslag Energiedrager A4","Unit A4","Unit Equal?"]
["Ammoniak, Grijs","Brandstof","AMMO-G","Energiedragers","*RWS Energiedrager Ammoniak Grijs (A1-A3) o.b.v Ammonia, anhydrous, liquid {RER w/o RU}| ammonia production, steam reforming, liquid | Cut-off, U",{"$f":"_xlfn.XLOOKUP(Fuel_Short[[#This Row],[Winning Energiedrager A1-A3]],RWS_[Environmental Profile],RWS_[Fuctional Unit],\"\",0)","v":"ton"},"*RWS Energiedrager Ammoniak (A4)","ton",{"$f":"Fuel_Short[[#This Row],[Unit A1-A3]]=Fuel_Short[[#This Row],[Unit A4]]","v":true}]
["Bio CNG, Algemeen","Brandstof",{"$f":"A3","v":"Bio CNG, Algemeen"},"Energiedragers","*RWS Energiedrager Bio-CNG (A1-A3) (Biogas mix 2023)",{"$f":"_xlfn.XLOOKUP(Fuel_Short[[#This Row],[Winning Energiedrager A1-A3]],RWS_[Environmental Profile],RWS_[Fuctional Unit],\"\",0)","v":"ton"},"*RWS Energiedrager Bio-CNG (A4)",{"$f":"_xlfn.XLOOKUP(Fuel_Short[[#This Row],[Opslag Energiedrager A4]],RWS_[Environmental Profile],RWS_[Fuctional Unit],\"\",0)","v":"ton"},{"$f":"Fuel_Short[[#This Row],[Unit A1-A3]]=Fuel_Short[[#This Row],[Unit A4]]","v":true}]
["Bio-LNG, Algemeen","Brandstof","Bio-LNG, Algemeen","Energiedragers","*RWS Energiedrager Bio-LNG (A1-A3)",{"$f":"_xlfn.XLOOKUP(Fuel_Short[[#This Row],[Winning Energiedrager A1-A3]],RWS_[Environmental Profile],RWS_[Fuctional Unit],\"\",0)","v":"ton"},"*RWS Energiedrager Bio-LNG (A4)",{"$f":"_xlfn.XLOOKUP(Fuel_Short[[#This Row],[Opslag Energiedrager A4]],RWS_[Environmental Profile],RWS_[Fuctional Unit],\"\",0)","v":"ton"},{"$f":"Fuel_Short[[#This Row],[Unit A1-A3]]=Fuel_Short[[#This Row],[Unit A4]]","v":true}]
["CNG, Algemeen","Brandstof","CNG, Algemeen","Energiedragers","*RWS Energiedrager CNG (A1-A3) (Aardgas import mix 2023)",{"$f":"_xlfn.XLOOKUP(Fuel_Short[[#This Row],[Winning Energiedrager A1-A3]],RWS_[Environmental Profile],RWS_[Fuctional Unit],\"\",0)","v":"ton"},"*RWS Energiedrager CNG (A4)",{"$f":"_xlfn.XLOOKUP(Fuel_Short[[#This Row],[Opslag Energiedrager A4]],RWS_[Environmental Profile],RWS_[Fuctional Unit],\"\",0)","v":"ton"},{"$f":"Fuel_Short[[#This Row],[Unit A1-A3]]=Fuel_Short[[#This Row],[Unit A4]]","v":true}]
["Diesel, Algemeen","Brandstof","Diesel, Algemeen","Energiedragers","*RWS Energiedrager Diesel (ULSD) A1-A3 (markt mix TNO) (o.b.v. Diesel, low-sulfur {Europe without Switzerland}| diesel production, low-sulfur, petroleum refinery operation | Cut-off, U)",{"$f":"_xlfn.XLOOKUP(Fuel_Short[[#This Row],[Winning Energiedrager A1-A3]],RWS_[Environmental Profile],RWS_[Fuctional Unit],\"\",0)","v":"ton"},"*RWS Energiedrager Opslag en Transport van Diesel/FAME/HVO (A4) (o.b.v. NMD kaart Well-to-tank Diesel (A1-A4) zonder A1-A3 en aangepast naar ton)",{"$f":"_xlfn.XLOOKUP(Fuel_Short[[#This Row],[Opslag Energiedrager A4]],RWS_[Environmental Profile],RWS_[Fuctional Unit],\"\",0)","v":"ton"},{"$f":"Fuel_Short[[#This Row],[Unit A1-A3]]=Fuel_Short[[#This Row],[Unit A4]]","v":true}]
["FAME, Algemeen","Brandstof","FAME, Algemeen","Energiedragers","*RWS Energiedrager FAME well-to-tank (A1-A3) mix 2023",{"$f":"_xlfn.XLOOKUP(Fuel_Short[[#This Row],[Winning Energiedrager A1-A3]],RWS_[Environmental Profile],RWS_[Fuctional Unit],\"\",0)","v":"ton"},"*RWS Energiedrager Opslag en Transport van Diesel/FAME/HVO (A4) (o.b.v. NMD kaart Well-to-tank Diesel (A1-A4) zonder A1-A3 en aangepast naar ton)",{"$f":"_xlfn.XLOOKUP(Fuel_Short[[#This Row],[Opslag Energiedrager A4]],RWS_[Environmental Profile],RWS_[Fuctional Unit],\"\",0)","v":"ton"},{"$f":"Fuel_Short[[#This Row],[Unit A1-A3]]=Fuel_Short[[#This Row],[Unit A4]]","v":true}]
["GTL, Algemeen","Brandstof","GTL, Algemeen","Energiedragers","*RWS Energiedrager GTL (A1-A3) (o.b.v NMD kaart Well-to-tank GTL (A1-A4) aangepast naar ton)",{"$f":"_xlfn.XLOOKUP(Fuel_Short[[#This Row],[Winning Energiedrager A1-A3]],RWS_[Environmental Profile],RWS_[Fuctional Unit],\"\",0)","v":"ton"},"*RWS Energiedrager GTL Opslag en Transport (A4)",{"$f":"_xlfn.XLOOKUP(Fuel_Short[[#This Row],[Opslag Energiedrager A4]],RWS_[Environmental Profile],RWS_[Fuctional Unit],\"\",0)","v":"ton"},{"$f":"Fuel_Short[[#This Row],[Unit A1-A3]]=Fuel_Short[[#This Row],[Unit A4]]","v":true}]
["HFO, Algemeen","Brandstof","HFO, Algemeen","Energiedragers","*RWS Energiedrager HFO (A1-A3) (o.b.v Heavy fuel oil {Europe without Switzerland}| heavy fuel oil production, petroleum refinery operation | Cut-off, U)",{"$f":"_xlfn.XLOOKUP(Fuel_Short[[#This Row],[Winning Energiedrager A1-A3]],RWS_[Environmental Profile],RWS_[Fuctional Unit],\"\",0)","v":"ton"},"*RWS Energiedrager HFO transport en opslag (A4) (o.b.v. Heavy fuel oil {Europe without Switzerland}| market for heavy fuel oil | Cut-off, U zonder HFO productie)",{"$f":"_xlfn.XLOOKUP(Fuel_Short[[#This Row],[Opslag Energiedrager A4]],RWS_[Environmental Profile],RWS_[Fuctional Unit],\"\",0)","v":"ton"},{"$f":"Fuel_Short[[#This Row],[Unit A1-A3]]=Fuel_Short[[#This Row],[Unit A4]]","v":true}]
["HVO, Algemeen","Brandstof","HVO, Algemeen","Energiedragers","*RWS Energiedrager HVO (A1-A3) NEA marktmix 2023",{"$f":"_xlfn.XLOOKUP(Fuel_Short[[#This Row],[Winning Energiedrager A1-A3]],RWS_[Environmental Profile],RWS_[Fuctional Unit],\"\",0)","v":"ton"},"*RWS Energiedrager Opslag en Transport van Diesel/FAME/HVO (A4) (o.b.v. NMD kaart Well-to-tank Diesel (A1-A4) zonder A1-A3 en aangepast naar ton)",{"$f":"_xlfn.XLOOKUP(Fuel_Short[[#This Row],[Opslag Energiedrager A4]],RWS_[Environmental Profile],RWS_[Fuctional Unit],\"\",0)","v":"ton"},{"$f":"Fuel_Short[[#This Row],[Unit A1-A3]]=Fuel_Short[[#This Row],[Unit A4]]","v":true}]
["LNG, Algemeen","Brandstof","LNG, Algemeen","Energiedragers","*RWS Energiedrager LNG (A1-A3)",{"$f":"_xlfn.XLOOKUP(Fuel_Short[[#This Row],[Winning Energiedrager A1-A3]],RWS_[Environmental Profile],RWS_[Fuctional Unit],\"\",0)","v":"ton"},"*RWS Energiedrager LNG (A4) - LNG (mix 2023)",{"$f":"_xlfn.XLOOKUP(Fuel_Short[[#This Row],[Opslag Energiedrager A4]],RWS_[Environmental Profile],RWS_[Fuctional Unit],\"\",0)","v":"ton"},{"$f":"Fuel_Short[[#This Row],[Unit A1-A3]]=Fuel_Short[[#This Row],[Unit A4]]","v":true}]
["Bio-Methanol","Brandstof","METH-B","Energiedragers","*RWS Energiedrager Methanol Bio (A1-A3) (o.b.v. Methanol, from biomass {CH}| methanol production, from synthetic gas | Cut-off, U)",{"$f":"_xlfn.XLOOKUP(Fuel_Short[[#This Row],[Winning Energiedrager A1-A3]],RWS_[Environmental Profile],RWS_[Fuctional Unit],\"\",0)","v":"ton"},"*RWS Energiedrager Opslag en Transport van Diesel/FAME/HVO (A4) (o.b.v. NMD kaart Well-to-tank Diesel (A1-A4) zonder A1-A3 en aangepast naar ton)",{"$f":"_xlfn.XLOOKUP(Fuel_Short[[#This Row],[Opslag Energiedrager A4]],RWS_[Environmental Profile],RWS_[Fuctional Unit],\"\",0)","v":"ton"},{"$f":"Fuel_Short[[#This Row],[Unit A1-A3]]=Fuel_Short[[#This Row],[Unit A4]]","v":true}]
["Methanol, Grijs","Brandstof","METH-G","Energiedragers","*RWS Energiedrager Methanol Grijs (A1-A3) (o.b.v. Methanol {GLO}| methanol production | Cut-off, U)",{"$f":"_xlfn.XLOOKUP(Fuel_Short[[#This Row],[Winning Energiedrager A1-A3]],RWS_[Environmental Profile],RWS_[Fuctional Unit],\"\",0)","v":"ton"},"*RWS Energiedrager Opslag en Transport van Diesel/FAME/HVO (A4) (o.b.v. NMD kaart Well-to-tank Diesel (A1-A4) zonder A1-A3 en aangepast naar ton)",{"$f":"_xlfn.XLOOKUP(Fuel_Short[[#This Row],[Opslag Energiedrager A4]],RWS_[Environmental Profile],RWS_[Fuctional Unit],\"\",0)","v":"ton"},{"$f":"Fuel_Short[[#This Row],[Unit A1-A3]]=Fuel_Short[[#This Row],[Unit A4]]","v":true}]
["MGO, Algemeen","Brandstof",{"$f":"A14","v":"MGO, Algemeen"},"Energiedragers","*RWS Energiedrager MGO (A1-A3)",{"$f":"_xlfn.XLOOKUP(Fuel_Short[[#This Row],[Winning Energiedrager A1-A3]],RWS_[Environmental Profile],RWS_[Fuctional Unit],\"\",0)","v":"ton"},"*RWS Energiedrager MGO oplsag en transport (A4)",{"$f":"_xlfn.XLOOKUP(Fuel_Short[[#This Row],[Opslag Energiedrager A4]],RWS_[Environmental Profile],RWS_[Fuctional Unit],\"\",0)","v":"ton"},{"$f":"Fuel_Short[[#This Row],[Unit A1-A3]]=Fuel_Short[[#This Row],[Unit A4]]","v":true}]
["Waterstof, Gas, Electrolyse, Grijze Mix","Brandstof","WSGE-GREY","Energiedragers","*RWS Energiedrager Waterstof, Gas, Elektrolyse, grijzemix (A1-A3) (o.b.v. NMD kaart Waterstof, Elektrolyse, groene mix)",{"$f":"_xlfn.XLOOKUP(Fuel_Short[[#This Row],[Winning Energiedrager A1-A3]],RWS_[Environmental Profile],RWS_[Fuctional Unit],\"\",0)","v":"ton"},"*RWS Energiedrager Waterstof, Gas, (A4) grijze mix",{"$f":"_xlfn.XLOOKUP(Fuel_Short[[#This Row],[Opslag Energiedrager A4]],RWS_[Environmental Profile],RWS_[Fuctional Unit],\"\",0)","v":"ton"},{"$f":"Fuel_Short[[#This Row],[Unit A1-A3]]=Fuel_Short[[#This Row],[Unit A4]]","v":true}]
["Waterstof, Gas, Electrolyse, Groene Mix","Brandstof","WSGE-GREEN","Energiedragers","*RWS Energiedrager Waterstof, Gas, Elektrolyse, groene mix (A1-A3) (o.b.v. NMD kaart Waterstof, Elektrolyse, groene mix)",{"$f":"_xlfn.XLOOKUP(Fuel_Short[[#This Row],[Winning Energiedrager A1-A3]],RWS_[Environmental Profile],RWS_[Fuctional Unit],\"\",0)","v":"ton"},"*RWS Energiedrager Waterstof, Gas, (A4) groene mix",{"$f":"_xlfn.XLOOKUP(Fuel_Short[[#This Row],[Opslag Energiedrager A4]],RWS_[Environmental Profile],RWS_[Fuctional Unit],\"\",0)","v":"ton"},{"$f":"Fuel_Short[[#This Row],[Unit A1-A3]]=Fuel_Short[[#This Row],[Unit A4]]","v":true}]
["Waterstof, Gas, Electrolyse, Wind Mix","Brandstof","WSGE-WIND","Energiedragers","*RWS Energiedrager Waterstof, Gas, Elektrolyse, wind mix (A1-A3) (o.b.v. NMD kaart Waterstof, Elektrolyse, groene mix)",{"$f":"_xlfn.XLOOKUP(Fuel_Short[[#This Row],[Winning Energiedrager A1-A3]],RWS_[Environmental Profile],RWS_[Fuctional Unit],\"\",0)","v":"ton"},"*RWS Energiedrager Waterstof, Gas, (A4) windmix",{"$f":"_xlfn.XLOOKUP(Fuel_Short[[#This Row],[Opslag Energiedrager A4]],RWS_[Environmental Profile],RWS_[Fuctional Unit],\"\",0)","v":"ton"},{"$f":"Fuel_Short[[#This Row],[Unit A1-A3]]=Fuel_Short[[#This Row],[Unit A4]]","v":true}]
["Waterstof, Gas, SMR, Grijze Mix","Brandstof","WSGS-GREY","Energiedragers","*RWS Energiedrager Waterstof, Gas, SMR grijze mix (A1-A3) (o.b.v. NMD kaart Waterstof, Steam methane reforming (SMR), grijze mix)",{"$f":"_xlfn.XLOOKUP(Fuel_Short[[#This Row],[Winning Energiedrager A1-A3]],RWS_[Environmental Profile],RWS_[Fuctional Unit],\"\",0)","v":"ton"},"*RWS Energiedrager Waterstof, Gas, (A4) grijze mix",{"$f":"_xlfn.XLOOKUP(Fuel_Short[[#This Row],[Opslag Energiedrager A4]],RWS_[Environmental Profile],RWS_[Fuctional Unit],\"\",0)","v":"ton"},{"$f":"Fuel_Short[[#This Row],[Unit A1-A3]]=Fuel_Short[[#This Row],[Unit A4]]","v":true}]
["Waterstof, Vloeibaar, Electrolyse, Grijze Mix","Brandstof","WSVE-GREY","Energiedragers","*RWS Energiedrager Waterstof, Vloeibaar, Elektrolyse, grijze mix (A1-A3) (o.b.v. NMD kaart Waterstof, Elektrolyse, grijze mix) (AANPASSEN COMPRESSIE NAAR LIQUEFACTIE)",{"$f":"_xlfn.XLOOKUP(Fuel_Short[[#This Row],[Winning Energiedrager A1-A3]],RWS_[Environmental Profile],RWS_[Fuctional Unit],\"\",0)","v":"ton"},"*RWS Energiedrager Waterstof, Vloeibaar (A4), grijze mix",{"$f":"_xlfn.XLOOKUP(Fuel_Short[[#This Row],[Opslag Energiedrager A4]],RWS_[Environmental Profile],RWS_[Fuctional Unit],\"\",0)","v":"ton"},{"$f":"Fuel_Short[[#This Row],[Unit A1-A3]]=Fuel_Short[[#This Row],[Unit A4]]","v":true}]
["Waterstof, Vloeibaar, Electrolyse, Groene Mix","Brandstof","WSVE-GREEN","Energiedragers","*RWS Energiedrager Waterstof, Vloeibaar, Elektrolyse, Groenemix (A1-A3) (o.b.v. NMD kaart Waterstof, Elektrolyse, grijze mix)",{"$f":"_xlfn.XLOOKUP(Fuel_Short[[#This Row],[Winning Energiedrager A1-A3]],RWS_[Environmental Profile],RWS_[Fuctional Unit],\"\",0)","v":"ton"},"*RWS Energiedrager Waterstof, Vloeibaar (A4), groene mix",{"$f":"_xlfn.XLOOKUP(Fuel_Short[[#This Row],[Opslag Energiedrager A4]],RWS_[Environmental Profile],RWS_[Fuctional Unit],\"\",0)","v":"ton"},{"$f":"Fuel_Short[[#This Row],[Unit A1-A3]]=Fuel_Short[[#This Row],[Unit A4]]","v":true}]
["Waterstof, Vloeibaar, Electrolyse, Wind Mix","Brandstof","WSVE-WIND","Energiedragers","*RWS Energiedrager Waterstof, Vloeibaar, Elektrolyse, wind mix (A1-A3) (o.b.v. NMD kaart Waterstof, Elektrolyse, grijze mix)",{"$f":"_xlfn.XLOOKUP(Fuel_Short[[#This Row],[Winning Energiedrager A1-A3]],RWS_[Environmental Profile],RWS_[Fuctional Unit],\"\",0)","v":"ton"},"*RWS Energiedrager Waterstof, Vloeibaar (A4), wind mix",{"$f":"_xlfn.XLOOKUP(Fuel_Short[[#This Row],[Opslag Energiedrager A4]],RWS_[Environmental Profile],RWS_[Fuctional Unit],\"\",0)","v":"ton"},{"$f":"Fuel_Short[[#This Row],[Unit A1-A3]]=Fuel_Short[[#This Row],[Unit A4]]","v":true}]
["Waterstof, Vloeibaar, SMR, Grijze Mix","Brandstof","WSVS-GREY","Energiedragers","*RWS Energiedrager Waterstof, Vloeibaar, SMR grijze mix (A1-A3) (o.b.v. NMD kaart Waterstof, Steam methane reforming (SMR), grijze mix) (LIQUEFACTIE TOEVOEGEN)",{"$f":"_xlfn.XLOOKUP(Fuel_Short[[#This Row],[Winning Energiedrager A1-A3]],RWS_[Environmental Profile],RWS_[Fuctional Unit],\"\",0)","v":"ton"},"*RWS Energiedrager Waterstof, Vloeibaar (A4), grijze mix",{"$f":"_xlfn.XLOOKUP(Fuel_Short[[#This Row],[Opslag Energiedrager A4]],RWS_[Environmental Profile],RWS_[Fuctional Unit],\"\",0)","v":"ton"},{"$f":"Fuel_Short[[#This Row],[Unit A1-A3]]=Fuel_Short[[#This Row],[Unit A4]]","v":true}]
["Elektriciteit, Grijs","Elektrisch","E-Grey","Energiedragers","0494-pro&Elektriciteit, Grijs, bij consument, per kWh (o.b.v. zie toelichting in proces), (01-2028)",{"$f":"_xlfn.XLOOKUP(Fuel_Short[[#This Row],[Winning Energiedrager A1-A3]],RWS_[Environmental Profile],RWS_[Fuctional Unit],\"\",0)","v":"kWh"},"Niet van Toepassing (Elektrisch)",{"$f":"_xlfn.XLOOKUP(Fuel_Short[[#This Row],[Opslag Energiedrager A4]],RWS_[Environmental Profile],RWS_[Fuctional Unit],\"\",0)","v":"kWh"},{"$f":"Fuel_Short[[#This Row],[Unit A1-A3]]=Fuel_Short[[#This Row],[Unit A4]]","v":true}]
["Elektriciteit, Groen","Elektrisch","E-Green","Energiedragers","0496-pro&Elektriciteit, Hernieuwbaar, bij consument, per kWh (o.b.v. zie toelichting in proces), (01-2028)",{"$f":"_xlfn.XLOOKUP(Fuel_Short[[#This Row],[Winning Energiedrager A1-A3]],RWS_[Environmental Profile],RWS_[Fuctional Unit],\"\",0)","v":"kWh"},"Niet van Toepassing (Elektrisch)",{"$f":"_xlfn.XLOOKUP(Fuel_Short[[#This Row],[Opslag Energiedrager A4]],RWS_[Environmental Profile],RWS_[Fuctional Unit],\"\",0)","v":"kWh"},{"$f":"Fuel_Short[[#This Row],[Unit A1-A3]]=Fuel_Short[[#This Row],[Unit A4]]","v":true}]
["Elektriciteit, Wind Land","Elektrisch","E-WL","Energiedragers","0572-pro&Elektriciteit, hernieuwbaar, van windturbines op land, bij consument, per kWh (o.b.v. zie toelichting in proces), (01-2028)",{"$f":"_xlfn.XLOOKUP(Fuel_Short[[#This Row],[Winning Energiedrager A1-A3]],RWS_[Environmental Profile],RWS_[Fuctional Unit],\"\",0)","v":"kWh"},"Niet van Toepassing (Elektrisch)",{"$f":"_xlfn.XLOOKUP(Fuel_Short[[#This Row],[Opslag Energiedrager A4]],RWS_[Environmental Profile],RWS_[Fuctional Unit],\"\",0)","v":"kWh"},{"$f":"Fuel_Short[[#This Row],[Unit A1-A3]]=Fuel_Short[[#This Row],[Unit A4]]","v":true}]
["Elektriciteit, Wind Zee","Elektrisch","E-WZ","Energiedragers","0571-pro&Elektriciteit, hernieuwbaar, van windturbines op zee, bij consument, per kWh (o.b.v. zie toelichting in proces), (01-2028)",{"$f":"_xlfn.XLOOKUP(Fuel_Short[[#This Row],[Winning Energiedrager A1-A3]],RWS_[Environmental Profile],RWS_[Fuctional Unit],\"\",0)","v":"kWh"},"Niet van Toepassing (Elektrisch)",{"$f":"_xlfn.XLOOKUP(Fuel_Short[[#This Row],[Opslag Energiedrager A4]],RWS_[Environmental Profile],RWS_[Fuctional Unit],\"\",0)","v":"kWh"},{"$f":"Fuel_Short[[#This Row],[Unit A1-A3]]=Fuel_Short[[#This Row],[Unit A4]]","v":true}]
["Elektriciteit, Wind Mix (37% Zee, 63% Land)","Elektrisch","E-WM","Energiedragers","*RWS pro&Elektriciteit, hernieuwbaar, van windturbines, mix 2023 (37% zee en 63% land), bij consument, per kWh (o.b.v. zie toelichting in proces), (01-2028)",{"$f":"_xlfn.XLOOKUP(Fuel_Short[[#This Row],[Winning Energiedrager A1-A3]],RWS_[Environmental Profile],RWS_[Fuctional Unit],\"\",0)","v":"kWh"},"Niet van Toepassing (Elektrisch)",{"$f":"_xlfn.XLOOKUP(Fuel_Short[[#This Row],[Opslag Energiedrager A4]],RWS_[Environmental Profile],RWS_[Fuctional Unit],\"\",0)","v":"kWh"},{"$f":"Fuel_Short[[#This Row],[Unit A1-A3]]=Fuel_Short[[#This Row],[Unit A4]]","v":true}]
["E-Methanol (Fossiele CO2, H2 wind mix)","Brandstof","METH-EF","Energiedragers","*RWS Energiedrager Methanol (e-Methanol) (A1-A3)",{"$f":"_xlfn.XLOOKUP(Fuel_Short[[#This Row],[Winning Energiedrager A1-A3]],RWS_[Environmental Profile],RWS_[Fuctional Unit],\"\",0)","v":"ton"},"*RWS Energiedrager Opslag en Transport van Diesel/FAME/HVO (A4) (o.b.v. NMD kaart Well-to-tank Diesel (A1-A4) zonder A1-A3 en aangepast naar ton)",{"$f":"_xlfn.XLOOKUP(Fuel_Short[[#This Row],[Opslag Energiedrager A4]],RWS_[Environmental Profile],RWS_[Fuctional Unit],\"\",0)","v":"ton"},{"$f":"Fuel_Short[[#This Row],[Unit A1-A3]]=Fuel_Short[[#This Row],[Unit A4]]","v":true}]
["E-Methanol (Biogene CO2, H2 wind mix)","Brandstof","METH-EB","Energiedragers","E-methanol (o.b.v. afgevangen biogene CO2) A1-A3",{"$f":"_xlfn.XLOOKUP(Fuel_Short[[#This Row],[Winning Energiedrager A1-A3]],RWS_[Environmental Profile],RWS_[Fuctional Unit],\"\",0)","v":"ton"},"*RWS Energiedrager Opslag en Transport van Diesel/FAME/HVO (A4) (o.b.v. NMD kaart Well-to-tank Diesel (A1-A4) zonder A1-A3 en aangepast naar ton)",{"$f":"_xlfn.XLOOKUP(Fuel_Short[[#This Row],[Opslag Energiedrager A4]],RWS_[Environmental Profile],RWS_[Fuctional Unit],\"\",0)","v":"ton"},{"$f":"Fuel_Short[[#This Row],[Unit A1-A3]]=Fuel_Short[[#This Row],[Unit A4]]","v":true}]
["Ammoniak, Synthetisch (H2 wind mix)","Brandstof","AMMO-S","Energiedragers","*RWS Energiedrager Ammoniak Syntethisch (A1-A3)",{"$f":"_xlfn.XLOOKUP(Fuel_Short[[#This Row],[Winning Energiedrager A1-A3]],RWS_[Environmental Profile],RWS_[Fuctional Unit],\"\",0)","v":"ton"},"*RWS Energiedrager Ammoniak (A4)",{"$f":"_xlfn.XLOOKUP(Fuel_Short[[#This Row],[Opslag Energiedrager A4]],RWS_[Environmental Profile],RWS_[Fuctional Unit],\"\",0)","v":"ton"},{"$f":"Fuel_Short[[#This Row],[Unit A1-A3]]=Fuel_Short[[#This Row],[Unit A4]]","v":true}]
["Waterstof, Gas, SMR, Groene Mix","Brandstof","WSGS-GREEN","Energiedragers","*RWS Energiedrager Waterstof, Gas, SMR groene mix (A1-A3) (o.b.v. NMD kaart Waterstof, Steam methane reforming (SMR), groene mix)",{"$f":"_xlfn.XLOOKUP(Fuel_Short[[#This Row],[Winning Energiedrager A1-A3]],RWS_[Environmental Profile],RWS_[Fuctional Unit],\"\",0)","v":"ton"},"*RWS Energiedrager Waterstof, Gas, (A4) groene mix",{"$f":"_xlfn.XLOOKUP(Fuel_Short[[#This Row],[Opslag Energiedrager A4]],RWS_[Environmental Profile],RWS_[Fuctional Unit],\"\",0)","v":"ton"},{"$f":"Fuel_Short[[#This Row],[Unit A1-A3]]=Fuel_Short[[#This Row],[Unit A4]]","v":true}]
["Waterstof, Vloeibaar, SMR, Groene Mix","Brandstof","WSVS-GREEN","Energiedragers","*RWS Energiedrager Waterstof, Vloeibaar, SMR groene mix (A1-A3) (o.b.v. NMD kaart Waterstof, Steam methane reforming (SMR), groene mix)",{"$f":"_xlfn.XLOOKUP(Fuel_Short[[#This Row],[Winning Energiedrager A1-A3]],RWS_[Environmental Profile],RWS_[Fuctional Unit],\"\",0)","v":"ton"},"*RWS Energiedrager Waterstof, Vloeibaar (A4), groene mix",{"$f":"_xlfn.XLOOKUP(Fuel_Short[[#This Row],[Opslag Energiedrager A4]],RWS_[Environmental Profile],RWS_[Fuctional Unit],\"\",0)","v":"ton"},{"$f":"Fuel_Short[[#This Row],[Unit A1-A3]]=Fuel_Short[[#This Row],[Unit A4]]","v":true}]
["Elektriciteit, Uit Dieselmotor","Brandstof","E-Diesel","Energiedragers","Test Placeholder",{"$f":"_xlfn.XLOOKUP(Fuel_Short[[#This Row],[Winning Energiedrager A1-A3]],RWS_[Environmental Profile],RWS_[Fuctional Unit],\"\",0)","v":"ton"},"Test Placeholder",{"$f":"_xlfn.XLOOKUP(Fuel_Short[[#This Row],[Opslag Energiedrager A4]],RWS_[Environmental Profile],RWS_[Fuctional Unit],\"\",0)","v":"ton"},{"$f":"Fuel_Short[[#This Row],[Unit A1-A3]]=Fuel_Short[[#This Row],[Unit A4]]","v":true}]
[]
[]
["Brandstof","MotCel2","Short","Division","Gebruiksprofiel Basis B1","Unit","Kapitaalgoed Motor (B1)","Type","MJ Arbeid (Zoet)","MJ Arbeid (Zout)","Afkap_Zoet","Afkap_Zout","AdBlue (Zoet)","AdBlue (Zout)","VM / EA Zoet","VM / EA Zout"]
["Ammoniak","Brandstofcel","AM-BC","Gebruiksprofiel","*RWS Gebruiksprofiel Ammoniak (Verbrandingsemissies/Brandstofcel emissies) (zonder PM en NOx) (B1)",{"$f":"_xlfn.XLOOKUP(Emi_Short[[#This Row],[Gebruiksprofiel Basis B1]],RWS_[Environmental Profile],RWS_[Fuctional Unit],\"\",0)","v":"ton"},"*RWS Kapitaalgoederen aandrijving elektrisch schip (100 kW) (inlusief EOL en reD)","Brandstofcel",{"$f":"_xlfn.XLOOKUP(Emi_Short[[#This Row],[Type]]&Emi_Short[[#This Row],[Brandstof]],MJ_Arbeid_Zoet[Type Motor]&MJ_Arbeid_Zoet[Energiedrager],MJ_Arbeid_Zoet[MJ Arbeid (Geleverd)],\"Not Found\",0)","v":8742},{"$f":"_xlfn.XLOOKUP(Emi_Short[[#This Row],[Type]]&Emi_Short[[#This Row],[Brandstof]],MJ_Arbeid_Zout[Type Motor]&MJ_Arbeid_Zout[Energiedrager],MJ_Arbeid_Zout[MJ Arbeid (Geleverd)],\"Not Found\",0)","v":8742},{"$f":"_xlfn.XLOOKUP(Emi_Short[[#This Row],[Type]]&Emi_Short[[#This Row],[Brandstof]],MJ_Arbeid_Zoet[Type Motor]&MJ_Arbeid_Zoet[Energiedrager],MJ_Arbeid_Zoet[AfKap Casco],\"Not Found\",0)","v":0.50707656612528995},{"$f":"_xlfn.XLOOKUP(Emi_Short[[#This Row],[Type]]&Emi_Short[[#This Row],[Brandstof]],MJ_Arbeid_Zout[Type Motor]&MJ_Arbeid_Zout[Energiedrager],MJ_Arbeid_Zout[AfKap Casco],\"Not Found\",0)","v":0.45602503912363068},{"$f":"IF(OR(Emi_Short[[#This Row],[MotCel2]]=\"TIER III\",Emi_Short[[#This Row],[MotCel2]]=\"Stage V IWP/IWA\",Emi_Short[[#This Row],[MotCel2]]=\"Stage V NRE\"),(_xlfn.XLOOKUP(Emi_Short[[#This Row],[Type]]&Emi_Short[[#This Row],[Brandstof]],MJ_Arbeid_Zoet[Type Motor]&MJ_Arbeid_Zoet[Energiedrager],MJ_Arbeid_Zoet[AdBlue (A1-A3) - Zoet],\"Not Found\",0)),0)","v":0},{"$f":"IF(OR(Emi_Short[[#This Row],[MotCel2]]=\"TIER III\",Emi_Short[[#This Row],[MotCel2]]=\"Stage V IWP/IWA\",Emi_Short[[#This Row],[MotCel2]]=\"Stage V NRE\",Emi_Short[[#This Row],[MotCel2]]=\"ULEV (Stage V IWP/IWA)\"),(_xlfn.XLOOKUP(Emi_Short[[#This Row],[Type]]&Emi_Short[[#This Row],[Brandstof]],MJ_Arbeid_Zout[Type Motor]&MJ_Arbeid_Zout[Energiedrager],MJ_Arbeid_Zout[AdBlue (A1-A3) - Zout],\"Not Found\",0)),0)","v":0},{"$f":"_xlfn.XLOOKUP(Emi_Short[[#This Row],[Type]]&Emi_Short[[#This Row],[Brandstof]],MJ_Arbeid_Zoet[Type Motor]&MJ_Arbeid_Zoet[Energiedrager],MJ_Arbeid_Zoet[VM / EA Zoet],\"Not Found\",0)","v":7.1869119608308806E-4},{"$f":"_xlfn.XLOOKUP(Emi_Short[[#This Row],[Type]]&Emi_Short[[#This Row],[Brandstof]],MJ_Arbeid_Zout[Type Motor]&MJ_Arbeid_Zout[Energiedrager],MJ_Arbeid_Zout[VM / EA Zout],\"Not Found\",0)","v":4.5697554826401983E-4}]
["Ammoniak","TIER III","AM-TIII","Gebruiksprofiel","*RWS Gebruiksprofiel Ammoniak (Verbrandingsemissies/Brandstofcel emissies) (zonder PM en NOx) (B1)",{"$f":"_xlfn.XLOOKUP(Emi_Short[[#This Row],[Gebruiksprofiel Basis B1]],RWS_[Environmental Profile],RWS_[Fuctional Unit],\"\",0)","v":"ton"},"*RWS Kapitaalgoederen Verbrandingsmotor (1000 kg o.b.v. Marine engine {GLO}| marine engine construction | Cut-off, U) (inlcusief reD)","Verbrandingsmotor",{"$f":"_xlfn.XLOOKUP(Emi_Short[[#This Row],[Type]]&Emi_Short[[#This Row],[Brandstof]],MJ_Arbeid_Zoet[Type Motor]&MJ_Arbeid_Zoet[Energiedrager],MJ_Arbeid_Zoet[MJ Arbeid (Geleverd)],\"Not Found\",0)","v":7440},{"$f":"_xlfn.XLOOKUP(Emi_Short[[#This Row],[Type]]&Emi_Short[[#This Row],[Brandstof]],MJ_Arbeid_Zout[Type Motor]&MJ_Arbeid_Zout[Energiedrager],MJ_Arbeid_Zout[MJ Arbeid (Geleverd)],\"Not Found\",0)","v":8370.0000000000018},{"$f":"_xlfn.XLOOKUP(Emi_Short[[#This Row],[Type]]&Emi_Short[[#This Row],[Brandstof]],MJ_Arbeid_Zoet[Type Motor]&MJ_Arbeid_Zoet[Energiedrager],MJ_Arbeid_Zoet[AfKap Casco],\"Not Found\",0)","v":0.43155452436194891},{"$f":"_xlfn.XLOOKUP(Emi_Short[[#This Row],[Type]]&Emi_Short[[#This Row],[Brandstof]],MJ_Arbeid_Zout[Type Motor]&MJ_Arbeid_Zout[Energiedrager],MJ_Arbeid_Zout[AfKap Casco],\"Not Found\",0)","v":0.43661971830985924},{"$f":"IF(OR(Emi_Short[[#This Row],[MotCel2]]=\"TIER III\",Emi_Short[[#This Row],[MotCel2]]=\"Stage V IWP/IWA\",Emi_Short[[#This Row],[MotCel2]]=\"Stage V NRE\"),(_xlfn.XLOOKUP(Emi_Short[[#This Row],[Type]]&Emi_Short[[#This Row],[Brandstof]],MJ_Arbeid_Zoet[Type Motor]&MJ_Arbeid_Zoet[Energiedrager],MJ_Arbeid_Zoet[AdBlue (A1-A3) - Zoet],\"Not Found\",0)),0)","v":28.761656701766906},{"$f":"IF(OR(Emi_Short[[#This Row],[MotCel2]]=\"TIER III\",Emi_Short[[#This Row],[MotCel2]]=\"Stage V IWP/IWA\",Emi_Short[[#This Row],[MotCel2]]=\"Stage V NRE\",Emi_Short[[#This Row],[MotCel2]]=\"ULEV (Stage V IWP/IWA)\"),(_xlfn.XLOOKUP(Emi_Short[[#This Row],[Type]]&Emi_Short[[#This Row],[Brandstof]],MJ_Arbeid_Zout[Type Motor]&MJ_Arbeid_Zout[Energiedrager],MJ_Arbeid_Zout[AdBlue (A1-A3) - Zout],\"Not Found\",0)),0)","v":28.761656701766906},{"$f":"_xlfn.XLOOKUP(Emi_Short[[#This Row],[Type]]&Emi_Short[[#This Row],[Brandstof]],MJ_Arbeid_Zoet[Type Motor]&MJ_Arbeid_Zoet[Energiedrager],MJ_Arbeid_Zoet[VM / EA Zoet],\"Not Found\",0)","v":6.7961342419204545E-4},{"$f":"_xlfn.XLOOKUP(Emi_Short[[#This Row],[Type]]&Emi_Short[[#This Row],[Brandstof]],MJ_Arbeid_Zout[Type Motor]&MJ_Arbeid_Zout[Energiedrager],MJ_Arbeid_Zout[VM / EA Zout],\"Not Found\",0)","v":4.8614420028087228E-4}]
["Ammoniak","ULEV (Stage V IWP/IWA)","AM-ULEV","Gebruiksprofiel","*RWS Gebruiksprofiel Ammoniak (Verbrandingsemissies/Brandstofcel emissies) (zonder PM en NOx) (B1)",{"$f":"_xlfn.XLOOKUP(Emi_Short[[#This Row],[Gebruiksprofiel Basis B1]],RWS_[Environmental Profile],RWS_[Fuctional Unit],\"\",0)","v":"ton"},"*RWS Kapitaalgoederen Verbrandingsmotor (1000 kg o.b.v. Marine engine {GLO}| marine engine construction | Cut-off, U) (inlcusief reD)","Verbrandingsmotor",{"$f":"_xlfn.XLOOKUP(Emi_Short[[#This Row],[Type]]&Emi_Short[[#This Row],[Brandstof]],MJ_Arbeid_Zoet[Type Motor]&MJ_Arbeid_Zoet[Energiedrager],MJ_Arbeid_Zoet[MJ Arbeid (Geleverd)],\"Not Found\",0)","v":7440},{"$f":"_xlfn.XLOOKUP(Emi_Short[[#This Row],[Type]]&Emi_Short[[#This Row],[Brandstof]],MJ_Arbeid_Zout[Type Motor]&MJ_Arbeid_Zout[Energiedrager],MJ_Arbeid_Zout[MJ Arbeid (Geleverd)],\"Not Found\",0)","v":8370.0000000000018},{"$f":"_xlfn.XLOOKUP(Emi_Short[[#This Row],[Type]]&Emi_Short[[#This Row],[Brandstof]],MJ_Arbeid_Zoet[Type Motor]&MJ_Arbeid_Zoet[Energiedrager],MJ_Arbeid_Zoet[AfKap Casco],\"Not Found\",0)","v":0.43155452436194891},{"$f":"_xlfn.XLOOKUP(Emi_Short[[#This Row],[Type]]&Emi_Short[[#This Row],[Brandstof]],MJ_Arbeid_Zout[Type Motor]&MJ_Arbeid_Zout[Energiedrager],MJ_Arbeid_Zout[AfKap Casco],\"Not Found\",0)","v":0.43661971830985924},{"$f":"IF(OR(Emi_Short[[#This Row],[MotCel2]]=\"TIER III\",Emi_Short[[#This Row],[MotCel2]]=\"Stage V IWP/IWA\",Emi_Short[[#This Row],[MotCel2]]=\"Stage V NRE\"),(_xlfn.XLOOKUP(Emi_Short[[#This Row],[Type]]&Emi_Short[[#This Row],[Brandstof]],MJ_Arbeid_Zoet[Type Motor]&MJ_Arbeid_Zoet[Energiedrager],MJ_Arbeid_Zoet[AdBlue (A1-A3) - Zoet],\"Not Found\",0)),0)","v":0},{"$f":"IF(OR(Emi_Short[[#This Row],[MotCel2]]=\"TIER III\",Emi_Short[[#This Row],[MotCel2]]=\"Stage V IWP/IWA\",Emi_Short[[#This Row],[MotCel2]]=\"Stage V NRE\",Emi_Short[[#This Row],[MotCel2]]=\"ULEV (Stage V IWP/IWA)\"),(_xlfn.XLOOKUP(Emi_Short[[#This Row],[Type]]&Emi_Short[[#This Row],[Brandstof]],MJ_Arbeid_Zout[Type Motor]&MJ_Arbeid_Zout[Energiedrager],MJ_Arbeid_Zout[AdBlue (A1-A3) - Zout],\"Not Found\",0)),0)","v":28.761656701766906},{"$f":"_xlfn.XLOOKUP(Emi_Short[[#This Row],[Type]]&Emi_Short[[#This Row],[Brandstof]],MJ_Arbeid_Zoet[Type Motor]&MJ_Arbeid_Zoet[Energiedrager],MJ_Arbeid_Zoet[VM / EA Zoet],\"Not Found\",0)","v":6.7961342419204545E-4},{"$f":"_xlfn.XLOOKUP(Emi_Short[[#This Row],[Type]]&Emi_Short[[#This Row],[Brandstof]],MJ_Arbeid_Zout[Type Motor]&MJ_Arbeid_Zout[Energiedrager],MJ_Arbeid_Zout[VM / EA Zout],\"Not Found\",0)","v":4.8614420028087228E-4}]
["Bio-CNG","TIER II / III / ULEV","BCNG-ULEV","Gebruiksprofiel","*RWS Gebruiksprofiel Bio-LNG/Bio-CNG (verbrandingsemissies) (zonder PM en NOx) (B1)",{"$f":"_xlfn.XLOOKUP(Emi_Short[[#This Row],[Gebruiksprofiel Basis B1]],RWS_[Environmental Profile],RWS_[Fuctional Unit],\"\",0)","v":"ton"},"*RWS Kapitaalgoederen Verbrandingsmotor (1000 kg o.b.v. Marine engine {GLO}| marine engine construction | Cut-off, U) (inlcusief reD)","Verbrandingsmotor",{"$f":"_xlfn.XLOOKUP(Emi_Short[[#This Row],[Type]]&Emi_Short[[#This Row],[Brandstof]],MJ_Arbeid_Zoet[Type Motor]&MJ_Arbeid_Zoet[Energiedrager],MJ_Arbeid_Zoet[MJ Arbeid (Geleverd)],\"Not Found\",0)","v":18520},{"$f":"_xlfn.XLOOKUP(Emi_Short[[#This Row],[Type]]&Emi_Short[[#This Row],[Brandstof]],MJ_Arbeid_Zout[Type Motor]&MJ_Arbeid_Zout[Energiedrager],MJ_Arbeid_Zout[MJ Arbeid (Geleverd)],\"Not Found\",0)","v":20835},{"$f":"_xlfn.XLOOKUP(Emi_Short[[#This Row],[Type]]&Emi_Short[[#This Row],[Brandstof]],MJ_Arbeid_Zoet[Type Motor]&MJ_Arbeid_Zoet[Energiedrager],MJ_Arbeid_Zoet[AfKap Casco],\"Not Found\",0)","v":1.0742459396751738},{"$f":"_xlfn.XLOOKUP(Emi_Short[[#This Row],[Type]]&Emi_Short[[#This Row],[Brandstof]],MJ_Arbeid_Zout[Type Motor]&MJ_Arbeid_Zout[Energiedrager],MJ_Arbeid_Zout[AfKap Casco],\"Not Found\",0)","v":1.0868544600938967},{"$f":"IF(OR(Emi_Short[[#This Row],[MotCel2]]=\"TIER III\",Emi_Short[[#This Row],[MotCel2]]=\"Stage V IWP/IWA\",Emi_Short[[#This Row],[MotCel2]]=\"Stage V NRE\"),(_xlfn.XLOOKUP(Emi_Short[[#This Row],[Type]]&Emi_Short[[#This Row],[Brandstof]],MJ_Arbeid_Zoet[Type Motor]&MJ_Arbeid_Zoet[Energiedrager],MJ_Arbeid_Zoet[AdBlue (A1-A3) - Zoet],\"Not Found\",0)),0)","v":0},{"$f":"IF(OR(Emi_Short[[#This Row],[MotCel2]]=\"TIER III\",Emi_Short[[#This Row],[MotCel2]]=\"Stage V IWP/IWA\",Emi_Short[[#This Row],[MotCel2]]=\"Stage V NRE\",Emi_Short[[#This Row],[MotCel2]]=\"ULEV (Stage V IWP/IWA)\"),(_xlfn.XLOOKUP(Emi_Short[[#This Row],[Type]]&Emi_Short[[#This Row],[Brandstof]],MJ_Arbeid_Zout[Type Motor]&MJ_Arbeid_Zout[Energiedrager],MJ_Arbeid_Zout[AdBlue (A1-A3) - Zout],\"Not Found\",0)),0)","v":0},{"$f":"_xlfn.XLOOKUP(Emi_Short[[#This Row],[Type]]&Emi_Short[[#This Row],[Brandstof]],MJ_Arbeid_Zoet[Type Motor]&MJ_Arbeid_Zoet[Energiedrager],MJ_Arbeid_Zoet[VM / EA Zoet],\"Not Found\",0)","v":1.691725889252242E-3},{"$f":"_xlfn.XLOOKUP(Emi_Short[[#This Row],[Type]]&Emi_Short[[#This Row],[Brandstof]],MJ_Arbeid_Zout[Type Motor]&MJ_Arbeid_Zout[Energiedrager],MJ_Arbeid_Zout[VM / EA Zout],\"Not Found\",0)","v":1.2101331437099131E-3}]
["Bio-CNG","CCR II","BCNG-CII","Gebruiksprofiel","*RWS Gebruiksprofiel Bio-LNG/Bio-CNG (verbrandingsemissies) (zonder PM en NOx) (B1)",{"$f":"_xlfn.XLOOKUP(Emi_Short[[#This Row],[Gebruiksprofiel Basis B1]],RWS_[Environmental Profile],RWS_[Fuctional Unit],\"\",0)","v":"ton"},"*RWS Kapitaalgoederen Verbrandingsmotor (1000 kg o.b.v. Marine engine {GLO}| marine engine construction | Cut-off, U) (inlcusief reD)","Verbrandingsmotor",{"$f":"_xlfn.XLOOKUP(Emi_Short[[#This Row],[Type]]&Emi_Short[[#This Row],[Brandstof]],MJ_Arbeid_Zoet[Type Motor]&MJ_Arbeid_Zoet[Energiedrager],MJ_Arbeid_Zoet[MJ Arbeid (Geleverd)],\"Not Found\",0)","v":18520},{"$f":"_xlfn.XLOOKUP(Emi_Short[[#This Row],[Type]]&Emi_Short[[#This Row],[Brandstof]],MJ_Arbeid_Zout[Type Motor]&MJ_Arbeid_Zout[Energiedrager],MJ_Arbeid_Zout[MJ Arbeid (Geleverd)],\"Not Found\",0)","v":20835},{"$f":"_xlfn.XLOOKUP(Emi_Short[[#This Row],[Type]]&Emi_Short[[#This Row],[Brandstof]],MJ_Arbeid_Zoet[Type Motor]&MJ_Arbeid_Zoet[Energiedrager],MJ_Arbeid_Zoet[AfKap Casco],\"Not Found\",0)","v":1.0742459396751738},{"$f":"_xlfn.XLOOKUP(Emi_Short[[#This Row],[Type]]&Emi_Short[[#This Row],[Brandstof]],MJ_Arbeid_Zout[Type Motor]&MJ_Arbeid_Zout[Energiedrager],MJ_Arbeid_Zout[AfKap Casco],\"Not Found\",0)","v":1.0868544600938967},{"$f":"IF(OR(Emi_Short[[#This Row],[MotCel2]]=\"TIER III\",Emi_Short[[#This Row],[MotCel2]]=\"Stage V IWP/IWA\",Emi_Short[[#This Row],[MotCel2]]=\"Stage V NRE\"),(_xlfn.XLOOKUP(Emi_Short[[#This Row],[Type]]&Emi_Short[[#This Row],[Brandstof]],MJ_Arbeid_Zoet[Type Motor]&MJ_Arbeid_Zoet[Energiedrager],MJ_Arbeid_Zoet[AdBlue (A1-A3) - Zoet],\"Not Found\",0)),0)","v":0},{"$f":"IF(OR(Emi_Short[[#This Row],[MotCel2]]=\"TIER III\",Emi_Short[[#This Row],[MotCel2]]=\"Stage V IWP/IWA\",Emi_Short[[#This Row],[MotCel2]]=\"Stage V NRE\",Emi_Short[[#This Row],[MotCel2]]=\"ULEV (Stage V IWP/IWA)\"),(_xlfn.XLOOKUP(Emi_Short[[#This Row],[Type]]&Emi_Short[[#This Row],[Brandstof]],MJ_Arbeid_Zout[Type Motor]&MJ_Arbeid_Zout[Energiedrager],MJ_Arbeid_Zout[AdBlue (A1-A3) - Zout],\"Not Found\",0)),0)","v":0},{"$f":"_xlfn.XLOOKUP(Emi_Short[[#This Row],[Type]]&Emi_Short[[#This Row],[Brandstof]],MJ_Arbeid_Zoet[Type Motor]&MJ_Arbeid_Zoet[Energiedrager],MJ_Arbeid_Zoet[VM / EA Zoet],\"Not Found\",0)","v":1.691725889252242E-3},{"$f":"_xlfn.XLOOKUP(Emi_Short[[#This Row],[Type]]&Emi_Short[[#This Row],[Brandstof]],MJ_Arbeid_Zout[Type Motor]&MJ_Arbeid_Zout[Energiedrager],MJ_Arbeid_Zout[VM / EA Zout],\"Not Found\",0)","v":1.2101331437099131E-3}]
["Bio-CNG","Stage V IWP/IWA","BCNG-SV-I","Gebruiksprofiel","*RWS Gebruiksprofiel Bio-LNG/Bio-CNG (verbrandingsemissies) (zonder PM en NOx) (B1)",{"$f":"_xlfn.XLOOKUP(Emi_Short[[#This Row],[Gebruiksprofiel Basis B1]],RWS_[Environmental Profile],RWS_[Fuctional Unit],\"\",0)","v":"ton"},"*RWS Kapitaalgoederen Verbrandingsmotor (1000 kg o.b.v. Marine engine {GLO}| marine engine construction | Cut-off, U) (inlcusief reD)","Verbrandingsmotor",{"$f":"_xlfn.XLOOKUP(Emi_Short[[#This Row],[Type]]&Emi_Short[[#This Row],[Brandstof]],MJ_Arbeid_Zoet[Type Motor]&MJ_Arbeid_Zoet[Energiedrager],MJ_Arbeid_Zoet[MJ Arbeid (Geleverd)],\"Not Found\",0)","v":18520},{"$f":"_xlfn.XLOOKUP(Emi_Short[[#This Row],[Type]]&Emi_Short[[#This Row],[Brandstof]],MJ_Arbeid_Zout[Type Motor]&MJ_Arbeid_Zout[Energiedrager],MJ_Arbeid_Zout[MJ Arbeid (Geleverd)],\"Not Found\",0)","v":20835},{"$f":"_xlfn.XLOOKUP(Emi_Short[[#This Row],[Type]]&Emi_Short[[#This Row],[Brandstof]],MJ_Arbeid_Zoet[Type Motor]&MJ_Arbeid_Zoet[Energiedrager],MJ_Arbeid_Zoet[AfKap Casco],\"Not Found\",0)","v":1.0742459396751738},{"$f":"_xlfn.XLOOKUP(Emi_Short[[#This Row],[Type]]&Emi_Short[[#This Row],[Brandstof]],MJ_Arbeid_Zout[Type Motor]&MJ_Arbeid_Zout[Energiedrager],MJ_Arbeid_Zout[AfKap Casco],\"Not Found\",0)","v":1.0868544600938967},{"$f":"IF(OR(Emi_Short[[#This Row],[MotCel2]]=\"TIER III\",Emi_Short[[#This Row],[MotCel2]]=\"Stage V IWP/IWA\",Emi_Short[[#This Row],[MotCel2]]=\"Stage V NRE\"),(_xlfn.XLOOKUP(Emi_Short[[#This Row],[Type]]&Emi_Short[[#This Row],[Brandstof]],MJ_Arbeid_Zoet[Type Motor]&MJ_Arbeid_Zoet[Energiedrager],MJ_Arbeid_Zoet[AdBlue (A1-A3) - Zoet],\"Not Found\",0)),0)","v":71.594876628591805},{"$f":"IF(OR(Emi_Short[[#This Row],[MotCel2]]=\"TIER III\",Emi_Short[[#This Row],[MotCel2]]=\"Stage V IWP/IWA\",Emi_Short[[#This Row],[MotCel2]]=\"Stage V NRE\",Emi_Short[[#This Row],[MotCel2]]=\"ULEV (Stage V IWP/IWA)\"),(_xlfn.XLOOKUP(Emi_Short[[#This Row],[Type]]&Emi_Short[[#This Row],[Brandstof]],MJ_Arbeid_Zout[Type Motor]&MJ_Arbeid_Zout[Energiedrager],MJ_Arbeid_Zout[AdBlue (A1-A3) - Zout],\"Not Found\",0)),0)","v":0},{"$f":"_xlfn.XLOOKUP(Emi_Short[[#This Row],[Type]]&Emi_Short[[#This Row],[Brandstof]],MJ_Arbeid_Zoet[Type Motor]&MJ_Arbeid_Zoet[Energiedrager],MJ_Arbeid_Zoet[VM / EA Zoet],\"Not Found\",0)","v":1.691725889252242E-3},{"$f":"_xlfn.XLOOKUP(Emi_Short[[#This Row],[Type]]&Emi_Short[[#This Row],[Brandstof]],MJ_Arbeid_Zout[Type Motor]&MJ_Arbeid_Zout[Energiedrager],MJ_Arbeid_Zout[VM / EA Zout],\"Not Found\",0)","v":1.2101331437099131E-3}]
["Bio-CNG","Stage V NRE","BCNG-SV-N","Gebruiksprofiel","*RWS Gebruiksprofiel Bio-LNG/Bio-CNG (verbrandingsemissies) (zonder PM en NOx) (B1)",{"$f":"_xlfn.XLOOKUP(Emi_Short[[#This Row],[Gebruiksprofiel Basis B1]],RWS_[Environmental Profile],RWS_[Fuctional Unit],\"\",0)","v":"ton"},"*RWS Kapitaalgoederen Verbrandingsmotor (1000 kg o.b.v. Marine engine {GLO}| marine engine construction | Cut-off, U) (inlcusief reD)","Verbrandingsmotor",{"$f":"_xlfn.XLOOKUP(Emi_Short[[#This Row],[Type]]&Emi_Short[[#This Row],[Brandstof]],MJ_Arbeid_Zoet[Type Motor]&MJ_Arbeid_Zoet[Energiedrager],MJ_Arbeid_Zoet[MJ Arbeid (Geleverd)],\"Not Found\",0)","v":18520},{"$f":"_xlfn.XLOOKUP(Emi_Short[[#This Row],[Type]]&Emi_Short[[#This Row],[Brandstof]],MJ_Arbeid_Zout[Type Motor]&MJ_Arbeid_Zout[Energiedrager],MJ_Arbeid_Zout[MJ Arbeid (Geleverd)],\"Not Found\",0)","v":20835},{"$f":"_xlfn.XLOOKUP(Emi_Short[[#This Row],[Type]]&Emi_Short[[#This Row],[Brandstof]],MJ_Arbeid_Zoet[Type Motor]&MJ_Arbeid_Zoet[Energiedrager],MJ_Arbeid_Zoet[AfKap Casco],\"Not Found\",0)","v":1.0742459396751738},{"$f":"_xlfn.XLOOKUP(Emi_Short[[#This Row],[Type]]&Emi_Short[[#This Row],[Brandstof]],MJ_Arbeid_Zout[Type Motor]&MJ_Arbeid_Zout[Energiedrager],MJ_Arbeid_Zout[AfKap Casco],\"Not Found\",0)","v":1.0868544600938967},{"$f":"IF(OR(Emi_Short[[#This Row],[MotCel2]]=\"TIER III\",Emi_Short[[#This Row],[MotCel2]]=\"Stage V IWP/IWA\",Emi_Short[[#This Row],[MotCel2]]=\"Stage V NRE\"),(_xlfn.XLOOKUP(Emi_Short[[#This Row],[Type]]&Emi_Short[[#This Row],[Brandstof]],MJ_Arbeid_Zoet[Type Motor]&MJ_Arbeid_Zoet[Energiedrager],MJ_Arbeid_Zoet[AdBlue (A1-A3) - Zoet],\"Not Found\",0)),0)","v":71.594876628591805},{"$f":"IF(OR(Emi_Short[[#This Row],[MotCel2]]=\"TIER III\",Emi_Short[[#This Row],[MotCel2]]=\"Stage V IWP/IWA\",Emi_Short[[#This Row],[MotCel2]]=\"Stage V NRE\",Emi_Short[[#This Row],[MotCel2]]=\"ULEV (Stage V IWP/IWA)\"),(_xlfn.XLOOKUP(Emi_Short[[#This Row],[Type]]&Emi_Short[[#This Row],[Brandstof]],MJ_Arbeid_Zout[Type Motor]&MJ_Arbeid_Zout[Energiedrager],MJ_Arbeid_Zout[AdBlue (A1-A3) - Zout],\"Not Found\",0)),0)","v":0},{"$f":"_xlfn.XLOOKUP(Emi_Short[[#This Row],[Type]]&Emi_Short[[#This Row],[Brandstof]],MJ_Arbeid_Zoet[Type Motor]&MJ_Arbeid_Zoet[Energiedrager],MJ_Arbeid_Zoet[VM / EA Zoet],\"Not Found\",0)","v":1.691725889252242E-3},{"$f":"_xlfn.XLOOKUP(Emi_Short[[#This Row],[Type]]&Emi_Short[[#This Row],[Brandstof]],MJ_Arbeid_Zout[Type Motor]&MJ_Arbeid_Zout[Energiedrager],MJ_Arbeid_Zout[VM / EA Zout],\"Not Found\",0)","v":1.2101331437099131E-3}]
["Bio-LNG","TIER II / III / ULEV","BLNG-ULEV","Gebruiksprofiel","*RWS Gebruiksprofiel Bio-LNG/Bio-CNG (verbrandingsemissies) (zonder PM en NOx) (B1)",{"$f":"_xlfn.XLOOKUP(Emi_Short[[#This Row],[Gebruiksprofiel Basis B1]],RWS_[Environmental Profile],RWS_[Fuctional Unit],\"\",0)","v":"ton"},"*RWS Kapitaalgoederen Verbrandingsmotor (1000 kg o.b.v. Marine engine {GLO}| marine engine construction | Cut-off, U) (inlcusief reD)","Verbrandingsmotor",{"$f":"_xlfn.XLOOKUP(Emi_Short[[#This Row],[Type]]&Emi_Short[[#This Row],[Brandstof]],MJ_Arbeid_Zoet[Type Motor]&MJ_Arbeid_Zoet[Energiedrager],MJ_Arbeid_Zoet[MJ Arbeid (Geleverd)],\"Not Found\",0)","v":19600},{"$f":"_xlfn.XLOOKUP(Emi_Short[[#This Row],[Type]]&Emi_Short[[#This Row],[Brandstof]],MJ_Arbeid_Zout[Type Motor]&MJ_Arbeid_Zout[Energiedrager],MJ_Arbeid_Zout[MJ Arbeid (Geleverd)],\"Not Found\",0)","v":22050},{"$f":"_xlfn.XLOOKUP(Emi_Short[[#This Row],[Type]]&Emi_Short[[#This Row],[Brandstof]],MJ_Arbeid_Zoet[Type Motor]&MJ_Arbeid_Zoet[Energiedrager],MJ_Arbeid_Zoet[AfKap Casco],\"Not Found\",0)","v":1.1368909512761018},{"$f":"_xlfn.XLOOKUP(Emi_Short[[#This Row],[Type]]&Emi_Short[[#This Row],[Brandstof]],MJ_Arbeid_Zout[Type Motor]&MJ_Arbeid_Zout[Energiedrager],MJ_Arbeid_Zout[AfKap Casco],\"Not Found\",0)","v":1.1502347417840375},{"$f":"IF(OR(Emi_Short[[#This Row],[MotCel2]]=\"TIER III\",Emi_Short[[#This Row],[MotCel2]]=\"Stage V IWP/IWA\",Emi_Short[[#This Row],[MotCel2]]=\"Stage V NRE\"),(_xlfn.XLOOKUP(Emi_Short[[#This Row],[Type]]&Emi_Short[[#This Row],[Brandstof]],MJ_Arbeid_Zoet[Type Motor]&MJ_Arbeid_Zoet[Energiedrager],MJ_Arbeid_Zoet[AdBlue (A1-A3) - Zoet],\"Not Found\",0)),0)","v":0},{"$f":"IF(OR(Emi_Short[[#This Row],[MotCel2]]=\"TIER III\",Emi_Short[[#This Row],[MotCel2]]=\"Stage V IWP/IWA\",Emi_Short[[#This Row],[MotCel2]]=\"Stage V NRE\",Emi_Short[[#This Row],[MotCel2]]=\"ULEV (Stage V IWP/IWA)\"),(_xlfn.XLOOKUP(Emi_Short[[#This Row],[Type]]&Emi_Short[[#This Row],[Brandstof]],MJ_Arbeid_Zout[Type Motor]&MJ_Arbeid_Zout[Energiedrager],MJ_Arbeid_Zout[AdBlue (A1-A3) - Zout],\"Not Found\",0)),0)","v":0},{"$f":"_xlfn.XLOOKUP(Emi_Short[[#This Row],[Type]]&Emi_Short[[#This Row],[Brandstof]],MJ_Arbeid_Zoet[Type Motor]&MJ_Arbeid_Zoet[Energiedrager],MJ_Arbeid_Zoet[VM / EA Zoet],\"Not Found\",0)","v":1.7903794508285068E-3},{"$f":"_xlfn.XLOOKUP(Emi_Short[[#This Row],[Type]]&Emi_Short[[#This Row],[Brandstof]],MJ_Arbeid_Zout[Type Motor]&MJ_Arbeid_Zout[Energiedrager],MJ_Arbeid_Zout[VM / EA Zout],\"Not Found\",0)","v":1.2807024631055234E-3}]
["Bio-LNG","CCR II","BLNG-CII","Gebruiksprofiel","*RWS Gebruiksprofiel Bio-LNG/Bio-CNG (verbrandingsemissies) (zonder PM en NOx) (B1)",{"$f":"_xlfn.XLOOKUP(Emi_Short[[#This Row],[Gebruiksprofiel Basis B1]],RWS_[Environmental Profile],RWS_[Fuctional Unit],\"\",0)","v":"ton"},"*RWS Kapitaalgoederen Verbrandingsmotor (1000 kg o.b.v. Marine engine {GLO}| marine engine construction | Cut-off, U) (inlcusief reD)","Verbrandingsmotor",{"$f":"_xlfn.XLOOKUP(Emi_Short[[#This Row],[Type]]&Emi_Short[[#This Row],[Brandstof]],MJ_Arbeid_Zoet[Type Motor]&MJ_Arbeid_Zoet[Energiedrager],MJ_Arbeid_Zoet[MJ Arbeid (Geleverd)],\"Not Found\",0)","v":19600},{"$f":"_xlfn.XLOOKUP(Emi_Short[[#This Row],[Type]]&Emi_Short[[#This Row],[Brandstof]],MJ_Arbeid_Zout[Type Motor]&MJ_Arbeid_Zout[Energiedrager],MJ_Arbeid_Zout[MJ Arbeid (Geleverd)],\"Not Found\",0)","v":22050},{"$f":"_xlfn.XLOOKUP(Emi_Short[[#This Row],[Type]]&Emi_Short[[#This Row],[Brandstof]],MJ_Arbeid_Zoet[Type Motor]&MJ_Arbeid_Zoet[Energiedrager],MJ_Arbeid_Zoet[AfKap Casco],\"Not Found\",0)","v":1.1368909512761018},{"$f":"_xlfn.XLOOKUP(Emi_Short[[#This Row],[Type]]&Emi_Short[[#This Row],[Brandstof]],MJ_Arbeid_Zout[Type Motor]&MJ_Arbeid_Zout[Energiedrager],MJ_Arbeid_Zout[AfKap Casco],\"Not Found\",0)","v":1.1502347417840375},{"$f":"IF(OR(Emi_Short[[#This Row],[MotCel2]]=\"TIER III\",Emi_Short[[#This Row],[MotCel2]]=\"Stage V IWP/IWA\",Emi_Short[[#This Row],[MotCel2]]=\"Stage V NRE\"),(_xlfn.XLOOKUP(Emi_Short[[#This Row],[Type]]&Emi_Short[[#This Row],[Brandstof]],MJ_Arbeid_Zoet[Type Motor]&MJ_Arbeid_Zoet[Energiedrager],MJ_Arbeid_Zoet[AdBlue (A1-A3) - Zoet],\"Not Found\",0)),0)","v":0},{"$f":"IF(OR(Emi_Short[[#This Row],[MotCel2]]=\"TIER III\",Emi_Short[[#This Row],[MotCel2]]=\"Stage V IWP/IWA\",Emi_Short[[#This Row],[MotCel2]]=\"Stage V NRE\",Emi_Short[[#This Row],[MotCel2]]=\"ULEV (Stage V IWP/IWA)\"),(_xlfn.XLOOKUP(Emi_Short[[#This Row],[Type]]&Emi_Short[[#This Row],[Brandstof]],MJ_Arbeid_Zout[Type Motor]&MJ_Arbeid_Zout[Energiedrager],MJ_Arbeid_Zout[AdBlue (A1-A3) - Zout],\"Not Found\",0)),0)","v":0},{"$f":"_xlfn.XLOOKUP(Emi_Short[[#This Row],[Type]]&Emi_Short[[#This Row],[Brandstof]],MJ_Arbeid_Zoet[Type Motor]&MJ_Arbeid_Zoet[Energiedrager],MJ_Arbeid_Zoet[VM / EA Zoet],\"Not Found\",0)","v":1.7903794508285068E-3},{"$f":"_xlfn.XLOOKUP(Emi_Short[[#This Row],[Type]]&Emi_Short[[#This Row],[Brandstof]],MJ_Arbeid_Zout[Type Motor]&MJ_Arbeid_Zout[Energiedrager],MJ_Arbeid_Zout[VM / EA Zout],\"Not Found\",0)","v":1.2807024631055234E-3}]
["Bio-LNG","Stage V IWP/IWA","BLNG-SV-I","Gebruiksprofiel","*RWS Gebruiksprofiel Bio-LNG/Bio-CNG (verbrandingsemissies) (zonder PM en NOx) (B1)",{"$f":"_xlfn.XLOOKUP(Emi_Short[[#This Row],[Gebruiksprofiel Basis B1]],RWS_[Environmental Profile],RWS_[Fuctional Unit],\"\",0)","v":"ton"},"*RWS Kapitaalgoederen Verbrandingsmotor (1000 kg o.b.v. Marine engine {GLO}| marine engine construction | Cut-off, U) (inlcusief reD)","Verbrandingsmotor",{"$f":"_xlfn.XLOOKUP(Emi_Short[[#This Row],[Type]]&Emi_Short[[#This Row],[Brandstof]],MJ_Arbeid_Zoet[Type Motor]&MJ_Arbeid_Zoet[Energiedrager],MJ_Arbeid_Zoet[MJ Arbeid (Geleverd)],\"Not Found\",0)","v":19600},{"$f":"_xlfn.XLOOKUP(Emi_Short[[#This Row],[Type]]&Emi_Short[[#This Row],[Brandstof]],MJ_Arbeid_Zout[Type Motor]&MJ_Arbeid_Zout[Energiedrager],MJ_Arbeid_Zout[MJ Arbeid (Geleverd)],\"Not Found\",0)","v":22050},{"$f":"_xlfn.XLOOKUP(Emi_Short[[#This Row],[Type]]&Emi_Short[[#This Row],[Brandstof]],MJ_Arbeid_Zoet[Type Motor]&MJ_Arbeid_Zoet[Energiedrager],MJ_Arbeid_Zoet[AfKap Casco],\"Not Found\",0)","v":1.1368909512761018},{"$f":"_xlfn.XLOOKUP(Emi_Short[[#This Row],[Type]]&Emi_Short[[#This Row],[Brandstof]],MJ_Arbeid_Zout[Type Motor]&MJ_Arbeid_Zout[Energiedrager],MJ_Arbeid_Zout[AfKap Casco],\"Not Found\",0)","v":1.1502347417840375},{"$f":"IF(OR(Emi_Short[[#This Row],[MotCel2]]=\"TIER III\",Emi_Short[[#This Row],[MotCel2]]=\"Stage V IWP/IWA\",Emi_Short[[#This Row],[MotCel2]]=\"Stage V NRE\"),(_xlfn.XLOOKUP(Emi_Short[[#This Row],[Type]]&Emi_Short[[#This Row],[Brandstof]],MJ_Arbeid_Zoet[Type Motor]&MJ_Arbeid_Zoet[Energiedrager],MJ_Arbeid_Zoet[AdBlue (A1-A3) - Zoet],\"Not Found\",0)),0)","v":75.769955827235393},{"$f":"IF(OR(Emi_Short[[#This Row],[MotCel2]]=\"TIER III\",Emi_Short[[#This Row],[MotCel2]]=\"Stage V IWP/IWA\",Emi_Short[[#This Row],[MotCel2]]=\"Stage V NRE\",Emi_Short[[#This Row],[MotCel2]]=\"ULEV (Stage V IWP/IWA)\"),(_xlfn.XLOOKUP(Emi_Short[[#This Row],[Type]]&Emi_Short[[#This Row],[Brandstof]],MJ_Arbeid_Zout[Type Motor]&MJ_Arbeid_Zout[Energiedrager],MJ_Arbeid_Zout[AdBlue (A1-A3) - Zout],\"Not Found\",0)),0)","v":0},{"$f":"_xlfn.XLOOKUP(Emi_Short[[#This Row],[Type]]&Emi_Short[[#This Row],[Brandstof]],MJ_Arbeid_Zoet[Type Motor]&MJ_Arbeid_Zoet[Energiedrager],MJ_Arbeid_Zoet[VM / EA Zoet],\"Not Found\",0)","v":1.7903794508285068E-3},{"$f":"_xlfn.XLOOKUP(Emi_Short[[#This Row],[Type]]&Emi_Short[[#This Row],[Brandstof]],MJ_Arbeid_Zout[Type Motor]&MJ_Arbeid_Zout[Energiedrager],MJ_Arbeid_Zout[VM / EA Zout],\"Not Found\",0)","v":1.2807024631055234E-3}]
["Bio-LNG","Stage V NRE","BLNG-SV-N","Gebruiksprofiel","*RWS Gebruiksprofiel Bio-LNG/Bio-CNG (verbrandingsemissies) (zonder PM en NOx) (B1)",{"$f":"_xlfn.XLOOKUP(Emi_Short[[#This Row],[Gebruiksprofiel Basis B1]],RWS_[Environmental Profile],RWS_[Fuctional Unit],\"\",0)","v":"ton"},"*RWS Kapitaalgoederen Verbrandingsmotor (1000 kg o.b.v. Marine engine {GLO}| marine engine construction | Cut-off, U) (inlcusief reD)","Verbrandingsmotor",{"$f":"_xlfn.XLOOKUP(Emi_Short[[#This Row],[Type]]&Emi_Short[[#This Row],[Brandstof]],MJ_Arbeid_Zoet[Type Motor]&MJ_Arbeid_Zoet[Energiedrager],MJ_Arbeid_Zoet[MJ Arbeid (Geleverd)],\"Not Found\",0)","v":19600},{"$f":"_xlfn.XLOOKUP(Emi_Short[[#This Row],[Type]]&Emi_Short[[#This Row],[Brandstof]],MJ_Arbeid_Zout[Type Motor]&MJ_Arbeid_Zout[Energiedrager],MJ_Arbeid_Zout[MJ Arbeid (Geleverd)],\"Not Found\",0)","v":22050},{"$f":"_xlfn.XLOOKUP(Emi_Short[[#This Row],[Type]]&Emi_Short[[#This Row],[Brandstof]],MJ_Arbeid_Zoet[Type Motor]&MJ_Arbeid_Zoet[Energiedrager],MJ_Arbeid_Zoet[AfKap Casco],\"Not Found\",0)","v":1.1368909512761018},{"$f":"_xlfn.XLOOKUP(Emi_Short[[#This Row],[Type]]&Emi_Short[[#This Row],[Brandstof]],MJ_Arbeid_Zout[Type Motor]&MJ_Arbeid_Zout[Energiedrager],MJ_Arbeid_Zout[AfKap Casco],\"Not Found\",0)","v":1.1502347417840375},{"$f":"IF(OR(Emi_Short[[#This Row],[MotCel2]]=\"TIER III\",Emi_Short[[#This Row],[MotCel2]]=\"Stage V IWP/IWA\",Emi_Short[[#This Row],[MotCel2]]=\"Stage V NRE\"),(_xlfn.XLOOKUP(Emi_Short[[#This Row],[Type]]&Emi_Short[[#This Row],[Brandstof]],MJ_Arbeid_Zoet[Type Motor]&MJ_Arbeid_Zoet[Energiedrager],MJ_Arbeid_Zoet[AdBlue (A1-A3) - Zoet],\"Not Found\",0)),0)","v":75.769955827235393},{"$f":"IF(OR(Emi_Short[[#This Row],[MotCel2]]=\"TIER III\",Emi_Short[[#This Row],[MotCel2]]=\"Stage V IWP/IWA\",Emi_Short[[#This Row],[MotCel2]]=\"Stage V NRE\",Emi_Short[[#This Row],[MotCel2]]=\"ULEV (Stage V IWP/IWA)\"),(_xlfn.XLOOKUP(Emi_Short[[#This Row],[Type]]&Emi_Short[[#This Row],[Brandstof]],MJ_Arbeid_Zout[Type Motor]&MJ_Arbeid_Zout[Energiedrager],MJ_Arbeid_Zout[AdBlue (A1-A3) - Zout],\"Not Found\",0)),0)","v":0},{"$f":"_xlfn.XLOOKUP(Emi_Short[[#This Row],[Type]]&Emi_Short[[#This Row],[Brandstof]],MJ_Arbeid_Zoet[Type Motor]&MJ_Arbeid_Zoet[Energiedrager],MJ_Arbeid_Zoet[VM / EA Zoet],\"Not Found\",0)","v":1.7903794508285068E-3},{"$f":"_xlfn.XLOOKUP(Emi_Short[[#This Row],[Type]]&Emi_Short[[#This Row],[Brandstof]],MJ_Arbeid_Zout[Type Motor]&MJ_Arbeid_Zout[Energiedrager],MJ_Arbeid_Zout[VM / EA Zout],\"Not Found\",0)","v":1.2807024631055234E-3}]
["CNG","TIER II / III / ULEV","CNG-ULEV","Gebruiksprofiel","*RWS Gebruiksprofiel LNG/CNG (verbrandingsemissies) (zonder PM en NOx) (B1)",{"$f":"_xlfn.XLOOKUP(Emi_Short[[#This Row],[Gebruiksprofiel Basis B1]],RWS_[Environmental Profile],RWS_[Fuctional Unit],\"\",0)","v":"ton"},"*RWS Kapitaalgoederen Verbrandingsmotor (1000 kg o.b.v. Marine engine {GLO}| marine engine construction | Cut-off, U) (inlcusief reD)","Verbrandingsmotor",{"$f":"_xlfn.XLOOKUP(Emi_Short[[#This Row],[Type]]&Emi_Short[[#This Row],[Brandstof]],MJ_Arbeid_Zoet[Type Motor]&MJ_Arbeid_Zoet[Energiedrager],MJ_Arbeid_Zoet[MJ Arbeid (Geleverd)],\"Not Found\",0)","v":18520},{"$f":"_xlfn.XLOOKUP(Emi_Short[[#This Row],[Type]]&Emi_Short[[#This Row],[Brandstof]],MJ_Arbeid_Zout[Type Motor]&MJ_Arbeid_Zout[Energiedrager],MJ_Arbeid_Zout[MJ Arbeid (Geleverd)],\"Not Found\",0)","v":20835},{"$f":"_xlfn.XLOOKUP(Emi_Short[[#This Row],[Type]]&Emi_Short[[#This Row],[Brandstof]],MJ_Arbeid_Zoet[Type Motor]&MJ_Arbeid_Zoet[Energiedrager],MJ_Arbeid_Zoet[AfKap Casco],\"Not Found\",0)","v":1.0742459396751738},{"$f":"_xlfn.XLOOKUP(Emi_Short[[#This Row],[Type]]&Emi_Short[[#This Row],[Brandstof]],MJ_Arbeid_Zout[Type Motor]&MJ_Arbeid_Zout[Energiedrager],MJ_Arbeid_Zout[AfKap Casco],\"Not Found\",0)","v":1.0868544600938967},{"$f":"IF(OR(Emi_Short[[#This Row],[MotCel2]]=\"TIER III\",Emi_Short[[#This Row],[MotCel2]]=\"Stage V IWP/IWA\",Emi_Short[[#This Row],[MotCel2]]=\"Stage V NRE\"),(_xlfn.XLOOKUP(Emi_Short[[#This Row],[Type]]&Emi_Short[[#This Row],[Brandstof]],MJ_Arbeid_Zoet[Type Motor]&MJ_Arbeid_Zoet[Energiedrager],MJ_Arbeid_Zoet[AdBlue (A1-A3) - Zoet],\"Not Found\",0)),0)","v":0},{"$f":"IF(OR(Emi_Short[[#This Row],[MotCel2]]=\"TIER III\",Emi_Short[[#This Row],[MotCel2]]=\"Stage V IWP/IWA\",Emi_Short[[#This Row],[MotCel2]]=\"Stage V NRE\",Emi_Short[[#This Row],[MotCel2]]=\"ULEV (Stage V IWP/IWA)\"),(_xlfn.XLOOKUP(Emi_Short[[#This Row],[Type]]&Emi_Short[[#This Row],[Brandstof]],MJ_Arbeid_Zout[Type Motor]&MJ_Arbeid_Zout[Energiedrager],MJ_Arbeid_Zout[AdBlue (A1-A3) - Zout],\"Not Found\",0)),0)","v":0},{"$f":"_xlfn.XLOOKUP(Emi_Short[[#This Row],[Type]]&Emi_Short[[#This Row],[Brandstof]],MJ_Arbeid_Zoet[Type Motor]&MJ_Arbeid_Zoet[Energiedrager],MJ_Arbeid_Zoet[VM / EA Zoet],\"Not Found\",0)","v":1.691725889252242E-3},{"$f":"_xlfn.XLOOKUP(Emi_Short[[#This Row],[Type]]&Emi_Short[[#This Row],[Brandstof]],MJ_Arbeid_Zout[Type Motor]&MJ_Arbeid_Zout[Energiedrager],MJ_Arbeid_Zout[VM / EA Zout],\"Not Found\",0)","v":1.2101331437099131E-3}]
["CNG","CCR II","CNG-CII","Gebruiksprofiel","*RWS Gebruiksprofiel LNG/CNG (verbrandingsemissies) (zonder PM en NOx) (B1)",{"$f":"_xlfn.XLOOKUP(Emi_Short[[#This Row],[Gebruiksprofiel Basis B1]],RWS_[Environmental Profile],RWS_[Fuctional Unit],\"\",0)","v":"ton"},"*RWS Kapitaalgoederen Verbrandingsmotor (1000 kg o.b.v. Marine engine {GLO}| marine engine construction | Cut-off, U) (inlcusief reD)","Verbrandingsmotor",{"$f":"_xlfn.XLOOKUP(Emi_Short[[#This Row],[Type]]&Emi_Short[[#This Row],[Brandstof]],MJ_Arbeid_Zoet[Type Motor]&MJ_Arbeid_Zoet[Energiedrager],MJ_Arbeid_Zoet[MJ Arbeid (Geleverd)],\"Not Found\",0)","v":18520},{"$f":"_xlfn.XLOOKUP(Emi_Short[[#This Row],[Type]]&Emi_Short[[#This Row],[Brandstof]],MJ_Arbeid_Zout[Type Motor]&MJ_Arbeid_Zout[Energiedrager],MJ_Arbeid_Zout[MJ Arbeid (Geleverd)],\"Not Found\",0)","v":20835},{"$f":"_xlfn.XLOOKUP(Emi_Short[[#This Row],[Type]]&Emi_Short[[#This Row],[Brandstof]],MJ_Arbeid_Zoet[Type Motor]&MJ_Arbeid_Zoet[Energiedrager],MJ_Arbeid_Zoet[AfKap Casco],\"Not Found\",0)","v":1.0742459396751738},{"$f":"_xlfn.XLOOKUP(Emi_Short[[#This Row],[Type]]&Emi_Short[[#This Row],[Brandstof]],MJ_Arbeid_Zout[Type Motor]&MJ_Arbeid_Zout[Energiedrager],MJ_Arbeid_Zout[AfKap Casco],\"Not Found\",0)","v":1.0868544600938967},{"$f":"IF(OR(Emi_Short[[#This Row],[MotCel2]]=\"TIER III\",Emi_Short[[#This Row],[MotCel2]]=\"Stage V IWP/IWA\",Emi_Short[[#This Row],[MotCel2]]=\"Stage V NRE\"),(_xlfn.XLOOKUP(Emi_Short[[#This Row],[Type]]&Emi_Short[[#This Row],[Brandstof]],MJ_Arbeid_Zoet[Type Motor]&MJ_Arbeid_Zoet[Energiedrager],MJ_Arbeid_Zoet[AdBlue (A1-A3) - Zoet],\"Not Found\",0)),0)","v":0},{"$f":"IF(OR(Emi_Short[[#This Row],[MotCel2]]=\"TIER III\",Emi_Short[[#This Row],[MotCel2]]=\"Stage V IWP/IWA\",Emi_Short[[#This Row],[MotCel2]]=\"Stage V NRE\",Emi_Short[[#This Row],[MotCel2]]=\"ULEV (Stage V IWP/IWA)\"),(_xlfn.XLOOKUP(Emi_Short[[#This Row],[Type]]&Emi_Short[[#This Row],[Brandstof]],MJ_Arbeid_Zout[Type Motor]&MJ_Arbeid_Zout[Energiedrager],MJ_Arbeid_Zout[AdBlue (A1-A3) - Zout],\"Not Found\",0)),0)","v":0},{"$f":"_xlfn.XLOOKUP(Emi_Short[[#This Row],[Type]]&Emi_Short[[#This Row],[Brandstof]],MJ_Arbeid_Zoet[Type Motor]&MJ_Arbeid_Zoet[Energiedrager],MJ_Arbeid_Zoet[VM / EA Zoet],\"Not Found\",0)","v":1.691725889252242E-3},{"$f":"_xlfn.XLOOKUP(Emi_Short[[#This Row],[Type]]&Emi_Short[[#This Row],[Brandstof]],MJ_Arbeid_Zout[Type Motor]&MJ_Arbeid_Zout[Energiedrager],MJ_Arbeid_Zout[VM / EA Zout],\"Not Found\",0)","v":1.2101331437099131E-3}]
["CNG","Stage V IWP/IWA","CNG-SV-I","Gebruiksprofiel","*RWS Gebruiksprofiel LNG/CNG (verbrandingsemissies) (zonder PM en NOx) (B1)",{"$f":"_xlfn.XLOOKUP(Emi_Short[[#This Row],[Gebruiksprofiel Basis B1]],RWS_[Environmental Profile],RWS_[Fuctional Unit],\"\",0)","v":"ton"},"*RWS Kapitaalgoederen Verbrandingsmotor (1000 kg o.b.v. Marine engine {GLO}| marine engine construction | Cut-off, U) (inlcusief reD)","Verbrandingsmotor",{"$f":"_xlfn.XLOOKUP(Emi_Short[[#This Row],[Type]]&Emi_Short[[#This Row],[Brandstof]],MJ_Arbeid_Zoet[Type Motor]&MJ_Arbeid_Zoet[Energiedrager],MJ_Arbeid_Zoet[MJ Arbeid (Geleverd)],\"Not Found\",0)","v":18520},{"$f":"_xlfn.XLOOKUP(Emi_Short[[#This Row],[Type]]&Emi_Short[[#This Row],[Brandstof]],MJ_Arbeid_Zout[Type Motor]&MJ_Arbeid_Zout[Energiedrager],MJ_Arbeid_Zout[MJ Arbeid (Geleverd)],\"Not Found\",0)","v":20835},{"$f":"_xlfn.XLOOKUP(Emi_Short[[#This Row],[Type]]&Emi_Short[[#This Row],[Brandstof]],MJ_Arbeid_Zoet[Type Motor]&MJ_Arbeid_Zoet[Energiedrager],MJ_Arbeid_Zoet[AfKap Casco],\"Not Found\",0)","v":1.0742459396751738},{"$f":"_xlfn.XLOOKUP(Emi_Short[[#This Row],[Type]]&Emi_Short[[#This Row],[Brandstof]],MJ_Arbeid_Zout[Type Motor]&MJ_Arbeid_Zout[Energiedrager],MJ_Arbeid_Zout[AfKap Casco],\"Not Found\",0)","v":1.0868544600938967},{"$f":"IF(OR(Emi_Short[[#This Row],[MotCel2]]=\"TIER III\",Emi_Short[[#This Row],[MotCel2]]=\"Stage V IWP/IWA\",Emi_Short[[#This Row],[MotCel2]]=\"Stage V NRE\"),(_xlfn.XLOOKUP(Emi_Short[[#This Row],[Type]]&Emi_Short[[#This Row],[Brandstof]],MJ_Arbeid_Zoet[Type Motor]&MJ_Arbeid_Zoet[Energiedrager],MJ_Arbeid_Zoet[AdBlue (A1-A3) - Zoet],\"Not Found\",0)),0)","v":71.594876628591805},{"$f":"IF(OR(Emi_Short[[#This Row],[MotCel2]]=\"TIER III\",Emi_Short[[#This Row],[MotCel2]]=\"Stage V IWP/IWA\",Emi_Short[[#This Row],[MotCel2]]=\"Stage V NRE\",Emi_Short[[#This Row],[MotCel2]]=\"ULEV (Stage V IWP/IWA)\"),(_xlfn.XLOOKUP(Emi_Short[[#This Row],[Type]]&Emi_Short[[#This Row],[Brandstof]],MJ_Arbeid_Zout[Type Motor]&MJ_Arbeid_Zout[Energiedrager],MJ_Arbeid_Zout[AdBlue (A1-A3) - Zout],\"Not Found\",0)),0)","v":0},{"$f":"_xlfn.XLOOKUP(Emi_Short[[#This Row],[Type]]&Emi_Short[[#This Row],[Brandstof]],MJ_Arbeid_Zoet[Type Motor]&MJ_Arbeid_Zoet[Energiedrager],MJ_Arbeid_Zoet[VM / EA Zoet],\"Not Found\",0)","v":1.691725889252242E-3},{"$f":"_xlfn.XLOOKUP(Emi_Short[[#This Row],[Type]]&Emi_Short[[#This Row],[Brandstof]],MJ_Arbeid_Zout[Type Motor]&MJ_Arbeid_Zout[Energiedrager],MJ_Arbeid_Zout[VM / EA Zout],\"Not Found\",0)","v":1.2101331437099131E-3}]
["CNG","Stage V NRE","CNG-SV-N","Gebruiksprofiel","*RWS Gebruiksprofiel LNG/CNG (verbrandingsemissies) (zonder PM en NOx) (B1)",{"$f":"_xlfn.XLOOKUP(Emi_Short[[#This Row],[Gebruiksprofiel Basis B1]],RWS_[Environmental Profile],RWS_[Fuctional Unit],\"\",0)","v":"ton"},"*RWS Kapitaalgoederen Verbrandingsmotor (1000 kg o.b.v. Marine engine {GLO}| marine engine construction | Cut-off, U) (inlcusief reD)","Verbrandingsmotor",{"$f":"_xlfn.XLOOKUP(Emi_Short[[#This Row],[Type]]&Emi_Short[[#This Row],[Brandstof]],MJ_Arbeid_Zoet[Type Motor]&MJ_Arbeid_Zoet[Energiedrager],MJ_Arbeid_Zoet[MJ Arbeid (Geleverd)],\"Not Found\",0)","v":18520},{"$f":"_xlfn.XLOOKUP(Emi_Short[[#This Row],[Type]]&Emi_Short[[#This Row],[Brandstof]],MJ_Arbeid_Zout[Type Motor]&MJ_Arbeid_Zout[Energiedrager],MJ_Arbeid_Zout[MJ Arbeid (Geleverd)],\"Not Found\",0)","v":20835},{"$f":"_xlfn.XLOOKUP(Emi_Short[[#This Row],[Type]]&Emi_Short[[#This Row],[Brandstof]],MJ_Arbeid_Zoet[Type Motor]&MJ_Arbeid_Zoet[Energiedrager],MJ_Arbeid_Zoet[AfKap Casco],\"Not Found\",0)","v":1.0742459396751738},{"$f":"_xlfn.XLOOKUP(Emi_Short[[#This Row],[Type]]&Emi_Short[[#This Row],[Brandstof]],MJ_Arbeid_Zout[Type Motor]&MJ_Arbeid_Zout[Energiedrager],MJ_Arbeid_Zout[AfKap Casco],\"Not Found\",0)","v":1.0868544600938967},{"$f":"IF(OR(Emi_Short[[#This Row],[MotCel2]]=\"TIER III\",Emi_Short[[#This Row],[MotCel2]]=\"Stage V IWP/IWA\",Emi_Short[[#This Row],[MotCel2]]=\"Stage V NRE\"),(_xlfn.XLOOKUP(Emi_Short[[#This Row],[Type]]&Emi_Short[[#This Row],[Brandstof]],MJ_Arbeid_Zoet[Type Motor]&MJ_Arbeid_Zoet[Energiedrager],MJ_Arbeid_Zoet[AdBlue (A1-A3) - Zoet],\"Not Found\",0)),0)","v":71.594876628591805},{"$f":"IF(OR(Emi_Short[[#This Row],[MotCel2]]=\"TIER III\",Emi_Short[[#This Row],[MotCel2]]=\"Stage V IWP/IWA\",Emi_Short[[#This Row],[MotCel2]]=\"Stage V NRE\",Emi_Short[[#This Row],[MotCel2]]=\"ULEV (Stage V IWP/IWA)\"),(_xlfn.XLOOKUP(Emi_Short[[#This Row],[Type]]&Emi_Short[[#This Row],[Brandstof]],MJ_Arbeid_Zout[Type Motor]&MJ_Arbeid_Zout[Energiedrager],MJ_Arbeid_Zout[AdBlue (A1-A3) - Zout],\"Not Found\",0)),0)","v":0},{"$f":"_xlfn.XLOOKUP(Emi_Short[[#This Row],[Type]]&Emi_Short[[#This Row],[Brandstof]],MJ_Arbeid_Zoet[Type Motor]&MJ_Arbeid_Zoet[Energiedrager],MJ_Arbeid_Zoet[VM / EA Zoet],\"Not Found\",0)","v":1.691725889252242E-3},{"$f":"_xlfn.XLOOKUP(Emi_Short[[#This Row],[Type]]&Emi_Short[[#This Row],[Brandstof]],MJ_Arbeid_Zout[Type Motor]&MJ_Arbeid_Zout[Energiedrager],MJ_Arbeid_Zout[VM / EA Zout],\"Not Found\",0)","v":1.2101331437099131E-3}]
["Diesel (ULSD)","Pre Tier I","Diesel-PTI","Gebruiksprofiel","*RWS Gebruiksprofiel Diesel (ULSD) Verbrandingsemissies (zoner PM en NOx) B1 (o.b.v Transport, freight, inland waterways, barge {RER}| transport, freight, inland waterways, barge | Cut-off, U)",{"$f":"_xlfn.XLOOKUP(Emi_Short[[#This Row],[Gebruiksprofiel Basis B1]],RWS_[Environmental Profile],RWS_[Fuctional Unit],\"\",0)","v":"ton"},"*RWS Kapitaalgoederen Verbrandingsmotor (1000 kg o.b.v. Marine engine {GLO}| marine engine construction | Cut-off, U) (inlcusief reD)","Verbrandingsmotor",{"$f":"_xlfn.XLOOKUP(Emi_Short[[#This Row],[Type]]&Emi_Short[[#This Row],[Brandstof]],MJ_Arbeid_Zoet[Type Motor]&MJ_Arbeid_Zoet[Energiedrager],MJ_Arbeid_Zoet[MJ Arbeid (Geleverd)],\"Not Found\",0)","v":17240},{"$f":"_xlfn.XLOOKUP(Emi_Short[[#This Row],[Type]]&Emi_Short[[#This Row],[Brandstof]],MJ_Arbeid_Zout[Type Motor]&MJ_Arbeid_Zout[Energiedrager],MJ_Arbeid_Zout[MJ Arbeid (Geleverd)],\"Not Found\",0)","v":19395},{"$f":"_xlfn.XLOOKUP(Emi_Short[[#This Row],[Type]]&Emi_Short[[#This Row],[Brandstof]],MJ_Arbeid_Zoet[Type Motor]&MJ_Arbeid_Zoet[Energiedrager],MJ_Arbeid_Zoet[AfKap Casco],\"Not Found\",0)","v":1},{"$f":"_xlfn.XLOOKUP(Emi_Short[[#This Row],[Type]]&Emi_Short[[#This Row],[Brandstof]],MJ_Arbeid_Zout[Type Motor]&MJ_Arbeid_Zout[Energiedrager],MJ_Arbeid_Zout[AfKap Casco],\"Not Found\",0)","v":1.011737089201878},{"$f":"IF(OR(Emi_Short[[#This Row],[MotCel2]]=\"TIER III\",Emi_Short[[#This Row],[MotCel2]]=\"Stage V IWP/IWA\",Emi_Short[[#This Row],[MotCel2]]=\"Stage V NRE\"),(_xlfn.XLOOKUP(Emi_Short[[#This Row],[Type]]&Emi_Short[[#This Row],[Brandstof]],MJ_Arbeid_Zoet[Type Motor]&MJ_Arbeid_Zoet[Energiedrager],MJ_Arbeid_Zoet[AdBlue (A1-A3) - Zoet],\"Not Found\",0)),0)","v":0},{"$f":"IF(OR(Emi_Short[[#This Row],[MotCel2]]=\"TIER III\",Emi_Short[[#This Row],[MotCel2]]=\"Stage V IWP/IWA\",Emi_Short[[#This Row],[MotCel2]]=\"Stage V NRE\",Emi_Short[[#This Row],[MotCel2]]=\"ULEV (Stage V IWP/IWA)\"),(_xlfn.XLOOKUP(Emi_Short[[#This Row],[Type]]&Emi_Short[[#This Row],[Brandstof]],MJ_Arbeid_Zout[Type Motor]&MJ_Arbeid_Zout[Energiedrager],MJ_Arbeid_Zout[AdBlue (A1-A3) - Zout],\"Not Found\",0)),0)","v":0},{"$f":"_xlfn.XLOOKUP(Emi_Short[[#This Row],[Type]]&Emi_Short[[#This Row],[Brandstof]],MJ_Arbeid_Zoet[Type Motor]&MJ_Arbeid_Zoet[Energiedrager],MJ_Arbeid_Zoet[VM / EA Zoet],\"Not Found\",0)","v":1.5748031496062992E-3},{"$f":"_xlfn.XLOOKUP(Emi_Short[[#This Row],[Type]]&Emi_Short[[#This Row],[Brandstof]],MJ_Arbeid_Zout[Type Motor]&MJ_Arbeid_Zout[Energiedrager],MJ_Arbeid_Zout[VM / EA Zout],\"Not Found\",0)","v":1.1264954318336339E-3}]
["Diesel (ULSD)","ULEV (Stage V IWP/IWA)","Diesel-ULEV","Gebruiksprofiel","*RWS Gebruiksprofiel Diesel (ULSD) Verbrandingsemissies (zoner PM en NOx) B1 (o.b.v Transport, freight, inland waterways, barge {RER}| transport, freight, inland waterways, barge | Cut-off, U)",{"$f":"_xlfn.XLOOKUP(Emi_Short[[#This Row],[Gebruiksprofiel Basis B1]],RWS_[Environmental Profile],RWS_[Fuctional Unit],\"\",0)","v":"ton"},"*RWS Kapitaalgoederen Verbrandingsmotor (1000 kg o.b.v. Marine engine {GLO}| marine engine construction | Cut-off, U) (inlcusief reD)","Verbrandingsmotor",{"$f":"_xlfn.XLOOKUP(Emi_Short[[#This Row],[Type]]&Emi_Short[[#This Row],[Brandstof]],MJ_Arbeid_Zoet[Type Motor]&MJ_Arbeid_Zoet[Energiedrager],MJ_Arbeid_Zoet[MJ Arbeid (Geleverd)],\"Not Found\",0)","v":17240},{"$f":"_xlfn.XLOOKUP(Emi_Short[[#This Row],[Type]]&Emi_Short[[#This Row],[Brandstof]],MJ_Arbeid_Zout[Type Motor]&MJ_Arbeid_Zout[Energiedrager],MJ_Arbeid_Zout[MJ Arbeid (Geleverd)],\"Not Found\",0)","v":19395},{"$f":"_xlfn.XLOOKUP(Emi_Short[[#This Row],[Type]]&Emi_Short[[#This Row],[Brandstof]],MJ_Arbeid_Zoet[Type Motor]&MJ_Arbeid_Zoet[Energiedrager],MJ_Arbeid_Zoet[AfKap Casco],\"Not Found\",0)","v":1},{"$f":"_xlfn.XLOOKUP(Emi_Short[[#This Row],[Type]]&Emi_Short[[#This Row],[Brandstof]],MJ_Arbeid_Zout[Type Motor]&MJ_Arbeid_Zout[Energiedrager],MJ_Arbeid_Zout[AfKap Casco],\"Not Found\",0)","v":1.011737089201878},{"$f":"IF(OR(Emi_Short[[#This Row],[MotCel2]]=\"TIER III\",Emi_Short[[#This Row],[MotCel2]]=\"Stage V IWP/IWA\",Emi_Short[[#This Row],[MotCel2]]=\"Stage V NRE\"),(_xlfn.XLOOKUP(Emi_Short[[#This Row],[Type]]&Emi_Short[[#This Row],[Brandstof]],MJ_Arbeid_Zoet[Type Motor]&MJ_Arbeid_Zoet[Energiedrager],MJ_Arbeid_Zoet[AdBlue (A1-A3) - Zoet],\"Not Found\",0)),0)","v":0},{"$f":"IF(OR(Emi_Short[[#This Row],[MotCel2]]=\"TIER III\",Emi_Short[[#This Row],[MotCel2]]=\"Stage V IWP/IWA\",Emi_Short[[#This Row],[MotCel2]]=\"Stage V NRE\",Emi_Short[[#This Row],[MotCel2]]=\"ULEV (Stage V IWP/IWA)\"),(_xlfn.XLOOKUP(Emi_Short[[#This Row],[Type]]&Emi_Short[[#This Row],[Brandstof]],MJ_Arbeid_Zout[Type Motor]&MJ_Arbeid_Zout[Energiedrager],MJ_Arbeid_Zout[AdBlue (A1-A3) - Zout],\"Not Found\",0)),0)","v":66.646634615384613},{"$f":"_xlfn.XLOOKUP(Emi_Short[[#This Row],[Type]]&Emi_Short[[#This Row],[Brandstof]],MJ_Arbeid_Zoet[Type Motor]&MJ_Arbeid_Zoet[Energiedrager],MJ_Arbeid_Zoet[VM / EA Zoet],\"Not Found\",0)","v":1.5748031496062992E-3},{"$f":"_xlfn.XLOOKUP(Emi_Short[[#This Row],[Type]]&Emi_Short[[#This Row],[Brandstof]],MJ_Arbeid_Zout[Type Motor]&MJ_Arbeid_Zout[Energiedrager],MJ_Arbeid_Zout[VM / EA Zout],\"Not Found\",0)","v":1.1264954318336339E-3}]
["Diesel (ULSD)","TIER I / II","Diesel-TII","Gebruiksprofiel","*RWS Gebruiksprofiel Diesel (ULSD) Verbrandingsemissies (zoner PM en NOx) B1 (o.b.v Transport, freight, inland waterways, barge {RER}| transport, freight, inland waterways, barge | Cut-off, U)",{"$f":"_xlfn.XLOOKUP(Emi_Short[[#This Row],[Gebruiksprofiel Basis B1]],RWS_[Environmental Profile],RWS_[Fuctional Unit],\"\",0)","v":"ton"},"*RWS Kapitaalgoederen Verbrandingsmotor (1000 kg o.b.v. Marine engine {GLO}| marine engine construction | Cut-off, U) (inlcusief reD)","Verbrandingsmotor",{"$f":"_xlfn.XLOOKUP(Emi_Short[[#This Row],[Type]]&Emi_Short[[#This Row],[Brandstof]],MJ_Arbeid_Zoet[Type Motor]&MJ_Arbeid_Zoet[Energiedrager],MJ_Arbeid_Zoet[MJ Arbeid (Geleverd)],\"Not Found\",0)","v":17240},{"$f":"_xlfn.XLOOKUP(Emi_Short[[#This Row],[Type]]&Emi_Short[[#This Row],[Brandstof]],MJ_Arbeid_Zout[Type Motor]&MJ_Arbeid_Zout[Energiedrager],MJ_Arbeid_Zout[MJ Arbeid (Geleverd)],\"Not Found\",0)","v":19395},{"$f":"_xlfn.XLOOKUP(Emi_Short[[#This Row],[Type]]&Emi_Short[[#This Row],[Brandstof]],MJ_Arbeid_Zoet[Type Motor]&MJ_Arbeid_Zoet[Energiedrager],MJ_Arbeid_Zoet[AfKap Casco],\"Not Found\",0)","v":1},{"$f":"_xlfn.XLOOKUP(Emi_Short[[#This Row],[Type]]&Emi_Short[[#This Row],[Brandstof]],MJ_Arbeid_Zout[Type Motor]&MJ_Arbeid_Zout[Energiedrager],MJ_Arbeid_Zout[AfKap Casco],\"Not Found\",0)","v":1.011737089201878},{"$f":"IF(OR(Emi_Short[[#This Row],[MotCel2]]=\"TIER III\",Emi_Short[[#This Row],[MotCel2]]=\"Stage V IWP/IWA\",Emi_Short[[#This Row],[MotCel2]]=\"Stage V NRE\"),(_xlfn.XLOOKUP(Emi_Short[[#This Row],[Type]]&Emi_Short[[#This Row],[Brandstof]],MJ_Arbeid_Zoet[Type Motor]&MJ_Arbeid_Zoet[Energiedrager],MJ_Arbeid_Zoet[AdBlue (A1-A3) - Zoet],\"Not Found\",0)),0)","v":0},{"$f":"IF(OR(Emi_Short[[#This Row],[MotCel2]]=\"TIER III\",Emi_Short[[#This Row],[MotCel2]]=\"Stage V IWP/IWA\",Emi_Short[[#This Row],[MotCel2]]=\"Stage V NRE\",Emi_Short[[#This Row],[MotCel2]]=\"ULEV (Stage V IWP/IWA)\"),(_xlfn.XLOOKUP(Emi_Short[[#This Row],[Type]]&Emi_Short[[#This Row],[Brandstof]],MJ_Arbeid_Zout[Type Motor]&MJ_Arbeid_Zout[Energiedrager],MJ_Arbeid_Zout[AdBlue (A1-A3) - Zout],\"Not Found\",0)),0)","v":0},{"$f":"_xlfn.XLOOKUP(Emi_Short[[#This Row],[Type]]&Emi_Short[[#This Row],[Brandstof]],MJ_Arbeid_Zoet[Type Motor]&MJ_Arbeid_Zoet[Energiedrager],MJ_Arbeid_Zoet[VM / EA Zoet],\"Not Found\",0)","v":1.5748031496062992E-3},{"$f":"_xlfn.XLOOKUP(Emi_Short[[#This Row],[Type]]&Emi_Short[[#This Row],[Brandstof]],MJ_Arbeid_Zout[Type Motor]&MJ_Arbeid_Zout[Energiedrager],MJ_Arbeid_Zout[VM / EA Zout],\"Not Found\",0)","v":1.1264954318336339E-3}]
["Diesel (ULSD)","TIER III","Diesel-TIII","Gebruiksprofiel","*RWS Gebruiksprofiel Diesel (ULSD) Verbrandingsemissies (zoner PM en NOx) B1 (o.b.v Transport, freight, inland waterways, barge {RER}| transport, freight, inland waterways, barge | Cut-off, U)",{"$f":"_xlfn.XLOOKUP(Emi_Short[[#This Row],[Gebruiksprofiel Basis B1]],RWS_[Environmental Profile],RWS_[Fuctional Unit],\"\",0)","v":"ton"},"*RWS Kapitaalgoederen Verbrandingsmotor (1000 kg o.b.v. Marine engine {GLO}| marine engine construction | Cut-off, U) (inlcusief reD)","Verbrandingsmotor",{"$f":"_xlfn.XLOOKUP(Emi_Short[[#This Row],[Type]]&Emi_Short[[#This Row],[Brandstof]],MJ_Arbeid_Zoet[Type Motor]&MJ_Arbeid_Zoet[Energiedrager],MJ_Arbeid_Zoet[MJ Arbeid (Geleverd)],\"Not Found\",0)","v":17240},{"$f":"_xlfn.XLOOKUP(Emi_Short[[#This Row],[Type]]&Emi_Short[[#This Row],[Brandstof]],MJ_Arbeid_Zout[Type Motor]&MJ_Arbeid_Zout[Energiedrager],MJ_Arbeid_Zout[MJ Arbeid (Geleverd)],\"Not Found\",0)","v":19395},{"$f":"_xlfn.XLOOKUP(Emi_Short[[#This Row],[Type]]&Emi_Short[[#This Row],[Brandstof]],MJ_Arbeid_Zoet[Type Motor]&MJ_Arbeid_Zoet[Energiedrager],MJ_Arbeid_Zoet[AfKap Casco],\"Not Found\",0)","v":1},{"$f":"_xlfn.XLOOKUP(Emi_Short[[#This Row],[Type]]&Emi_Short[[#This Row],[Brandstof]],MJ_Arbeid_Zout[Type Motor]&MJ_Arbeid_Zout[Energiedrager],MJ_Arbeid_Zout[AfKap Casco],\"Not Found\",0)","v":1.011737089201878},{"$f":"IF(OR(Emi_Short[[#This Row],[MotCel2]]=\"TIER III\",Emi_Short[[#This Row],[MotCel2]]=\"Stage V IWP/IWA\",Emi_Short[[#This Row],[MotCel2]]=\"Stage V NRE\"),(_xlfn.XLOOKUP(Emi_Short[[#This Row],[Type]]&Emi_Short[[#This Row],[Brandstof]],MJ_Arbeid_Zoet[Type Motor]&MJ_Arbeid_Zoet[Energiedrager],MJ_Arbeid_Zoet[AdBlue (A1-A3) - Zoet],\"Not Found\",0)),0)","v":66.646634615384613},{"$f":"IF(OR(Emi_Short[[#This Row],[MotCel2]]=\"TIER III\",Emi_Short[[#This Row],[MotCel2]]=\"Stage V IWP/IWA\",Emi_Short[[#This Row],[MotCel2]]=\"Stage V NRE\",Emi_Short[[#This Row],[MotCel2]]=\"ULEV (Stage V IWP/IWA)\"),(_xlfn.XLOOKUP(Emi_Short[[#This Row],[Type]]&Emi_Short[[#This Row],[Brandstof]],MJ_Arbeid_Zout[Type Motor]&MJ_Arbeid_Zout[Energiedrager],MJ_Arbeid_Zout[AdBlue (A1-A3) - Zout],\"Not Found\",0)),0)","v":66.646634615384613},{"$f":"_xlfn.XLOOKUP(Emi_Short[[#This Row],[Type]]&Emi_Short[[#This Row],[Brandstof]],MJ_Arbeid_Zoet[Type Motor]&MJ_Arbeid_Zoet[Energiedrager],MJ_Arbeid_Zoet[VM / EA Zoet],\"Not Found\",0)","v":1.5748031496062992E-3},{"$f":"_xlfn.XLOOKUP(Emi_Short[[#This Row],[Type]]&Emi_Short[[#This Row],[Brandstof]],MJ_Arbeid_Zout[Type Motor]&MJ_Arbeid_Zout[Energiedrager],MJ_Arbeid_Zout[VM / EA Zout],\"Not Found\",0)","v":1.1264954318336339E-3}]
["Diesel (ULSD)","CCR 0 / Unspecified","Diesel-C0","Gebruiksprofiel","*RWS Gebruiksprofiel Diesel (ULSD) Verbrandingsemissies (zoner PM en NOx) B1 (o.b.v Transport, freight, inland waterways, barge {RER}| transport, freight, inland waterways, barge | Cut-off, U)",{"$f":"_xlfn.XLOOKUP(Emi_Short[[#This Row],[Gebruiksprofiel Basis B1]],RWS_[Environmental Profile],RWS_[Fuctional Unit],\"\",0)","v":"ton"},"*RWS Kapitaalgoederen Verbrandingsmotor (1000 kg o.b.v. Marine engine {GLO}| marine engine construction | Cut-off, U) (inlcusief reD)","Verbrandingsmotor",{"$f":"_xlfn.XLOOKUP(Emi_Short[[#This Row],[Type]]&Emi_Short[[#This Row],[Brandstof]],MJ_Arbeid_Zoet[Type Motor]&MJ_Arbeid_Zoet[Energiedrager],MJ_Arbeid_Zoet[MJ Arbeid (Geleverd)],\"Not Found\",0)","v":17240},{"$f":"_xlfn.XLOOKUP(Emi_Short[[#This Row],[Type]]&Emi_Short[[#This Row],[Brandstof]],MJ_Arbeid_Zout[Type Motor]&MJ_Arbeid_Zout[Energiedrager],MJ_Arbeid_Zout[MJ Arbeid (Geleverd)],\"Not Found\",0)","v":19395},{"$f":"_xlfn.XLOOKUP(Emi_Short[[#This Row],[Type]]&Emi_Short[[#This Row],[Brandstof]],MJ_Arbeid_Zoet[Type Motor]&MJ_Arbeid_Zoet[Energiedrager],MJ_Arbeid_Zoet[AfKap Casco],\"Not Found\",0)","v":1},{"$f":"_xlfn.XLOOKUP(Emi_Short[[#This Row],[Type]]&Emi_Short[[#This Row],[Brandstof]],MJ_Arbeid_Zout[Type Motor]&MJ_Arbeid_Zout[Energiedrager],MJ_Arbeid_Zout[AfKap Casco],\"Not Found\",0)","v":1.011737089201878},{"$f":"IF(OR(Emi_Short[[#This Row],[MotCel2]]=\"TIER III\",Emi_Short[[#This Row],[MotCel2]]=\"Stage V IWP/IWA\",Emi_Short[[#This Row],[MotCel2]]=\"Stage V NRE\"),(_xlfn.XLOOKUP(Emi_Short[[#This Row],[Type]]&Emi_Short[[#This Row],[Brandstof]],MJ_Arbeid_Zoet[Type Motor]&MJ_Arbeid_Zoet[Energiedrager],MJ_Arbeid_Zoet[AdBlue (A1-A3) - Zoet],\"Not Found\",0)),0)","v":0},{"$f":"IF(OR(Emi_Short[[#This Row],[MotCel2]]=\"TIER III\",Emi_Short[[#This Row],[MotCel2]]=\"Stage V IWP/IWA\",Emi_Short[[#This Row],[MotCel2]]=\"Stage V NRE\",Emi_Short[[#This Row],[MotCel2]]=\"ULEV (Stage V IWP/IWA)\"),(_xlfn.XLOOKUP(Emi_Short[[#This Row],[Type]]&Emi_Short[[#This Row],[Brandstof]],MJ_Arbeid_Zout[Type Motor]&MJ_Arbeid_Zout[Energiedrager],MJ_Arbeid_Zout[AdBlue (A1-A3) - Zout],\"Not Found\",0)),0)","v":0},{"$f":"_xlfn.XLOOKUP(Emi_Short[[#This Row],[Type]]&Emi_Short[[#This Row],[Brandstof]],MJ_Arbeid_Zoet[Type Motor]&MJ_Arbeid_Zoet[Energiedrager],MJ_Arbeid_Zoet[VM / EA Zoet],\"Not Found\",0)","v":1.5748031496062992E-3},{"$f":"_xlfn.XLOOKUP(Emi_Short[[#This Row],[Type]]&Emi_Short[[#This Row],[Brandstof]],MJ_Arbeid_Zout[Type Motor]&MJ_Arbeid_Zout[Energiedrager],MJ_Arbeid_Zout[VM / EA Zout],\"Not Found\",0)","v":1.1264954318336339E-3}]
["Diesel (ULSD)","CCR I","Diesel-CII","Gebruiksprofiel","*RWS Gebruiksprofiel Diesel (ULSD) Verbrandingsemissies (zoner PM en NOx) B1 (o.b.v Transport, freight, inland waterways, barge {RER}| transport, freight, inland waterways, barge | Cut-off, U)",{"$f":"_xlfn.XLOOKUP(Emi_Short[[#This Row],[Gebruiksprofiel Basis B1]],RWS_[Environmental Profile],RWS_[Fuctional Unit],\"\",0)","v":"ton"},"*RWS Kapitaalgoederen Verbrandingsmotor (1000 kg o.b.v. Marine engine {GLO}| marine engine construction | Cut-off, U) (inlcusief reD)","Verbrandingsmotor",{"$f":"_xlfn.XLOOKUP(Emi_Short[[#This Row],[Type]]&Emi_Short[[#This Row],[Brandstof]],MJ_Arbeid_Zoet[Type Motor]&MJ_Arbeid_Zoet[Energiedrager],MJ_Arbeid_Zoet[MJ Arbeid (Geleverd)],\"Not Found\",0)","v":17240},{"$f":"_xlfn.XLOOKUP(Emi_Short[[#This Row],[Type]]&Emi_Short[[#This Row],[Brandstof]],MJ_Arbeid_Zout[Type Motor]&MJ_Arbeid_Zout[Energiedrager],MJ_Arbeid_Zout[MJ Arbeid (Geleverd)],\"Not Found\",0)","v":19395},{"$f":"_xlfn.XLOOKUP(Emi_Short[[#This Row],[Type]]&Emi_Short[[#This Row],[Brandstof]],MJ_Arbeid_Zoet[Type Motor]&MJ_Arbeid_Zoet[Energiedrager],MJ_Arbeid_Zoet[AfKap Casco],\"Not Found\",0)","v":1},{"$f":"_xlfn.XLOOKUP(Emi_Short[[#This Row],[Type]]&Emi_Short[[#This Row],[Brandstof]],MJ_Arbeid_Zout[Type Motor]&MJ_Arbeid_Zout[Energiedrager],MJ_Arbeid_Zout[AfKap Casco],\"Not Found\",0)","v":1.011737089201878},{"$f":"IF(OR(Emi_Short[[#This Row],[MotCel2]]=\"TIER III\",Emi_Short[[#This Row],[MotCel2]]=\"Stage V IWP/IWA\",Emi_Short[[#This Row],[MotCel2]]=\"Stage V NRE\"),(_xlfn.XLOOKUP(Emi_Short[[#This Row],[Type]]&Emi_Short[[#This Row],[Brandstof]],MJ_Arbeid_Zoet[Type Motor]&MJ_Arbeid_Zoet[Energiedrager],MJ_Arbeid_Zoet[AdBlue (A1-A3) - Zoet],\"Not Found\",0)),0)","v":0},{"$f":"IF(OR(Emi_Short[[#This Row],[MotCel2]]=\"TIER III\",Emi_Short[[#This Row],[MotCel2]]=\"Stage V IWP/IWA\",Emi_Short[[#This Row],[MotCel2]]=\"Stage V NRE\",Emi_Short[[#This Row],[MotCel2]]=\"ULEV (Stage V IWP/IWA)\"),(_xlfn.XLOOKUP(Emi_Short[[#This Row],[Type]]&Emi_Short[[#This Row],[Brandstof]],MJ_Arbeid_Zout[Type Motor]&MJ_Arbeid_Zout[Energiedrager],MJ_Arbeid_Zout[AdBlue (A1-A3) - Zout],\"Not Found\",0)),0)","v":0},{"$f":"_xlfn.XLOOKUP(Emi_Short[[#This Row],[Type]]&Emi_Short[[#This Row],[Brandstof]],MJ_Arbeid_Zoet[Type Motor]&MJ_Arbeid_Zoet[Energiedrager],MJ_Arbeid_Zoet[VM / EA Zoet],\"Not Found\",0)","v":1.5748031496062992E-3},{"$f":"_xlfn.XLOOKUP(Emi_Short[[#This Row],[Type]]&Emi_Short[[#This Row],[Brandstof]],MJ_Arbeid_Zout[Type Motor]&MJ_Arbeid_Zout[Energiedrager],MJ_Arbeid_Zout[VM / EA Zout],\"Not Found\",0)","v":1.1264954318336339E-3}]
["Diesel (ULSD)","CCR II","Diesel-CII","Gebruiksprofiel","*RWS Gebruiksprofiel Diesel (ULSD) Verbrandingsemissies (zoner PM en NOx) B1 (o.b.v Transport, freight, inland waterways, barge {RER}| transport, freight, inland waterways, barge | Cut-off, U)",{"$f":"_xlfn.XLOOKUP(Emi_Short[[#This Row],[Gebruiksprofiel Basis B1]],RWS_[Environmental Profile],RWS_[Fuctional Unit],\"\",0)","v":"ton"},"*RWS Kapitaalgoederen Verbrandingsmotor (1000 kg o.b.v. Marine engine {GLO}| marine engine construction | Cut-off, U) (inlcusief reD)","Verbrandingsmotor",{"$f":"_xlfn.XLOOKUP(Emi_Short[[#This Row],[Type]]&Emi_Short[[#This Row],[Brandstof]],MJ_Arbeid_Zoet[Type Motor]&MJ_Arbeid_Zoet[Energiedrager],MJ_Arbeid_Zoet[MJ Arbeid (Geleverd)],\"Not Found\",0)","v":17240},{"$f":"_xlfn.XLOOKUP(Emi_Short[[#This Row],[Type]]&Emi_Short[[#This Row],[Brandstof]],MJ_Arbeid_Zout[Type Motor]&MJ_Arbeid_Zout[Energiedrager],MJ_Arbeid_Zout[MJ Arbeid (Geleverd)],\"Not Found\",0)","v":19395},{"$f":"_xlfn.XLOOKUP(Emi_Short[[#This Row],[Type]]&Emi_Short[[#This Row],[Brandstof]],MJ_Arbeid_Zoet[Type Motor]&MJ_Arbeid_Zoet[Energiedrager],MJ_Arbeid_Zoet[AfKap Casco],\"Not Found\",0)","v":1},{"$f":"_xlfn.XLOOKUP(Emi_Short[[#This Row],[Type]]&Emi_Short[[#This Row],[Brandstof]],MJ_Arbeid_Zout[Type Motor]&MJ_Arbeid_Zout[Energiedrager],MJ_Arbeid_Zout[AfKap Casco],\"Not Found\",0)","v":1.011737089201878},{"$f":"IF(OR(Emi_Short[[#This Row],[MotCel2]]=\"TIER III\",Emi_Short[[#This Row],[MotCel2]]=\"Stage V IWP/IWA\",Emi_Short[[#This Row],[MotCel2]]=\"Stage V NRE\"),(_xlfn.XLOOKUP(Emi_Short[[#This Row],[Type]]&Emi_Short[[#This Row],[Brandstof]],MJ_Arbeid_Zoet[Type Motor]&MJ_Arbeid_Zoet[Energiedrager],MJ_Arbeid_Zoet[AdBlue (A1-A3) - Zoet],\"Not Found\",0)),0)","v":0},{"$f":"IF(OR(Emi_Short[[#This Row],[MotCel2]]=\"TIER III\",Emi_Short[[#This Row],[MotCel2]]=\"Stage V IWP/IWA\",Emi_Short[[#This Row],[MotCel2]]=\"Stage V NRE\",Emi_Short[[#This Row],[MotCel2]]=\"ULEV (Stage V IWP/IWA)\"),(_xlfn.XLOOKUP(Emi_Short[[#This Row],[Type]]&Emi_Short[[#This Row],[Brandstof]],MJ_Arbeid_Zout[Type Motor]&MJ_Arbeid_Zout[Energiedrager],MJ_Arbeid_Zout[AdBlue (A1-A3) - Zout],\"Not Found\",0)),0)","v":0},{"$f":"_xlfn.XLOOKUP(Emi_Short[[#This Row],[Type]]&Emi_Short[[#This Row],[Brandstof]],MJ_Arbeid_Zoet[Type Motor]&MJ_Arbeid_Zoet[Energiedrager],MJ_Arbeid_Zoet[VM / EA Zoet],\"Not Found\",0)","v":1.5748031496062992E-3},{"$f":"_xlfn.XLOOKUP(Emi_Short[[#This Row],[Type]]&Emi_Short[[#This Row],[Brandstof]],MJ_Arbeid_Zout[Type Motor]&MJ_Arbeid_Zout[Energiedrager],MJ_Arbeid_Zout[VM / EA Zout],\"Not Found\",0)","v":1.1264954318336339E-3}]
["Diesel (ULSD)","Stage V IWP/IWA","Diesel-SV-I","Gebruiksprofiel","*RWS Gebruiksprofiel Diesel (ULSD) Verbrandingsemissies (zoner PM en NOx) B1 (o.b.v Transport, freight, inland waterways, barge {RER}| transport, freight, inland waterways, barge | Cut-off, U)",{"$f":"_xlfn.XLOOKUP(Emi_Short[[#This Row],[Gebruiksprofiel Basis B1]],RWS_[Environmental Profile],RWS_[Fuctional Unit],\"\",0)","v":"ton"},"*RWS Kapitaalgoederen Verbrandingsmotor (1000 kg o.b.v. Marine engine {GLO}| marine engine construction | Cut-off, U) (inlcusief reD)","Verbrandingsmotor",{"$f":"_xlfn.XLOOKUP(Emi_Short[[#This Row],[Type]]&Emi_Short[[#This Row],[Brandstof]],MJ_Arbeid_Zoet[Type Motor]&MJ_Arbeid_Zoet[Energiedrager],MJ_Arbeid_Zoet[MJ Arbeid (Geleverd)],\"Not Found\",0)","v":17240},{"$f":"_xlfn.XLOOKUP(Emi_Short[[#This Row],[Type]]&Emi_Short[[#This Row],[Brandstof]],MJ_Arbeid_Zout[Type Motor]&MJ_Arbeid_Zout[Energiedrager],MJ_Arbeid_Zout[MJ Arbeid (Geleverd)],\"Not Found\",0)","v":19395},{"$f":"_xlfn.XLOOKUP(Emi_Short[[#This Row],[Type]]&Emi_Short[[#This Row],[Brandstof]],MJ_Arbeid_Zoet[Type Motor]&MJ_Arbeid_Zoet[Energiedrager],MJ_Arbeid_Zoet[AfKap Casco],\"Not Found\",0)","v":1},{"$f":"_xlfn.XLOOKUP(Emi_Short[[#This Row],[Type]]&Emi_Short[[#This Row],[Brandstof]],MJ_Arbeid_Zout[Type Motor]&MJ_Arbeid_Zout[Energiedrager],MJ_Arbeid_Zout[AfKap Casco],\"Not Found\",0)","v":1.011737089201878},{"$f":"IF(OR(Emi_Short[[#This Row],[MotCel2]]=\"TIER III\",Emi_Short[[#This Row],[MotCel2]]=\"Stage V IWP/IWA\",Emi_Short[[#This Row],[MotCel2]]=\"Stage V NRE\"),(_xlfn.XLOOKUP(Emi_Short[[#This Row],[Type]]&Emi_Short[[#This Row],[Brandstof]],MJ_Arbeid_Zoet[Type Motor]&MJ_Arbeid_Zoet[Energiedrager],MJ_Arbeid_Zoet[AdBlue (A1-A3) - Zoet],\"Not Found\",0)),0)","v":66.646634615384613},{"$f":"IF(OR(Emi_Short[[#This Row],[MotCel2]]=\"TIER III\",Emi_Short[[#This Row],[MotCel2]]=\"Stage V IWP/IWA\",Emi_Short[[#This Row],[MotCel2]]=\"Stage V NRE\",Emi_Short[[#This Row],[MotCel2]]=\"ULEV (Stage V IWP/IWA)\"),(_xlfn.XLOOKUP(Emi_Short[[#This Row],[Type]]&Emi_Short[[#This Row],[Brandstof]],MJ_Arbeid_Zout[Type Motor]&MJ_Arbeid_Zout[Energiedrager],MJ_Arbeid_Zout[AdBlue (A1-A3) - Zout],\"Not Found\",0)),0)","v":66.646634615384613},{"$f":"_xlfn.XLOOKUP(Emi_Short[[#This Row],[Type]]&Emi_Short[[#This Row],[Brandstof]],MJ_Arbeid_Zoet[Type Motor]&MJ_Arbeid_Zoet[Energiedrager],MJ_Arbeid_Zoet[VM / EA Zoet],\"Not Found\",0)","v":1.5748031496062992E-3},{"$f":"_xlfn.XLOOKUP(Emi_Short[[#This Row],[Type]]&Emi_Short[[#This Row],[Brandstof]],MJ_Arbeid_Zout[Type Motor]&MJ_Arbeid_Zout[Energiedrager],MJ_Arbeid_Zout[VM / EA Zout],\"Not Found\",0)","v":1.1264954318336339E-3}]
["Diesel (ULSD)","Stage V NRE","Diesel-SV-N","Gebruiksprofiel","*RWS Gebruiksprofiel Diesel (ULSD) Verbrandingsemissies (zoner PM en NOx) B1 (o.b.v Transport, freight, inland waterways, barge {RER}| transport, freight, inland waterways, barge | Cut-off, U)",{"$f":"_xlfn.XLOOKUP(Emi_Short[[#This Row],[Gebruiksprofiel Basis B1]],RWS_[Environmental Profile],RWS_[Fuctional Unit],\"\",0)","v":"ton"},"*RWS Kapitaalgoederen Verbrandingsmotor (1000 kg o.b.v. Marine engine {GLO}| marine engine construction | Cut-off, U) (inlcusief reD)","Verbrandingsmotor",{"$f":"_xlfn.XLOOKUP(Emi_Short[[#This Row],[Type]]&Emi_Short[[#This Row],[Brandstof]],MJ_Arbeid_Zoet[Type Motor]&MJ_Arbeid_Zoet[Energiedrager],MJ_Arbeid_Zoet[MJ Arbeid (Geleverd)],\"Not Found\",0)","v":17240},{"$f":"_xlfn.XLOOKUP(Emi_Short[[#This Row],[Type]]&Emi_Short[[#This Row],[Brandstof]],MJ_Arbeid_Zout[Type Motor]&MJ_Arbeid_Zout[Energiedrager],MJ_Arbeid_Zout[MJ Arbeid (Geleverd)],\"Not Found\",0)","v":19395},{"$f":"_xlfn.XLOOKUP(Emi_Short[[#This Row],[Type]]&Emi_Short[[#This Row],[Brandstof]],MJ_Arbeid_Zoet[Type Motor]&MJ_Arbeid_Zoet[Energiedrager],MJ_Arbeid_Zoet[AfKap Casco],\"Not Found\",0)","v":1},{"$f":"_xlfn.XLOOKUP(Emi_Short[[#This Row],[Type]]&Emi_Short[[#This Row],[Brandstof]],MJ_Arbeid_Zout[Type Motor]&MJ_Arbeid_Zout[Energiedrager],MJ_Arbeid_Zout[AfKap Casco],\"Not Found\",0)","v":1.011737089201878},{"$f":"IF(OR(Emi_Short[[#This Row],[MotCel2]]=\"TIER III\",Emi_Short[[#This Row],[MotCel2]]=\"Stage V IWP/IWA\",Emi_Short[[#This Row],[MotCel2]]=\"Stage V NRE\"),(_xlfn.XLOOKUP(Emi_Short[[#This Row],[Type]]&Emi_Short[[#This Row],[Brandstof]],MJ_Arbeid_Zoet[Type Motor]&MJ_Arbeid_Zoet[Energiedrager],MJ_Arbeid_Zoet[AdBlue (A1-A3) - Zoet],\"Not Found\",0)),0)","v":66.646634615384613},{"$f":"IF(OR(Emi_Short[[#This Row],[MotCel2]]=\"TIER III\",Emi_Short[[#This Row],[MotCel2]]=\"Stage V IWP/IWA\",Emi_Short[[#This Row],[MotCel2]]=\"Stage V NRE\",Emi_Short[[#This Row],[MotCel2]]=\"ULEV (Stage V IWP/IWA)\"),(_xlfn.XLOOKUP(Emi_Short[[#This Row],[Type]]&Emi_Short[[#This Row],[Brandstof]],MJ_Arbeid_Zout[Type Motor]&MJ_Arbeid_Zout[Energiedrager],MJ_Arbeid_Zout[AdBlue (A1-A3) - Zout],\"Not Found\",0)),0)","v":66.646634615384613},{"$f":"_xlfn.XLOOKUP(Emi_Short[[#This Row],[Type]]&Emi_Short[[#This Row],[Brandstof]],MJ_Arbeid_Zoet[Type Motor]&MJ_Arbeid_Zoet[Energiedrager],MJ_Arbeid_Zoet[VM / EA Zoet],\"Not Found\",0)","v":1.5748031496062992E-3},{"$f":"_xlfn.XLOOKUP(Emi_Short[[#This Row],[Type]]&Emi_Short[[#This Row],[Brandstof]],MJ_Arbeid_Zout[Type Motor]&MJ_Arbeid_Zout[Energiedrager],MJ_Arbeid_Zout[VM / EA Zout],\"Not Found\",0)","v":1.1264954318336339E-3}]
["FAME","Pre Tier I","FAME-PTI","Gebruiksprofiel","*RWS Gebruiksprofiel FAME Verbrandingsemissies (zoner PM en NOx) B1 (o.b.v Transport, freight, inland waterways, barge {RER}| transport, freight, inland waterways, barge | Cut-off, U)",{"$f":"_xlfn.XLOOKUP(Emi_Short[[#This Row],[Gebruiksprofiel Basis B1]],RWS_[Environmental Profile],RWS_[Fuctional Unit],\"\",0)","v":"ton"},"*RWS Kapitaalgoederen Verbrandingsmotor (1000 kg o.b.v. Marine engine {GLO}| marine engine construction | Cut-off, U) (inlcusief reD)","Verbrandingsmotor",{"$f":"_xlfn.XLOOKUP(Emi_Short[[#This Row],[Type]]&Emi_Short[[#This Row],[Brandstof]],MJ_Arbeid_Zoet[Type Motor]&MJ_Arbeid_Zoet[Energiedrager],MJ_Arbeid_Zoet[MJ Arbeid (Geleverd)],\"Not Found\",0)","v":14880},{"$f":"_xlfn.XLOOKUP(Emi_Short[[#This Row],[Type]]&Emi_Short[[#This Row],[Brandstof]],MJ_Arbeid_Zout[Type Motor]&MJ_Arbeid_Zout[Energiedrager],MJ_Arbeid_Zout[MJ Arbeid (Geleverd)],\"Not Found\",0)","v":16740.000000000004},{"$f":"_xlfn.XLOOKUP(Emi_Short[[#This Row],[Type]]&Emi_Short[[#This Row],[Brandstof]],MJ_Arbeid_Zoet[Type Motor]&MJ_Arbeid_Zoet[Energiedrager],MJ_Arbeid_Zoet[AfKap Casco],\"Not Found\",0)","v":0.86310904872389782},{"$f":"_xlfn.XLOOKUP(Emi_Short[[#This Row],[Type]]&Emi_Short[[#This Row],[Brandstof]],MJ_Arbeid_Zout[Type Motor]&MJ_Arbeid_Zout[Energiedrager],MJ_Arbeid_Zout[AfKap Casco],\"Not Found\",0)","v":0.87323943661971848},{"$f":"IF(OR(Emi_Short[[#This Row],[MotCel2]]=\"TIER III\",Emi_Short[[#This Row],[MotCel2]]=\"Stage V IWP/IWA\",Emi_Short[[#This Row],[MotCel2]]=\"Stage V NRE\"),(_xlfn.XLOOKUP(Emi_Short[[#This Row],[Type]]&Emi_Short[[#This Row],[Brandstof]],MJ_Arbeid_Zoet[Type Motor]&MJ_Arbeid_Zoet[Energiedrager],MJ_Arbeid_Zoet[AdBlue (A1-A3) - Zoet],\"Not Found\",0)),0)","v":0},{"$f":"IF(OR(Emi_Short[[#This Row],[MotCel2]]=\"TIER III\",Emi_Short[[#This Row],[MotCel2]]=\"Stage V IWP/IWA\",Emi_Short[[#This Row],[MotCel2]]=\"Stage V NRE\",Emi_Short[[#This Row],[MotCel2]]=\"ULEV (Stage V IWP/IWA)\"),(_xlfn.XLOOKUP(Emi_Short[[#This Row],[Type]]&Emi_Short[[#This Row],[Brandstof]],MJ_Arbeid_Zout[Type Motor]&MJ_Arbeid_Zout[Energiedrager],MJ_Arbeid_Zout[AdBlue (A1-A3) - Zout],\"Not Found\",0)),0)","v":0},{"$f":"_xlfn.XLOOKUP(Emi_Short[[#This Row],[Type]]&Emi_Short[[#This Row],[Brandstof]],MJ_Arbeid_Zoet[Type Motor]&MJ_Arbeid_Zoet[Energiedrager],MJ_Arbeid_Zoet[VM / EA Zoet],\"Not Found\",0)","v":1.3592268483840909E-3},{"$f":"_xlfn.XLOOKUP(Emi_Short[[#This Row],[Type]]&Emi_Short[[#This Row],[Brandstof]],MJ_Arbeid_Zout[Type Motor]&MJ_Arbeid_Zout[Energiedrager],MJ_Arbeid_Zout[VM / EA Zout],\"Not Found\",0)","v":9.7228840056174455E-4}]
["FAME","ULEV (Stage V IWP/IWA)","FAME-ULEV","Gebruiksprofiel","*RWS Gebruiksprofiel FAME Verbrandingsemissies (zoner PM en NOx) B1 (o.b.v Transport, freight, inland waterways, barge {RER}| transport, freight, inland waterways, barge | Cut-off, U)",{"$f":"_xlfn.XLOOKUP(Emi_Short[[#This Row],[Gebruiksprofiel Basis B1]],RWS_[Environmental Profile],RWS_[Fuctional Unit],\"\",0)","v":"ton"},"*RWS Kapitaalgoederen Verbrandingsmotor (1000 kg o.b.v. Marine engine {GLO}| marine engine construction | Cut-off, U) (inlcusief reD)","Verbrandingsmotor",{"$f":"_xlfn.XLOOKUP(Emi_Short[[#This Row],[Type]]&Emi_Short[[#This Row],[Brandstof]],MJ_Arbeid_Zoet[Type Motor]&MJ_Arbeid_Zoet[Energiedrager],MJ_Arbeid_Zoet[MJ Arbeid (Geleverd)],\"Not Found\",0)","v":14880},{"$f":"_xlfn.XLOOKUP(Emi_Short[[#This Row],[Type]]&Emi_Short[[#This Row],[Brandstof]],MJ_Arbeid_Zout[Type Motor]&MJ_Arbeid_Zout[Energiedrager],MJ_Arbeid_Zout[MJ Arbeid (Geleverd)],\"Not Found\",0)","v":16740.000000000004},{"$f":"_xlfn.XLOOKUP(Emi_Short[[#This Row],[Type]]&Emi_Short[[#This Row],[Brandstof]],MJ_Arbeid_Zoet[Type Motor]&MJ_Arbeid_Zoet[Energiedrager],MJ_Arbeid_Zoet[AfKap Casco],\"Not Found\",0)","v":0.86310904872389782},{"$f":"_xlfn.XLOOKUP(Emi_Short[[#This Row],[Type]]&Emi_Short[[#This Row],[Brandstof]],MJ_Arbeid_Zout[Type Motor]&MJ_Arbeid_Zout[Energiedrager],MJ_Arbeid_Zout[AfKap Casco],\"Not Found\",0)","v":0.87323943661971848},{"$f":"IF(OR(Emi_Short[[#This Row],[MotCel2]]=\"TIER III\",Emi_Short[[#This Row],[MotCel2]]=\"Stage V IWP/IWA\",Emi_Short[[#This Row],[MotCel2]]=\"Stage V NRE\"),(_xlfn.XLOOKUP(Emi_Short[[#This Row],[Type]]&Emi_Short[[#This Row],[Brandstof]],MJ_Arbeid_Zoet[Type Motor]&MJ_Arbeid_Zoet[Energiedrager],MJ_Arbeid_Zoet[AdBlue (A1-A3) - Zoet],\"Not Found\",0)),0)","v":0},{"$f":"IF(OR(Emi_Short[[#This Row],[MotCel2]]=\"TIER III\",Emi_Short[[#This Row],[MotCel2]]=\"Stage V IWP/IWA\",Emi_Short[[#This Row],[MotCel2]]=\"Stage V NRE\",Emi_Short[[#This Row],[MotCel2]]=\"ULEV (Stage V IWP/IWA)\"),(_xlfn.XLOOKUP(Emi_Short[[#This Row],[Type]]&Emi_Short[[#This Row],[Brandstof]],MJ_Arbeid_Zout[Type Motor]&MJ_Arbeid_Zout[Energiedrager],MJ_Arbeid_Zout[AdBlue (A1-A3) - Zout],\"Not Found\",0)),0)","v":57.523313403533813},{"$f":"_xlfn.XLOOKUP(Emi_Short[[#This Row],[Type]]&Emi_Short[[#This Row],[Brandstof]],MJ_Arbeid_Zoet[Type Motor]&MJ_Arbeid_Zoet[Energiedrager],MJ_Arbeid_Zoet[VM / EA Zoet],\"Not Found\",0)","v":1.3592268483840909E-3},{"$f":"_xlfn.XLOOKUP(Emi_Short[[#This Row],[Type]]&Emi_Short[[#This Row],[Brandstof]],MJ_Arbeid_Zout[Type Motor]&MJ_Arbeid_Zout[Energiedrager],MJ_Arbeid_Zout[VM / EA Zout],\"Not Found\",0)","v":9.7228840056174455E-4}]
["FAME","TIER I / II","FAME-TII","Gebruiksprofiel","*RWS Gebruiksprofiel FAME Verbrandingsemissies (zoner PM en NOx) B1 (o.b.v Transport, freight, inland waterways, barge {RER}| transport, freight, inland waterways, barge | Cut-off, U)",{"$f":"_xlfn.XLOOKUP(Emi_Short[[#This Row],[Gebruiksprofiel Basis B1]],RWS_[Environmental Profile],RWS_[Fuctional Unit],\"\",0)","v":"ton"},"*RWS Kapitaalgoederen Verbrandingsmotor (1000 kg o.b.v. Marine engine {GLO}| marine engine construction | Cut-off, U) (inlcusief reD)","Verbrandingsmotor",{"$f":"_xlfn.XLOOKUP(Emi_Short[[#This Row],[Type]]&Emi_Short[[#This Row],[Brandstof]],MJ_Arbeid_Zoet[Type Motor]&MJ_Arbeid_Zoet[Energiedrager],MJ_Arbeid_Zoet[MJ Arbeid (Geleverd)],\"Not Found\",0)","v":14880},{"$f":"_xlfn.XLOOKUP(Emi_Short[[#This Row],[Type]]&Emi_Short[[#This Row],[Brandstof]],MJ_Arbeid_Zout[Type Motor]&MJ_Arbeid_Zout[Energiedrager],MJ_Arbeid_Zout[MJ Arbeid (Geleverd)],\"Not Found\",0)","v":16740.000000000004},{"$f":"_xlfn.XLOOKUP(Emi_Short[[#This Row],[Type]]&Emi_Short[[#This Row],[Brandstof]],MJ_Arbeid_Zoet[Type Motor]&MJ_Arbeid_Zoet[Energiedrager],MJ_Arbeid_Zoet[AfKap Casco],\"Not Found\",0)","v":0.86310904872389782},{"$f":"_xlfn.XLOOKUP(Emi_Short[[#This Row],[Type]]&Emi_Short[[#This Row],[Brandstof]],MJ_Arbeid_Zout[Type Motor]&MJ_Arbeid_Zout[Energiedrager],MJ_Arbeid_Zout[AfKap Casco],\"Not Found\",0)","v":0.87323943661971848},{"$f":"IF(OR(Emi_Short[[#This Row],[MotCel2]]=\"TIER III\",Emi_Short[[#This Row],[MotCel2]]=\"Stage V IWP/IWA\",Emi_Short[[#This Row],[MotCel2]]=\"Stage V NRE\"),(_xlfn.XLOOKUP(Emi_Short[[#This Row],[Type]]&Emi_Short[[#This Row],[Brandstof]],MJ_Arbeid_Zoet[Type Motor]&MJ_Arbeid_Zoet[Energiedrager],MJ_Arbeid_Zoet[AdBlue (A1-A3) - Zoet],\"Not Found\",0)),0)","v":0},{"$f":"IF(OR(Emi_Short[[#This Row],[MotCel2]]=\"TIER III\",Emi_Short[[#This Row],[MotCel2]]=\"Stage V IWP/IWA\",Emi_Short[[#This Row],[MotCel2]]=\"Stage V NRE\",Emi_Short[[#This Row],[MotCel2]]=\"ULEV (Stage V IWP/IWA)\"),(_xlfn.XLOOKUP(Emi_Short[[#This Row],[Type]]&Emi_Short[[#This Row],[Brandstof]],MJ_Arbeid_Zout[Type Motor]&MJ_Arbeid_Zout[Energiedrager],MJ_Arbeid_Zout[AdBlue (A1-A3) - Zout],\"Not Found\",0)),0)","v":0},{"$f":"_xlfn.XLOOKUP(Emi_Short[[#This Row],[Type]]&Emi_Short[[#This Row],[Brandstof]],MJ_Arbeid_Zoet[Type Motor]&MJ_Arbeid_Zoet[Energiedrager],MJ_Arbeid_Zoet[VM / EA Zoet],\"Not Found\",0)","v":1.3592268483840909E-3},{"$f":"_xlfn.XLOOKUP(Emi_Short[[#This Row],[Type]]&Emi_Short[[#This Row],[Brandstof]],MJ_Arbeid_Zout[Type Motor]&MJ_Arbeid_Zout[Energiedrager],MJ_Arbeid_Zout[VM / EA Zout],\"Not Found\",0)","v":9.7228840056174455E-4}]
["FAME","TIER III","FAME-TIII","Gebruiksprofiel","*RWS Gebruiksprofiel FAME Verbrandingsemissies (zoner PM en NOx) B1 (o.b.v Transport, freight, inland waterways, barge {RER}| transport, freight, inland waterways, barge | Cut-off, U)",{"$f":"_xlfn.XLOOKUP(Emi_Short[[#This Row],[Gebruiksprofiel Basis B1]],RWS_[Environmental Profile],RWS_[Fuctional Unit],\"\",0)","v":"ton"},"*RWS Kapitaalgoederen Verbrandingsmotor (1000 kg o.b.v. Marine engine {GLO}| marine engine construction | Cut-off, U) (inlcusief reD)","Verbrandingsmotor",{"$f":"_xlfn.XLOOKUP(Emi_Short[[#This Row],[Type]]&Emi_Short[[#This Row],[Brandstof]],MJ_Arbeid_Zoet[Type Motor]&MJ_Arbeid_Zoet[Energiedrager],MJ_Arbeid_Zoet[MJ Arbeid (Geleverd)],\"Not Found\",0)","v":14880},{"$f":"_xlfn.XLOOKUP(Emi_Short[[#This Row],[Type]]&Emi_Short[[#This Row],[Brandstof]],MJ_Arbeid_Zout[Type Motor]&MJ_Arbeid_Zout[Energiedrager],MJ_Arbeid_Zout[MJ Arbeid (Geleverd)],\"Not Found\",0)","v":16740.000000000004},{"$f":"_xlfn.XLOOKUP(Emi_Short[[#This Row],[Type]]&Emi_Short[[#This Row],[Brandstof]],MJ_Arbeid_Zoet[Type Motor]&MJ_Arbeid_Zoet[Energiedrager],MJ_Arbeid_Zoet[AfKap Casco],\"Not Found\",0)","v":0.86310904872389782},{"$f":"_xlfn.XLOOKUP(Emi_Short[[#This Row],[Type]]&Emi_Short[[#This Row],[Brandstof]],MJ_Arbeid_Zout[Type Motor]&MJ_Arbeid_Zout[Energiedrager],MJ_Arbeid_Zout[AfKap Casco],\"Not Found\",0)","v":0.87323943661971848},{"$f":"IF(OR(Emi_Short[[#This Row],[MotCel2]]=\"TIER III\",Emi_Short[[#This Row],[MotCel2]]=\"Stage V IWP/IWA\",Emi_Short[[#This Row],[MotCel2]]=\"Stage V NRE\"),(_xlfn.XLOOKUP(Emi_Short[[#This Row],[Type]]&Emi_Short[[#This Row],[Brandstof]],MJ_Arbeid_Zoet[Type Motor]&MJ_Arbeid_Zoet[Energiedrager],MJ_Arbeid_Zoet[AdBlue (A1-A3) - Zoet],\"Not Found\",0)),0)","v":57.523313403533813},{"$f":"IF(OR(Emi_Short[[#This Row],[MotCel2]]=\"TIER III\",Emi_Short[[#This Row],[MotCel2]]=\"Stage V IWP/IWA\",Emi_Short[[#This Row],[MotCel2]]=\"Stage V NRE\",Emi_Short[[#This Row],[MotCel2]]=\"ULEV (Stage V IWP/IWA)\"),(_xlfn.XLOOKUP(Emi_Short[[#This Row],[Type]]&Emi_Short[[#This Row],[Brandstof]],MJ_Arbeid_Zout[Type Motor]&MJ_Arbeid_Zout[Energiedrager],MJ_Arbeid_Zout[AdBlue (A1-A3) - Zout],\"Not Found\",0)),0)","v":57.523313403533813},{"$f":"_xlfn.XLOOKUP(Emi_Short[[#This Row],[Type]]&Emi_Short[[#This Row],[Brandstof]],MJ_Arbeid_Zoet[Type Motor]&MJ_Arbeid_Zoet[Energiedrager],MJ_Arbeid_Zoet[VM / EA Zoet],\"Not Found\",0)","v":1.3592268483840909E-3},{"$f":"_xlfn.XLOOKUP(Emi_Short[[#This Row],[Type]]&Emi_Short[[#This Row],[Brandstof]],MJ_Arbeid_Zout[Type Motor]&MJ_Arbeid_Zout[Energiedrager],MJ_Arbeid_Zout[VM / EA Zout],\"Not Found\",0)","v":9.7228840056174455E-4}]
["FAME","CCR 0 / Unspecified","FAME-C0","Gebruiksprofiel","*RWS Gebruiksprofiel FAME Verbrandingsemissies (zoner PM en NOx) B1 (o.b.v Transport, freight, inland waterways, barge {RER}| transport, freight, inland waterways, barge | Cut-off, U)",{"$f":"_xlfn.XLOOKUP(Emi_Short[[#This Row],[Gebruiksprofiel Basis B1]],RWS_[Environmental Profile],RWS_[Fuctional Unit],\"\",0)","v":"ton"},"*RWS Kapitaalgoederen Verbrandingsmotor (1000 kg o.b.v. Marine engine {GLO}| marine engine construction | Cut-off, U) (inlcusief reD)","Verbrandingsmotor",{"$f":"_xlfn.XLOOKUP(Emi_Short[[#This Row],[Type]]&Emi_Short[[#This Row],[Brandstof]],MJ_Arbeid_Zoet[Type Motor]&MJ_Arbeid_Zoet[Energiedrager],MJ_Arbeid_Zoet[MJ Arbeid (Geleverd)],\"Not Found\",0)","v":14880},{"$f":"_xlfn.XLOOKUP(Emi_Short[[#This Row],[Type]]&Emi_Short[[#This Row],[Brandstof]],MJ_Arbeid_Zout[Type Motor]&MJ_Arbeid_Zout[Energiedrager],MJ_Arbeid_Zout[MJ Arbeid (Geleverd)],\"Not Found\",0)","v":16740.000000000004},{"$f":"_xlfn.XLOOKUP(Emi_Short[[#This Row],[Type]]&Emi_Short[[#This Row],[Brandstof]],MJ_Arbeid_Zoet[Type Motor]&MJ_Arbeid_Zoet[Energiedrager],MJ_Arbeid_Zoet[AfKap Casco],\"Not Found\",0)","v":0.86310904872389782},{"$f":"_xlfn.XLOOKUP(Emi_Short[[#This Row],[Type]]&Emi_Short[[#This Row],[Brandstof]],MJ_Arbeid_Zout[Type Motor]&MJ_Arbeid_Zout[Energiedrager],MJ_Arbeid_Zout[AfKap Casco],\"Not Found\",0)","v":0.87323943661971848},{"$f":"IF(OR(Emi_Short[[#This Row],[MotCel2]]=\"TIER III\",Emi_Short[[#This Row],[MotCel2]]=\"Stage V IWP/IWA\",Emi_Short[[#This Row],[MotCel2]]=\"Stage V NRE\"),(_xlfn.XLOOKUP(Emi_Short[[#This Row],[Type]]&Emi_Short[[#This Row],[Brandstof]],MJ_Arbeid_Zoet[Type Motor]&MJ_Arbeid_Zoet[Energiedrager],MJ_Arbeid_Zoet[AdBlue (A1-A3) - Zoet],\"Not Found\",0)),0)","v":0},{"$f":"IF(OR(Emi_Short[[#This Row],[MotCel2]]=\"TIER III\",Emi_Short[[#This Row],[MotCel2]]=\"Stage V IWP/IWA\",Emi_Short[[#This Row],[MotCel2]]=\"Stage V NRE\",Emi_Short[[#This Row],[MotCel2]]=\"ULEV (Stage V IWP/IWA)\"),(_xlfn.XLOOKUP(Emi_Short[[#This Row],[Type]]&Emi_Short[[#This Row],[Brandstof]],MJ_Arbeid_Zout[Type Motor]&MJ_Arbeid_Zout[Energiedrager],MJ_Arbeid_Zout[AdBlue (A1-A3) - Zout],\"Not Found\",0)),0)","v":0},{"$f":"_xlfn.XLOOKUP(Emi_Short[[#This Row],[Type]]&Emi_Short[[#This Row],[Brandstof]],MJ_Arbeid_Zoet[Type Motor]&MJ_Arbeid_Zoet[Energiedrager],MJ_Arbeid_Zoet[VM / EA Zoet],\"Not Found\",0)","v":1.3592268483840909E-3},{"$f":"_xlfn.XLOOKUP(Emi_Short[[#This Row],[Type]]&Emi_Short[[#This Row],[Brandstof]],MJ_Arbeid_Zout[Type Motor]&MJ_Arbeid_Zout[Energiedrager],MJ_Arbeid_Zout[VM / EA Zout],\"Not Found\",0)","v":9.7228840056174455E-4}]
["FAME","CCR I","FAME-CI","Gebruiksprofiel","*RWS Gebruiksprofiel FAME Verbrandingsemissies (zoner PM en NOx) B1 (o.b.v Transport, freight, inland waterways, barge {RER}| transport, freight, inland waterways, barge | Cut-off, U)",{"$f":"_xlfn.XLOOKUP(Emi_Short[[#This Row],[Gebruiksprofiel Basis B1]],RWS_[Environmental Profile],RWS_[Fuctional Unit],\"\",0)","v":"ton"},"*RWS Kapitaalgoederen Verbrandingsmotor (1000 kg o.b.v. Marine engine {GLO}| marine engine construction | Cut-off, U) (inlcusief reD)","Verbrandingsmotor",{"$f":"_xlfn.XLOOKUP(Emi_Short[[#This Row],[Type]]&Emi_Short[[#This Row],[Brandstof]],MJ_Arbeid_Zoet[Type Motor]&MJ_Arbeid_Zoet[Energiedrager],MJ_Arbeid_Zoet[MJ Arbeid (Geleverd)],\"Not Found\",0)","v":14880},{"$f":"_xlfn.XLOOKUP(Emi_Short[[#This Row],[Type]]&Emi_Short[[#This Row],[Brandstof]],MJ_Arbeid_Zout[Type Motor]&MJ_Arbeid_Zout[Energiedrager],MJ_Arbeid_Zout[MJ Arbeid (Geleverd)],\"Not Found\",0)","v":16740.000000000004},{"$f":"_xlfn.XLOOKUP(Emi_Short[[#This Row],[Type]]&Emi_Short[[#This Row],[Brandstof]],MJ_Arbeid_Zoet[Type Motor]&MJ_Arbeid_Zoet[Energiedrager],MJ_Arbeid_Zoet[AfKap Casco],\"Not Found\",0)","v":0.86310904872389782},{"$f":"_xlfn.XLOOKUP(Emi_Short[[#This Row],[Type]]&Emi_Short[[#This Row],[Brandstof]],MJ_Arbeid_Zout[Type Motor]&MJ_Arbeid_Zout[Energiedrager],MJ_Arbeid_Zout[AfKap Casco],\"Not Found\",0)","v":0.87323943661971848},{"$f":"IF(OR(Emi_Short[[#This Row],[MotCel2]]=\"TIER III\",Emi_Short[[#This Row],[MotCel2]]=\"Stage V IWP/IWA\",Emi_Short[[#This Row],[MotCel2]]=\"Stage V NRE\"),(_xlfn.XLOOKUP(Emi_Short[[#This Row],[Type]]&Emi_Short[[#This Row],[Brandstof]],MJ_Arbeid_Zoet[Type Motor]&MJ_Arbeid_Zoet[Energiedrager],MJ_Arbeid_Zoet[AdBlue (A1-A3) - Zoet],\"Not Found\",0)),0)","v":0},{"$f":"IF(OR(Emi_Short[[#This Row],[MotCel2]]=\"TIER III\",Emi_Short[[#This Row],[MotCel2]]=\"Stage V IWP/IWA\",Emi_Short[[#This Row],[MotCel2]]=\"Stage V NRE\",Emi_Short[[#This Row],[MotCel2]]=\"ULEV (Stage V IWP/IWA)\"),(_xlfn.XLOOKUP(Emi_Short[[#This Row],[Type]]&Emi_Short[[#This Row],[Brandstof]],MJ_Arbeid_Zout[Type Motor]&MJ_Arbeid_Zout[Energiedrager],MJ_Arbeid_Zout[AdBlue (A1-A3) - Zout],\"Not Found\",0)),0)","v":0},{"$f":"_xlfn.XLOOKUP(Emi_Short[[#This Row],[Type]]&Emi_Short[[#This Row],[Brandstof]],MJ_Arbeid_Zoet[Type Motor]&MJ_Arbeid_Zoet[Energiedrager],MJ_Arbeid_Zoet[VM / EA Zoet],\"Not Found\",0)","v":1.3592268483840909E-3},{"$f":"_xlfn.XLOOKUP(Emi_Short[[#This Row],[Type]]&Emi_Short[[#This Row],[Brandstof]],MJ_Arbeid_Zout[Type Motor]&MJ_Arbeid_Zout[Energiedrager],MJ_Arbeid_Zout[VM / EA Zout],\"Not Found\",0)","v":9.7228840056174455E-4}]
["FAME","CCR II","FAME-CII","Gebruiksprofiel","*RWS Gebruiksprofiel FAME Verbrandingsemissies (zoner PM en NOx) B1 (o.b.v Transport, freight, inland waterways, barge {RER}| transport, freight, inland waterways, barge | Cut-off, U)",{"$f":"_xlfn.XLOOKUP(Emi_Short[[#This Row],[Gebruiksprofiel Basis B1]],RWS_[Environmental Profile],RWS_[Fuctional Unit],\"\",0)","v":"ton"},"*RWS Kapitaalgoederen Verbrandingsmotor (1000 kg o.b.v. Marine engine {GLO}| marine engine construction | Cut-off, U) (inlcusief reD)","Verbrandingsmotor",{"$f":"_xlfn.XLOOKUP(Emi_Short[[#This Row],[Type]]&Emi_Short[[#This Row],[Brandstof]],MJ_Arbeid_Zoet[Type Motor]&MJ_Arbeid_Zoet[Energiedrager],MJ_Arbeid_Zoet[MJ Arbeid (Geleverd)],\"Not Found\",0)","v":14880},{"$f":"_xlfn.XLOOKUP(Emi_Short[[#This Row],[Type]]&Emi_Short[[#This Row],[Brandstof]],MJ_Arbeid_Zout[Type Motor]&MJ_Arbeid_Zout[Energiedrager],MJ_Arbeid_Zout[MJ Arbeid (Geleverd)],\"Not Found\",0)","v":16740.000000000004},{"$f":"_xlfn.XLOOKUP(Emi_Short[[#This Row],[Type]]&Emi_Short[[#This Row],[Brandstof]],MJ_Arbeid_Zoet[Type Motor]&MJ_Arbeid_Zoet[Energiedrager],MJ_Arbeid_Zoet[AfKap Casco],\"Not Found\",0)","v":0.86310904872389782},{"$f":"_xlfn.XLOOKUP(Emi_Short[[#This Row],[Type]]&Emi_Short[[#This Row],[Brandstof]],MJ_Arbeid_Zout[Type Motor]&MJ_Arbeid_Zout[Energiedrager],MJ_Arbeid_Zout[AfKap Casco],\"Not Found\",0)","v":0.87323943661971848},{"$f":"IF(OR(Emi_Short[[#This Row],[MotCel2]]=\"TIER III\",Emi_Short[[#This Row],[MotCel2]]=\"Stage V IWP/IWA\",Emi_Short[[#This Row],[MotCel2]]=\"Stage V NRE\"),(_xlfn.XLOOKUP(Emi_Short[[#This Row],[Type]]&Emi_Short[[#This Row],[Brandstof]],MJ_Arbeid_Zoet[Type Motor]&MJ_Arbeid_Zoet[Energiedrager],MJ_Arbeid_Zoet[AdBlue (A1-A3) - Zoet],\"Not Found\",0)),0)","v":0},{"$f":"IF(OR(Emi_Short[[#This Row],[MotCel2]]=\"TIER III\",Emi_Short[[#This Row],[MotCel2]]=\"Stage V IWP/IWA\",Emi_Short[[#This Row],[MotCel2]]=\"Stage V NRE\",Emi_Short[[#This Row],[MotCel2]]=\"ULEV (Stage V IWP/IWA)\"),(_xlfn.XLOOKUP(Emi_Short[[#This Row],[Type]]&Emi_Short[[#This Row],[Brandstof]],MJ_Arbeid_Zout[Type Motor]&MJ_Arbeid_Zout[Energiedrager],MJ_Arbeid_Zout[AdBlue (A1-A3) - Zout],\"Not Found\",0)),0)","v":0},{"$f":"_xlfn.XLOOKUP(Emi_Short[[#This Row],[Type]]&Emi_Short[[#This Row],[Brandstof]],MJ_Arbeid_Zoet[Type Motor]&MJ_Arbeid_Zoet[Energiedrager],MJ_Arbeid_Zoet[VM / EA Zoet],\"Not Found\",0)","v":1.3592268483840909E-3},{"$f":"_xlfn.XLOOKUP(Emi_Short[[#This Row],[Type]]&Emi_Short[[#This Row],[Brandstof]],MJ_Arbeid_Zout[Type Motor]&MJ_Arbeid_Zout[Energiedrager],MJ_Arbeid_Zout[VM / EA Zout],\"Not Found\",0)","v":9.7228840056174455E-4}]
["FAME","Stage V IWP/IWA","FAME-SV-I","Gebruiksprofiel","*RWS Gebruiksprofiel FAME Verbrandingsemissies (zoner PM en NOx) B1 (o.b.v Transport, freight, inland waterways, barge {RER}| transport, freight, inland waterways, barge | Cut-off, U)",{"$f":"_xlfn.XLOOKUP(Emi_Short[[#This Row],[Gebruiksprofiel Basis B1]],RWS_[Environmental Profile],RWS_[Fuctional Unit],\"\",0)","v":"ton"},"*RWS Kapitaalgoederen Verbrandingsmotor (1000 kg o.b.v. Marine engine {GLO}| marine engine construction | Cut-off, U) (inlcusief reD)","Verbrandingsmotor",{"$f":"_xlfn.XLOOKUP(Emi_Short[[#This Row],[Type]]&Emi_Short[[#This Row],[Brandstof]],MJ_Arbeid_Zoet[Type Motor]&MJ_Arbeid_Zoet[Energiedrager],MJ_Arbeid_Zoet[MJ Arbeid (Geleverd)],\"Not Found\",0)","v":14880},{"$f":"_xlfn.XLOOKUP(Emi_Short[[#This Row],[Type]]&Emi_Short[[#This Row],[Brandstof]],MJ_Arbeid_Zout[Type Motor]&MJ_Arbeid_Zout[Energiedrager],MJ_Arbeid_Zout[MJ Arbeid (Geleverd)],\"Not Found\",0)","v":16740.000000000004},{"$f":"_xlfn.XLOOKUP(Emi_Short[[#This Row],[Type]]&Emi_Short[[#This Row],[Brandstof]],MJ_Arbeid_Zoet[Type Motor]&MJ_Arbeid_Zoet[Energiedrager],MJ_Arbeid_Zoet[AfKap Casco],\"Not Found\",0)","v":0.86310904872389782},{"$f":"_xlfn.XLOOKUP(Emi_Short[[#This Row],[Type]]&Emi_Short[[#This Row],[Brandstof]],MJ_Arbeid_Zout[Type Motor]&MJ_Arbeid_Zout[Energiedrager],MJ_Arbeid_Zout[AfKap Casco],\"Not Found\",0)","v":0.87323943661971848},{"$f":"IF(OR(Emi_Short[[#This Row],[MotCel2]]=\"TIER III\",Emi_Short[[#This Row],[MotCel2]]=\"Stage V IWP/IWA\",Emi_Short[[#This Row],[MotCel2]]=\"Stage V NRE\"),(_xlfn.XLOOKUP(Emi_Short[[#This Row],[Type]]&Emi_Short[[#This Row],[Brandstof]],MJ_Arbeid_Zoet[Type Motor]&MJ_Arbeid_Zoet[Energiedrager],MJ_Arbeid_Zoet[AdBlue (A1-A3) - Zoet],\"Not Found\",0)),0)","v":57.523313403533813},{"$f":"IF(OR(Emi_Short[[#This Row],[MotCel2]]=\"TIER III\",Emi_Short[[#This Row],[MotCel2]]=\"Stage V IWP/IWA\",Emi_Short[[#This Row],[MotCel2]]=\"Stage V NRE\",Emi_Short[[#This Row],[MotCel2]]=\"ULEV (Stage V IWP/IWA)\"),(_xlfn.XLOOKUP(Emi_Short[[#This Row],[Type]]&Emi_Short[[#This Row],[Brandstof]],MJ_Arbeid_Zout[Type Motor]&MJ_Arbeid_Zout[Energiedrager],MJ_Arbeid_Zout[AdBlue (A1-A3) - Zout],\"Not Found\",0)),0)","v":57.523313403533813},{"$f":"_xlfn.XLOOKUP(Emi_Short[[#This Row],[Type]]&Emi_Short[[#This Row],[Brandstof]],MJ_Arbeid_Zoet[Type Motor]&MJ_Arbeid_Zoet[Energiedrager],MJ_Arbeid_Zoet[VM / EA Zoet],\"Not Found\",0)","v":1.3592268483840909E-3},{"$f":"_xlfn.XLOOKUP(Emi_Short[[#This Row],[Type]]&Emi_Short[[#This Row],[Brandstof]],MJ_Arbeid_Zout[Type Motor]&MJ_Arbeid_Zout[Energiedrager],MJ_Arbeid_Zout[VM / EA Zout],\"Not Found\",0)","v":9.7228840056174455E-4}]
["FAME","Stage V NRE","FAME-SV-N","Gebruiksprofiel","*RWS Gebruiksprofiel FAME Verbrandingsemissies (zoner PM en NOx) B1 (o.b.v Transport, freight, inland waterways, barge {RER}| transport, freight, inland waterways, barge | Cut-off, U)",{"$f":"_xlfn.XLOOKUP(Emi_Short[[#This Row],[Gebruiksprofiel Basis B1]],RWS_[Environmental Profile],RWS_[Fuctional Unit],\"\",0)","v":"ton"},"*RWS Kapitaalgoederen Verbrandingsmotor (1000 kg o.b.v. Marine engine {GLO}| marine engine construction | Cut-off, U) (inlcusief reD)","Verbrandingsmotor",{"$f":"_xlfn.XLOOKUP(Emi_Short[[#This Row],[Type]]&Emi_Short[[#This Row],[Brandstof]],MJ_Arbeid_Zoet[Type Motor]&MJ_Arbeid_Zoet[Energiedrager],MJ_Arbeid_Zoet[MJ Arbeid (Geleverd)],\"Not Found\",0)","v":14880},{"$f":"_xlfn.XLOOKUP(Emi_Short[[#This Row],[Type]]&Emi_Short[[#This Row],[Brandstof]],MJ_Arbeid_Zout[Type Motor]&MJ_Arbeid_Zout[Energiedrager],MJ_Arbeid_Zout[MJ Arbeid (Geleverd)],\"Not Found\",0)","v":16740.000000000004},{"$f":"_xlfn.XLOOKUP(Emi_Short[[#This Row],[Type]]&Emi_Short[[#This Row],[Brandstof]],MJ_Arbeid_Zoet[Type Motor]&MJ_Arbeid_Zoet[Energiedrager],MJ_Arbeid_Zoet[AfKap Casco],\"Not Found\",0)","v":0.86310904872389782},{"$f":"_xlfn.XLOOKUP(Emi_Short[[#This Row],[Type]]&Emi_Short[[#This Row],[Brandstof]],MJ_Arbeid_Zout[Type Motor]&MJ_Arbeid_Zout[Energiedrager],MJ_Arbeid_Zout[AfKap Casco],\"Not Found\",0)","v":0.87323943661971848},{"$f":"IF(OR(Emi_Short[[#This Row],[MotCel2]]=\"TIER III\",Emi_Short[[#This Row],[MotCel2]]=\"Stage V IWP/IWA\",Emi_Short[[#This Row],[MotCel2]]=\"Stage V NRE\"),(_xlfn.XLOOKUP(Emi_Short[[#This Row],[Type]]&Emi_Short[[#This Row],[Brandstof]],MJ_Arbeid_Zoet[Type Motor]&MJ_Arbeid_Zoet[Energiedrager],MJ_Arbeid_Zoet[AdBlue (A1-A3) - Zoet],\"Not Found\",0)),0)","v":57.523313403533813},{"$f":"IF(OR(Emi_Short[[#This Row],[MotCel2]]=\"TIER III\",Emi_Short[[#This Row],[MotCel2]]=\"Stage V IWP/IWA\",Emi_Short[[#This Row],[MotCel2]]=\"Stage V NRE\",Emi_Short[[#This Row],[MotCel2]]=\"ULEV (Stage V IWP/IWA)\"),(_xlfn.XLOOKUP(Emi_Short[[#This Row],[Type]]&Emi_Short[[#This Row],[Brandstof]],MJ_Arbeid_Zout[Type Motor]&MJ_Arbeid_Zout[Energiedrager],MJ_Arbeid_Zout[AdBlue (A1-A3) - Zout],\"Not Found\",0)),0)","v":57.523313403533813},{"$f":"_xlfn.XLOOKUP(Emi_Short[[#This Row],[Type]]&Emi_Short[[#This Row],[Brandstof]],MJ_Arbeid_Zoet[Type Motor]&MJ_Arbeid_Zoet[Energiedrager],MJ_Arbeid_Zoet[VM / EA Zoet],\"Not Found\",0)","v":1.3592268483840909E-3},{"$f":"_xlfn.XLOOKUP(Emi_Short[[#This Row],[Type]]&Emi_Short[[#This Row],[Brandstof]],MJ_Arbeid_Zout[Type Motor]&MJ_Arbeid_Zout[Energiedrager],MJ_Arbeid_Zout[VM / EA Zout],\"Not Found\",0)","v":9.7228840056174455E-4}]
["GTL","ULEV (Stage V IWP/IWA)","GTL-ULEV","Gebruiksprofiel","*RWS Gebruiksprofiel GTL (verbrandingsemissies) - pre Tier I (zonder PM en NOx) (B1)",{"$f":"_xlfn.XLOOKUP(Emi_Short[[#This Row],[Gebruiksprofiel Basis B1]],RWS_[Environmental Profile],RWS_[Fuctional Unit],\"\",0)","v":"ton"},"*RWS Kapitaalgoederen Verbrandingsmotor (1000 kg o.b.v. Marine engine {GLO}| marine engine construction | Cut-off, U) (inlcusief reD)","Verbrandingsmotor",{"$f":"_xlfn.XLOOKUP(Emi_Short[[#This Row],[Type]]&Emi_Short[[#This Row],[Brandstof]],MJ_Arbeid_Zoet[Type Motor]&MJ_Arbeid_Zoet[Energiedrager],MJ_Arbeid_Zoet[MJ Arbeid (Geleverd)],\"Not Found\",0)","v":17600},{"$f":"_xlfn.XLOOKUP(Emi_Short[[#This Row],[Type]]&Emi_Short[[#This Row],[Brandstof]],MJ_Arbeid_Zout[Type Motor]&MJ_Arbeid_Zout[Energiedrager],MJ_Arbeid_Zout[MJ Arbeid (Geleverd)],\"Not Found\",0)","v":19800},{"$f":"_xlfn.XLOOKUP(Emi_Short[[#This Row],[Type]]&Emi_Short[[#This Row],[Brandstof]],MJ_Arbeid_Zoet[Type Motor]&MJ_Arbeid_Zoet[Energiedrager],MJ_Arbeid_Zoet[AfKap Casco],\"Not Found\",0)","v":1.0208816705336425},{"$f":"_xlfn.XLOOKUP(Emi_Short[[#This Row],[Type]]&Emi_Short[[#This Row],[Brandstof]],MJ_Arbeid_Zout[Type Motor]&MJ_Arbeid_Zout[Energiedrager],MJ_Arbeid_Zout[AfKap Casco],\"Not Found\",0)","v":1.0328638497652582},{"$f":"IF(OR(Emi_Short[[#This Row],[MotCel2]]=\"TIER III\",Emi_Short[[#This Row],[MotCel2]]=\"Stage V IWP/IWA\",Emi_Short[[#This Row],[MotCel2]]=\"Stage V NRE\"),(_xlfn.XLOOKUP(Emi_Short[[#This Row],[Type]]&Emi_Short[[#This Row],[Brandstof]],MJ_Arbeid_Zoet[Type Motor]&MJ_Arbeid_Zoet[Energiedrager],MJ_Arbeid_Zoet[AdBlue (A1-A3) - Zoet],\"Not Found\",0)),0)","v":0},{"$f":"IF(OR(Emi_Short[[#This Row],[MotCel2]]=\"TIER III\",Emi_Short[[#This Row],[MotCel2]]=\"Stage V IWP/IWA\",Emi_Short[[#This Row],[MotCel2]]=\"Stage V NRE\",Emi_Short[[#This Row],[MotCel2]]=\"ULEV (Stage V IWP/IWA)\"),(_xlfn.XLOOKUP(Emi_Short[[#This Row],[Type]]&Emi_Short[[#This Row],[Brandstof]],MJ_Arbeid_Zout[Type Motor]&MJ_Arbeid_Zout[Energiedrager],MJ_Arbeid_Zout[AdBlue (A1-A3) - Zout],\"Not Found\",0)),0)","v":68.038327681599128},{"$f":"_xlfn.XLOOKUP(Emi_Short[[#This Row],[Type]]&Emi_Short[[#This Row],[Brandstof]],MJ_Arbeid_Zoet[Type Motor]&MJ_Arbeid_Zoet[Energiedrager],MJ_Arbeid_Zoet[VM / EA Zoet],\"Not Found\",0)","v":1.6076876701317205E-3},{"$f":"_xlfn.XLOOKUP(Emi_Short[[#This Row],[Type]]&Emi_Short[[#This Row],[Brandstof]],MJ_Arbeid_Zout[Type Motor]&MJ_Arbeid_Zout[Energiedrager],MJ_Arbeid_Zout[VM / EA Zout],\"Not Found\",0)","v":1.1500185382988374E-3}]
["GTL","CCR 0 / Unspecified","GTL-C0","Gebruiksprofiel","*RWS Gebruiksprofiel GTL (verbrandingsemissies) - pre Tier I (zonder PM en NOx) (B1)",{"$f":"_xlfn.XLOOKUP(Emi_Short[[#This Row],[Gebruiksprofiel Basis B1]],RWS_[Environmental Profile],RWS_[Fuctional Unit],\"\",0)","v":"ton"},"*RWS Kapitaalgoederen Verbrandingsmotor (1000 kg o.b.v. Marine engine {GLO}| marine engine construction | Cut-off, U) (inlcusief reD)","Verbrandingsmotor",{"$f":"_xlfn.XLOOKUP(Emi_Short[[#This Row],[Type]]&Emi_Short[[#This Row],[Brandstof]],MJ_Arbeid_Zoet[Type Motor]&MJ_Arbeid_Zoet[Energiedrager],MJ_Arbeid_Zoet[MJ Arbeid (Geleverd)],\"Not Found\",0)","v":17600},{"$f":"_xlfn.XLOOKUP(Emi_Short[[#This Row],[Type]]&Emi_Short[[#This Row],[Brandstof]],MJ_Arbeid_Zout[Type Motor]&MJ_Arbeid_Zout[Energiedrager],MJ_Arbeid_Zout[MJ Arbeid (Geleverd)],\"Not Found\",0)","v":19800},{"$f":"_xlfn.XLOOKUP(Emi_Short[[#This Row],[Type]]&Emi_Short[[#This Row],[Brandstof]],MJ_Arbeid_Zoet[Type Motor]&MJ_Arbeid_Zoet[Energiedrager],MJ_Arbeid_Zoet[AfKap Casco],\"Not Found\",0)","v":1.0208816705336425},{"$f":"_xlfn.XLOOKUP(Emi_Short[[#This Row],[Type]]&Emi_Short[[#This Row],[Brandstof]],MJ_Arbeid_Zout[Type Motor]&MJ_Arbeid_Zout[Energiedrager],MJ_Arbeid_Zout[AfKap Casco],\"Not Found\",0)","v":1.0328638497652582},{"$f":"IF(OR(Emi_Short[[#This Row],[MotCel2]]=\"TIER III\",Emi_Short[[#This Row],[MotCel2]]=\"Stage V IWP/IWA\",Emi_Short[[#This Row],[MotCel2]]=\"Stage V NRE\"),(_xlfn.XLOOKUP(Emi_Short[[#This Row],[Type]]&Emi_Short[[#This Row],[Brandstof]],MJ_Arbeid_Zoet[Type Motor]&MJ_Arbeid_Zoet[Energiedrager],MJ_Arbeid_Zoet[AdBlue (A1-A3) - Zoet],\"Not Found\",0)),0)","v":0},{"$f":"IF(OR(Emi_Short[[#This Row],[MotCel2]]=\"TIER III\",Emi_Short[[#This Row],[MotCel2]]=\"Stage V IWP/IWA\",Emi_Short[[#This Row],[MotCel2]]=\"Stage V NRE\",Emi_Short[[#This Row],[MotCel2]]=\"ULEV (Stage V IWP/IWA)\"),(_xlfn.XLOOKUP(Emi_Short[[#This Row],[Type]]&Emi_Short[[#This Row],[Brandstof]],MJ_Arbeid_Zout[Type Motor]&MJ_Arbeid_Zout[Energiedrager],MJ_Arbeid_Zout[AdBlue (A1-A3) - Zout],\"Not Found\",0)),0)","v":0},{"$f":"_xlfn.XLOOKUP(Emi_Short[[#This Row],[Type]]&Emi_Short[[#This Row],[Brandstof]],MJ_Arbeid_Zoet[Type Motor]&MJ_Arbeid_Zoet[Energiedrager],MJ_Arbeid_Zoet[VM / EA Zoet],\"Not Found\",0)","v":1.6076876701317205E-3},{"$f":"_xlfn.XLOOKUP(Emi_Short[[#This Row],[Type]]&Emi_Short[[#This Row],[Brandstof]],MJ_Arbeid_Zout[Type Motor]&MJ_Arbeid_Zout[Energiedrager],MJ_Arbeid_Zout[VM / EA Zout],\"Not Found\",0)","v":1.1500185382988374E-3}]
["GTL","CCR I","GTL-CI","Gebruiksprofiel","*RWS Gebruiksprofiel GTL (verbrandingsemissies) - pre Tier I (zonder PM en NOx) (B1)",{"$f":"_xlfn.XLOOKUP(Emi_Short[[#This Row],[Gebruiksprofiel Basis B1]],RWS_[Environmental Profile],RWS_[Fuctional Unit],\"\",0)","v":"ton"},"*RWS Kapitaalgoederen Verbrandingsmotor (1000 kg o.b.v. Marine engine {GLO}| marine engine construction | Cut-off, U) (inlcusief reD)","Verbrandingsmotor",{"$f":"_xlfn.XLOOKUP(Emi_Short[[#This Row],[Type]]&Emi_Short[[#This Row],[Brandstof]],MJ_Arbeid_Zoet[Type Motor]&MJ_Arbeid_Zoet[Energiedrager],MJ_Arbeid_Zoet[MJ Arbeid (Geleverd)],\"Not Found\",0)","v":17600},{"$f":"_xlfn.XLOOKUP(Emi_Short[[#This Row],[Type]]&Emi_Short[[#This Row],[Brandstof]],MJ_Arbeid_Zout[Type Motor]&MJ_Arbeid_Zout[Energiedrager],MJ_Arbeid_Zout[MJ Arbeid (Geleverd)],\"Not Found\",0)","v":19800},{"$f":"_xlfn.XLOOKUP(Emi_Short[[#This Row],[Type]]&Emi_Short[[#This Row],[Brandstof]],MJ_Arbeid_Zoet[Type Motor]&MJ_Arbeid_Zoet[Energiedrager],MJ_Arbeid_Zoet[AfKap Casco],\"Not Found\",0)","v":1.0208816705336425},{"$f":"_xlfn.XLOOKUP(Emi_Short[[#This Row],[Type]]&Emi_Short[[#This Row],[Brandstof]],MJ_Arbeid_Zout[Type Motor]&MJ_Arbeid_Zout[Energiedrager],MJ_Arbeid_Zout[AfKap Casco],\"Not Found\",0)","v":1.0328638497652582},{"$f":"IF(OR(Emi_Short[[#This Row],[MotCel2]]=\"TIER III\",Emi_Short[[#This Row],[MotCel2]]=\"Stage V IWP/IWA\",Emi_Short[[#This Row],[MotCel2]]=\"Stage V NRE\"),(_xlfn.XLOOKUP(Emi_Short[[#This Row],[Type]]&Emi_Short[[#This Row],[Brandstof]],MJ_Arbeid_Zoet[Type Motor]&MJ_Arbeid_Zoet[Energiedrager],MJ_Arbeid_Zoet[AdBlue (A1-A3) - Zoet],\"Not Found\",0)),0)","v":0},{"$f":"IF(OR(Emi_Short[[#This Row],[MotCel2]]=\"TIER III\",Emi_Short[[#This Row],[MotCel2]]=\"Stage V IWP/IWA\",Emi_Short[[#This Row],[MotCel2]]=\"Stage V NRE\",Emi_Short[[#This Row],[MotCel2]]=\"ULEV (Stage V IWP/IWA)\"),(_xlfn.XLOOKUP(Emi_Short[[#This Row],[Type]]&Emi_Short[[#This Row],[Brandstof]],MJ_Arbeid_Zout[Type Motor]&MJ_Arbeid_Zout[Energiedrager],MJ_Arbeid_Zout[AdBlue (A1-A3) - Zout],\"Not Found\",0)),0)","v":0},{"$f":"_xlfn.XLOOKUP(Emi_Short[[#This Row],[Type]]&Emi_Short[[#This Row],[Brandstof]],MJ_Arbeid_Zoet[Type Motor]&MJ_Arbeid_Zoet[Energiedrager],MJ_Arbeid_Zoet[VM / EA Zoet],\"Not Found\",0)","v":1.6076876701317205E-3},{"$f":"_xlfn.XLOOKUP(Emi_Short[[#This Row],[Type]]&Emi_Short[[#This Row],[Brandstof]],MJ_Arbeid_Zout[Type Motor]&MJ_Arbeid_Zout[Energiedrager],MJ_Arbeid_Zout[VM / EA Zout],\"Not Found\",0)","v":1.1500185382988374E-3}]
["GTL","CCR II","GTL-CII","Gebruiksprofiel","*RWS Gebruiksprofiel GTL (verbrandingsemissies) - pre Tier I (zonder PM en NOx) (B1)",{"$f":"_xlfn.XLOOKUP(Emi_Short[[#This Row],[Gebruiksprofiel Basis B1]],RWS_[Environmental Profile],RWS_[Fuctional Unit],\"\",0)","v":"ton"},"*RWS Kapitaalgoederen Verbrandingsmotor (1000 kg o.b.v. Marine engine {GLO}| marine engine construction | Cut-off, U) (inlcusief reD)","Verbrandingsmotor",{"$f":"_xlfn.XLOOKUP(Emi_Short[[#This Row],[Type]]&Emi_Short[[#This Row],[Brandstof]],MJ_Arbeid_Zoet[Type Motor]&MJ_Arbeid_Zoet[Energiedrager],MJ_Arbeid_Zoet[MJ Arbeid (Geleverd)],\"Not Found\",0)","v":17600},{"$f":"_xlfn.XLOOKUP(Emi_Short[[#This Row],[Type]]&Emi_Short[[#This Row],[Brandstof]],MJ_Arbeid_Zout[Type Motor]&MJ_Arbeid_Zout[Energiedrager],MJ_Arbeid_Zout[MJ Arbeid (Geleverd)],\"Not Found\",0)","v":19800},{"$f":"_xlfn.XLOOKUP(Emi_Short[[#This Row],[Type]]&Emi_Short[[#This Row],[Brandstof]],MJ_Arbeid_Zoet[Type Motor]&MJ_Arbeid_Zoet[Energiedrager],MJ_Arbeid_Zoet[AfKap Casco],\"Not Found\",0)","v":1.0208816705336425},{"$f":"_xlfn.XLOOKUP(Emi_Short[[#This Row],[Type]]&Emi_Short[[#This Row],[Brandstof]],MJ_Arbeid_Zout[Type Motor]&MJ_Arbeid_Zout[Energiedrager],MJ_Arbeid_Zout[AfKap Casco],\"Not Found\",0)","v":1.0328638497652582},{"$f":"IF(OR(Emi_Short[[#This Row],[MotCel2]]=\"TIER III\",Emi_Short[[#This Row],[MotCel2]]=\"Stage V IWP/IWA\",Emi_Short[[#This Row],[MotCel2]]=\"Stage V NRE\"),(_xlfn.XLOOKUP(Emi_Short[[#This Row],[Type]]&Emi_Short[[#This Row],[Brandstof]],MJ_Arbeid_Zoet[Type Motor]&MJ_Arbeid_Zoet[Energiedrager],MJ_Arbeid_Zoet[AdBlue (A1-A3) - Zoet],\"Not Found\",0)),0)","v":0},{"$f":"IF(OR(Emi_Short[[#This Row],[MotCel2]]=\"TIER III\",Emi_Short[[#This Row],[MotCel2]]=\"Stage V IWP/IWA\",Emi_Short[[#This Row],[MotCel2]]=\"Stage V NRE\",Emi_Short[[#This Row],[MotCel2]]=\"ULEV (Stage V IWP/IWA)\"),(_xlfn.XLOOKUP(Emi_Short[[#This Row],[Type]]&Emi_Short[[#This Row],[Brandstof]],MJ_Arbeid_Zout[Type Motor]&MJ_Arbeid_Zout[Energiedrager],MJ_Arbeid_Zout[AdBlue (A1-A3) - Zout],\"Not Found\",0)),0)","v":0},{"$f":"_xlfn.XLOOKUP(Emi_Short[[#This Row],[Type]]&Emi_Short[[#This Row],[Brandstof]],MJ_Arbeid_Zoet[Type Motor]&MJ_Arbeid_Zoet[Energiedrager],MJ_Arbeid_Zoet[VM / EA Zoet],\"Not Found\",0)","v":1.6076876701317205E-3},{"$f":"_xlfn.XLOOKUP(Emi_Short[[#This Row],[Type]]&Emi_Short[[#This Row],[Brandstof]],MJ_Arbeid_Zout[Type Motor]&MJ_Arbeid_Zout[Energiedrager],MJ_Arbeid_Zout[VM / EA Zout],\"Not Found\",0)","v":1.1500185382988374E-3}]
["GTL","Stage V IWP/IWA","GTL-SV-I","Gebruiksprofiel","*RWS Gebruiksprofiel GTL (verbrandingsemissies) - pre Tier I (zonder PM en NOx) (B1)",{"$f":"_xlfn.XLOOKUP(Emi_Short[[#This Row],[Gebruiksprofiel Basis B1]],RWS_[Environmental Profile],RWS_[Fuctional Unit],\"\",0)","v":"ton"},"*RWS Kapitaalgoederen Verbrandingsmotor (1000 kg o.b.v. Marine engine {GLO}| marine engine construction | Cut-off, U) (inlcusief reD)","Verbrandingsmotor",{"$f":"_xlfn.XLOOKUP(Emi_Short[[#This Row],[Type]]&Emi_Short[[#This Row],[Brandstof]],MJ_Arbeid_Zoet[Type Motor]&MJ_Arbeid_Zoet[Energiedrager],MJ_Arbeid_Zoet[MJ Arbeid (Geleverd)],\"Not Found\",0)","v":17600},{"$f":"_xlfn.XLOOKUP(Emi_Short[[#This Row],[Type]]&Emi_Short[[#This Row],[Brandstof]],MJ_Arbeid_Zout[Type Motor]&MJ_Arbeid_Zout[Energiedrager],MJ_Arbeid_Zout[MJ Arbeid (Geleverd)],\"Not Found\",0)","v":19800},{"$f":"_xlfn.XLOOKUP(Emi_Short[[#This Row],[Type]]&Emi_Short[[#This Row],[Brandstof]],MJ_Arbeid_Zoet[Type Motor]&MJ_Arbeid_Zoet[Energiedrager],MJ_Arbeid_Zoet[AfKap Casco],\"Not Found\",0)","v":1.0208816705336425},{"$f":"_xlfn.XLOOKUP(Emi_Short[[#This Row],[Type]]&Emi_Short[[#This Row],[Brandstof]],MJ_Arbeid_Zout[Type Motor]&MJ_Arbeid_Zout[Energiedrager],MJ_Arbeid_Zout[AfKap Casco],\"Not Found\",0)","v":1.0328638497652582},{"$f":"IF(OR(Emi_Short[[#This Row],[MotCel2]]=\"TIER III\",Emi_Short[[#This Row],[MotCel2]]=\"Stage V IWP/IWA\",Emi_Short[[#This Row],[MotCel2]]=\"Stage V NRE\"),(_xlfn.XLOOKUP(Emi_Short[[#This Row],[Type]]&Emi_Short[[#This Row],[Brandstof]],MJ_Arbeid_Zoet[Type Motor]&MJ_Arbeid_Zoet[Energiedrager],MJ_Arbeid_Zoet[AdBlue (A1-A3) - Zoet],\"Not Found\",0)),0)","v":68.038327681599128},{"$f":"IF(OR(Emi_Short[[#This Row],[MotCel2]]=\"TIER III\",Emi_Short[[#This Row],[MotCel2]]=\"Stage V IWP/IWA\",Emi_Short[[#This Row],[MotCel2]]=\"Stage V NRE\",Emi_Short[[#This Row],[MotCel2]]=\"ULEV (Stage V IWP/IWA)\"),(_xlfn.XLOOKUP(Emi_Short[[#This Row],[Type]]&Emi_Short[[#This Row],[Brandstof]],MJ_Arbeid_Zout[Type Motor]&MJ_Arbeid_Zout[Energiedrager],MJ_Arbeid_Zout[AdBlue (A1-A3) - Zout],\"Not Found\",0)),0)","v":68.038327681599128},{"$f":"_xlfn.XLOOKUP(Emi_Short[[#This Row],[Type]]&Emi_Short[[#This Row],[Brandstof]],MJ_Arbeid_Zoet[Type Motor]&MJ_Arbeid_Zoet[Energiedrager],MJ_Arbeid_Zoet[VM / EA Zoet],\"Not Found\",0)","v":1.6076876701317205E-3},{"$f":"_xlfn.XLOOKUP(Emi_Short[[#This Row],[Type]]&Emi_Short[[#This Row],[Brandstof]],MJ_Arbeid_Zout[Type Motor]&MJ_Arbeid_Zout[Energiedrager],MJ_Arbeid_Zout[VM / EA Zout],\"Not Found\",0)","v":1.1500185382988374E-3}]
["GTL","Stage V NRE","GTL-SV-N","Gebruiksprofiel","*RWS Gebruiksprofiel GTL (verbrandingsemissies) - pre Tier I (zonder PM en NOx) (B1)",{"$f":"_xlfn.XLOOKUP(Emi_Short[[#This Row],[Gebruiksprofiel Basis B1]],RWS_[Environmental Profile],RWS_[Fuctional Unit],\"\",0)","v":"ton"},"*RWS Kapitaalgoederen Verbrandingsmotor (1000 kg o.b.v. Marine engine {GLO}| marine engine construction | Cut-off, U) (inlcusief reD)","Verbrandingsmotor",{"$f":"_xlfn.XLOOKUP(Emi_Short[[#This Row],[Type]]&Emi_Short[[#This Row],[Brandstof]],MJ_Arbeid_Zoet[Type Motor]&MJ_Arbeid_Zoet[Energiedrager],MJ_Arbeid_Zoet[MJ Arbeid (Geleverd)],\"Not Found\",0)","v":17600},{"$f":"_xlfn.XLOOKUP(Emi_Short[[#This Row],[Type]]&Emi_Short[[#This Row],[Brandstof]],MJ_Arbeid_Zout[Type Motor]&MJ_Arbeid_Zout[Energiedrager],MJ_Arbeid_Zout[MJ Arbeid (Geleverd)],\"Not Found\",0)","v":19800},{"$f":"_xlfn.XLOOKUP(Emi_Short[[#This Row],[Type]]&Emi_Short[[#This Row],[Brandstof]],MJ_Arbeid_Zoet[Type Motor]&MJ_Arbeid_Zoet[Energiedrager],MJ_Arbeid_Zoet[AfKap Casco],\"Not Found\",0)","v":1.0208816705336425},{"$f":"_xlfn.XLOOKUP(Emi_Short[[#This Row],[Type]]&Emi_Short[[#This Row],[Brandstof]],MJ_Arbeid_Zout[Type Motor]&MJ_Arbeid_Zout[Energiedrager],MJ_Arbeid_Zout[AfKap Casco],\"Not Found\",0)","v":1.0328638497652582},{"$f":"IF(OR(Emi_Short[[#This Row],[MotCel2]]=\"TIER III\",Emi_Short[[#This Row],[MotCel2]]=\"Stage V IWP/IWA\",Emi_Short[[#This Row],[MotCel2]]=\"Stage V NRE\"),(_xlfn.XLOOKUP(Emi_Short[[#This Row],[Type]]&Emi_Short[[#This Row],[Brandstof]],MJ_Arbeid_Zoet[Type Motor]&MJ_Arbeid_Zoet[Energiedrager],MJ_Arbeid_Zoet[AdBlue (A1-A3) - Zoet],\"Not Found\",0)),0)","v":68.038327681599128},{"$f":"IF(OR(Emi_Short[[#This Row],[MotCel2]]=\"TIER III\",Emi_Short[[#This Row],[MotCel2]]=\"Stage V IWP/IWA\",Emi_Short[[#This Row],[MotCel2]]=\"Stage V NRE\",Emi_Short[[#This Row],[MotCel2]]=\"ULEV (Stage V IWP/IWA)\"),(_xlfn.XLOOKUP(Emi_Short[[#This Row],[Type]]&Emi_Short[[#This Row],[Brandstof]],MJ_Arbeid_Zout[Type Motor]&MJ_Arbeid_Zout[Energiedrager],MJ_Arbeid_Zout[AdBlue (A1-A3) - Zout],\"Not Found\",0)),0)","v":68.038327681599128},{"$f":"_xlfn.XLOOKUP(Emi_Short[[#This Row],[Type]]&Emi_Short[[#This Row],[Brandstof]],MJ_Arbeid_Zoet[Type Motor]&MJ_Arbeid_Zoet[Energiedrager],MJ_Arbeid_Zoet[VM / EA Zoet],\"Not Found\",0)","v":1.6076876701317205E-3},{"$f":"_xlfn.XLOOKUP(Emi_Short[[#This Row],[Type]]&Emi_Short[[#This Row],[Brandstof]],MJ_Arbeid_Zout[Type Motor]&MJ_Arbeid_Zout[Energiedrager],MJ_Arbeid_Zout[VM / EA Zout],\"Not Found\",0)","v":1.1500185382988374E-3}]
["HFO","Pre Tier I","HFO-PTI","Gebruiksprofiel","*RWS Gebruiksprofiel HFO (verbrandingsemissies) - (zonder PM en NOx) (B1)",{"$f":"_xlfn.XLOOKUP(Emi_Short[[#This Row],[Gebruiksprofiel Basis B1]],RWS_[Environmental Profile],RWS_[Fuctional Unit],\"\",0)","v":"ton"},"*RWS Kapitaalgoederen Verbrandingsmotor (1000 kg o.b.v. Marine engine {GLO}| marine engine construction | Cut-off, U) (inlcusief reD)","Verbrandingsmotor",{"$f":"_xlfn.XLOOKUP(Emi_Short[[#This Row],[Type]]&Emi_Short[[#This Row],[Brandstof]],MJ_Arbeid_Zoet[Type Motor]&MJ_Arbeid_Zoet[Energiedrager],MJ_Arbeid_Zoet[MJ Arbeid (Geleverd)],\"Not Found\",0)","v":16200},{"$f":"_xlfn.XLOOKUP(Emi_Short[[#This Row],[Type]]&Emi_Short[[#This Row],[Brandstof]],MJ_Arbeid_Zout[Type Motor]&MJ_Arbeid_Zout[Energiedrager],MJ_Arbeid_Zout[MJ Arbeid (Geleverd)],\"Not Found\",0)","v":18225},{"$f":"_xlfn.XLOOKUP(Emi_Short[[#This Row],[Type]]&Emi_Short[[#This Row],[Brandstof]],MJ_Arbeid_Zoet[Type Motor]&MJ_Arbeid_Zoet[Energiedrager],MJ_Arbeid_Zoet[AfKap Casco],\"Not Found\",0)","v":0.93967517401392087},{"$f":"_xlfn.XLOOKUP(Emi_Short[[#This Row],[Type]]&Emi_Short[[#This Row],[Brandstof]],MJ_Arbeid_Zout[Type Motor]&MJ_Arbeid_Zout[Energiedrager],MJ_Arbeid_Zout[AfKap Casco],\"Not Found\",0)","v":0.95070422535211263},{"$f":"IF(OR(Emi_Short[[#This Row],[MotCel2]]=\"TIER III\",Emi_Short[[#This Row],[MotCel2]]=\"Stage V IWP/IWA\",Emi_Short[[#This Row],[MotCel2]]=\"Stage V NRE\"),(_xlfn.XLOOKUP(Emi_Short[[#This Row],[Type]]&Emi_Short[[#This Row],[Brandstof]],MJ_Arbeid_Zoet[Type Motor]&MJ_Arbeid_Zoet[Energiedrager],MJ_Arbeid_Zoet[AdBlue (A1-A3) - Zoet],\"Not Found\",0)),0)","v":0},{"$f":"IF(OR(Emi_Short[[#This Row],[MotCel2]]=\"TIER III\",Emi_Short[[#This Row],[MotCel2]]=\"Stage V IWP/IWA\",Emi_Short[[#This Row],[MotCel2]]=\"Stage V NRE\",Emi_Short[[#This Row],[MotCel2]]=\"ULEV (Stage V IWP/IWA)\"),(_xlfn.XLOOKUP(Emi_Short[[#This Row],[Type]]&Emi_Short[[#This Row],[Brandstof]],MJ_Arbeid_Zout[Type Motor]&MJ_Arbeid_Zout[Energiedrager],MJ_Arbeid_Zout[AdBlue (A1-A3) - Zout],\"Not Found\",0)),0)","v":0},{"$f":"_xlfn.XLOOKUP(Emi_Short[[#This Row],[Type]]&Emi_Short[[#This Row],[Brandstof]],MJ_Arbeid_Zoet[Type Motor]&MJ_Arbeid_Zoet[Energiedrager],MJ_Arbeid_Zoet[VM / EA Zoet],\"Not Found\",0)","v":1.47980342364397E-3},{"$f":"_xlfn.XLOOKUP(Emi_Short[[#This Row],[Type]]&Emi_Short[[#This Row],[Brandstof]],MJ_Arbeid_Zout[Type Motor]&MJ_Arbeid_Zout[Energiedrager],MJ_Arbeid_Zout[VM / EA Zout],\"Not Found\",0)","v":1.0585397909341572E-3}]
["HFO","TIER I / II","HFO-TII","Gebruiksprofiel","*RWS Gebruiksprofiel HFO (verbrandingsemissies) - (zonder PM en NOx) (B1)",{"$f":"_xlfn.XLOOKUP(Emi_Short[[#This Row],[Gebruiksprofiel Basis B1]],RWS_[Environmental Profile],RWS_[Fuctional Unit],\"\",0)","v":"ton"},"*RWS Kapitaalgoederen Verbrandingsmotor (1000 kg o.b.v. Marine engine {GLO}| marine engine construction | Cut-off, U) (inlcusief reD)","Verbrandingsmotor",{"$f":"_xlfn.XLOOKUP(Emi_Short[[#This Row],[Type]]&Emi_Short[[#This Row],[Brandstof]],MJ_Arbeid_Zoet[Type Motor]&MJ_Arbeid_Zoet[Energiedrager],MJ_Arbeid_Zoet[MJ Arbeid (Geleverd)],\"Not Found\",0)","v":16200},{"$f":"_xlfn.XLOOKUP(Emi_Short[[#This Row],[Type]]&Emi_Short[[#This Row],[Brandstof]],MJ_Arbeid_Zout[Type Motor]&MJ_Arbeid_Zout[Energiedrager],MJ_Arbeid_Zout[MJ Arbeid (Geleverd)],\"Not Found\",0)","v":18225},{"$f":"_xlfn.XLOOKUP(Emi_Short[[#This Row],[Type]]&Emi_Short[[#This Row],[Brandstof]],MJ_Arbeid_Zoet[Type Motor]&MJ_Arbeid_Zoet[Energiedrager],MJ_Arbeid_Zoet[AfKap Casco],\"Not Found\",0)","v":0.93967517401392087},{"$f":"_xlfn.XLOOKUP(Emi_Short[[#This Row],[Type]]&Emi_Short[[#This Row],[Brandstof]],MJ_Arbeid_Zout[Type Motor]&MJ_Arbeid_Zout[Energiedrager],MJ_Arbeid_Zout[AfKap Casco],\"Not Found\",0)","v":0.95070422535211263},{"$f":"IF(OR(Emi_Short[[#This Row],[MotCel2]]=\"TIER III\",Emi_Short[[#This Row],[MotCel2]]=\"Stage V IWP/IWA\",Emi_Short[[#This Row],[MotCel2]]=\"Stage V NRE\"),(_xlfn.XLOOKUP(Emi_Short[[#This Row],[Type]]&Emi_Short[[#This Row],[Brandstof]],MJ_Arbeid_Zoet[Type Motor]&MJ_Arbeid_Zoet[Energiedrager],MJ_Arbeid_Zoet[AdBlue (A1-A3) - Zoet],\"Not Found\",0)),0)","v":0},{"$f":"IF(OR(Emi_Short[[#This Row],[MotCel2]]=\"TIER III\",Emi_Short[[#This Row],[MotCel2]]=\"Stage V IWP/IWA\",Emi_Short[[#This Row],[MotCel2]]=\"Stage V NRE\",Emi_Short[[#This Row],[MotCel2]]=\"ULEV (Stage V IWP/IWA)\"),(_xlfn.XLOOKUP(Emi_Short[[#This Row],[Type]]&Emi_Short[[#This Row],[Brandstof]],MJ_Arbeid_Zout[Type Motor]&MJ_Arbeid_Zout[Energiedrager],MJ_Arbeid_Zout[AdBlue (A1-A3) - Zout],\"Not Found\",0)),0)","v":0},{"$f":"_xlfn.XLOOKUP(Emi_Short[[#This Row],[Type]]&Emi_Short[[#This Row],[Brandstof]],MJ_Arbeid_Zoet[Type Motor]&MJ_Arbeid_Zoet[Energiedrager],MJ_Arbeid_Zoet[VM / EA Zoet],\"Not Found\",0)","v":1.47980342364397E-3},{"$f":"_xlfn.XLOOKUP(Emi_Short[[#This Row],[Type]]&Emi_Short[[#This Row],[Brandstof]],MJ_Arbeid_Zout[Type Motor]&MJ_Arbeid_Zout[Energiedrager],MJ_Arbeid_Zout[VM / EA Zout],\"Not Found\",0)","v":1.0585397909341572E-3}]
["HFO","TIER III","HFO-TIII","Gebruiksprofiel","*RWS Gebruiksprofiel HFO (verbrandingsemissies) - (zonder PM en NOx) (B1)",{"$f":"_xlfn.XLOOKUP(Emi_Short[[#This Row],[Gebruiksprofiel Basis B1]],RWS_[Environmental Profile],RWS_[Fuctional Unit],\"\",0)","v":"ton"},"*RWS Kapitaalgoederen Verbrandingsmotor (1000 kg o.b.v. Marine engine {GLO}| marine engine construction | Cut-off, U) (inlcusief reD)","Verbrandingsmotor",{"$f":"_xlfn.XLOOKUP(Emi_Short[[#This Row],[Type]]&Emi_Short[[#This Row],[Brandstof]],MJ_Arbeid_Zoet[Type Motor]&MJ_Arbeid_Zoet[Energiedrager],MJ_Arbeid_Zoet[MJ Arbeid (Geleverd)],\"Not Found\",0)","v":16200},{"$f":"_xlfn.XLOOKUP(Emi_Short[[#This Row],[Type]]&Emi_Short[[#This Row],[Brandstof]],MJ_Arbeid_Zout[Type Motor]&MJ_Arbeid_Zout[Energiedrager],MJ_Arbeid_Zout[MJ Arbeid (Geleverd)],\"Not Found\",0)","v":18225},{"$f":"_xlfn.XLOOKUP(Emi_Short[[#This Row],[Type]]&Emi_Short[[#This Row],[Brandstof]],MJ_Arbeid_Zoet[Type Motor]&MJ_Arbeid_Zoet[Energiedrager],MJ_Arbeid_Zoet[AfKap Casco],\"Not Found\",0)","v":0.93967517401392087},{"$f":"_xlfn.XLOOKUP(Emi_Short[[#This Row],[Type]]&Emi_Short[[#This Row],[Brandstof]],MJ_Arbeid_Zout[Type Motor]&MJ_Arbeid_Zout[Energiedrager],MJ_Arbeid_Zout[AfKap Casco],\"Not Found\",0)","v":0.95070422535211263},{"$f":"IF(OR(Emi_Short[[#This Row],[MotCel2]]=\"TIER III\",Emi_Short[[#This Row],[MotCel2]]=\"Stage V IWP/IWA\",Emi_Short[[#This Row],[MotCel2]]=\"Stage V NRE\"),(_xlfn.XLOOKUP(Emi_Short[[#This Row],[Type]]&Emi_Short[[#This Row],[Brandstof]],MJ_Arbeid_Zoet[Type Motor]&MJ_Arbeid_Zoet[Energiedrager],MJ_Arbeid_Zoet[AdBlue (A1-A3) - Zoet],\"Not Found\",0)),0)","v":62.626187979653743},{"$f":"IF(OR(Emi_Short[[#This Row],[MotCel2]]=\"TIER III\",Emi_Short[[#This Row],[MotCel2]]=\"Stage V IWP/IWA\",Emi_Short[[#This Row],[MotCel2]]=\"Stage V NRE\",Emi_Short[[#This Row],[MotCel2]]=\"ULEV (Stage V IWP/IWA)\"),(_xlfn.XLOOKUP(Emi_Short[[#This Row],[Type]]&Emi_Short[[#This Row],[Brandstof]],MJ_Arbeid_Zout[Type Motor]&MJ_Arbeid_Zout[Energiedrager],MJ_Arbeid_Zout[AdBlue (A1-A3) - Zout],\"Not Found\",0)),0)","v":62.626187979653743},{"$f":"_xlfn.XLOOKUP(Emi_Short[[#This Row],[Type]]&Emi_Short[[#This Row],[Brandstof]],MJ_Arbeid_Zoet[Type Motor]&MJ_Arbeid_Zoet[Energiedrager],MJ_Arbeid_Zoet[VM / EA Zoet],\"Not Found\",0)","v":1.47980342364397E-3},{"$f":"_xlfn.XLOOKUP(Emi_Short[[#This Row],[Type]]&Emi_Short[[#This Row],[Brandstof]],MJ_Arbeid_Zout[Type Motor]&MJ_Arbeid_Zout[Energiedrager],MJ_Arbeid_Zout[VM / EA Zout],\"Not Found\",0)","v":1.0585397909341572E-3}]
["HFO","ULEV (Stage V IWP/IWA)","HFO-ULEV","Gebruiksprofiel","*RWS Gebruiksprofiel HFO (verbrandingsemissies) - (zonder PM en NOx) (B1)",{"$f":"_xlfn.XLOOKUP(Emi_Short[[#This Row],[Gebruiksprofiel Basis B1]],RWS_[Environmental Profile],RWS_[Fuctional Unit],\"\",0)","v":"ton"},"*RWS Kapitaalgoederen Verbrandingsmotor (1000 kg o.b.v. Marine engine {GLO}| marine engine construction | Cut-off, U) (inlcusief reD)","Verbrandingsmotor",{"$f":"_xlfn.XLOOKUP(Emi_Short[[#This Row],[Type]]&Emi_Short[[#This Row],[Brandstof]],MJ_Arbeid_Zoet[Type Motor]&MJ_Arbeid_Zoet[Energiedrager],MJ_Arbeid_Zoet[MJ Arbeid (Geleverd)],\"Not Found\",0)","v":16200},{"$f":"_xlfn.XLOOKUP(Emi_Short[[#This Row],[Type]]&Emi_Short[[#This Row],[Brandstof]],MJ_Arbeid_Zout[Type Motor]&MJ_Arbeid_Zout[Energiedrager],MJ_Arbeid_Zout[MJ Arbeid (Geleverd)],\"Not Found\",0)","v":18225},{"$f":"_xlfn.XLOOKUP(Emi_Short[[#This Row],[Type]]&Emi_Short[[#This Row],[Brandstof]],MJ_Arbeid_Zoet[Type Motor]&MJ_Arbeid_Zoet[Energiedrager],MJ_Arbeid_Zoet[AfKap Casco],\"Not Found\",0)","v":0.93967517401392087},{"$f":"_xlfn.XLOOKUP(Emi_Short[[#This Row],[Type]]&Emi_Short[[#This Row],[Brandstof]],MJ_Arbeid_Zout[Type Motor]&MJ_Arbeid_Zout[Energiedrager],MJ_Arbeid_Zout[AfKap Casco],\"Not Found\",0)","v":0.95070422535211263},{"$f":"IF(OR(Emi_Short[[#This Row],[MotCel2]]=\"TIER III\",Emi_Short[[#This Row],[MotCel2]]=\"Stage V IWP/IWA\",Emi_Short[[#This Row],[MotCel2]]=\"Stage V NRE\"),(_xlfn.XLOOKUP(Emi_Short[[#This Row],[Type]]&Emi_Short[[#This Row],[Brandstof]],MJ_Arbeid_Zoet[Type Motor]&MJ_Arbeid_Zoet[Energiedrager],MJ_Arbeid_Zoet[AdBlue (A1-A3) - Zoet],\"Not Found\",0)),0)","v":0},{"$f":"IF(OR(Emi_Short[[#This Row],[MotCel2]]=\"TIER III\",Emi_Short[[#This Row],[MotCel2]]=\"Stage V IWP/IWA\",Emi_Short[[#This Row],[MotCel2]]=\"Stage V NRE\",Emi_Short[[#This Row],[MotCel2]]=\"ULEV (Stage V IWP/IWA)\"),(_xlfn.XLOOKUP(Emi_Short[[#This Row],[Type]]&Emi_Short[[#This Row],[Brandstof]],MJ_Arbeid_Zout[Type Motor]&MJ_Arbeid_Zout[Energiedrager],MJ_Arbeid_Zout[AdBlue (A1-A3) - Zout],\"Not Found\",0)),0)","v":62.626187979653743},{"$f":"_xlfn.XLOOKUP(Emi_Short[[#This Row],[Type]]&Emi_Short[[#This Row],[Brandstof]],MJ_Arbeid_Zoet[Type Motor]&MJ_Arbeid_Zoet[Energiedrager],MJ_Arbeid_Zoet[VM / EA Zoet],\"Not Found\",0)","v":1.47980342364397E-3},{"$f":"_xlfn.XLOOKUP(Emi_Short[[#This Row],[Type]]&Emi_Short[[#This Row],[Brandstof]],MJ_Arbeid_Zout[Type Motor]&MJ_Arbeid_Zout[Energiedrager],MJ_Arbeid_Zout[VM / EA Zout],\"Not Found\",0)","v":1.0585397909341572E-3}]
["HVO","Pre Tier I","HVO-PTI","Gebruiksprofiel","*RWS Gebruiksprofiel HVO (verbrandingsemissies) - pre Tier I (zonder PM en NOx) (B1)",{"$f":"_xlfn.XLOOKUP(Emi_Short[[#This Row],[Gebruiksprofiel Basis B1]],RWS_[Environmental Profile],RWS_[Fuctional Unit],\"\",0)","v":"ton"},"*RWS Kapitaalgoederen Verbrandingsmotor (1000 kg o.b.v. Marine engine {GLO}| marine engine construction | Cut-off, U) (inlcusief reD)","Verbrandingsmotor",{"$f":"_xlfn.XLOOKUP(Emi_Short[[#This Row],[Type]]&Emi_Short[[#This Row],[Brandstof]],MJ_Arbeid_Zoet[Type Motor]&MJ_Arbeid_Zoet[Energiedrager],MJ_Arbeid_Zoet[MJ Arbeid (Geleverd)],\"Not Found\",0)","v":17600},{"$f":"_xlfn.XLOOKUP(Emi_Short[[#This Row],[Type]]&Emi_Short[[#This Row],[Brandstof]],MJ_Arbeid_Zout[Type Motor]&MJ_Arbeid_Zout[Energiedrager],MJ_Arbeid_Zout[MJ Arbeid (Geleverd)],\"Not Found\",0)","v":19800},{"$f":"_xlfn.XLOOKUP(Emi_Short[[#This Row],[Type]]&Emi_Short[[#This Row],[Brandstof]],MJ_Arbeid_Zoet[Type Motor]&MJ_Arbeid_Zoet[Energiedrager],MJ_Arbeid_Zoet[AfKap Casco],\"Not Found\",0)","v":1.0208816705336425},{"$f":"_xlfn.XLOOKUP(Emi_Short[[#This Row],[Type]]&Emi_Short[[#This Row],[Brandstof]],MJ_Arbeid_Zout[Type Motor]&MJ_Arbeid_Zout[Energiedrager],MJ_Arbeid_Zout[AfKap Casco],\"Not Found\",0)","v":1.0328638497652582},{"$f":"IF(OR(Emi_Short[[#This Row],[MotCel2]]=\"TIER III\",Emi_Short[[#This Row],[MotCel2]]=\"Stage V IWP/IWA\",Emi_Short[[#This Row],[MotCel2]]=\"Stage V NRE\"),(_xlfn.XLOOKUP(Emi_Short[[#This Row],[Type]]&Emi_Short[[#This Row],[Brandstof]],MJ_Arbeid_Zoet[Type Motor]&MJ_Arbeid_Zoet[Energiedrager],MJ_Arbeid_Zoet[AdBlue (A1-A3) - Zoet],\"Not Found\",0)),0)","v":0},{"$f":"IF(OR(Emi_Short[[#This Row],[MotCel2]]=\"TIER III\",Emi_Short[[#This Row],[MotCel2]]=\"Stage V IWP/IWA\",Emi_Short[[#This Row],[MotCel2]]=\"Stage V NRE\",Emi_Short[[#This Row],[MotCel2]]=\"ULEV (Stage V IWP/IWA)\"),(_xlfn.XLOOKUP(Emi_Short[[#This Row],[Type]]&Emi_Short[[#This Row],[Brandstof]],MJ_Arbeid_Zout[Type Motor]&MJ_Arbeid_Zout[Energiedrager],MJ_Arbeid_Zout[AdBlue (A1-A3) - Zout],\"Not Found\",0)),0)","v":0},{"$f":"_xlfn.XLOOKUP(Emi_Short[[#This Row],[Type]]&Emi_Short[[#This Row],[Brandstof]],MJ_Arbeid_Zoet[Type Motor]&MJ_Arbeid_Zoet[Energiedrager],MJ_Arbeid_Zoet[VM / EA Zoet],\"Not Found\",0)","v":1.6076876701317205E-3},{"$f":"_xlfn.XLOOKUP(Emi_Short[[#This Row],[Type]]&Emi_Short[[#This Row],[Brandstof]],MJ_Arbeid_Zout[Type Motor]&MJ_Arbeid_Zout[Energiedrager],MJ_Arbeid_Zout[VM / EA Zout],\"Not Found\",0)","v":1.1500185382988374E-3}]
["HVO","ULEV (Stage V IWP/IWA)","HVO-ULEV","Gebruiksprofiel","*RWS Gebruiksprofiel HVO (verbrandingsemissies) - pre Tier I (zonder PM en NOx) (B1)",{"$f":"_xlfn.XLOOKUP(Emi_Short[[#This Row],[Gebruiksprofiel Basis B1]],RWS_[Environmental Profile],RWS_[Fuctional Unit],\"\",0)","v":"ton"},"*RWS Kapitaalgoederen Verbrandingsmotor (1000 kg o.b.v. Marine engine {GLO}| marine engine construction | Cut-off, U) (inlcusief reD)","Verbrandingsmotor",{"$f":"_xlfn.XLOOKUP(Emi_Short[[#This Row],[Type]]&Emi_Short[[#This Row],[Brandstof]],MJ_Arbeid_Zoet[Type Motor]&MJ_Arbeid_Zoet[Energiedrager],MJ_Arbeid_Zoet[MJ Arbeid (Geleverd)],\"Not Found\",0)","v":17600},{"$f":"_xlfn.XLOOKUP(Emi_Short[[#This Row],[Type]]&Emi_Short[[#This Row],[Brandstof]],MJ_Arbeid_Zout[Type Motor]&MJ_Arbeid_Zout[Energiedrager],MJ_Arbeid_Zout[MJ Arbeid (Geleverd)],\"Not Found\",0)","v":19800},{"$f":"_xlfn.XLOOKUP(Emi_Short[[#This Row],[Type]]&Emi_Short[[#This Row],[Brandstof]],MJ_Arbeid_Zoet[Type Motor]&MJ_Arbeid_Zoet[Energiedrager],MJ_Arbeid_Zoet[AfKap Casco],\"Not Found\",0)","v":1.0208816705336425},{"$f":"_xlfn.XLOOKUP(Emi_Short[[#This Row],[Type]]&Emi_Short[[#This Row],[Brandstof]],MJ_Arbeid_Zout[Type Motor]&MJ_Arbeid_Zout[Energiedrager],MJ_Arbeid_Zout[AfKap Casco],\"Not Found\",0)","v":1.0328638497652582},{"$f":"IF(OR(Emi_Short[[#This Row],[MotCel2]]=\"TIER III\",Emi_Short[[#This Row],[MotCel2]]=\"Stage V IWP/IWA\",Emi_Short[[#This Row],[MotCel2]]=\"Stage V NRE\"),(_xlfn.XLOOKUP(Emi_Short[[#This Row],[Type]]&Emi_Short[[#This Row],[Brandstof]],MJ_Arbeid_Zoet[Type Motor]&MJ_Arbeid_Zoet[Energiedrager],MJ_Arbeid_Zoet[AdBlue (A1-A3) - Zoet],\"Not Found\",0)),0)","v":0},{"$f":"IF(OR(Emi_Short[[#This Row],[MotCel2]]=\"TIER III\",Emi_Short[[#This Row],[MotCel2]]=\"Stage V IWP/IWA\",Emi_Short[[#This Row],[MotCel2]]=\"Stage V NRE\",Emi_Short[[#This Row],[MotCel2]]=\"ULEV (Stage V IWP/IWA)\"),(_xlfn.XLOOKUP(Emi_Short[[#This Row],[Type]]&Emi_Short[[#This Row],[Brandstof]],MJ_Arbeid_Zout[Type Motor]&MJ_Arbeid_Zout[Energiedrager],MJ_Arbeid_Zout[AdBlue (A1-A3) - Zout],\"Not Found\",0)),0)","v":68.038327681599128},{"$f":"_xlfn.XLOOKUP(Emi_Short[[#This Row],[Type]]&Emi_Short[[#This Row],[Brandstof]],MJ_Arbeid_Zoet[Type Motor]&MJ_Arbeid_Zoet[Energiedrager],MJ_Arbeid_Zoet[VM / EA Zoet],\"Not Found\",0)","v":1.6076876701317205E-3},{"$f":"_xlfn.XLOOKUP(Emi_Short[[#This Row],[Type]]&Emi_Short[[#This Row],[Brandstof]],MJ_Arbeid_Zout[Type Motor]&MJ_Arbeid_Zout[Energiedrager],MJ_Arbeid_Zout[VM / EA Zout],\"Not Found\",0)","v":1.1500185382988374E-3}]
["HVO","TIER I / II","HVO-TII","Gebruiksprofiel","*RWS Gebruiksprofiel HVO (verbrandingsemissies) - pre Tier I (zonder PM en NOx) (B1)",{"$f":"_xlfn.XLOOKUP(Emi_Short[[#This Row],[Gebruiksprofiel Basis B1]],RWS_[Environmental Profile],RWS_[Fuctional Unit],\"\",0)","v":"ton"},"*RWS Kapitaalgoederen Verbrandingsmotor (1000 kg o.b.v. Marine engine {GLO}| marine engine construction | Cut-off, U) (inlcusief reD)","Verbrandingsmotor",{"$f":"_xlfn.XLOOKUP(Emi_Short[[#This Row],[Type]]&Emi_Short[[#This Row],[Brandstof]],MJ_Arbeid_Zoet[Type Motor]&MJ_Arbeid_Zoet[Energiedrager],MJ_Arbeid_Zoet[MJ Arbeid (Geleverd)],\"Not Found\",0)","v":17600},{"$f":"_xlfn.XLOOKUP(Emi_Short[[#This Row],[Type]]&Emi_Short[[#This Row],[Brandstof]],MJ_Arbeid_Zout[Type Motor]&MJ_Arbeid_Zout[Energiedrager],MJ_Arbeid_Zout[MJ Arbeid (Geleverd)],\"Not Found\",0)","v":19800},{"$f":"_xlfn.XLOOKUP(Emi_Short[[#This Row],[Type]]&Emi_Short[[#This Row],[Brandstof]],MJ_Arbeid_Zoet[Type Motor]&MJ_Arbeid_Zoet[Energiedrager],MJ_Arbeid_Zoet[AfKap Casco],\"Not Found\",0)","v":1.0208816705336425},{"$f":"_xlfn.XLOOKUP(Emi_Short[[#This Row],[Type]]&Emi_Short[[#This Row],[Brandstof]],MJ_Arbeid_Zout[Type Motor]&MJ_Arbeid_Zout[Energiedrager],MJ_Arbeid_Zout[AfKap Casco],\"Not Found\",0)","v":1.0328638497652582},{"$f":"IF(OR(Emi_Short[[#This Row],[MotCel2]]=\"TIER III\",Emi_Short[[#This Row],[MotCel2]]=\"Stage V IWP/IWA\",Emi_Short[[#This Row],[MotCel2]]=\"Stage V NRE\"),(_xlfn.XLOOKUP(Emi_Short[[#This Row],[Type]]&Emi_Short[[#This Row],[Brandstof]],MJ_Arbeid_Zoet[Type Motor]&MJ_Arbeid_Zoet[Energiedrager],MJ_Arbeid_Zoet[AdBlue (A1-A3) - Zoet],\"Not Found\",0)),0)","v":0},{"$f":"IF(OR(Emi_Short[[#This Row],[MotCel2]]=\"TIER III\",Emi_Short[[#This Row],[MotCel2]]=\"Stage V IWP/IWA\",Emi_Short[[#This Row],[MotCel2]]=\"Stage V NRE\",Emi_Short[[#This Row],[MotCel2]]=\"ULEV (Stage V IWP/IWA)\"),(_xlfn.XLOOKUP(Emi_Short[[#This Row],[Type]]&Emi_Short[[#This Row],[Brandstof]],MJ_Arbeid_Zout[Type Motor]&MJ_Arbeid_Zout[Energiedrager],MJ_Arbeid_Zout[AdBlue (A1-A3) - Zout],\"Not Found\",0)),0)","v":0},{"$f":"_xlfn.XLOOKUP(Emi_Short[[#This Row],[Type]]&Emi_Short[[#This Row],[Brandstof]],MJ_Arbeid_Zoet[Type Motor]&MJ_Arbeid_Zoet[Energiedrager],MJ_Arbeid_Zoet[VM / EA Zoet],\"Not Found\",0)","v":1.6076876701317205E-3},{"$f":"_xlfn.XLOOKUP(Emi_Short[[#This Row],[Type]]&Emi_Short[[#This Row],[Brandstof]],MJ_Arbeid_Zout[Type Motor]&MJ_Arbeid_Zout[Energiedrager],MJ_Arbeid_Zout[VM / EA Zout],\"Not Found\",0)","v":1.1500185382988374E-3}]
["HVO","TIER III","HVO-TIII","Gebruiksprofiel","*RWS Gebruiksprofiel HVO (verbrandingsemissies) - pre Tier I (zonder PM en NOx) (B1)",{"$f":"_xlfn.XLOOKUP(Emi_Short[[#This Row],[Gebruiksprofiel Basis B1]],RWS_[Environmental Profile],RWS_[Fuctional Unit],\"\",0)","v":"ton"},"*RWS Kapitaalgoederen Verbrandingsmotor (1000 kg o.b.v. Marine engine {GLO}| marine engine construction | Cut-off, U) (inlcusief reD)","Verbrandingsmotor",{"$f":"_xlfn.XLOOKUP(Emi_Short[[#This Row],[Type]]&Emi_Short[[#This Row],[Brandstof]],MJ_Arbeid_Zoet[Type Motor]&MJ_Arbeid_Zoet[Energiedrager],MJ_Arbeid_Zoet[MJ Arbeid (Geleverd)],\"Not Found\",0)","v":17600},{"$f":"_xlfn.XLOOKUP(Emi_Short[[#This Row],[Type]]&Emi_Short[[#This Row],[Brandstof]],MJ_Arbeid_Zout[Type Motor]&MJ_Arbeid_Zout[Energiedrager],MJ_Arbeid_Zout[MJ Arbeid (Geleverd)],\"Not Found\",0)","v":19800},{"$f":"_xlfn.XLOOKUP(Emi_Short[[#This Row],[Type]]&Emi_Short[[#This Row],[Brandstof]],MJ_Arbeid_Zoet[Type Motor]&MJ_Arbeid_Zoet[Energiedrager],MJ_Arbeid_Zoet[AfKap Casco],\"Not Found\",0)","v":1.0208816705336425},{"$f":"_xlfn.XLOOKUP(Emi_Short[[#This Row],[Type]]&Emi_Short[[#This Row],[Brandstof]],MJ_Arbeid_Zout[Type Motor]&MJ_Arbeid_Zout[Energiedrager],MJ_Arbeid_Zout[AfKap Casco],\"Not Found\",0)","v":1.0328638497652582},{"$f":"IF(OR(Emi_Short[[#This Row],[MotCel2]]=\"TIER III\",Emi_Short[[#This Row],[MotCel2]]=\"Stage V IWP/IWA\",Emi_Short[[#This Row],[MotCel2]]=\"Stage V NRE\"),(_xlfn.XLOOKUP(Emi_Short[[#This Row],[Type]]&Emi_Short[[#This Row],[Brandstof]],MJ_Arbeid_Zoet[Type Motor]&MJ_Arbeid_Zoet[Energiedrager],MJ_Arbeid_Zoet[AdBlue (A1-A3) - Zoet],\"Not Found\",0)),0)","v":68.038327681599128},{"$f":"IF(OR(Emi_Short[[#This Row],[MotCel2]]=\"TIER III\",Emi_Short[[#This Row],[MotCel2]]=\"Stage V IWP/IWA\",Emi_Short[[#This Row],[MotCel2]]=\"Stage V NRE\",Emi_Short[[#This Row],[MotCel2]]=\"ULEV (Stage V IWP/IWA)\"),(_xlfn.XLOOKUP(Emi_Short[[#This Row],[Type]]&Emi_Short[[#This Row],[Brandstof]],MJ_Arbeid_Zout[Type Motor]&MJ_Arbeid_Zout[Energiedrager],MJ_Arbeid_Zout[AdBlue (A1-A3) - Zout],\"Not Found\",0)),0)","v":68.038327681599128},{"$f":"_xlfn.XLOOKUP(Emi_Short[[#This Row],[Type]]&Emi_Short[[#This Row],[Brandstof]],MJ_Arbeid_Zoet[Type Motor]&MJ_Arbeid_Zoet[Energiedrager],MJ_Arbeid_Zoet[VM / EA Zoet],\"Not Found\",0)","v":1.6076876701317205E-3},{"$f":"_xlfn.XLOOKUP(Emi_Short[[#This Row],[Type]]&Emi_Short[[#This Row],[Brandstof]],MJ_Arbeid_Zout[Type Motor]&MJ_Arbeid_Zout[Energiedrager],MJ_Arbeid_Zout[VM / EA Zout],\"Not Found\",0)","v":1.1500185382988374E-3}]
["HVO","CCR 0 / Unspecified","HVO-C0","Gebruiksprofiel","*RWS Gebruiksprofiel HVO (verbrandingsemissies) - pre Tier I (zonder PM en NOx) (B1)",{"$f":"_xlfn.XLOOKUP(Emi_Short[[#This Row],[Gebruiksprofiel Basis B1]],RWS_[Environmental Profile],RWS_[Fuctional Unit],\"\",0)","v":"ton"},"*RWS Kapitaalgoederen Verbrandingsmotor (1000 kg o.b.v. Marine engine {GLO}| marine engine construction | Cut-off, U) (inlcusief reD)","Verbrandingsmotor",{"$f":"_xlfn.XLOOKUP(Emi_Short[[#This Row],[Type]]&Emi_Short[[#This Row],[Brandstof]],MJ_Arbeid_Zoet[Type Motor]&MJ_Arbeid_Zoet[Energiedrager],MJ_Arbeid_Zoet[MJ Arbeid (Geleverd)],\"Not Found\",0)","v":17600},{"$f":"_xlfn.XLOOKUP(Emi_Short[[#This Row],[Type]]&Emi_Short[[#This Row],[Brandstof]],MJ_Arbeid_Zout[Type Motor]&MJ_Arbeid_Zout[Energiedrager],MJ_Arbeid_Zout[MJ Arbeid (Geleverd)],\"Not Found\",0)","v":19800},{"$f":"_xlfn.XLOOKUP(Emi_Short[[#This Row],[Type]]&Emi_Short[[#This Row],[Brandstof]],MJ_Arbeid_Zoet[Type Motor]&MJ_Arbeid_Zoet[Energiedrager],MJ_Arbeid_Zoet[AfKap Casco],\"Not Found\",0)","v":1.0208816705336425},{"$f":"_xlfn.XLOOKUP(Emi_Short[[#This Row],[Type]]&Emi_Short[[#This Row],[Brandstof]],MJ_Arbeid_Zout[Type Motor]&MJ_Arbeid_Zout[Energiedrager],MJ_Arbeid_Zout[AfKap Casco],\"Not Found\",0)","v":1.0328638497652582},{"$f":"IF(OR(Emi_Short[[#This Row],[MotCel2]]=\"TIER III\",Emi_Short[[#This Row],[MotCel2]]=\"Stage V IWP/IWA\",Emi_Short[[#This Row],[MotCel2]]=\"Stage V NRE\"),(_xlfn.XLOOKUP(Emi_Short[[#This Row],[Type]]&Emi_Short[[#This Row],[Brandstof]],MJ_Arbeid_Zoet[Type Motor]&MJ_Arbeid_Zoet[Energiedrager],MJ_Arbeid_Zoet[AdBlue (A1-A3) - Zoet],\"Not Found\",0)),0)","v":0},{"$f":"IF(OR(Emi_Short[[#This Row],[MotCel2]]=\"TIER III\",Emi_Short[[#This Row],[MotCel2]]=\"Stage V IWP/IWA\",Emi_Short[[#This Row],[MotCel2]]=\"Stage V NRE\",Emi_Short[[#This Row],[MotCel2]]=\"ULEV (Stage V IWP/IWA)\"),(_xlfn.XLOOKUP(Emi_Short[[#This Row],[Type]]&Emi_Short[[#This Row],[Brandstof]],MJ_Arbeid_Zout[Type Motor]&MJ_Arbeid_Zout[Energiedrager],MJ_Arbeid_Zout[AdBlue (A1-A3) - Zout],\"Not Found\",0)),0)","v":0},{"$f":"_xlfn.XLOOKUP(Emi_Short[[#This Row],[Type]]&Emi_Short[[#This Row],[Brandstof]],MJ_Arbeid_Zoet[Type Motor]&MJ_Arbeid_Zoet[Energiedrager],MJ_Arbeid_Zoet[VM / EA Zoet],\"Not Found\",0)","v":1.6076876701317205E-3},{"$f":"_xlfn.XLOOKUP(Emi_Short[[#This Row],[Type]]&Emi_Short[[#This Row],[Brandstof]],MJ_Arbeid_Zout[Type Motor]&MJ_Arbeid_Zout[Energiedrager],MJ_Arbeid_Zout[VM / EA Zout],\"Not Found\",0)","v":1.1500185382988374E-3}]
["HVO","CCR I","HVO-CI","Gebruiksprofiel","*RWS Gebruiksprofiel HVO (verbrandingsemissies) - pre Tier I (zonder PM en NOx) (B1)",{"$f":"_xlfn.XLOOKUP(Emi_Short[[#This Row],[Gebruiksprofiel Basis B1]],RWS_[Environmental Profile],RWS_[Fuctional Unit],\"\",0)","v":"ton"},"*RWS Kapitaalgoederen Verbrandingsmotor (1000 kg o.b.v. Marine engine {GLO}| marine engine construction | Cut-off, U) (inlcusief reD)","Verbrandingsmotor",{"$f":"_xlfn.XLOOKUP(Emi_Short[[#This Row],[Type]]&Emi_Short[[#This Row],[Brandstof]],MJ_Arbeid_Zoet[Type Motor]&MJ_Arbeid_Zoet[Energiedrager],MJ_Arbeid_Zoet[MJ Arbeid (Geleverd)],\"Not Found\",0)","v":17600},{"$f":"_xlfn.XLOOKUP(Emi_Short[[#This Row],[Type]]&Emi_Short[[#This Row],[Brandstof]],MJ_Arbeid_Zout[Type Motor]&MJ_Arbeid_Zout[Energiedrager],MJ_Arbeid_Zout[MJ Arbeid (Geleverd)],\"Not Found\",0)","v":19800},{"$f":"_xlfn.XLOOKUP(Emi_Short[[#This Row],[Type]]&Emi_Short[[#This Row],[Brandstof]],MJ_Arbeid_Zoet[Type Motor]&MJ_Arbeid_Zoet[Energiedrager],MJ_Arbeid_Zoet[AfKap Casco],\"Not Found\",0)","v":1.0208816705336425},{"$f":"_xlfn.XLOOKUP(Emi_Short[[#This Row],[Type]]&Emi_Short[[#This Row],[Brandstof]],MJ_Arbeid_Zout[Type Motor]&MJ_Arbeid_Zout[Energiedrager],MJ_Arbeid_Zout[AfKap Casco],\"Not Found\",0)","v":1.0328638497652582},{"$f":"IF(OR(Emi_Short[[#This Row],[MotCel2]]=\"TIER III\",Emi_Short[[#This Row],[MotCel2]]=\"Stage V IWP/IWA\",Emi_Short[[#This Row],[MotCel2]]=\"Stage V NRE\"),(_xlfn.XLOOKUP(Emi_Short[[#This Row],[Type]]&Emi_Short[[#This Row],[Brandstof]],MJ_Arbeid_Zoet[Type Motor]&MJ_Arbeid_Zoet[Energiedrager],MJ_Arbeid_Zoet[AdBlue (A1-A3) - Zoet],\"Not Found\",0)),0)","v":0},{"$f":"IF(OR(Emi_Short[[#This Row],[MotCel2]]=\"TIER III\",Emi_Short[[#This Row],[MotCel2]]=\"Stage V IWP/IWA\",Emi_Short[[#This Row],[MotCel2]]=\"Stage V NRE\",Emi_Short[[#This Row],[MotCel2]]=\"ULEV (Stage V IWP/IWA)\"),(_xlfn.XLOOKUP(Emi_Short[[#This Row],[Type]]&Emi_Short[[#This Row],[Brandstof]],MJ_Arbeid_Zout[Type Motor]&MJ_Arbeid_Zout[Energiedrager],MJ_Arbeid_Zout[AdBlue (A1-A3) - Zout],\"Not Found\",0)),0)","v":0},{"$f":"_xlfn.XLOOKUP(Emi_Short[[#This Row],[Type]]&Emi_Short[[#This Row],[Brandstof]],MJ_Arbeid_Zoet[Type Motor]&MJ_Arbeid_Zoet[Energiedrager],MJ_Arbeid_Zoet[VM / EA Zoet],\"Not Found\",0)","v":1.6076876701317205E-3},{"$f":"_xlfn.XLOOKUP(Emi_Short[[#This Row],[Type]]&Emi_Short[[#This Row],[Brandstof]],MJ_Arbeid_Zout[Type Motor]&MJ_Arbeid_Zout[Energiedrager],MJ_Arbeid_Zout[VM / EA Zout],\"Not Found\",0)","v":1.1500185382988374E-3}]
["HVO","CCR II","HVO-CII","Gebruiksprofiel","*RWS Gebruiksprofiel HVO (verbrandingsemissies) - pre Tier I (zonder PM en NOx) (B1)",{"$f":"_xlfn.XLOOKUP(Emi_Short[[#This Row],[Gebruiksprofiel Basis B1]],RWS_[Environmental Profile],RWS_[Fuctional Unit],\"\",0)","v":"ton"},"*RWS Kapitaalgoederen Verbrandingsmotor (1000 kg o.b.v. Marine engine {GLO}| marine engine construction | Cut-off, U) (inlcusief reD)","Verbrandingsmotor",{"$f":"_xlfn.XLOOKUP(Emi_Short[[#This Row],[Type]]&Emi_Short[[#This Row],[Brandstof]],MJ_Arbeid_Zoet[Type Motor]&MJ_Arbeid_Zoet[Energiedrager],MJ_Arbeid_Zoet[MJ Arbeid (Geleverd)],\"Not Found\",0)","v":17600},{"$f":"_xlfn.XLOOKUP(Emi_Short[[#This Row],[Type]]&Emi_Short[[#This Row],[Brandstof]],MJ_Arbeid_Zout[Type Motor]&MJ_Arbeid_Zout[Energiedrager],MJ_Arbeid_Zout[MJ Arbeid (Geleverd)],\"Not Found\",0)","v":19800},{"$f":"_xlfn.XLOOKUP(Emi_Short[[#This Row],[Type]]&Emi_Short[[#This Row],[Brandstof]],MJ_Arbeid_Zoet[Type Motor]&MJ_Arbeid_Zoet[Energiedrager],MJ_Arbeid_Zoet[AfKap Casco],\"Not Found\",0)","v":1.0208816705336425},{"$f":"_xlfn.XLOOKUP(Emi_Short[[#This Row],[Type]]&Emi_Short[[#This Row],[Brandstof]],MJ_Arbeid_Zout[Type Motor]&MJ_Arbeid_Zout[Energiedrager],MJ_Arbeid_Zout[AfKap Casco],\"Not Found\",0)","v":1.0328638497652582},{"$f":"IF(OR(Emi_Short[[#This Row],[MotCel2]]=\"TIER III\",Emi_Short[[#This Row],[MotCel2]]=\"Stage V IWP/IWA\",Emi_Short[[#This Row],[MotCel2]]=\"Stage V NRE\"),(_xlfn.XLOOKUP(Emi_Short[[#This Row],[Type]]&Emi_Short[[#This Row],[Brandstof]],MJ_Arbeid_Zoet[Type Motor]&MJ_Arbeid_Zoet[Energiedrager],MJ_Arbeid_Zoet[AdBlue (A1-A3) - Zoet],\"Not Found\",0)),0)","v":0},{"$f":"IF(OR(Emi_Short[[#This Row],[MotCel2]]=\"TIER III\",Emi_Short[[#This Row],[MotCel2]]=\"Stage V IWP/IWA\",Emi_Short[[#This Row],[MotCel2]]=\"Stage V NRE\",Emi_Short[[#This Row],[MotCel2]]=\"ULEV (Stage V IWP/IWA)\"),(_xlfn.XLOOKUP(Emi_Short[[#This Row],[Type]]&Emi_Short[[#This Row],[Brandstof]],MJ_Arbeid_Zout[Type Motor]&MJ_Arbeid_Zout[Energiedrager],MJ_Arbeid_Zout[AdBlue (A1-A3) - Zout],\"Not Found\",0)),0)","v":0},{"$f":"_xlfn.XLOOKUP(Emi_Short[[#This Row],[Type]]&Emi_Short[[#This Row],[Brandstof]],MJ_Arbeid_Zoet[Type Motor]&MJ_Arbeid_Zoet[Energiedrager],MJ_Arbeid_Zoet[VM / EA Zoet],\"Not Found\",0)","v":1.6076876701317205E-3},{"$f":"_xlfn.XLOOKUP(Emi_Short[[#This Row],[Type]]&Emi_Short[[#This Row],[Brandstof]],MJ_Arbeid_Zout[Type Motor]&MJ_Arbeid_Zout[Energiedrager],MJ_Arbeid_Zout[VM / EA Zout],\"Not Found\",0)","v":1.1500185382988374E-3}]
["HVO","Stage V IWP/IWA","HVO-SV-I","Gebruiksprofiel","*RWS Gebruiksprofiel HVO (verbrandingsemissies) - pre Tier I (zonder PM en NOx) (B1)",{"$f":"_xlfn.XLOOKUP(Emi_Short[[#This Row],[Gebruiksprofiel Basis B1]],RWS_[Environmental Profile],RWS_[Fuctional Unit],\"\",0)","v":"ton"},"*RWS Kapitaalgoederen Verbrandingsmotor (1000 kg o.b.v. Marine engine {GLO}| marine engine construction | Cut-off, U) (inlcusief reD)","Verbrandingsmotor",{"$f":"_xlfn.XLOOKUP(Emi_Short[[#This Row],[Type]]&Emi_Short[[#This Row],[Brandstof]],MJ_Arbeid_Zoet[Type Motor]&MJ_Arbeid_Zoet[Energiedrager],MJ_Arbeid_Zoet[MJ Arbeid (Geleverd)],\"Not Found\",0)","v":17600},{"$f":"_xlfn.XLOOKUP(Emi_Short[[#This Row],[Type]]&Emi_Short[[#This Row],[Brandstof]],MJ_Arbeid_Zout[Type Motor]&MJ_Arbeid_Zout[Energiedrager],MJ_Arbeid_Zout[MJ Arbeid (Geleverd)],\"Not Found\",0)","v":19800},{"$f":"_xlfn.XLOOKUP(Emi_Short[[#This Row],[Type]]&Emi_Short[[#This Row],[Brandstof]],MJ_Arbeid_Zoet[Type Motor]&MJ_Arbeid_Zoet[Energiedrager],MJ_Arbeid_Zoet[AfKap Casco],\"Not Found\",0)","v":1.0208816705336425},{"$f":"_xlfn.XLOOKUP(Emi_Short[[#This Row],[Type]]&Emi_Short[[#This Row],[Brandstof]],MJ_Arbeid_Zout[Type Motor]&MJ_Arbeid_Zout[Energiedrager],MJ_Arbeid_Zout[AfKap Casco],\"Not Found\",0)","v":1.0328638497652582},{"$f":"IF(OR(Emi_Short[[#This Row],[MotCel2]]=\"TIER III\",Emi_Short[[#This Row],[MotCel2]]=\"Stage V IWP/IWA\",Emi_Short[[#This Row],[MotCel2]]=\"Stage V NRE\"),(_xlfn.XLOOKUP(Emi_Short[[#This Row],[Type]]&Emi_Short[[#This Row],[Brandstof]],MJ_Arbeid_Zoet[Type Motor]&MJ_Arbeid_Zoet[Energiedrager],MJ_Arbeid_Zoet[AdBlue (A1-A3) - Zoet],\"Not Found\",0)),0)","v":68.038327681599128},{"$f":"IF(OR(Emi_Short[[#This Row],[MotCel2]]=\"TIER III\",Emi_Short[[#This Row],[MotCel2]]=\"Stage V IWP/IWA\",Emi_Short[[#This Row],[MotCel2]]=\"Stage V NRE\",Emi_Short[[#This Row],[MotCel2]]=\"ULEV (Stage V IWP/IWA)\"),(_xlfn.XLOOKUP(Emi_Short[[#This Row],[Type]]&Emi_Short[[#This Row],[Brandstof]],MJ_Arbeid_Zout[Type Motor]&MJ_Arbeid_Zout[Energiedrager],MJ_Arbeid_Zout[AdBlue (A1-A3) - Zout],\"Not Found\",0)),0)","v":68.038327681599128},{"$f":"_xlfn.XLOOKUP(Emi_Short[[#This Row],[Type]]&Emi_Short[[#This Row],[Brandstof]],MJ_Arbeid_Zoet[Type Motor]&MJ_Arbeid_Zoet[Energiedrager],MJ_Arbeid_Zoet[VM / EA Zoet],\"Not Found\",0)","v":1.6076876701317205E-3},{"$f":"_xlfn.XLOOKUP(Emi_Short[[#This Row],[Type]]&Emi_Short[[#This Row],[Brandstof]],MJ_Arbeid_Zout[Type Motor]&MJ_Arbeid_Zout[Energiedrager],MJ_Arbeid_Zout[VM / EA Zout],\"Not Found\",0)","v":1.1500185382988374E-3}]
["HVO","Stage V NRE","HVO-SV-N","Gebruiksprofiel","*RWS Gebruiksprofiel HVO (verbrandingsemissies) - pre Tier I (zonder PM en NOx) (B1)",{"$f":"_xlfn.XLOOKUP(Emi_Short[[#This Row],[Gebruiksprofiel Basis B1]],RWS_[Environmental Profile],RWS_[Fuctional Unit],\"\",0)","v":"ton"},"*RWS Kapitaalgoederen Verbrandingsmotor (1000 kg o.b.v. Marine engine {GLO}| marine engine construction | Cut-off, U) (inlcusief reD)","Verbrandingsmotor",{"$f":"_xlfn.XLOOKUP(Emi_Short[[#This Row],[Type]]&Emi_Short[[#This Row],[Brandstof]],MJ_Arbeid_Zoet[Type Motor]&MJ_Arbeid_Zoet[Energiedrager],MJ_Arbeid_Zoet[MJ Arbeid (Geleverd)],\"Not Found\",0)","v":17600},{"$f":"_xlfn.XLOOKUP(Emi_Short[[#This Row],[Type]]&Emi_Short[[#This Row],[Brandstof]],MJ_Arbeid_Zout[Type Motor]&MJ_Arbeid_Zout[Energiedrager],MJ_Arbeid_Zout[MJ Arbeid (Geleverd)],\"Not Found\",0)","v":19800},{"$f":"_xlfn.XLOOKUP(Emi_Short[[#This Row],[Type]]&Emi_Short[[#This Row],[Brandstof]],MJ_Arbeid_Zoet[Type Motor]&MJ_Arbeid_Zoet[Energiedrager],MJ_Arbeid_Zoet[AfKap Casco],\"Not Found\",0)","v":1.0208816705336425},{"$f":"_xlfn.XLOOKUP(Emi_Short[[#This Row],[Type]]&Emi_Short[[#This Row],[Brandstof]],MJ_Arbeid_Zout[Type Motor]&MJ_Arbeid_Zout[Energiedrager],MJ_Arbeid_Zout[AfKap Casco],\"Not Found\",0)","v":1.0328638497652582},{"$f":"IF(OR(Emi_Short[[#This Row],[MotCel2]]=\"TIER III\",Emi_Short[[#This Row],[MotCel2]]=\"Stage V IWP/IWA\",Emi_Short[[#This Row],[MotCel2]]=\"Stage V NRE\"),(_xlfn.XLOOKUP(Emi_Short[[#This Row],[Type]]&Emi_Short[[#This Row],[Brandstof]],MJ_Arbeid_Zoet[Type Motor]&MJ_Arbeid_Zoet[Energiedrager],MJ_Arbeid_Zoet[AdBlue (A1-A3) - Zoet],\"Not Found\",0)),0)","v":68.038327681599128},{"$f":"IF(OR(Emi_Short[[#This Row],[MotCel2]]=\"TIER III\",Emi_Short[[#This Row],[MotCel2]]=\"Stage V IWP/IWA\",Emi_Short[[#This Row],[MotCel2]]=\"Stage V NRE\",Emi_Short[[#This Row],[MotCel2]]=\"ULEV (Stage V IWP/IWA)\"),(_xlfn.XLOOKUP(Emi_Short[[#This Row],[Type]]&Emi_Short[[#This Row],[Brandstof]],MJ_Arbeid_Zout[Type Motor]&MJ_Arbeid_Zout[Energiedrager],MJ_Arbeid_Zout[AdBlue (A1-A3) - Zout],\"Not Found\",0)),0)","v":68.038327681599128},{"$f":"_xlfn.XLOOKUP(Emi_Short[[#This Row],[Type]]&Emi_Short[[#This Row],[Brandstof]],MJ_Arbeid_Zoet[Type Motor]&MJ_Arbeid_Zoet[Energiedrager],MJ_Arbeid_Zoet[VM / EA Zoet],\"Not Found\",0)","v":1.6076876701317205E-3},{"$f":"_xlfn.XLOOKUP(Emi_Short[[#This Row],[Type]]&Emi_Short[[#This Row],[Brandstof]],MJ_Arbeid_Zout[Type Motor]&MJ_Arbeid_Zout[Energiedrager],MJ_Arbeid_Zout[VM / EA Zout],\"Not Found\",0)","v":1.1500185382988374E-3}]
["Methanol (Fossiel)","TIER III","METH-TIII","Gebruiksprofiel","*RWS Gebruiksprofiel Methanol Fossiel (Verbrandingsemissies/Brandstofcel emissies) (zonder PM en NOx) (B1)",{"$f":"_xlfn.XLOOKUP(Emi_Short[[#This Row],[Gebruiksprofiel Basis B1]],RWS_[Environmental Profile],RWS_[Fuctional Unit],\"\",0)","v":"ton"},"*RWS Kapitaalgoederen Verbrandingsmotor (1000 kg o.b.v. Marine engine {GLO}| marine engine construction | Cut-off, U) (inlcusief reD)","Verbrandingsmotor",{"$f":"_xlfn.XLOOKUP(Emi_Short[[#This Row],[Type]]&Emi_Short[[#This Row],[Brandstof]],MJ_Arbeid_Zoet[Type Motor]&MJ_Arbeid_Zoet[Energiedrager],MJ_Arbeid_Zoet[MJ Arbeid (Geleverd)],\"Not Found\",0)","v":7960},{"$f":"_xlfn.XLOOKUP(Emi_Short[[#This Row],[Type]]&Emi_Short[[#This Row],[Brandstof]],MJ_Arbeid_Zout[Type Motor]&MJ_Arbeid_Zout[Energiedrager],MJ_Arbeid_Zout[MJ Arbeid (Geleverd)],\"Not Found\",0)","v":8955},{"$f":"_xlfn.XLOOKUP(Emi_Short[[#This Row],[Type]]&Emi_Short[[#This Row],[Brandstof]],MJ_Arbeid_Zoet[Type Motor]&MJ_Arbeid_Zoet[Energiedrager],MJ_Arbeid_Zoet[AfKap Casco],\"Not Found\",0)","v":0.46171693735498831},{"$f":"_xlfn.XLOOKUP(Emi_Short[[#This Row],[Type]]&Emi_Short[[#This Row],[Brandstof]],MJ_Arbeid_Zout[Type Motor]&MJ_Arbeid_Zout[Energiedrager],MJ_Arbeid_Zout[AfKap Casco],\"Not Found\",0)","v":0.46713615023474181},{"$f":"IF(OR(Emi_Short[[#This Row],[MotCel2]]=\"TIER III\",Emi_Short[[#This Row],[MotCel2]]=\"Stage V IWP/IWA\",Emi_Short[[#This Row],[MotCel2]]=\"Stage V NRE\"),(_xlfn.XLOOKUP(Emi_Short[[#This Row],[Type]]&Emi_Short[[#This Row],[Brandstof]],MJ_Arbeid_Zoet[Type Motor]&MJ_Arbeid_Zoet[Energiedrager],MJ_Arbeid_Zoet[AdBlue (A1-A3) - Zoet],\"Not Found\",0)),0)","v":15.385940009816165},{"$f":"IF(OR(Emi_Short[[#This Row],[MotCel2]]=\"TIER III\",Emi_Short[[#This Row],[MotCel2]]=\"Stage V IWP/IWA\",Emi_Short[[#This Row],[MotCel2]]=\"Stage V NRE\",Emi_Short[[#This Row],[MotCel2]]=\"ULEV (Stage V IWP/IWA)\"),(_xlfn.XLOOKUP(Emi_Short[[#This Row],[Type]]&Emi_Short[[#This Row],[Brandstof]],MJ_Arbeid_Zout[Type Motor]&MJ_Arbeid_Zout[Energiedrager],MJ_Arbeid_Zout[AdBlue (A1-A3) - Zout],\"Not Found\",0)),0)","v":15.385940009816165},{"$f":"_xlfn.XLOOKUP(Emi_Short[[#This Row],[Type]]&Emi_Short[[#This Row],[Brandstof]],MJ_Arbeid_Zoet[Type Motor]&MJ_Arbeid_Zoet[Energiedrager],MJ_Arbeid_Zoet[VM / EA Zoet],\"Not Found\",0)","v":7.2711328717320984E-4},{"$f":"_xlfn.XLOOKUP(Emi_Short[[#This Row],[Type]]&Emi_Short[[#This Row],[Brandstof]],MJ_Arbeid_Zout[Type Motor]&MJ_Arbeid_Zout[Energiedrager],MJ_Arbeid_Zout[VM / EA Zout],\"Not Found\",0)","v":5.2012202073061051E-4}]
["Methanol (Fossiel)","ULEV (Stage V IWP/IWA)","METH-ULEV","Gebruiksprofiel","*RWS Gebruiksprofiel Methanol Fossiel (Verbrandingsemissies/Brandstofcel emissies) (zonder PM en NOx) (B1)",{"$f":"_xlfn.XLOOKUP(Emi_Short[[#This Row],[Gebruiksprofiel Basis B1]],RWS_[Environmental Profile],RWS_[Fuctional Unit],\"\",0)","v":"ton"},"*RWS Kapitaalgoederen Verbrandingsmotor (1000 kg o.b.v. Marine engine {GLO}| marine engine construction | Cut-off, U) (inlcusief reD)","Verbrandingsmotor",{"$f":"_xlfn.XLOOKUP(Emi_Short[[#This Row],[Type]]&Emi_Short[[#This Row],[Brandstof]],MJ_Arbeid_Zoet[Type Motor]&MJ_Arbeid_Zoet[Energiedrager],MJ_Arbeid_Zoet[MJ Arbeid (Geleverd)],\"Not Found\",0)","v":7960},{"$f":"_xlfn.XLOOKUP(Emi_Short[[#This Row],[Type]]&Emi_Short[[#This Row],[Brandstof]],MJ_Arbeid_Zout[Type Motor]&MJ_Arbeid_Zout[Energiedrager],MJ_Arbeid_Zout[MJ Arbeid (Geleverd)],\"Not Found\",0)","v":8955},{"$f":"_xlfn.XLOOKUP(Emi_Short[[#This Row],[Type]]&Emi_Short[[#This Row],[Brandstof]],MJ_Arbeid_Zoet[Type Motor]&MJ_Arbeid_Zoet[Energiedrager],MJ_Arbeid_Zoet[AfKap Casco],\"Not Found\",0)","v":0.46171693735498831},{"$f":"_xlfn.XLOOKUP(Emi_Short[[#This Row],[Type]]&Emi_Short[[#This Row],[Brandstof]],MJ_Arbeid_Zout[Type Motor]&MJ_Arbeid_Zout[Energiedrager],MJ_Arbeid_Zout[AfKap Casco],\"Not Found\",0)","v":0.46713615023474181},{"$f":"IF(OR(Emi_Short[[#This Row],[MotCel2]]=\"TIER III\",Emi_Short[[#This Row],[MotCel2]]=\"Stage V IWP/IWA\",Emi_Short[[#This Row],[MotCel2]]=\"Stage V NRE\"),(_xlfn.XLOOKUP(Emi_Short[[#This Row],[Type]]&Emi_Short[[#This Row],[Brandstof]],MJ_Arbeid_Zoet[Type Motor]&MJ_Arbeid_Zoet[Energiedrager],MJ_Arbeid_Zoet[AdBlue (A1-A3) - Zoet],\"Not Found\",0)),0)","v":0},{"$f":"IF(OR(Emi_Short[[#This Row],[MotCel2]]=\"TIER III\",Emi_Short[[#This Row],[MotCel2]]=\"Stage V IWP/IWA\",Emi_Short[[#This Row],[MotCel2]]=\"Stage V NRE\",Emi_Short[[#This Row],[MotCel2]]=\"ULEV (Stage V IWP/IWA)\"),(_xlfn.XLOOKUP(Emi_Short[[#This Row],[Type]]&Emi_Short[[#This Row],[Brandstof]],MJ_Arbeid_Zout[Type Motor]&MJ_Arbeid_Zout[Energiedrager],MJ_Arbeid_Zout[AdBlue (A1-A3) - Zout],\"Not Found\",0)),0)","v":15.385940009816165},{"$f":"_xlfn.XLOOKUP(Emi_Short[[#This Row],[Type]]&Emi_Short[[#This Row],[Brandstof]],MJ_Arbeid_Zoet[Type Motor]&MJ_Arbeid_Zoet[Energiedrager],MJ_Arbeid_Zoet[VM / EA Zoet],\"Not Found\",0)","v":7.2711328717320984E-4},{"$f":"_xlfn.XLOOKUP(Emi_Short[[#This Row],[Type]]&Emi_Short[[#This Row],[Brandstof]],MJ_Arbeid_Zout[Type Motor]&MJ_Arbeid_Zout[Energiedrager],MJ_Arbeid_Zout[VM / EA Zout],\"Not Found\",0)","v":5.2012202073061051E-4}]
["Methanol (Fossiel)","Stage V IWP/IWA","METH-SV-I","Gebruiksprofiel","*RWS Gebruiksprofiel Methanol Fossiel (Verbrandingsemissies/Brandstofcel emissies) (zonder PM en NOx) (B1)",{"$f":"_xlfn.XLOOKUP(Emi_Short[[#This Row],[Gebruiksprofiel Basis B1]],RWS_[Environmental Profile],RWS_[Fuctional Unit],\"\",0)","v":"ton"},"*RWS Kapitaalgoederen Verbrandingsmotor (1000 kg o.b.v. Marine engine {GLO}| marine engine construction | Cut-off, U) (inlcusief reD)","Verbrandingsmotor",{"$f":"_xlfn.XLOOKUP(Emi_Short[[#This Row],[Type]]&Emi_Short[[#This Row],[Brandstof]],MJ_Arbeid_Zoet[Type Motor]&MJ_Arbeid_Zoet[Energiedrager],MJ_Arbeid_Zoet[MJ Arbeid (Geleverd)],\"Not Found\",0)","v":7960},{"$f":"_xlfn.XLOOKUP(Emi_Short[[#This Row],[Type]]&Emi_Short[[#This Row],[Brandstof]],MJ_Arbeid_Zout[Type Motor]&MJ_Arbeid_Zout[Energiedrager],MJ_Arbeid_Zout[MJ Arbeid (Geleverd)],\"Not Found\",0)","v":8955},{"$f":"_xlfn.XLOOKUP(Emi_Short[[#This Row],[Type]]&Emi_Short[[#This Row],[Brandstof]],MJ_Arbeid_Zoet[Type Motor]&MJ_Arbeid_Zoet[Energiedrager],MJ_Arbeid_Zoet[AfKap Casco],\"Not Found\",0)","v":0.46171693735498831},{"$f":"_xlfn.XLOOKUP(Emi_Short[[#This Row],[Type]]&Emi_Short[[#This Row],[Brandstof]],MJ_Arbeid_Zout[Type Motor]&MJ_Arbeid_Zout[Energiedrager],MJ_Arbeid_Zout[AfKap Casco],\"Not Found\",0)","v":0.46713615023474181},{"$f":"IF(OR(Emi_Short[[#This Row],[MotCel2]]=\"TIER III\",Emi_Short[[#This Row],[MotCel2]]=\"Stage V IWP/IWA\",Emi_Short[[#This Row],[MotCel2]]=\"Stage V NRE\"),(_xlfn.XLOOKUP(Emi_Short[[#This Row],[Type]]&Emi_Short[[#This Row],[Brandstof]],MJ_Arbeid_Zoet[Type Motor]&MJ_Arbeid_Zoet[Energiedrager],MJ_Arbeid_Zoet[AdBlue (A1-A3) - Zoet],\"Not Found\",0)),0)","v":15.385940009816165},{"$f":"IF(OR(Emi_Short[[#This Row],[MotCel2]]=\"TIER III\",Emi_Short[[#This Row],[MotCel2]]=\"Stage V IWP/IWA\",Emi_Short[[#This Row],[MotCel2]]=\"Stage V NRE\",Emi_Short[[#This Row],[MotCel2]]=\"ULEV (Stage V IWP/IWA)\"),(_xlfn.XLOOKUP(Emi_Short[[#This Row],[Type]]&Emi_Short[[#This Row],[Brandstof]],MJ_Arbeid_Zout[Type Motor]&MJ_Arbeid_Zout[Energiedrager],MJ_Arbeid_Zout[AdBlue (A1-A3) - Zout],\"Not Found\",0)),0)","v":15.385940009816165},{"$f":"_xlfn.XLOOKUP(Emi_Short[[#This Row],[Type]]&Emi_Short[[#This Row],[Brandstof]],MJ_Arbeid_Zoet[Type Motor]&MJ_Arbeid_Zoet[Energiedrager],MJ_Arbeid_Zoet[VM / EA Zoet],\"Not Found\",0)","v":7.2711328717320984E-4},{"$f":"_xlfn.XLOOKUP(Emi_Short[[#This Row],[Type]]&Emi_Short[[#This Row],[Brandstof]],MJ_Arbeid_Zout[Type Motor]&MJ_Arbeid_Zout[Energiedrager],MJ_Arbeid_Zout[VM / EA Zout],\"Not Found\",0)","v":5.2012202073061051E-4}]
["Methanol (Fossiel)","Stage V NRE","METH-SV-N","Gebruiksprofiel","*RWS Gebruiksprofiel Methanol Fossiel (Verbrandingsemissies/Brandstofcel emissies) (zonder PM en NOx) (B1)",{"$f":"_xlfn.XLOOKUP(Emi_Short[[#This Row],[Gebruiksprofiel Basis B1]],RWS_[Environmental Profile],RWS_[Fuctional Unit],\"\",0)","v":"ton"},"*RWS Kapitaalgoederen Verbrandingsmotor (1000 kg o.b.v. Marine engine {GLO}| marine engine construction | Cut-off, U) (inlcusief reD)","Verbrandingsmotor",{"$f":"_xlfn.XLOOKUP(Emi_Short[[#This Row],[Type]]&Emi_Short[[#This Row],[Brandstof]],MJ_Arbeid_Zoet[Type Motor]&MJ_Arbeid_Zoet[Energiedrager],MJ_Arbeid_Zoet[MJ Arbeid (Geleverd)],\"Not Found\",0)","v":7960},{"$f":"_xlfn.XLOOKUP(Emi_Short[[#This Row],[Type]]&Emi_Short[[#This Row],[Brandstof]],MJ_Arbeid_Zout[Type Motor]&MJ_Arbeid_Zout[Energiedrager],MJ_Arbeid_Zout[MJ Arbeid (Geleverd)],\"Not Found\",0)","v":8955},{"$f":"_xlfn.XLOOKUP(Emi_Short[[#This Row],[Type]]&Emi_Short[[#This Row],[Brandstof]],MJ_Arbeid_Zoet[Type Motor]&MJ_Arbeid_Zoet[Energiedrager],MJ_Arbeid_Zoet[AfKap Casco],\"Not Found\",0)","v":0.46171693735498831},{"$f":"_xlfn.XLOOKUP(Emi_Short[[#This Row],[Type]]&Emi_Short[[#This Row],[Brandstof]],MJ_Arbeid_Zout[Type Motor]&MJ_Arbeid_Zout[Energiedrager],MJ_Arbeid_Zout[AfKap Casco],\"Not Found\",0)","v":0.46713615023474181},{"$f":"IF(OR(Emi_Short[[#This Row],[MotCel2]]=\"TIER III\",Emi_Short[[#This Row],[MotCel2]]=\"Stage V IWP/IWA\",Emi_Short[[#This Row],[MotCel2]]=\"Stage V NRE\"),(_xlfn.XLOOKUP(Emi_Short[[#This Row],[Type]]&Emi_Short[[#This Row],[Brandstof]],MJ_Arbeid_Zoet[Type Motor]&MJ_Arbeid_Zoet[Energiedrager],MJ_Arbeid_Zoet[AdBlue (A1-A3) - Zoet],\"Not Found\",0)),0)","v":15.385940009816165},{"$f":"IF(OR(Emi_Short[[#This Row],[MotCel2]]=\"TIER III\",Emi_Short[[#This Row],[MotCel2]]=\"Stage V IWP/IWA\",Emi_Short[[#This Row],[MotCel2]]=\"Stage V NRE\",Emi_Short[[#This Row],[MotCel2]]=\"ULEV (Stage V IWP/IWA)\"),(_xlfn.XLOOKUP(Emi_Short[[#This Row],[Type]]&Emi_Short[[#This Row],[Brandstof]],MJ_Arbeid_Zout[Type Motor]&MJ_Arbeid_Zout[Energiedrager],MJ_Arbeid_Zout[AdBlue (A1-A3) - Zout],\"Not Found\",0)),0)","v":15.385940009816165},{"$f":"_xlfn.XLOOKUP(Emi_Short[[#This Row],[Type]]&Emi_Short[[#This Row],[Brandstof]],MJ_Arbeid_Zoet[Type Motor]&MJ_Arbeid_Zoet[Energiedrager],MJ_Arbeid_Zoet[VM / EA Zoet],\"Not Found\",0)","v":7.2711328717320984E-4},{"$f":"_xlfn.XLOOKUP(Emi_Short[[#This Row],[Type]]&Emi_Short[[#This Row],[Brandstof]],MJ_Arbeid_Zout[Type Motor]&MJ_Arbeid_Zout[Energiedrager],MJ_Arbeid_Zout[VM / EA Zout],\"Not Found\",0)","v":5.2012202073061051E-4}]
["Methanol (Fossiel)","Brandstofcel","METH-BC","Gebruiksprofiel","*RWS Gebruiksprofiel Methanol Fossiel (Verbrandingsemissies/Brandstofcel emissies) (zonder PM en NOx) (B1)",{"$f":"_xlfn.XLOOKUP(Emi_Short[[#This Row],[Gebruiksprofiel Basis B1]],RWS_[Environmental Profile],RWS_[Fuctional Unit],\"\",0)","v":"ton"},"*RWS Kapitaalgoederen aandrijving elektrisch schip (100 kW) (inlusief EOL en reD)","Brandstofcel",{"$f":"_xlfn.XLOOKUP(Emi_Short[[#This Row],[Type]]&Emi_Short[[#This Row],[Brandstof]],MJ_Arbeid_Zoet[Type Motor]&MJ_Arbeid_Zoet[Energiedrager],MJ_Arbeid_Zoet[MJ Arbeid (Geleverd)],\"Not Found\",0)","v":9353},{"$f":"_xlfn.XLOOKUP(Emi_Short[[#This Row],[Type]]&Emi_Short[[#This Row],[Brandstof]],MJ_Arbeid_Zout[Type Motor]&MJ_Arbeid_Zout[Energiedrager],MJ_Arbeid_Zout[MJ Arbeid (Geleverd)],\"Not Found\",0)","v":9353},{"$f":"_xlfn.XLOOKUP(Emi_Short[[#This Row],[Type]]&Emi_Short[[#This Row],[Brandstof]],MJ_Arbeid_Zoet[Type Motor]&MJ_Arbeid_Zoet[Energiedrager],MJ_Arbeid_Zoet[AfKap Casco],\"Not Found\",0)","v":0.54251740139211113},{"$f":"_xlfn.XLOOKUP(Emi_Short[[#This Row],[Type]]&Emi_Short[[#This Row],[Brandstof]],MJ_Arbeid_Zout[Type Motor]&MJ_Arbeid_Zout[Energiedrager],MJ_Arbeid_Zout[AfKap Casco],\"Not Found\",0)","v":0.48789775691184134},{"$f":"IF(OR(Emi_Short[[#This Row],[MotCel2]]=\"TIER III\",Emi_Short[[#This Row],[MotCel2]]=\"Stage V IWP/IWA\",Emi_Short[[#This Row],[MotCel2]]=\"Stage V NRE\"),(_xlfn.XLOOKUP(Emi_Short[[#This Row],[Type]]&Emi_Short[[#This Row],[Brandstof]],MJ_Arbeid_Zoet[Type Motor]&MJ_Arbeid_Zoet[Energiedrager],MJ_Arbeid_Zoet[AdBlue (A1-A3) - Zoet],\"Not Found\",0)),0)","v":0},{"$f":"IF(OR(Emi_Short[[#This Row],[MotCel2]]=\"TIER III\",Emi_Short[[#This Row],[MotCel2]]=\"Stage V IWP/IWA\",Emi_Short[[#This Row],[MotCel2]]=\"Stage V NRE\",Emi_Short[[#This Row],[MotCel2]]=\"ULEV (Stage V IWP/IWA)\"),(_xlfn.XLOOKUP(Emi_Short[[#This Row],[Type]]&Emi_Short[[#This Row],[Brandstof]],MJ_Arbeid_Zout[Type Motor]&MJ_Arbeid_Zout[Energiedrager],MJ_Arbeid_Zout[AdBlue (A1-A3) - Zout],\"Not Found\",0)),0)","v":0},{"$f":"_xlfn.XLOOKUP(Emi_Short[[#This Row],[Type]]&Emi_Short[[#This Row],[Brandstof]],MJ_Arbeid_Zoet[Type Motor]&MJ_Arbeid_Zoet[Energiedrager],MJ_Arbeid_Zoet[VM / EA Zoet],\"Not Found\",0)","v":7.689223011856694E-4},{"$f":"_xlfn.XLOOKUP(Emi_Short[[#This Row],[Type]]&Emi_Short[[#This Row],[Brandstof]],MJ_Arbeid_Zout[Type Motor]&MJ_Arbeid_Zout[Energiedrager],MJ_Arbeid_Zout[VM / EA Zout],\"Not Found\",0)","v":4.8891469948677386E-4}]
["Methanol (Biogeen)","TIER III","BMETH-TIII","Gebruiksprofiel","*RWS Gebruiksprofiel Methanol Biogeen (Verbrandingsemissies/Brandstofcel emissies) (zonder PM en NOx) (B1)",{"$f":"_xlfn.XLOOKUP(Emi_Short[[#This Row],[Gebruiksprofiel Basis B1]],RWS_[Environmental Profile],RWS_[Fuctional Unit],\"\",0)","v":"ton"},"*RWS Kapitaalgoederen Verbrandingsmotor (1000 kg o.b.v. Marine engine {GLO}| marine engine construction | Cut-off, U) (inlcusief reD)","Verbrandingsmotor",{"$f":"_xlfn.XLOOKUP(Emi_Short[[#This Row],[Type]]&Emi_Short[[#This Row],[Brandstof]],MJ_Arbeid_Zoet[Type Motor]&MJ_Arbeid_Zoet[Energiedrager],MJ_Arbeid_Zoet[MJ Arbeid (Geleverd)],\"Not Found\",0)","v":7960},{"$f":"_xlfn.XLOOKUP(Emi_Short[[#This Row],[Type]]&Emi_Short[[#This Row],[Brandstof]],MJ_Arbeid_Zout[Type Motor]&MJ_Arbeid_Zout[Energiedrager],MJ_Arbeid_Zout[MJ Arbeid (Geleverd)],\"Not Found\",0)","v":8955},{"$f":"_xlfn.XLOOKUP(Emi_Short[[#This Row],[Type]]&Emi_Short[[#This Row],[Brandstof]],MJ_Arbeid_Zoet[Type Motor]&MJ_Arbeid_Zoet[Energiedrager],MJ_Arbeid_Zoet[AfKap Casco],\"Not Found\",0)","v":0.46171693735498831},{"$f":"_xlfn.XLOOKUP(Emi_Short[[#This Row],[Type]]&Emi_Short[[#This Row],[Brandstof]],MJ_Arbeid_Zout[Type Motor]&MJ_Arbeid_Zout[Energiedrager],MJ_Arbeid_Zout[AfKap Casco],\"Not Found\",0)","v":0.46713615023474181},{"$f":"IF(OR(Emi_Short[[#This Row],[MotCel2]]=\"TIER III\",Emi_Short[[#This Row],[MotCel2]]=\"Stage V IWP/IWA\",Emi_Short[[#This Row],[MotCel2]]=\"Stage V NRE\"),(_xlfn.XLOOKUP(Emi_Short[[#This Row],[Type]]&Emi_Short[[#This Row],[Brandstof]],MJ_Arbeid_Zoet[Type Motor]&MJ_Arbeid_Zoet[Energiedrager],MJ_Arbeid_Zoet[AdBlue (A1-A3) - Zoet],\"Not Found\",0)),0)","v":15.385940009816165},{"$f":"IF(OR(Emi_Short[[#This Row],[MotCel2]]=\"TIER III\",Emi_Short[[#This Row],[MotCel2]]=\"Stage V IWP/IWA\",Emi_Short[[#This Row],[MotCel2]]=\"Stage V NRE\",Emi_Short[[#This Row],[MotCel2]]=\"ULEV (Stage V IWP/IWA)\"),(_xlfn.XLOOKUP(Emi_Short[[#This Row],[Type]]&Emi_Short[[#This Row],[Brandstof]],MJ_Arbeid_Zout[Type Motor]&MJ_Arbeid_Zout[Energiedrager],MJ_Arbeid_Zout[AdBlue (A1-A3) - Zout],\"Not Found\",0)),0)","v":15.385940009816165},{"$f":"_xlfn.XLOOKUP(Emi_Short[[#This Row],[Type]]&Emi_Short[[#This Row],[Brandstof]],MJ_Arbeid_Zoet[Type Motor]&MJ_Arbeid_Zoet[Energiedrager],MJ_Arbeid_Zoet[VM / EA Zoet],\"Not Found\",0)","v":7.2711328717320984E-4},{"$f":"_xlfn.XLOOKUP(Emi_Short[[#This Row],[Type]]&Emi_Short[[#This Row],[Brandstof]],MJ_Arbeid_Zout[Type Motor]&MJ_Arbeid_Zout[Energiedrager],MJ_Arbeid_Zout[VM / EA Zout],\"Not Found\",0)","v":5.2012202073061051E-4}]
["Methanol (Biogeen)","ULEV (Stage V IWP/IWA)","BMETH-ULEV","Gebruiksprofiel","*RWS Gebruiksprofiel Methanol Biogeen (Verbrandingsemissies/Brandstofcel emissies) (zonder PM en NOx) (B1)",{"$f":"_xlfn.XLOOKUP(Emi_Short[[#This Row],[Gebruiksprofiel Basis B1]],RWS_[Environmental Profile],RWS_[Fuctional Unit],\"\",0)","v":"ton"},"*RWS Kapitaalgoederen Verbrandingsmotor (1000 kg o.b.v. Marine engine {GLO}| marine engine construction | Cut-off, U) (inlcusief reD)","Verbrandingsmotor",{"$f":"_xlfn.XLOOKUP(Emi_Short[[#This Row],[Type]]&Emi_Short[[#This Row],[Brandstof]],MJ_Arbeid_Zoet[Type Motor]&MJ_Arbeid_Zoet[Energiedrager],MJ_Arbeid_Zoet[MJ Arbeid (Geleverd)],\"Not Found\",0)","v":7960},{"$f":"_xlfn.XLOOKUP(Emi_Short[[#This Row],[Type]]&Emi_Short[[#This Row],[Brandstof]],MJ_Arbeid_Zout[Type Motor]&MJ_Arbeid_Zout[Energiedrager],MJ_Arbeid_Zout[MJ Arbeid (Geleverd)],\"Not Found\",0)","v":8955},{"$f":"_xlfn.XLOOKUP(Emi_Short[[#This Row],[Type]]&Emi_Short[[#This Row],[Brandstof]],MJ_Arbeid_Zoet[Type Motor]&MJ_Arbeid_Zoet[Energiedrager],MJ_Arbeid_Zoet[AfKap Casco],\"Not Found\",0)","v":0.46171693735498831},{"$f":"_xlfn.XLOOKUP(Emi_Short[[#This Row],[Type]]&Emi_Short[[#This Row],[Brandstof]],MJ_Arbeid_Zout[Type Motor]&MJ_Arbeid_Zout[Energiedrager],MJ_Arbeid_Zout[AfKap Casco],\"Not Found\",0)","v":0.46713615023474181},{"$f":"IF(OR(Emi_Short[[#This Row],[MotCel2]]=\"TIER III\",Emi_Short[[#This Row],[MotCel2]]=\"Stage V IWP/IWA\",Emi_Short[[#This Row],[MotCel2]]=\"Stage V NRE\"),(_xlfn.XLOOKUP(Emi_Short[[#This Row],[Type]]&Emi_Short[[#This Row],[Brandstof]],MJ_Arbeid_Zoet[Type Motor]&MJ_Arbeid_Zoet[Energiedrager],MJ_Arbeid_Zoet[AdBlue (A1-A3) - Zoet],\"Not Found\",0)),0)","v":0},{"$f":"IF(OR(Emi_Short[[#This Row],[MotCel2]]=\"TIER III\",Emi_Short[[#This Row],[MotCel2]]=\"Stage V IWP/IWA\",Emi_Short[[#This Row],[MotCel2]]=\"Stage V NRE\",Emi_Short[[#This Row],[MotCel2]]=\"ULEV (Stage V IWP/IWA)\"),(_xlfn.XLOOKUP(Emi_Short[[#This Row],[Type]]&Emi_Short[[#This Row],[Brandstof]],MJ_Arbeid_Zout[Type Motor]&MJ_Arbeid_Zout[Energiedrager],MJ_Arbeid_Zout[AdBlue (A1-A3) - Zout],\"Not Found\",0)),0)","v":15.385940009816165},{"$f":"_xlfn.XLOOKUP(Emi_Short[[#This Row],[Type]]&Emi_Short[[#This Row],[Brandstof]],MJ_Arbeid_Zoet[Type Motor]&MJ_Arbeid_Zoet[Energiedrager],MJ_Arbeid_Zoet[VM / EA Zoet],\"Not Found\",0)","v":7.2711328717320984E-4},{"$f":"_xlfn.XLOOKUP(Emi_Short[[#This Row],[Type]]&Emi_Short[[#This Row],[Brandstof]],MJ_Arbeid_Zout[Type Motor]&MJ_Arbeid_Zout[Energiedrager],MJ_Arbeid_Zout[VM / EA Zout],\"Not Found\",0)","v":5.2012202073061051E-4}]
["Methanol (Biogeen)","Stage V IWP/IWA","BMETH-SV-I","Gebruiksprofiel","*RWS Gebruiksprofiel Methanol Biogeen (Verbrandingsemissies/Brandstofcel emissies) (zonder PM en NOx) (B1)",{"$f":"_xlfn.XLOOKUP(Emi_Short[[#This Row],[Gebruiksprofiel Basis B1]],RWS_[Environmental Profile],RWS_[Fuctional Unit],\"\",0)","v":"ton"},"*RWS Kapitaalgoederen Verbrandingsmotor (1000 kg o.b.v. Marine engine {GLO}| marine engine construction | Cut-off, U) (inlcusief reD)","Verbrandingsmotor",{"$f":"_xlfn.XLOOKUP(Emi_Short[[#This Row],[Type]]&Emi_Short[[#This Row],[Brandstof]],MJ_Arbeid_Zoet[Type Motor]&MJ_Arbeid_Zoet[Energiedrager],MJ_Arbeid_Zoet[MJ Arbeid (Geleverd)],\"Not Found\",0)","v":7960},{"$f":"_xlfn.XLOOKUP(Emi_Short[[#This Row],[Type]]&Emi_Short[[#This Row],[Brandstof]],MJ_Arbeid_Zout[Type Motor]&MJ_Arbeid_Zout[Energiedrager],MJ_Arbeid_Zout[MJ Arbeid (Geleverd)],\"Not Found\",0)","v":8955},{"$f":"_xlfn.XLOOKUP(Emi_Short[[#This Row],[Type]]&Emi_Short[[#This Row],[Brandstof]],MJ_Arbeid_Zoet[Type Motor]&MJ_Arbeid_Zoet[Energiedrager],MJ_Arbeid_Zoet[AfKap Casco],\"Not Found\",0)","v":0.46171693735498831},{"$f":"_xlfn.XLOOKUP(Emi_Short[[#This Row],[Type]]&Emi_Short[[#This Row],[Brandstof]],MJ_Arbeid_Zout[Type Motor]&MJ_Arbeid_Zout[Energiedrager],MJ_Arbeid_Zout[AfKap Casco],\"Not Found\",0)","v":0.46713615023474181},{"$f":"IF(OR(Emi_Short[[#This Row],[MotCel2]]=\"TIER III\",Emi_Short[[#This Row],[MotCel2]]=\"Stage V IWP/IWA\",Emi_Short[[#This Row],[MotCel2]]=\"Stage V NRE\"),(_xlfn.XLOOKUP(Emi_Short[[#This Row],[Type]]&Emi_Short[[#This Row],[Brandstof]],MJ_Arbeid_Zoet[Type Motor]&MJ_Arbeid_Zoet[Energiedrager],MJ_Arbeid_Zoet[AdBlue (A1-A3) - Zoet],\"Not Found\",0)),0)","v":15.385940009816165},{"$f":"IF(OR(Emi_Short[[#This Row],[MotCel2]]=\"TIER III\",Emi_Short[[#This Row],[MotCel2]]=\"Stage V IWP/IWA\",Emi_Short[[#This Row],[MotCel2]]=\"Stage V NRE\",Emi_Short[[#This Row],[MotCel2]]=\"ULEV (Stage V IWP/IWA)\"),(_xlfn.XLOOKUP(Emi_Short[[#This Row],[Type]]&Emi_Short[[#This Row],[Brandstof]],MJ_Arbeid_Zout[Type Motor]&MJ_Arbeid_Zout[Energiedrager],MJ_Arbeid_Zout[AdBlue (A1-A3) - Zout],\"Not Found\",0)),0)","v":15.385940009816165},{"$f":"_xlfn.XLOOKUP(Emi_Short[[#This Row],[Type]]&Emi_Short[[#This Row],[Brandstof]],MJ_Arbeid_Zoet[Type Motor]&MJ_Arbeid_Zoet[Energiedrager],MJ_Arbeid_Zoet[VM / EA Zoet],\"Not Found\",0)","v":7.2711328717320984E-4},{"$f":"_xlfn.XLOOKUP(Emi_Short[[#This Row],[Type]]&Emi_Short[[#This Row],[Brandstof]],MJ_Arbeid_Zout[Type Motor]&MJ_Arbeid_Zout[Energiedrager],MJ_Arbeid_Zout[VM / EA Zout],\"Not Found\",0)","v":5.2012202073061051E-4}]
["Methanol (Biogeen)","Stage V NRE","BMETH-SV-N","Gebruiksprofiel","*RWS Gebruiksprofiel Methanol Biogeen (Verbrandingsemissies/Brandstofcel emissies) (zonder PM en NOx) (B1)",{"$f":"_xlfn.XLOOKUP(Emi_Short[[#This Row],[Gebruiksprofiel Basis B1]],RWS_[Environmental Profile],RWS_[Fuctional Unit],\"\",0)","v":"ton"},"*RWS Kapitaalgoederen Verbrandingsmotor (1000 kg o.b.v. Marine engine {GLO}| marine engine construction | Cut-off, U) (inlcusief reD)","Verbrandingsmotor",{"$f":"_xlfn.XLOOKUP(Emi_Short[[#This Row],[Type]]&Emi_Short[[#This Row],[Brandstof]],MJ_Arbeid_Zoet[Type Motor]&MJ_Arbeid_Zoet[Energiedrager],MJ_Arbeid_Zoet[MJ Arbeid (Geleverd)],\"Not Found\",0)","v":7960},{"$f":"_xlfn.XLOOKUP(Emi_Short[[#This Row],[Type]]&Emi_Short[[#This Row],[Brandstof]],MJ_Arbeid_Zout[Type Motor]&MJ_Arbeid_Zout[Energiedrager],MJ_Arbeid_Zout[MJ Arbeid (Geleverd)],\"Not Found\",0)","v":8955},{"$f":"_xlfn.XLOOKUP(Emi_Short[[#This Row],[Type]]&Emi_Short[[#This Row],[Brandstof]],MJ_Arbeid_Zoet[Type Motor]&MJ_Arbeid_Zoet[Energiedrager],MJ_Arbeid_Zoet[AfKap Casco],\"Not Found\",0)","v":0.46171693735498831},{"$f":"_xlfn.XLOOKUP(Emi_Short[[#This Row],[Type]]&Emi_Short[[#This Row],[Brandstof]],MJ_Arbeid_Zout[Type Motor]&MJ_Arbeid_Zout[Energiedrager],MJ_Arbeid_Zout[AfKap Casco],\"Not Found\",0)","v":0.46713615023474181},{"$f":"IF(OR(Emi_Short[[#This Row],[MotCel2]]=\"TIER III\",Emi_Short[[#This Row],[MotCel2]]=\"Stage V IWP/IWA\",Emi_Short[[#This Row],[MotCel2]]=\"Stage V NRE\"),(_xlfn.XLOOKUP(Emi_Short[[#This Row],[Type]]&Emi_Short[[#This Row],[Brandstof]],MJ_Arbeid_Zoet[Type Motor]&MJ_Arbeid_Zoet[Energiedrager],MJ_Arbeid_Zoet[AdBlue (A1-A3) - Zoet],\"Not Found\",0)),0)","v":15.385940009816165},{"$f":"IF(OR(Emi_Short[[#This Row],[MotCel2]]=\"TIER III\",Emi_Short[[#This Row],[MotCel2]]=\"Stage V IWP/IWA\",Emi_Short[[#This Row],[MotCel2]]=\"Stage V NRE\",Emi_Short[[#This Row],[MotCel2]]=\"ULEV (Stage V IWP/IWA)\"),(_xlfn.XLOOKUP(Emi_Short[[#This Row],[Type]]&Emi_Short[[#This Row],[Brandstof]],MJ_Arbeid_Zout[Type Motor]&MJ_Arbeid_Zout[Energiedrager],MJ_Arbeid_Zout[AdBlue (A1-A3) - Zout],\"Not Found\",0)),0)","v":15.385940009816165},{"$f":"_xlfn.XLOOKUP(Emi_Short[[#This Row],[Type]]&Emi_Short[[#This Row],[Brandstof]],MJ_Arbeid_Zoet[Type Motor]&MJ_Arbeid_Zoet[Energiedrager],MJ_Arbeid_Zoet[VM / EA Zoet],\"Not Found\",0)","v":7.2711328717320984E-4},{"$f":"_xlfn.XLOOKUP(Emi_Short[[#This Row],[Type]]&Emi_Short[[#This Row],[Brandstof]],MJ_Arbeid_Zout[Type Motor]&MJ_Arbeid_Zout[Energiedrager],MJ_Arbeid_Zout[VM / EA Zout],\"Not Found\",0)","v":5.2012202073061051E-4}]
["Methanol (Biogeen)","Brandstofcel","BMETH-BC","Gebruiksprofiel","*RWS Gebruiksprofiel Methanol Biogeen (Verbrandingsemissies/Brandstofcel emissies) (zonder PM en NOx) (B1)",{"$f":"_xlfn.XLOOKUP(Emi_Short[[#This Row],[Gebruiksprofiel Basis B1]],RWS_[Environmental Profile],RWS_[Fuctional Unit],\"\",0)","v":"ton"},"*RWS Kapitaalgoederen aandrijving elektrisch schip (100 kW) (inlusief EOL en reD)","Brandstofcel",{"$f":"_xlfn.XLOOKUP(Emi_Short[[#This Row],[Type]]&Emi_Short[[#This Row],[Brandstof]],MJ_Arbeid_Zoet[Type Motor]&MJ_Arbeid_Zoet[Energiedrager],MJ_Arbeid_Zoet[MJ Arbeid (Geleverd)],\"Not Found\",0)","v":9353},{"$f":"_xlfn.XLOOKUP(Emi_Short[[#This Row],[Type]]&Emi_Short[[#This Row],[Brandstof]],MJ_Arbeid_Zout[Type Motor]&MJ_Arbeid_Zout[Energiedrager],MJ_Arbeid_Zout[MJ Arbeid (Geleverd)],\"Not Found\",0)","v":9353},{"$f":"_xlfn.XLOOKUP(Emi_Short[[#This Row],[Type]]&Emi_Short[[#This Row],[Brandstof]],MJ_Arbeid_Zoet[Type Motor]&MJ_Arbeid_Zoet[Energiedrager],MJ_Arbeid_Zoet[AfKap Casco],\"Not Found\",0)","v":0.54251740139211113},{"$f":"_xlfn.XLOOKUP(Emi_Short[[#This Row],[Type]]&Emi_Short[[#This Row],[Brandstof]],MJ_Arbeid_Zout[Type Motor]&MJ_Arbeid_Zout[Energiedrager],MJ_Arbeid_Zout[AfKap Casco],\"Not Found\",0)","v":0.48789775691184134},{"$f":"IF(OR(Emi_Short[[#This Row],[MotCel2]]=\"TIER III\",Emi_Short[[#This Row],[MotCel2]]=\"Stage V IWP/IWA\",Emi_Short[[#This Row],[MotCel2]]=\"Stage V NRE\"),(_xlfn.XLOOKUP(Emi_Short[[#This Row],[Type]]&Emi_Short[[#This Row],[Brandstof]],MJ_Arbeid_Zoet[Type Motor]&MJ_Arbeid_Zoet[Energiedrager],MJ_Arbeid_Zoet[AdBlue (A1-A3) - Zoet],\"Not Found\",0)),0)","v":0},{"$f":"IF(OR(Emi_Short[[#This Row],[MotCel2]]=\"TIER III\",Emi_Short[[#This Row],[MotCel2]]=\"Stage V IWP/IWA\",Emi_Short[[#This Row],[MotCel2]]=\"Stage V NRE\",Emi_Short[[#This Row],[MotCel2]]=\"ULEV (Stage V IWP/IWA)\"),(_xlfn.XLOOKUP(Emi_Short[[#This Row],[Type]]&Emi_Short[[#This Row],[Brandstof]],MJ_Arbeid_Zout[Type Motor]&MJ_Arbeid_Zout[Energiedrager],MJ_Arbeid_Zout[AdBlue (A1-A3) - Zout],\"Not Found\",0)),0)","v":0},{"$f":"_xlfn.XLOOKUP(Emi_Short[[#This Row],[Type]]&Emi_Short[[#This Row],[Brandstof]],MJ_Arbeid_Zoet[Type Motor]&MJ_Arbeid_Zoet[Energiedrager],MJ_Arbeid_Zoet[VM / EA Zoet],\"Not Found\",0)","v":7.689223011856694E-4},{"$f":"_xlfn.XLOOKUP(Emi_Short[[#This Row],[Type]]&Emi_Short[[#This Row],[Brandstof]],MJ_Arbeid_Zout[Type Motor]&MJ_Arbeid_Zout[Energiedrager],MJ_Arbeid_Zout[VM / EA Zout],\"Not Found\",0)","v":4.8891469948677386E-4}]
["MGO","Pre Tier I","MGO-PTI","Gebruiksprofiel","*RWS Gebruiksprofiel MGO (verbrandingsemissies) - pre Tier I (zonder PM en NOx) (B1)",{"$f":"_xlfn.XLOOKUP(Emi_Short[[#This Row],[Gebruiksprofiel Basis B1]],RWS_[Environmental Profile],RWS_[Fuctional Unit],\"\",0)","v":"ton"},"*RWS Kapitaalgoederen Verbrandingsmotor (1000 kg o.b.v. Marine engine {GLO}| marine engine construction | Cut-off, U) (inlcusief reD)","Verbrandingsmotor",{"$f":"_xlfn.XLOOKUP(Emi_Short[[#This Row],[Type]]&Emi_Short[[#This Row],[Brandstof]],MJ_Arbeid_Zoet[Type Motor]&MJ_Arbeid_Zoet[Energiedrager],MJ_Arbeid_Zoet[MJ Arbeid (Geleverd)],\"Not Found\",0)","v":17040},{"$f":"_xlfn.XLOOKUP(Emi_Short[[#This Row],[Type]]&Emi_Short[[#This Row],[Brandstof]],MJ_Arbeid_Zout[Type Motor]&MJ_Arbeid_Zout[Energiedrager],MJ_Arbeid_Zout[MJ Arbeid (Geleverd)],\"Not Found\",0)","v":19170},{"$f":"_xlfn.XLOOKUP(Emi_Short[[#This Row],[Type]]&Emi_Short[[#This Row],[Brandstof]],MJ_Arbeid_Zoet[Type Motor]&MJ_Arbeid_Zoet[Energiedrager],MJ_Arbeid_Zoet[AfKap Casco],\"Not Found\",0)","v":0.98839907192575405},{"$f":"_xlfn.XLOOKUP(Emi_Short[[#This Row],[Type]]&Emi_Short[[#This Row],[Brandstof]],MJ_Arbeid_Zout[Type Motor]&MJ_Arbeid_Zout[Energiedrager],MJ_Arbeid_Zout[AfKap Casco],\"Not Found\",0)","v":1},{"$f":"IF(OR(Emi_Short[[#This Row],[MotCel2]]=\"TIER III\",Emi_Short[[#This Row],[MotCel2]]=\"Stage V IWP/IWA\",Emi_Short[[#This Row],[MotCel2]]=\"Stage V NRE\"),(_xlfn.XLOOKUP(Emi_Short[[#This Row],[Type]]&Emi_Short[[#This Row],[Brandstof]],MJ_Arbeid_Zoet[Type Motor]&MJ_Arbeid_Zoet[Energiedrager],MJ_Arbeid_Zoet[AdBlue (A1-A3) - Zoet],\"Not Found\",0)),0)","v":0},{"$f":"IF(OR(Emi_Short[[#This Row],[MotCel2]]=\"TIER III\",Emi_Short[[#This Row],[MotCel2]]=\"Stage V IWP/IWA\",Emi_Short[[#This Row],[MotCel2]]=\"Stage V NRE\",Emi_Short[[#This Row],[MotCel2]]=\"ULEV (Stage V IWP/IWA)\"),(_xlfn.XLOOKUP(Emi_Short[[#This Row],[Type]]&Emi_Short[[#This Row],[Brandstof]],MJ_Arbeid_Zout[Type Motor]&MJ_Arbeid_Zout[Energiedrager],MJ_Arbeid_Zout[AdBlue (A1-A3) - Zout],\"Not Found\",0)),0)","v":0},{"$f":"_xlfn.XLOOKUP(Emi_Short[[#This Row],[Type]]&Emi_Short[[#This Row],[Brandstof]],MJ_Arbeid_Zoet[Type Motor]&MJ_Arbeid_Zoet[Energiedrager],MJ_Arbeid_Zoet[VM / EA Zoet],\"Not Found\",0)","v":1.5565339715366206E-3},{"$f":"_xlfn.XLOOKUP(Emi_Short[[#This Row],[Type]]&Emi_Short[[#This Row],[Brandstof]],MJ_Arbeid_Zout[Type Motor]&MJ_Arbeid_Zout[Energiedrager],MJ_Arbeid_Zout[VM / EA Zout],\"Not Found\",0)","v":1.1134270393529653E-3}]
["MGO","ULEV (Stage V IWP/IWA)","MGO-TI","Gebruiksprofiel","*RWS Gebruiksprofiel MGO (verbrandingsemissies) - pre Tier I (zonder PM en NOx) (B1)",{"$f":"_xlfn.XLOOKUP(Emi_Short[[#This Row],[Gebruiksprofiel Basis B1]],RWS_[Environmental Profile],RWS_[Fuctional Unit],\"\",0)","v":"ton"},"*RWS Kapitaalgoederen Verbrandingsmotor (1000 kg o.b.v. Marine engine {GLO}| marine engine construction | Cut-off, U) (inlcusief reD)","Verbrandingsmotor",{"$f":"_xlfn.XLOOKUP(Emi_Short[[#This Row],[Type]]&Emi_Short[[#This Row],[Brandstof]],MJ_Arbeid_Zoet[Type Motor]&MJ_Arbeid_Zoet[Energiedrager],MJ_Arbeid_Zoet[MJ Arbeid (Geleverd)],\"Not Found\",0)","v":17040},{"$f":"_xlfn.XLOOKUP(Emi_Short[[#This Row],[Type]]&Emi_Short[[#This Row],[Brandstof]],MJ_Arbeid_Zout[Type Motor]&MJ_Arbeid_Zout[Energiedrager],MJ_Arbeid_Zout[MJ Arbeid (Geleverd)],\"Not Found\",0)","v":19170},{"$f":"_xlfn.XLOOKUP(Emi_Short[[#This Row],[Type]]&Emi_Short[[#This Row],[Brandstof]],MJ_Arbeid_Zoet[Type Motor]&MJ_Arbeid_Zoet[Energiedrager],MJ_Arbeid_Zoet[AfKap Casco],\"Not Found\",0)","v":0.98839907192575405},{"$f":"_xlfn.XLOOKUP(Emi_Short[[#This Row],[Type]]&Emi_Short[[#This Row],[Brandstof]],MJ_Arbeid_Zout[Type Motor]&MJ_Arbeid_Zout[Energiedrager],MJ_Arbeid_Zout[AfKap Casco],\"Not Found\",0)","v":1},{"$f":"IF(OR(Emi_Short[[#This Row],[MotCel2]]=\"TIER III\",Emi_Short[[#This Row],[MotCel2]]=\"Stage V IWP/IWA\",Emi_Short[[#This Row],[MotCel2]]=\"Stage V NRE\"),(_xlfn.XLOOKUP(Emi_Short[[#This Row],[Type]]&Emi_Short[[#This Row],[Brandstof]],MJ_Arbeid_Zoet[Type Motor]&MJ_Arbeid_Zoet[Energiedrager],MJ_Arbeid_Zoet[AdBlue (A1-A3) - Zoet],\"Not Found\",0)),0)","v":0},{"$f":"IF(OR(Emi_Short[[#This Row],[MotCel2]]=\"TIER III\",Emi_Short[[#This Row],[MotCel2]]=\"Stage V IWP/IWA\",Emi_Short[[#This Row],[MotCel2]]=\"Stage V NRE\",Emi_Short[[#This Row],[MotCel2]]=\"ULEV (Stage V IWP/IWA)\"),(_xlfn.XLOOKUP(Emi_Short[[#This Row],[Type]]&Emi_Short[[#This Row],[Brandstof]],MJ_Arbeid_Zout[Type Motor]&MJ_Arbeid_Zout[Energiedrager],MJ_Arbeid_Zout[AdBlue (A1-A3) - Zout],\"Not Found\",0)),0)","v":65.87347180082098},{"$f":"_xlfn.XLOOKUP(Emi_Short[[#This Row],[Type]]&Emi_Short[[#This Row],[Brandstof]],MJ_Arbeid_Zoet[Type Motor]&MJ_Arbeid_Zoet[Energiedrager],MJ_Arbeid_Zoet[VM / EA Zoet],\"Not Found\",0)","v":1.5565339715366206E-3},{"$f":"_xlfn.XLOOKUP(Emi_Short[[#This Row],[Type]]&Emi_Short[[#This Row],[Brandstof]],MJ_Arbeid_Zout[Type Motor]&MJ_Arbeid_Zout[Energiedrager],MJ_Arbeid_Zout[VM / EA Zout],\"Not Found\",0)","v":1.1134270393529653E-3}]
["MGO","TIER I / II","MGO-TII","Gebruiksprofiel","*RWS Gebruiksprofiel MGO (verbrandingsemissies) - pre Tier I (zonder PM en NOx) (B1)",{"$f":"_xlfn.XLOOKUP(Emi_Short[[#This Row],[Gebruiksprofiel Basis B1]],RWS_[Environmental Profile],RWS_[Fuctional Unit],\"\",0)","v":"ton"},"*RWS Kapitaalgoederen Verbrandingsmotor (1000 kg o.b.v. Marine engine {GLO}| marine engine construction | Cut-off, U) (inlcusief reD)","Verbrandingsmotor",{"$f":"_xlfn.XLOOKUP(Emi_Short[[#This Row],[Type]]&Emi_Short[[#This Row],[Brandstof]],MJ_Arbeid_Zoet[Type Motor]&MJ_Arbeid_Zoet[Energiedrager],MJ_Arbeid_Zoet[MJ Arbeid (Geleverd)],\"Not Found\",0)","v":17040},{"$f":"_xlfn.XLOOKUP(Emi_Short[[#This Row],[Type]]&Emi_Short[[#This Row],[Brandstof]],MJ_Arbeid_Zout[Type Motor]&MJ_Arbeid_Zout[Energiedrager],MJ_Arbeid_Zout[MJ Arbeid (Geleverd)],\"Not Found\",0)","v":19170},{"$f":"_xlfn.XLOOKUP(Emi_Short[[#This Row],[Type]]&Emi_Short[[#This Row],[Brandstof]],MJ_Arbeid_Zoet[Type Motor]&MJ_Arbeid_Zoet[Energiedrager],MJ_Arbeid_Zoet[AfKap Casco],\"Not Found\",0)","v":0.98839907192575405},{"$f":"_xlfn.XLOOKUP(Emi_Short[[#This Row],[Type]]&Emi_Short[[#This Row],[Brandstof]],MJ_Arbeid_Zout[Type Motor]&MJ_Arbeid_Zout[Energiedrager],MJ_Arbeid_Zout[AfKap Casco],\"Not Found\",0)","v":1},{"$f":"IF(OR(Emi_Short[[#This Row],[MotCel2]]=\"TIER III\",Emi_Short[[#This Row],[MotCel2]]=\"Stage V IWP/IWA\",Emi_Short[[#This Row],[MotCel2]]=\"Stage V NRE\"),(_xlfn.XLOOKUP(Emi_Short[[#This Row],[Type]]&Emi_Short[[#This Row],[Brandstof]],MJ_Arbeid_Zoet[Type Motor]&MJ_Arbeid_Zoet[Energiedrager],MJ_Arbeid_Zoet[AdBlue (A1-A3) - Zoet],\"Not Found\",0)),0)","v":0},{"$f":"IF(OR(Emi_Short[[#This Row],[MotCel2]]=\"TIER III\",Emi_Short[[#This Row],[MotCel2]]=\"Stage V IWP/IWA\",Emi_Short[[#This Row],[MotCel2]]=\"Stage V NRE\",Emi_Short[[#This Row],[MotCel2]]=\"ULEV (Stage V IWP/IWA)\"),(_xlfn.XLOOKUP(Emi_Short[[#This Row],[Type]]&Emi_Short[[#This Row],[Brandstof]],MJ_Arbeid_Zout[Type Motor]&MJ_Arbeid_Zout[Energiedrager],MJ_Arbeid_Zout[AdBlue (A1-A3) - Zout],\"Not Found\",0)),0)","v":0},{"$f":"_xlfn.XLOOKUP(Emi_Short[[#This Row],[Type]]&Emi_Short[[#This Row],[Brandstof]],MJ_Arbeid_Zoet[Type Motor]&MJ_Arbeid_Zoet[Energiedrager],MJ_Arbeid_Zoet[VM / EA Zoet],\"Not Found\",0)","v":1.5565339715366206E-3},{"$f":"_xlfn.XLOOKUP(Emi_Short[[#This Row],[Type]]&Emi_Short[[#This Row],[Brandstof]],MJ_Arbeid_Zout[Type Motor]&MJ_Arbeid_Zout[Energiedrager],MJ_Arbeid_Zout[VM / EA Zout],\"Not Found\",0)","v":1.1134270393529653E-3}]
["MGO","TIER III","MGO-TII","Gebruiksprofiel","*RWS Gebruiksprofiel MGO (verbrandingsemissies) - pre Tier I (zonder PM en NOx) (B1)",{"$f":"_xlfn.XLOOKUP(Emi_Short[[#This Row],[Gebruiksprofiel Basis B1]],RWS_[Environmental Profile],RWS_[Fuctional Unit],\"\",0)","v":"ton"},"*RWS Kapitaalgoederen Verbrandingsmotor (1000 kg o.b.v. Marine engine {GLO}| marine engine construction | Cut-off, U) (inlcusief reD)","Verbrandingsmotor",{"$f":"_xlfn.XLOOKUP(Emi_Short[[#This Row],[Type]]&Emi_Short[[#This Row],[Brandstof]],MJ_Arbeid_Zoet[Type Motor]&MJ_Arbeid_Zoet[Energiedrager],MJ_Arbeid_Zoet[MJ Arbeid (Geleverd)],\"Not Found\",0)","v":17040},{"$f":"_xlfn.XLOOKUP(Emi_Short[[#This Row],[Type]]&Emi_Short[[#This Row],[Brandstof]],MJ_Arbeid_Zout[Type Motor]&MJ_Arbeid_Zout[Energiedrager],MJ_Arbeid_Zout[MJ Arbeid (Geleverd)],\"Not Found\",0)","v":19170},{"$f":"_xlfn.XLOOKUP(Emi_Short[[#This Row],[Type]]&Emi_Short[[#This Row],[Brandstof]],MJ_Arbeid_Zoet[Type Motor]&MJ_Arbeid_Zoet[Energiedrager],MJ_Arbeid_Zoet[AfKap Casco],\"Not Found\",0)","v":0.98839907192575405},{"$f":"_xlfn.XLOOKUP(Emi_Short[[#This Row],[Type]]&Emi_Short[[#This Row],[Brandstof]],MJ_Arbeid_Zout[Type Motor]&MJ_Arbeid_Zout[Energiedrager],MJ_Arbeid_Zout[AfKap Casco],\"Not Found\",0)","v":1},{"$f":"IF(OR(Emi_Short[[#This Row],[MotCel2]]=\"TIER III\",Emi_Short[[#This Row],[MotCel2]]=\"Stage V IWP/IWA\",Emi_Short[[#This Row],[MotCel2]]=\"Stage V NRE\"),(_xlfn.XLOOKUP(Emi_Short[[#This Row],[Type]]&Emi_Short[[#This Row],[Brandstof]],MJ_Arbeid_Zoet[Type Motor]&MJ_Arbeid_Zoet[Energiedrager],MJ_Arbeid_Zoet[AdBlue (A1-A3) - Zoet],\"Not Found\",0)),0)","v":65.87347180082098},{"$f":"IF(OR(Emi_Short[[#This Row],[MotCel2]]=\"TIER III\",Emi_Short[[#This Row],[MotCel2]]=\"Stage V IWP/IWA\",Emi_Short[[#This Row],[MotCel2]]=\"Stage V NRE\",Emi_Short[[#This Row],[MotCel2]]=\"ULEV (Stage V IWP/IWA)\"),(_xlfn.XLOOKUP(Emi_Short[[#This Row],[Type]]&Emi_Short[[#This Row],[Brandstof]],MJ_Arbeid_Zout[Type Motor]&MJ_Arbeid_Zout[Energiedrager],MJ_Arbeid_Zout[AdBlue (A1-A3) - Zout],\"Not Found\",0)),0)","v":65.87347180082098},{"$f":"_xlfn.XLOOKUP(Emi_Short[[#This Row],[Type]]&Emi_Short[[#This Row],[Brandstof]],MJ_Arbeid_Zoet[Type Motor]&MJ_Arbeid_Zoet[Energiedrager],MJ_Arbeid_Zoet[VM / EA Zoet],\"Not Found\",0)","v":1.5565339715366206E-3},{"$f":"_xlfn.XLOOKUP(Emi_Short[[#This Row],[Type]]&Emi_Short[[#This Row],[Brandstof]],MJ_Arbeid_Zout[Type Motor]&MJ_Arbeid_Zout[Energiedrager],MJ_Arbeid_Zout[VM / EA Zout],\"Not Found\",0)","v":1.1134270393529653E-3}]
["Waterstof","TIER III","WS-TII","Gebruiksprofiel","*RWS Gebruiksprofiel Waterstof (Verbrandingsemissies/Brandstofcel emissies) (zonder PM en NOx) (B1)",{"$f":"_xlfn.XLOOKUP(Emi_Short[[#This Row],[Gebruiksprofiel Basis B1]],RWS_[Environmental Profile],RWS_[Fuctional Unit],\"\",0)","v":"ton"},"*RWS Kapitaalgoederen Verbrandingsmotor (1000 kg o.b.v. Marine engine {GLO}| marine engine construction | Cut-off, U) (inlcusief reD)","Verbrandingsmotor",{"$f":"_xlfn.XLOOKUP(Emi_Short[[#This Row],[Type]]&Emi_Short[[#This Row],[Brandstof]],MJ_Arbeid_Zoet[Type Motor]&MJ_Arbeid_Zoet[Energiedrager],MJ_Arbeid_Zoet[MJ Arbeid (Geleverd)],\"Not Found\",0)","v":48000},{"$f":"_xlfn.XLOOKUP(Emi_Short[[#This Row],[Type]]&Emi_Short[[#This Row],[Brandstof]],MJ_Arbeid_Zout[Type Motor]&MJ_Arbeid_Zout[Energiedrager],MJ_Arbeid_Zout[MJ Arbeid (Geleverd)],\"Not Found\",0)","v":54000},{"$f":"_xlfn.XLOOKUP(Emi_Short[[#This Row],[Type]]&Emi_Short[[#This Row],[Brandstof]],MJ_Arbeid_Zoet[Type Motor]&MJ_Arbeid_Zoet[Energiedrager],MJ_Arbeid_Zoet[AfKap Casco],\"Not Found\",0)","v":2.7842227378190247},{"$f":"_xlfn.XLOOKUP(Emi_Short[[#This Row],[Type]]&Emi_Short[[#This Row],[Brandstof]],MJ_Arbeid_Zout[Type Motor]&MJ_Arbeid_Zout[Energiedrager],MJ_Arbeid_Zout[AfKap Casco],\"Not Found\",0)","v":2.816901408450704},{"$f":"IF(OR(Emi_Short[[#This Row],[MotCel2]]=\"TIER III\",Emi_Short[[#This Row],[MotCel2]]=\"Stage V IWP/IWA\",Emi_Short[[#This Row],[MotCel2]]=\"Stage V NRE\"),(_xlfn.XLOOKUP(Emi_Short[[#This Row],[Type]]&Emi_Short[[#This Row],[Brandstof]],MJ_Arbeid_Zoet[Type Motor]&MJ_Arbeid_Zoet[Energiedrager],MJ_Arbeid_Zoet[AdBlue (A1-A3) - Zoet],\"Not Found\",0)),0)","v":185.55907549527035},{"$f":"IF(OR(Emi_Short[[#This Row],[MotCel2]]=\"TIER III\",Emi_Short[[#This Row],[MotCel2]]=\"Stage V IWP/IWA\",Emi_Short[[#This Row],[MotCel2]]=\"Stage V NRE\",Emi_Short[[#This Row],[MotCel2]]=\"ULEV (Stage V IWP/IWA)\"),(_xlfn.XLOOKUP(Emi_Short[[#This Row],[Type]]&Emi_Short[[#This Row],[Brandstof]],MJ_Arbeid_Zout[Type Motor]&MJ_Arbeid_Zout[Energiedrager],MJ_Arbeid_Zout[AdBlue (A1-A3) - Zout],\"Not Found\",0)),0)","v":185.55907549527035},{"$f":"_xlfn.XLOOKUP(Emi_Short[[#This Row],[Type]]&Emi_Short[[#This Row],[Brandstof]],MJ_Arbeid_Zoet[Type Motor]&MJ_Arbeid_Zoet[Energiedrager],MJ_Arbeid_Zoet[VM / EA Zoet],\"Not Found\",0)","v":4.3846027367228733E-3},{"$f":"_xlfn.XLOOKUP(Emi_Short[[#This Row],[Type]]&Emi_Short[[#This Row],[Brandstof]],MJ_Arbeid_Zout[Type Motor]&MJ_Arbeid_Zout[Energiedrager],MJ_Arbeid_Zout[VM / EA Zout],\"Not Found\",0)","v":3.1364141953604653E-3}]
["Waterstof","ULEV (Stage V IWP/IWA)","WS-ULEV","Gebruiksprofiel","*RWS Gebruiksprofiel Waterstof (Verbrandingsemissies/Brandstofcel emissies) (zonder PM en NOx) (B1)",{"$f":"_xlfn.XLOOKUP(Emi_Short[[#This Row],[Gebruiksprofiel Basis B1]],RWS_[Environmental Profile],RWS_[Fuctional Unit],\"\",0)","v":"ton"},"*RWS Kapitaalgoederen Verbrandingsmotor (1000 kg o.b.v. Marine engine {GLO}| marine engine construction | Cut-off, U) (inlcusief reD)","Verbrandingsmotor",{"$f":"_xlfn.XLOOKUP(Emi_Short[[#This Row],[Type]]&Emi_Short[[#This Row],[Brandstof]],MJ_Arbeid_Zoet[Type Motor]&MJ_Arbeid_Zoet[Energiedrager],MJ_Arbeid_Zoet[MJ Arbeid (Geleverd)],\"Not Found\",0)","v":48000},{"$f":"_xlfn.XLOOKUP(Emi_Short[[#This Row],[Type]]&Emi_Short[[#This Row],[Brandstof]],MJ_Arbeid_Zout[Type Motor]&MJ_Arbeid_Zout[Energiedrager],MJ_Arbeid_Zout[MJ Arbeid (Geleverd)],\"Not Found\",0)","v":54000},{"$f":"_xlfn.XLOOKUP(Emi_Short[[#This Row],[Type]]&Emi_Short[[#This Row],[Brandstof]],MJ_Arbeid_Zoet[Type Motor]&MJ_Arbeid_Zoet[Energiedrager],MJ_Arbeid_Zoet[AfKap Casco],\"Not Found\",0)","v":2.7842227378190247},{"$f":"_xlfn.XLOOKUP(Emi_Short[[#This Row],[Type]]&Emi_Short[[#This Row],[Brandstof]],MJ_Arbeid_Zout[Type Motor]&MJ_Arbeid_Zout[Energiedrager],MJ_Arbeid_Zout[AfKap Casco],\"Not Found\",0)","v":2.816901408450704},{"$f":"IF(OR(Emi_Short[[#This Row],[MotCel2]]=\"TIER III\",Emi_Short[[#This Row],[MotCel2]]=\"Stage V IWP/IWA\",Emi_Short[[#This Row],[MotCel2]]=\"Stage V NRE\"),(_xlfn.XLOOKUP(Emi_Short[[#This Row],[Type]]&Emi_Short[[#This Row],[Brandstof]],MJ_Arbeid_Zoet[Type Motor]&MJ_Arbeid_Zoet[Energiedrager],MJ_Arbeid_Zoet[AdBlue (A1-A3) - Zoet],\"Not Found\",0)),0)","v":0},{"$f":"IF(OR(Emi_Short[[#This Row],[MotCel2]]=\"TIER III\",Emi_Short[[#This Row],[MotCel2]]=\"Stage V IWP/IWA\",Emi_Short[[#This Row],[MotCel2]]=\"Stage V NRE\",Emi_Short[[#This Row],[MotCel2]]=\"ULEV (Stage V IWP/IWA)\"),(_xlfn.XLOOKUP(Emi_Short[[#This Row],[Type]]&Emi_Short[[#This Row],[Brandstof]],MJ_Arbeid_Zout[Type Motor]&MJ_Arbeid_Zout[Energiedrager],MJ_Arbeid_Zout[AdBlue (A1-A3) - Zout],\"Not Found\",0)),0)","v":185.55907549527035},{"$f":"_xlfn.XLOOKUP(Emi_Short[[#This Row],[Type]]&Emi_Short[[#This Row],[Brandstof]],MJ_Arbeid_Zoet[Type Motor]&MJ_Arbeid_Zoet[Energiedrager],MJ_Arbeid_Zoet[VM / EA Zoet],\"Not Found\",0)","v":4.3846027367228733E-3},{"$f":"_xlfn.XLOOKUP(Emi_Short[[#This Row],[Type]]&Emi_Short[[#This Row],[Brandstof]],MJ_Arbeid_Zout[Type Motor]&MJ_Arbeid_Zout[Energiedrager],MJ_Arbeid_Zout[VM / EA Zout],\"Not Found\",0)","v":3.1364141953604653E-3}]
["Waterstof","Stage V IWP/IWA","WS-SV-I","Gebruiksprofiel","*RWS Gebruiksprofiel Waterstof (Verbrandingsemissies/Brandstofcel emissies) (zonder PM en NOx) (B1)",{"$f":"_xlfn.XLOOKUP(Emi_Short[[#This Row],[Gebruiksprofiel Basis B1]],RWS_[Environmental Profile],RWS_[Fuctional Unit],\"\",0)","v":"ton"},"*RWS Kapitaalgoederen Verbrandingsmotor (1000 kg o.b.v. Marine engine {GLO}| marine engine construction | Cut-off, U) (inlcusief reD)","Verbrandingsmotor",{"$f":"_xlfn.XLOOKUP(Emi_Short[[#This Row],[Type]]&Emi_Short[[#This Row],[Brandstof]],MJ_Arbeid_Zoet[Type Motor]&MJ_Arbeid_Zoet[Energiedrager],MJ_Arbeid_Zoet[MJ Arbeid (Geleverd)],\"Not Found\",0)","v":48000},{"$f":"_xlfn.XLOOKUP(Emi_Short[[#This Row],[Type]]&Emi_Short[[#This Row],[Brandstof]],MJ_Arbeid_Zout[Type Motor]&MJ_Arbeid_Zout[Energiedrager],MJ_Arbeid_Zout[MJ Arbeid (Geleverd)],\"Not Found\",0)","v":54000},{"$f":"_xlfn.XLOOKUP(Emi_Short[[#This Row],[Type]]&Emi_Short[[#This Row],[Brandstof]],MJ_Arbeid_Zoet[Type Motor]&MJ_Arbeid_Zoet[Energiedrager],MJ_Arbeid_Zoet[AfKap Casco],\"Not Found\",0)","v":2.7842227378190247},{"$f":"_xlfn.XLOOKUP(Emi_Short[[#This Row],[Type]]&Emi_Short[[#This Row],[Brandstof]],MJ_Arbeid_Zout[Type Motor]&MJ_Arbeid_Zout[Energiedrager],MJ_Arbeid_Zout[AfKap Casco],\"Not Found\",0)","v":2.816901408450704},{"$f":"IF(OR(Emi_Short[[#This Row],[MotCel2]]=\"TIER III\",Emi_Short[[#This Row],[MotCel2]]=\"Stage V IWP/IWA\",Emi_Short[[#This Row],[MotCel2]]=\"Stage V NRE\"),(_xlfn.XLOOKUP(Emi_Short[[#This Row],[Type]]&Emi_Short[[#This Row],[Brandstof]],MJ_Arbeid_Zoet[Type Motor]&MJ_Arbeid_Zoet[Energiedrager],MJ_Arbeid_Zoet[AdBlue (A1-A3) - Zoet],\"Not Found\",0)),0)","v":185.55907549527035},{"$f":"IF(OR(Emi_Short[[#This Row],[MotCel2]]=\"TIER III\",Emi_Short[[#This Row],[MotCel2]]=\"Stage V IWP/IWA\",Emi_Short[[#This Row],[MotCel2]]=\"Stage V NRE\",Emi_Short[[#This Row],[MotCel2]]=\"ULEV (Stage V IWP/IWA)\"),(_xlfn.XLOOKUP(Emi_Short[[#This Row],[Type]]&Emi_Short[[#This Row],[Brandstof]],MJ_Arbeid_Zout[Type Motor]&MJ_Arbeid_Zout[Energiedrager],MJ_Arbeid_Zout[AdBlue (A1-A3) - Zout],\"Not Found\",0)),0)","v":185.55907549527035},{"$f":"_xlfn.XLOOKUP(Emi_Short[[#This Row],[Type]]&Emi_Short[[#This Row],[Brandstof]],MJ_Arbeid_Zoet[Type Motor]&MJ_Arbeid_Zoet[Energiedrager],MJ_Arbeid_Zoet[VM / EA Zoet],\"Not Found\",0)","v":4.3846027367228733E-3},{"$f":"_xlfn.XLOOKUP(Emi_Short[[#This Row],[Type]]&Emi_Short[[#This Row],[Brandstof]],MJ_Arbeid_Zout[Type Motor]&MJ_Arbeid_Zout[Energiedrager],MJ_Arbeid_Zout[VM / EA Zout],\"Not Found\",0)","v":3.1364141953604653E-3}]
["Waterstof","Stage V NRE","WS-SV-N","Gebruiksprofiel","*RWS Gebruiksprofiel Waterstof (Verbrandingsemissies/Brandstofcel emissies) (zonder PM en NOx) (B1)",{"$f":"_xlfn.XLOOKUP(Emi_Short[[#This Row],[Gebruiksprofiel Basis B1]],RWS_[Environmental Profile],RWS_[Fuctional Unit],\"\",0)","v":"ton"},"*RWS Kapitaalgoederen Verbrandingsmotor (1000 kg o.b.v. Marine engine {GLO}| marine engine construction | Cut-off, U) (inlcusief reD)","Verbrandingsmotor",{"$f":"_xlfn.XLOOKUP(Emi_Short[[#This Row],[Type]]&Emi_Short[[#This Row],[Brandstof]],MJ_Arbeid_Zoet[Type Motor]&MJ_Arbeid_Zoet[Energiedrager],MJ_Arbeid_Zoet[MJ Arbeid (Geleverd)],\"Not Found\",0)","v":48000},{"$f":"_xlfn.XLOOKUP(Emi_Short[[#This Row],[Type]]&Emi_Short[[#This Row],[Brandstof]],MJ_Arbeid_Zout[Type Motor]&MJ_Arbeid_Zout[Energiedrager],MJ_Arbeid_Zout[MJ Arbeid (Geleverd)],\"Not Found\",0)","v":54000},{"$f":"_xlfn.XLOOKUP(Emi_Short[[#This Row],[Type]]&Emi_Short[[#This Row],[Brandstof]],MJ_Arbeid_Zoet[Type Motor]&MJ_Arbeid_Zoet[Energiedrager],MJ_Arbeid_Zoet[AfKap Casco],\"Not Found\",0)","v":2.7842227378190247},{"$f":"_xlfn.XLOOKUP(Emi_Short[[#This Row],[Type]]&Emi_Short[[#This Row],[Brandstof]],MJ_Arbeid_Zout[Type Motor]&MJ_Arbeid_Zout[Energiedrager],MJ_Arbeid_Zout[AfKap Casco],\"Not Found\",0)","v":2.816901408450704},{"$f":"IF(OR(Emi_Short[[#This Row],[MotCel2]]=\"TIER III\",Emi_Short[[#This Row],[MotCel2]]=\"Stage V IWP/IWA\",Emi_Short[[#This Row],[MotCel2]]=\"Stage V NRE\"),(_xlfn.XLOOKUP(Emi_Short[[#This Row],[Type]]&Emi_Short[[#This Row],[Brandstof]],MJ_Arbeid_Zoet[Type Motor]&MJ_Arbeid_Zoet[Energiedrager],MJ_Arbeid_Zoet[AdBlue (A1-A3) - Zoet],\"Not Found\",0)),0)","v":185.55907549527035},{"$f":"IF(OR(Emi_Short[[#This Row],[MotCel2]]=\"TIER III\",Emi_Short[[#This Row],[MotCel2]]=\"Stage V IWP/IWA\",Emi_Short[[#This Row],[MotCel2]]=\"Stage V NRE\",Emi_Short[[#This Row],[MotCel2]]=\"ULEV (Stage V IWP/IWA)\"),(_xlfn.XLOOKUP(Emi_Short[[#This Row],[Type]]&Emi_Short[[#This Row],[Brandstof]],MJ_Arbeid_Zout[Type Motor]&MJ_Arbeid_Zout[Energiedrager],MJ_Arbeid_Zout[AdBlue (A1-A3) - Zout],\"Not Found\",0)),0)","v":185.55907549527035},{"$f":"_xlfn.XLOOKUP(Emi_Short[[#This Row],[Type]]&Emi_Short[[#This Row],[Brandstof]],MJ_Arbeid_Zoet[Type Motor]&MJ_Arbeid_Zoet[Energiedrager],MJ_Arbeid_Zoet[VM / EA Zoet],\"Not Found\",0)","v":4.3846027367228733E-3},{"$f":"_xlfn.XLOOKUP(Emi_Short[[#This Row],[Type]]&Emi_Short[[#This Row],[Brandstof]],MJ_Arbeid_Zout[Type Motor]&MJ_Arbeid_Zout[Energiedrager],MJ_Arbeid_Zout[VM / EA Zout],\"Not Found\",0)","v":3.1364141953604653E-3}]
["Waterstof","Brandstofcel","WS-BC","Gebruiksprofiel","*RWS Gebruiksprofiel Waterstof (Verbrandingsemissies/Brandstofcel emissies) (zonder PM en NOx) (B1)",{"$f":"_xlfn.XLOOKUP(Emi_Short[[#This Row],[Gebruiksprofiel Basis B1]],RWS_[Environmental Profile],RWS_[Fuctional Unit],\"\",0)","v":"ton"},"*RWS Kapitaalgoederen aandrijving elektrisch schip (100 kW) (inlusief EOL en reD)","Brandstofcel",{"$f":"_xlfn.XLOOKUP(Emi_Short[[#This Row],[Type]]&Emi_Short[[#This Row],[Brandstof]],MJ_Arbeid_Zoet[Type Motor]&MJ_Arbeid_Zoet[Energiedrager],MJ_Arbeid_Zoet[MJ Arbeid (Geleverd)],\"Not Found\",0)","v":56400},{"$f":"_xlfn.XLOOKUP(Emi_Short[[#This Row],[Type]]&Emi_Short[[#This Row],[Brandstof]],MJ_Arbeid_Zout[Type Motor]&MJ_Arbeid_Zout[Energiedrager],MJ_Arbeid_Zout[MJ Arbeid (Geleverd)],\"Not Found\",0)","v":56400},{"$f":"_xlfn.XLOOKUP(Emi_Short[[#This Row],[Type]]&Emi_Short[[#This Row],[Brandstof]],MJ_Arbeid_Zoet[Type Motor]&MJ_Arbeid_Zoet[Energiedrager],MJ_Arbeid_Zoet[AfKap Casco],\"Not Found\",0)","v":3.2714617169373543},{"$f":"_xlfn.XLOOKUP(Emi_Short[[#This Row],[Type]]&Emi_Short[[#This Row],[Brandstof]],MJ_Arbeid_Zout[Type Motor]&MJ_Arbeid_Zout[Energiedrager],MJ_Arbeid_Zout[AfKap Casco],\"Not Found\",0)","v":2.9420970266040687},{"$f":"IF(OR(Emi_Short[[#This Row],[MotCel2]]=\"TIER III\",Emi_Short[[#This Row],[MotCel2]]=\"Stage V IWP/IWA\",Emi_Short[[#This Row],[MotCel2]]=\"Stage V NRE\"),(_xlfn.XLOOKUP(Emi_Short[[#This Row],[Type]]&Emi_Short[[#This Row],[Brandstof]],MJ_Arbeid_Zoet[Type Motor]&MJ_Arbeid_Zoet[Energiedrager],MJ_Arbeid_Zoet[AdBlue (A1-A3) - Zoet],\"Not Found\",0)),0)","v":0},{"$f":"IF(OR(Emi_Short[[#This Row],[MotCel2]]=\"TIER III\",Emi_Short[[#This Row],[MotCel2]]=\"Stage V IWP/IWA\",Emi_Short[[#This Row],[MotCel2]]=\"Stage V NRE\",Emi_Short[[#This Row],[MotCel2]]=\"ULEV (Stage V IWP/IWA)\"),(_xlfn.XLOOKUP(Emi_Short[[#This Row],[Type]]&Emi_Short[[#This Row],[Brandstof]],MJ_Arbeid_Zout[Type Motor]&MJ_Arbeid_Zout[Energiedrager],MJ_Arbeid_Zout[AdBlue (A1-A3) - Zout],\"Not Found\",0)),0)","v":0},{"$f":"_xlfn.XLOOKUP(Emi_Short[[#This Row],[Type]]&Emi_Short[[#This Row],[Brandstof]],MJ_Arbeid_Zoet[Type Motor]&MJ_Arbeid_Zoet[Energiedrager],MJ_Arbeid_Zoet[VM / EA Zoet],\"Not Found\",0)","v":4.6367173940844398E-3},{"$f":"_xlfn.XLOOKUP(Emi_Short[[#This Row],[Type]]&Emi_Short[[#This Row],[Brandstof]],MJ_Arbeid_Zout[Type Motor]&MJ_Arbeid_Zout[Energiedrager],MJ_Arbeid_Zout[VM / EA Zout],\"Not Found\",0)","v":2.9482293436388376E-3}]
["Elektriciteit","Elektromotor","EM","Gebruiksprofiel","Niet van Toepassing (Elektrisch)",{"$f":"_xlfn.XLOOKUP(Emi_Short[[#This Row],[Gebruiksprofiel Basis B1]],RWS_[Environmental Profile],RWS_[Fuctional Unit],\"\",0)","v":"kWh"},"*RWS Kapitaalgoederen aandrijving elektrisch schip (100 kW) (inlusief EOL en reD)","Elektromotor",{"$f":"_xlfn.XLOOKUP(Emi_Short[[#This Row],[Type]]&Emi_Short[[#This Row],[Brandstof]],MJ_Arbeid_Zoet[Type Motor]&MJ_Arbeid_Zoet[Energiedrager],MJ_Arbeid_Zoet[MJ Arbeid (Geleverd)],\"Not Found\",0)","v":2.754},{"$f":"_xlfn.XLOOKUP(Emi_Short[[#This Row],[Type]]&Emi_Short[[#This Row],[Brandstof]],MJ_Arbeid_Zout[Type Motor]&MJ_Arbeid_Zout[Energiedrager],MJ_Arbeid_Zout[MJ Arbeid (Geleverd)],\"Not Found\",0)","v":0},{"$f":"_xlfn.XLOOKUP(Emi_Short[[#This Row],[Type]]&Emi_Short[[#This Row],[Brandstof]],MJ_Arbeid_Zoet[Type Motor]&MJ_Arbeid_Zoet[Energiedrager],MJ_Arbeid_Zoet[AfKap Casco],\"Not Found\",0)","v":1.5974477958236656E-4},{"$f":"_xlfn.XLOOKUP(Emi_Short[[#This Row],[Type]]&Emi_Short[[#This Row],[Brandstof]],MJ_Arbeid_Zout[Type Motor]&MJ_Arbeid_Zout[Energiedrager],MJ_Arbeid_Zout[AfKap Casco],\"Not Found\",0)","v":0},{"$f":"IF(OR(Emi_Short[[#This Row],[MotCel2]]=\"TIER III\",Emi_Short[[#This Row],[MotCel2]]=\"Stage V IWP/IWA\",Emi_Short[[#This Row],[MotCel2]]=\"Stage V NRE\"),(_xlfn.XLOOKUP(Emi_Short[[#This Row],[Type]]&Emi_Short[[#This Row],[Brandstof]],MJ_Arbeid_Zoet[Type Motor]&MJ_Arbeid_Zoet[Energiedrager],MJ_Arbeid_Zoet[AdBlue (A1-A3) - Zoet],\"Not Found\",0)),0)","v":0},{"$f":"IF(OR(Emi_Short[[#This Row],[MotCel2]]=\"TIER III\",Emi_Short[[#This Row],[MotCel2]]=\"Stage V IWP/IWA\",Emi_Short[[#This Row],[MotCel2]]=\"Stage V NRE\",Emi_Short[[#This Row],[MotCel2]]=\"ULEV (Stage V IWP/IWA)\"),(_xlfn.XLOOKUP(Emi_Short[[#This Row],[Type]]&Emi_Short[[#This Row],[Brandstof]],MJ_Arbeid_Zout[Type Motor]&MJ_Arbeid_Zout[Energiedrager],MJ_Arbeid_Zout[AdBlue (A1-A3) - Zout],\"Not Found\",0)),0)","v":0},{"$f":"_xlfn.XLOOKUP(Emi_Short[[#This Row],[Type]]&Emi_Short[[#This Row],[Brandstof]],MJ_Arbeid_Zoet[Type Motor]&MJ_Arbeid_Zoet[Energiedrager],MJ_Arbeid_Zoet[VM / EA Zoet],\"Not Found\",0)","v":2.2640992381752741E-7},{"$f":"_xlfn.XLOOKUP(Emi_Short[[#This Row],[Type]]&Emi_Short[[#This Row],[Brandstof]],MJ_Arbeid_Zout[Type Motor]&MJ_Arbeid_Zout[Energiedrager],MJ_Arbeid_Zout[VM / EA Zout],\"Not Found\",0)","v":0}]
["LNG","TIER II / III / ULEV","LNG-TII","Gebruiksprofiel","*RWS Gebruiksprofiel LNG/CNG (verbrandingsemissies) (zonder PM en NOx) (B1)",{"$f":"_xlfn.XLOOKUP(Emi_Short[[#This Row],[Gebruiksprofiel Basis B1]],RWS_[Environmental Profile],RWS_[Fuctional Unit],\"\",0)","v":"ton"},"*RWS Kapitaalgoederen Verbrandingsmotor (1000 kg o.b.v. Marine engine {GLO}| marine engine construction | Cut-off, U) (inlcusief reD)","Verbrandingsmotor",{"$f":"_xlfn.XLOOKUP(Emi_Short[[#This Row],[Type]]&Emi_Short[[#This Row],[Brandstof]],MJ_Arbeid_Zoet[Type Motor]&MJ_Arbeid_Zoet[Energiedrager],MJ_Arbeid_Zoet[MJ Arbeid (Geleverd)],\"Not Found\",0)","v":19600},{"$f":"_xlfn.XLOOKUP(Emi_Short[[#This Row],[Type]]&Emi_Short[[#This Row],[Brandstof]],MJ_Arbeid_Zout[Type Motor]&MJ_Arbeid_Zout[Energiedrager],MJ_Arbeid_Zout[MJ Arbeid (Geleverd)],\"Not Found\",0)","v":22050},{"$f":"_xlfn.XLOOKUP(Emi_Short[[#This Row],[Type]]&Emi_Short[[#This Row],[Brandstof]],MJ_Arbeid_Zoet[Type Motor]&MJ_Arbeid_Zoet[Energiedrager],MJ_Arbeid_Zoet[AfKap Casco],\"Not Found\",0)","v":1.1368909512761018},{"$f":"_xlfn.XLOOKUP(Emi_Short[[#This Row],[Type]]&Emi_Short[[#This Row],[Brandstof]],MJ_Arbeid_Zout[Type Motor]&MJ_Arbeid_Zout[Energiedrager],MJ_Arbeid_Zout[AfKap Casco],\"Not Found\",0)","v":1.1502347417840375},{"$f":"IF(OR(Emi_Short[[#This Row],[MotCel2]]=\"TIER III\",Emi_Short[[#This Row],[MotCel2]]=\"Stage V IWP/IWA\",Emi_Short[[#This Row],[MotCel2]]=\"Stage V NRE\"),(_xlfn.XLOOKUP(Emi_Short[[#This Row],[Type]]&Emi_Short[[#This Row],[Brandstof]],MJ_Arbeid_Zoet[Type Motor]&MJ_Arbeid_Zoet[Energiedrager],MJ_Arbeid_Zoet[AdBlue (A1-A3) - Zoet],\"Not Found\",0)),0)","v":0},{"$f":"IF(OR(Emi_Short[[#This Row],[MotCel2]]=\"TIER III\",Emi_Short[[#This Row],[MotCel2]]=\"Stage V IWP/IWA\",Emi_Short[[#This Row],[MotCel2]]=\"Stage V NRE\",Emi_Short[[#This Row],[MotCel2]]=\"ULEV (Stage V IWP/IWA)\"),(_xlfn.XLOOKUP(Emi_Short[[#This Row],[Type]]&Emi_Short[[#This Row],[Brandstof]],MJ_Arbeid_Zout[Type Motor]&MJ_Arbeid_Zout[Energiedrager],MJ_Arbeid_Zout[AdBlue (A1-A3) - Zout],\"Not Found\",0)),0)","v":0},{"$f":"_xlfn.XLOOKUP(Emi_Short[[#This Row],[Type]]&Emi_Short[[#This Row],[Brandstof]],MJ_Arbeid_Zoet[Type Motor]&MJ_Arbeid_Zoet[Energiedrager],MJ_Arbeid_Zoet[VM / EA Zoet],\"Not Found\",0)","v":1.7903794508285068E-3},{"$f":"_xlfn.XLOOKUP(Emi_Short[[#This Row],[Type]]&Emi_Short[[#This Row],[Brandstof]],MJ_Arbeid_Zout[Type Motor]&MJ_Arbeid_Zout[Energiedrager],MJ_Arbeid_Zout[VM / EA Zout],\"Not Found\",0)","v":1.2807024631055234E-3}]
["LNG","CCR II","LNG-CII","Gebruiksprofiel","*RWS Gebruiksprofiel LNG/CNG (verbrandingsemissies) (zonder PM en NOx) (B1)",{"$f":"_xlfn.XLOOKUP(Emi_Short[[#This Row],[Gebruiksprofiel Basis B1]],RWS_[Environmental Profile],RWS_[Fuctional Unit],\"\",0)","v":"ton"},"*RWS Kapitaalgoederen Verbrandingsmotor (1000 kg o.b.v. Marine engine {GLO}| marine engine construction | Cut-off, U) (inlcusief reD)","Verbrandingsmotor",{"$f":"_xlfn.XLOOKUP(Emi_Short[[#This Row],[Type]]&Emi_Short[[#This Row],[Brandstof]],MJ_Arbeid_Zoet[Type Motor]&MJ_Arbeid_Zoet[Energiedrager],MJ_Arbeid_Zoet[MJ Arbeid (Geleverd)],\"Not Found\",0)","v":19600},{"$f":"_xlfn.XLOOKUP(Emi_Short[[#This Row],[Type]]&Emi_Short[[#This Row],[Brandstof]],MJ_Arbeid_Zout[Type Motor]&MJ_Arbeid_Zout[Energiedrager],MJ_Arbeid_Zout[MJ Arbeid (Geleverd)],\"Not Found\",0)","v":22050},{"$f":"_xlfn.XLOOKUP(Emi_Short[[#This Row],[Type]]&Emi_Short[[#This Row],[Brandstof]],MJ_Arbeid_Zoet[Type Motor]&MJ_Arbeid_Zoet[Energiedrager],MJ_Arbeid_Zoet[AfKap Casco],\"Not Found\",0)","v":1.1368909512761018},{"$f":"_xlfn.XLOOKUP(Emi_Short[[#This Row],[Type]]&Emi_Short[[#This Row],[Brandstof]],MJ_Arbeid_Zout[Type Motor]&MJ_Arbeid_Zout[Energiedrager],MJ_Arbeid_Zout[AfKap Casco],\"Not Found\",0)","v":1.1502347417840375},{"$f":"IF(OR(Emi_Short[[#This Row],[MotCel2]]=\"TIER III\",Emi_Short[[#This Row],[MotCel2]]=\"Stage V IWP/IWA\",Emi_Short[[#This Row],[MotCel2]]=\"Stage V NRE\"),(_xlfn.XLOOKUP(Emi_Short[[#This Row],[Type]]&Emi_Short[[#This Row],[Brandstof]],MJ_Arbeid_Zoet[Type Motor]&MJ_Arbeid_Zoet[Energiedrager],MJ_Arbeid_Zoet[AdBlue (A1-A3) - Zoet],\"Not Found\",0)),0)","v":0},{"$f":"IF(OR(Emi_Short[[#This Row],[MotCel2]]=\"TIER III\",Emi_Short[[#This Row],[MotCel2]]=\"Stage V IWP/IWA\",Emi_Short[[#This Row],[MotCel2]]=\"Stage V NRE\",Emi_Short[[#This Row],[MotCel2]]=\"ULEV (Stage V IWP/IWA)\"),(_xlfn.XLOOKUP(Emi_Short[[#This Row],[Type]]&Emi_Short[[#This Row],[Brandstof]],MJ_Arbeid_Zout[Type Motor]&MJ_Arbeid_Zout[Energiedrager],MJ_Arbeid_Zout[AdBlue (A1-A3) - Zout],\"Not Found\",0)),0)","v":0},{"$f":"_xlfn.XLOOKUP(Emi_Short[[#This Row],[Type]]&Emi_Short[[#This Row],[Brandstof]],MJ_Arbeid_Zoet[Type Motor]&MJ_Arbeid_Zoet[Energiedrager],MJ_Arbeid_Zoet[VM / EA Zoet],\"Not Found\",0)","v":1.7903794508285068E-3},{"$f":"_xlfn.XLOOKUP(Emi_Short[[#This Row],[Type]]&Emi_Short[[#This Row],[Brandstof]],MJ_Arbeid_Zout[Type Motor]&MJ_Arbeid_Zout[Energiedrager],MJ_Arbeid_Zout[VM / EA Zout],\"Not Found\",0)","v":1.2807024631055234E-3}]
["LNG","Stage V IWP/IWA","LNG-SV-I","Gebruiksprofiel","*RWS Gebruiksprofiel LNG/CNG (verbrandingsemissies) (zonder PM en NOx) (B1)",{"$f":"_xlfn.XLOOKUP(Emi_Short[[#This Row],[Gebruiksprofiel Basis B1]],RWS_[Environmental Profile],RWS_[Fuctional Unit],\"\",0)","v":"ton"},"*RWS Kapitaalgoederen Verbrandingsmotor (1000 kg o.b.v. Marine engine {GLO}| marine engine construction | Cut-off, U) (inlcusief reD)","Verbrandingsmotor",{"$f":"_xlfn.XLOOKUP(Emi_Short[[#This Row],[Type]]&Emi_Short[[#This Row],[Brandstof]],MJ_Arbeid_Zoet[Type Motor]&MJ_Arbeid_Zoet[Energiedrager],MJ_Arbeid_Zoet[MJ Arbeid (Geleverd)],\"Not Found\",0)","v":19600},{"$f":"_xlfn.XLOOKUP(Emi_Short[[#This Row],[Type]]&Emi_Short[[#This Row],[Brandstof]],MJ_Arbeid_Zout[Type Motor]&MJ_Arbeid_Zout[Energiedrager],MJ_Arbeid_Zout[MJ Arbeid (Geleverd)],\"Not Found\",0)","v":22050},{"$f":"_xlfn.XLOOKUP(Emi_Short[[#This Row],[Type]]&Emi_Short[[#This Row],[Brandstof]],MJ_Arbeid_Zoet[Type Motor]&MJ_Arbeid_Zoet[Energiedrager],MJ_Arbeid_Zoet[AfKap Casco],\"Not Found\",0)","v":1.1368909512761018},{"$f":"_xlfn.XLOOKUP(Emi_Short[[#This Row],[Type]]&Emi_Short[[#This Row],[Brandstof]],MJ_Arbeid_Zout[Type Motor]&MJ_Arbeid_Zout[Energiedrager],MJ_Arbeid_Zout[AfKap Casco],\"Not Found\",0)","v":1.1502347417840375},{"$f":"IF(OR(Emi_Short[[#This Row],[MotCel2]]=\"TIER III\",Emi_Short[[#This Row],[MotCel2]]=\"Stage V IWP/IWA\",Emi_Short[[#This Row],[MotCel2]]=\"Stage V NRE\"),(_xlfn.XLOOKUP(Emi_Short[[#This Row],[Type]]&Emi_Short[[#This Row],[Brandstof]],MJ_Arbeid_Zoet[Type Motor]&MJ_Arbeid_Zoet[Energiedrager],MJ_Arbeid_Zoet[AdBlue (A1-A3) - Zoet],\"Not Found\",0)),0)","v":75.769955827235393},{"$f":"IF(OR(Emi_Short[[#This Row],[MotCel2]]=\"TIER III\",Emi_Short[[#This Row],[MotCel2]]=\"Stage V IWP/IWA\",Emi_Short[[#This Row],[MotCel2]]=\"Stage V NRE\",Emi_Short[[#This Row],[MotCel2]]=\"ULEV (Stage V IWP/IWA)\"),(_xlfn.XLOOKUP(Emi_Short[[#This Row],[Type]]&Emi_Short[[#This Row],[Brandstof]],MJ_Arbeid_Zout[Type Motor]&MJ_Arbeid_Zout[Energiedrager],MJ_Arbeid_Zout[AdBlue (A1-A3) - Zout],\"Not Found\",0)),0)","v":0},{"$f":"_xlfn.XLOOKUP(Emi_Short[[#This Row],[Type]]&Emi_Short[[#This Row],[Brandstof]],MJ_Arbeid_Zoet[Type Motor]&MJ_Arbeid_Zoet[Energiedrager],MJ_Arbeid_Zoet[VM / EA Zoet],\"Not Found\",0)","v":1.7903794508285068E-3},{"$f":"_xlfn.XLOOKUP(Emi_Short[[#This Row],[Type]]&Emi_Short[[#This Row],[Brandstof]],MJ_Arbeid_Zout[Type Motor]&MJ_Arbeid_Zout[Energiedrager],MJ_Arbeid_Zout[VM / EA Zout],\"Not Found\",0)","v":1.2807024631055234E-3}]
["LNG","Stage V NRE","LNG-SV-N","Gebruiksprofiel","*RWS Gebruiksprofiel LNG/CNG (verbrandingsemissies) (zonder PM en NOx) (B1)",{"$f":"_xlfn.XLOOKUP(Emi_Short[[#This Row],[Gebruiksprofiel Basis B1]],RWS_[Environmental Profile],RWS_[Fuctional Unit],\"\",0)","v":"ton"},"*RWS Kapitaalgoederen Verbrandingsmotor (1000 kg o.b.v. Marine engine {GLO}| marine engine construction | Cut-off, U) (inlcusief reD)","Verbrandingsmotor",{"$f":"_xlfn.XLOOKUP(Emi_Short[[#This Row],[Type]]&Emi_Short[[#This Row],[Brandstof]],MJ_Arbeid_Zoet[Type Motor]&MJ_Arbeid_Zoet[Energiedrager],MJ_Arbeid_Zoet[MJ Arbeid (Geleverd)],\"Not Found\",0)","v":19600},{"$f":"_xlfn.XLOOKUP(Emi_Short[[#This Row],[Type]]&Emi_Short[[#This Row],[Brandstof]],MJ_Arbeid_Zout[Type Motor]&MJ_Arbeid_Zout[Energiedrager],MJ_Arbeid_Zout[MJ Arbeid (Geleverd)],\"Not Found\",0)","v":22050},{"$f":"_xlfn.XLOOKUP(Emi_Short[[#This Row],[Type]]&Emi_Short[[#This Row],[Brandstof]],MJ_Arbeid_Zoet[Type Motor]&MJ_Arbeid_Zoet[Energiedrager],MJ_Arbeid_Zoet[AfKap Casco],\"Not Found\",0)","v":1.1368909512761018},{"$f":"_xlfn.XLOOKUP(Emi_Short[[#This Row],[Type]]&Emi_Short[[#This Row],[Brandstof]],MJ_Arbeid_Zout[Type Motor]&MJ_Arbeid_Zout[Energiedrager],MJ_Arbeid_Zout[AfKap Casco],\"Not Found\",0)","v":1.1502347417840375},{"$f":"IF(OR(Emi_Short[[#This Row],[MotCel2]]=\"TIER III\",Emi_Short[[#This Row],[MotCel2]]=\"Stage V IWP/IWA\",Emi_Short[[#This Row],[MotCel2]]=\"Stage V NRE\"),(_xlfn.XLOOKUP(Emi_Short[[#This Row],[Type]]&Emi_Short[[#This Row],[Brandstof]],MJ_Arbeid_Zoet[Type Motor]&MJ_Arbeid_Zoet[Energiedrager],MJ_Arbeid_Zoet[AdBlue (A1-A3) - Zoet],\"Not Found\",0)),0)","v":75.769955827235393},{"$f":"IF(OR(Emi_Short[[#This Row],[MotCel2]]=\"TIER III\",Emi_Short[[#This Row],[MotCel2]]=\"Stage V IWP/IWA\",Emi_Short[[#This Row],[MotCel2]]=\"Stage V NRE\",Emi_Short[[#This Row],[MotCel2]]=\"ULEV (Stage V IWP/IWA)\"),(_xlfn.XLOOKUP(Emi_Short[[#This Row],[Type]]&Emi_Short[[#This Row],[Brandstof]],MJ_Arbeid_Zout[Type Motor]&MJ_Arbeid_Zout[Energiedrager],MJ_Arbeid_Zout[AdBlue (A1-A3) - Zout],\"Not Found\",0)),0)","v":0},{"$f":"_xlfn.XLOOKUP(Emi_Short[[#This Row],[Type]]&Emi_Short[[#This Row],[Brandstof]],MJ_Arbeid_Zoet[Type Motor]&MJ_Arbeid_Zoet[Energiedrager],MJ_Arbeid_Zoet[VM / EA Zoet],\"Not Found\",0)","v":1.7903794508285068E-3},{"$f":"_xlfn.XLOOKUP(Emi_Short[[#This Row],[Type]]&Emi_Short[[#This Row],[Brandstof]],MJ_Arbeid_Zout[Type Motor]&MJ_Arbeid_Zout[Energiedrager],MJ_Arbeid_Zout[VM / EA Zout],\"Not Found\",0)","v":1.2807024631055234E-3}]
[]
[]
[]
[{"$nulls":22},"Type Motor","Energiedrager","FU","MJ Arbeid (Geleverd)","AfKap Casco","AdBlue (A1-A3) - Zout","VM / EA Zout"]
[{"$nulls":22},"Verbrandingsmotor","Diesel (ULSD)","ton",19395,1.011737089201878,66.646634615384613,1.1264954318336339E-3]
[{"$nulls":22},"Verbrandingsmotor","HFO","ton",18225,0.95070422535211263,62.626187979653743,1.0585397909341572E-3]
["Name","Type","Short","Division","Kapitaalgoederen B1","Unit","Lookup Help",{"$nulls":15},"Verbrandingsmotor","GTL","ton",19800,1.0328638497652582,68.038327681599128,1.1500185382988374E-3]
["Accu (Lithium)","Accu","Lith-Accu","Kapitaalgoederen","Accu, Lithium-ion, per kWh accucapaciteit (o.b.v. 5kg per kWh)",{"$f":"_xlfn.XLOOKUP(Capital_Short[[#This Row],[Kapitaalgoederen B1]],RWS_[Environmental Profile],RWS_[Fuctional Unit],\"\",0)","v":"kWh"},null,null,null,{"$f":"_xlfn.XLOOKUP(#REF!,Emi_Short[Brandstof]&Emi_Short[MotCel2],Emi_Short[Unit],\"\",0)","v":{"$error":"#REF!"}},{"$nulls":12},"Verbrandingsmotor","MGO","ton",19170,1,65.87347180082098,1.1134270393529653E-3]
["Baggerschip Zoet","Schip","BS-Zoet","Kapitaalgoederen","*RWS Kapitaalgoederen - Baggeren Zoet (Diesel)",{"$f":"_xlfn.XLOOKUP(Capital_Short[[#This Row],[Kapitaalgoederen B1]],RWS_[Environmental Profile],RWS_[Fuctional Unit],\"\",0)","v":"ton"},"Binnenvaart",{"$nulls":15},"Verbrandingsmotor","LNG","ton",22050,1.1502347417840375,0,1.2807024631055234E-3]
["Baggerschip Zout","Schip","BS-Zout","Kapitaalgoederen","*RWS Kapitaalgoederen - Baggeren Zout (MGO)",{"$f":"_xlfn.XLOOKUP(Capital_Short[[#This Row],[Kapitaalgoederen B1]],RWS_[Environmental Profile],RWS_[Fuctional Unit],\"\",0)","v":"ton"},"Zeevaart",{"$nulls":15},"Verbrandingsmotor","Bio-LNG","ton",22050,1.1502347417840375,0,1.2807024631055234E-3]
["Brandstofcel - Waterstof","Motor","BC-W","Kapitaalgoederen","Brandstofcel Waterstof, per kW machinevermogen",{"$f":"_xlfn.XLOOKUP(Capital_Short[[#This Row],[Kapitaalgoederen B1]],RWS_[Environmental Profile],RWS_[Fuctional Unit],\"\",0)","v":"p"},{"$nulls":16},"Verbrandingsmotor","CNG","ton",20835,1.0868544600938967,0,1.2101331437099131E-3]
["Elektromotor","Motor","EM","Kapitaalgoederen","*RWS Kapitaalgoederen aandrijving elektrisch schip (100 kW) (inlusief EOL en reD)",{"$f":"_xlfn.XLOOKUP(Capital_Short[[#This Row],[Kapitaalgoederen B1]],RWS_[Environmental Profile],RWS_[Fuctional Unit],\"\",0)","v":"p"},{"$nulls":16},"Verbrandingsmotor","Bio-CNG","ton",20835,1.0868544600938967,0,1.2101331437099131E-3]
["Transportschip Zoet","Schip","TS-Zoet","Kapitaalgoederen","*RWS Kapitaalgoederen Transport Binnenvaart (o.b.v. Transport, freight, inland waterways, barge {RER}| transport, freight, inland waterways, barge | Cut-off, U) (inclusief EOL en reD)",{"$f":"_xlfn.XLOOKUP(Capital_Short[[#This Row],[Kapitaalgoederen B1]],RWS_[Environmental Profile],RWS_[Fuctional Unit],\"\",0)","v":"tkm"},{"$nulls":16},"Verbrandingsmotor","HVO","ton",19800,1.0328638497652582,68.038327681599128,1.1500185382988374E-3]
["Transportschip Zout","Schip","TS-Zout","Kapitaalgoederen","*RWS Kapitaalgoederen Transport Zout (o.b.v. Transport, freight, sea, bulk carrier for dry goods {GLO}| transport, freight, sea, bulk carrier for dry goods | Cut-off, U) (inlcuisef reD)",{"$f":"_xlfn.XLOOKUP(Capital_Short[[#This Row],[Kapitaalgoederen B1]],RWS_[Environmental Profile],RWS_[Fuctional Unit],\"\",0)","v":"tkm"},{"$nulls":16},"Verbrandingsmotor","FAME","ton",16740.000000000004,0.87323943661971848,57.523313403533813,9.7228840056174455E-4]
["Verbrandingsmotor","Motor","VM","Kapitaalgoederen","*RWS Kapitaalgoederen Verbrandingsmotor (1000 kg o.b.v. Marine engine {GLO}| marine engine construction | Cut-off, U) (inlcusief reD)",{"$f":"_xlfn.XLOOKUP(Capital_Short[[#This Row],[Kapitaalgoederen B1]],RWS_[Environmental Profile],RWS_[Fuctional Unit],\"\",0)","v":"ton"},{"$nulls":16},"Verbrandingsmotor","Ammoniak","ton",8370.0000000000018,0.43661971830985924,28.761656701766906,4.8614420028087228E-4]
[{"$nulls":22},"Verbrandingsmotor","Waterstof","ton",54000,2.816901408450704,185.55907549527035,3.1364141953604653E-3]
[{"$nulls":22},"Verbrandingsmotor","Methanol (Fossiel)","ton",8955,0.46713615023474181,15.385940009816165,5.2012202073061051E-4]
[{"$nulls":22},"Verbrandingsmotor","Methanol (Biogeen)","ton",8955,0.46713615023474181,15.385940009816165,5.2012202073061051E-4]
[{"$nulls":22},"Brandstofcel","Ammoniak","ton",{"$f":"18600*0.47","v":8742},0.45602503912363068,0,4.5697554826401983E-4]
["Drop Down 1 Energiedragers - Zeevaart & Binnenvaart",{"$nulls":21},"Brandstofcel","Waterstof","ton",{"$f":"120000*0.47","v":56400},2.9420970266040687,0,2.9482293436388376E-3]
[{"$nulls":22},"Brandstofcel","Methanol (Fossiel)","ton",{"$f":"19900*0.47","v":9353},0.48789775691184134,0,4.8891469948677386E-4]
["Zeevaart","Binnenvaart",{"$nulls":20},"Brandstofcel","Methanol (Biogeen)","ton",{"$f":"19900*0.47","v":9353},0.48789775691184134,0,4.8891469948677386E-4]
["Ammoniak","Bio-CNG",{"$nulls":20},"Elektromotor","Elektriciteit","kWh"]
["Bio-CNG","Bio-LNG"]
["Bio-LNG","CNG"]
["CNG","Diesel (ULSD)"]
["Diesel (ULSD)","FAME"]
["FAME","GTL"]
["HFO","HVO"]
["HVO","LNG",{"$nulls":20},"Type Motor","Energiedrager","FU","MJ Arbeid (Geleverd)","AfKap Casco","AdBlue (A1-A3) - Zoet","VM / EA Zoet"]
["LNG","Methanol (Fossiel)",{"$nulls":20},"Verbrandingsmotor","Diesel (ULSD)","ton",17240,1,66.646634615384613,1.5748031496062992E-3]
["Methanol (Fossiel)","Methanol (Biogeen)",{"$nulls":20},"Verbrandingsmotor","HFO","ton",16200,0.93967517401392087,62.626187979653743,1.47980342364397E-3]
["Methanol (Biogeen)","Waterstof",{"$nulls":20},"Verbrandingsmotor","GTL","ton",17600,1.0208816705336425,68.038327681599128,1.6076876701317205E-3]
["MGO","Elektriciteit",{"$nulls":20},"Verbrandingsmotor","MGO","ton",17040,0.98839907192575405,65.87347180082098,1.5565339715366206E-3]
["Waterstof",{"$nulls":21},"Verbrandingsmotor","LNG","ton",19600,1.1368909512761018,75.769955827235393,1.7903794508285068E-3]
[{"$nulls":22},"Verbrandingsmotor","Bio-LNG","ton",19600,1.1368909512761018,75.769955827235393,1.7903794508285068E-3]
[{"$nulls":22},"Verbrandingsmotor","CNG","ton",18520,1.0742459396751738,71.594876628591805,1.691725889252242E-3]
[{"$nulls":22},"Verbrandingsmotor","Bio-CNG","ton",18520,1.0742459396751738,71.594876628591805,1.691725889252242E-3]
[{"$nulls":22},"Verbrandingsmotor","HVO","ton",17600,1.0208816705336425,68.038327681599128,1.6076876701317205E-3]
[{"$nulls":22},"Verbrandingsmotor","FAME","ton",14880,0.86310904872389782,57.523313403533813,1.3592268483840909E-3]
[{"$nulls":22},"Verbrandingsmotor","Ammoniak","ton",7440,0.43155452436194891,28.761656701766906,6.7961342419204545E-4]
[{"$nulls":22},"Verbrandingsmotor","Waterstof","ton",48000,2.7842227378190247,185.55907549527035,4.3846027367228733E-3]
["Drop Down 2 Verdieping Energiedrager",{"$nulls":21},"Verbrandingsmotor","Methanol (Fossiel)","ton",7960,0.46171693735498831,15.385940009816165,7.2711328717320984E-4]
[{"$nulls":22},"Verbrandingsmotor","Methanol (Biogeen)","ton",7960,0.46171693735498831,15.385940009816165,7.2711328717320984E-4]
["Ammoniak","Bio-CNG","Bio-LNG","Methanol (Biogeen)","CNG","LNG","Diesel (ULSD)","FAME","GTL","HFO","HVO",null,null,null,"Methanol (Fossiel)","MGO","Waterstof",null,null,"Elektriciteit",null,null,"Brandstofcel","Ammoniak","ton",{"$f":"18600*0.47","v":8742},0.50707656612528995,0,7.1869119608308806E-4]
["Ammoniak, Grijs","Bio CNG, Algemeen","Bio-LNG, Algemeen","Bio-Methanol","CNG, Algemeen","LNG, Algemeen","Diesel, Algemeen","FAME, Algemeen","GTL, Algemeen","HFO, Algemeen","HVO, Algemeen",null,null,null,"Methanol, Grijs","MGO, Algemeen","Waterstof, Gas, Electrolyse, Grijze Mix",null,null,"Elektriciteit, Grijs",null,null,"Brandstofcel","Waterstof","ton",{"$f":"120000*0.47","v":56400},3.2714617169373543,0,4.6367173940844398E-3]
["Ammoniak, Synthetisch (H2 wind mix)",null,null,"E-Methanol (Biogene CO2, H2 wind mix)",{"$nulls":10},"E-Methanol (Fossiele CO2, H2 wind mix)",null,"Waterstof, Gas, Electrolyse, Groene Mix",null,null,"Elektriciteit, Groen",null,null,"Brandstofcel","Methanol (Fossiel)","ton",{"$f":"19900*0.47","v":9353},0.54251740139211113,0,7.689223011856694E-4]
[{"$nulls":16},"Waterstof, Gas, Electrolyse, Wind Mix",null,null,"Elektriciteit, Wind Land",null,null,"Brandstofcel","Methanol (Biogeen)","ton",{"$f":"19900*0.47","v":9353},0.54251740139211113,0,7.689223011856694E-4]
[{"$nulls":16},"Waterstof, Gas, SMR, Grijze Mix",null,null,"Elektriciteit, Wind Zee",null,null,"Elektromotor","Elektriciteit","kWh",2.754,1.5974477958236656E-4,0,2.2640992381752741E-7]
[{"$nulls":16},"Waterstof, Gas, SMR, Groene Mix",null,null,"Elektriciteit, Wind Mix (37% Zee, 63% Land)"]
[{"$nulls":16},"Waterstof, Vloeibaar, Electrolyse, Grijze Mix"]
[{"$nulls":16},"Waterstof, Vloeibaar, Electrolyse, Groene Mix"]
[{"$nulls":16},"Waterstof, Vloeibaar, Electrolyse, Wind Mix"]
[{"$nulls":16},"Waterstof, Vloeibaar, SMR, Grijze Mix"]
[{"$nulls":16},"Waterstof, Vloeibaar, SMR, Groene Mix"]
[]
[]
["Drop Down 3 Classificatie Motor"]
[]
["Zeevaart","Binnenvaart"]
["Pre Tier I","CCR 0 / Unspecified"]
["TIER I / II","CCR I"]
["TIER III","CCR II"]
["TIER II / III / ULEV","Stage V"]
["ULEV (Stage V IWP/IWA)","Elektrisch"]
["Elektrisch"]
[]
[]
["Zeevaart"]
["Ammoniak","Bio-CNG","Bio-LNG","Methanol (Biogeen)","CNG","LNG","Diesel (ULSD)","FAME","GTL","HFO","HVO",null,null,null,"Methanol (Fossiel)","MGO","Waterstof",null,null,"Elektriciteit"]
["TIER III","TIER II / III / ULEV","TIER II / III / ULEV","TIER III","TIER II / III / ULEV","TIER II / III / ULEV","Pre Tier I","Pre Tier I","ULEV (Stage V IWP/IWA)","Pre Tier I","Pre Tier I",null,null,null,"TIER III","Pre Tier I","TIER III",null,null,"Elektromotor"]
["ULEV (Stage V IWP/IWA)",null,null,"ULEV (Stage V IWP/IWA)",null,null,"TIER I / II","TIER I / II",null,"TIER I / II","TIER I / II",null,null,null,"ULEV (Stage V IWP/IWA)","TIER I / II","ULEV (Stage V IWP/IWA)"]
["Brandstofcel",null,null,"Brandstofcel",null,null,"TIER III","TIER III",null,"TIER III","TIER III",null,null,null,"Brandstofcel","TIER III","Brandstofcel"]
[{"$nulls":6},"ULEV (Stage V IWP/IWA)","ULEV (Stage V IWP/IWA)",null,"ULEV (Stage V IWP/IWA)","ULEV (Stage V IWP/IWA)",{"$nulls":4},"ULEV (Stage V IWP/IWA)"]
[]
[]
[]
["Binnenvaart"]
["Ammoniak","Bio-CNG","Bio-LNG","Methanol (Biogeen)","CNG","LNG","Diesel (ULSD)","FAME","GTL","HFO","HVO",null,null,null,"Methanol (Fossiel)","MGO","Waterstof",null,null,"Elektriciteit"]
["N.v.t.","CCR II","CCR II","Stage V IWP/IWA","CCR II","CCR II","CCR 0 / Unspecified","CCR 0 / Unspecified","CCR 0 / Unspecified","N.v.t.","CCR 0 / Unspecified",null,null,null,"Stage V IWP/IWA","N.v.t.","Stage V IWP/IWA",null,null,"Elektromotor"]
[null,"Stage V IWP/IWA","Stage V IWP/IWA","Stage V NRE","Stage V IWP/IWA","Stage V IWP/IWA","CCR I","CCR I","CCR I",null,"CCR I",null,null,null,"Stage V NRE",null,"Stage V NRE"]
[null,"Stage V NRE","Stage V NRE","Brandstofcel","Stage V NRE","Stage V NRE","CCR II","CCR II","CCR II",null,"CCR II",null,null,null,"Brandstofcel",null,"Brandstofcel"]
[{"$nulls":6},"Stage V IWP/IWA","Stage V IWP/IWA","Stage V IWP/IWA",null,"Stage V IWP/IWA"]
[{"$nulls":6},"Stage V NRE","Stage V NRE","Stage V NRE",null,"Stage V NRE"]
{"$rows_empty":7}
["Division",null,"Modules",null,"Toepassing",null,"Zeevaart","Binnenvaart",null,"Type Motor"]
["Energiedragers",null,"A1",null,"Binnenvaart",null,"Unspecified","Unspecified",null,"Brandstof"]
["Gebruiksprofiel",null,"A2",null,"Zeevaart",null,"Pre Tier I","CCR I",null,"Elektrisch"]
["Kapitaalgoederen",null,"A3",null,null,null,"TIER I","CCR II"]
["Other",null,"A4",null,null,null,"TIER II","Stage V"]
[null,null,"A5",null,null,null,"TIER III","Elektrisch"]
[null,null,"A1-A3",null,null,null,"Elektrisch"]
[null,null,"A1-A4"]
["MotCel",null,"B1"]
["Brandstofcel",null,"B2"]
["Verbrandingsmotor",null,"B3"]
["Elektromotor",null,"B4"]
["Other",null,"B5"]
[null,null,"B6"]
[null,null,"B7"]
[null,null,"C1"]
[null,null,"C2"]
[null,null,"C3"]
[null,null,"C4"]
[null,null,"D"]
[]
["MotCel2"]
["Brandstofcel"]
["CCR II"]
["CCR 0 / Unspecified"]
["CCR I"]
["Elektromotor"]
["Other"]
["Pre Tier I"]
["Stage V IWP/IWA"]
["Stage V NRE"]
["TIER I / II"]
["TIER III"]
["TIER II / III / ULEV"]
["ULEV (Stage V IWP/IWA)"]

{"sheet":"PM_NOx","index":12,"n_rows":66,"n_cols":28,"rows_kept":66,"cut":false,"hidden":true,"merged":[]}
[]
["PM Emissies"]
[]
[]
["PM","Ammoniak","Bio-CNG","Bio-LNG","CNG","LNG","Diesel (ULSD)","Elektriciteit","FAME","GTL","HFO","HVO","Methanol (Fossiel)","Methanol (Biogeen)","MGO","Waterstof"]
["CCR 0 / Unspecified",{"$nulls":5},0.6,null,0.54,0.51,null,0.54]
["CCR I",{"$nulls":5},0.3,null,0.27,0.255,null,0.27]
["CCR II",null,0.02,0.02,0.02,0.02,0.2,null,0.18,0.17,null,0.18]
["Stage V IWP/IWA",null,0.02,0.02,0.02,0.02,0.03,null,0.03,0.03,null,0.03,1.4999999999999999E-2,1.4999999999999999E-2,null,0.03]
["Stage V NRE",null,0.02,0.02,0.02,0.02,0.03,null,0.03,0.03,null,0.03,1.4999999999999999E-2,1.4999999999999999E-2,null,0.03]
["Pre Tier I",{"$nulls":5},0.28999999999999998,null,0.26100000000000001,null,0.74,0.26100000000000001,null,null,0.28999999999999998]
["ULEV (Stage V IWP/IWA)",0.03,{"$nulls":4},0.03,null,0.03,0.03,0.03,0.03,1.4999999999999999E-2,1.4999999999999999E-2,0.03,0.03]
["TIER I / II",{"$nulls":5},0.24,null,0.216,null,0.74,0.216,null,null,0.24]
["TIER III",0,{"$nulls":4},0.24,null,0.216,null,0.74,0.216,3.4000000000000002E-2,3.4000000000000002E-2,0.24,0]
["TIER II / III / ULEV",null,0.02,0.02,0.02,0.02]
["Brandstofcel",0,{"$nulls":10},0,0,null,0]
["Elektromotor",{"$nulls":6},0]
[]
[]
[]
[]
["NOx Emissies"]
[]
[]
[]
[]
[]
["NOx","Ammoniak","Bio-CNG","Bio-LNG","CNG","LNG","Diesel (ULSD)","Elektriciteit","FAME","GTL","HFO","HVO","Methanol (Fossiel)","Methanol (Biogeen)","MGO","Waterstof"]
["CCR 0 / Unspecified",{"$nulls":5},10.1,null,10.1,9.09,null,10.1]
["CCR I",{"$nulls":5},9.1999999999999993,null,9.1999999999999993,8.2799999999999994,null,9.1999999999999993]
["CCR II",null,1.9,1.9,1.9,1.9,7,null,7,6.3,null,7]
["Stage V IWP/IWA",null,1.9,1.9,1.9,1.9,3.61,null,3.61,3.61,null,3.61,3.61,3.61,null,3.61]
["Stage V NRE",null,1.38,1.38,1.38,1.38,1.38,null,1.38,1.38,null,1.38,1.38,1.38,null,1.38]
["Pre Tier I",{"$nulls":5},14,null,15.7,null,14,14,null,null,14]
["ULEV (Stage V IWP/IWA)",3.61,{"$nulls":4},3.61,null,3.61,3.61,3.61,3.61,3.61,3.61,3.61,3.61]
["TIER I / II",{"$nulls":5},10,null,11.2,null,10,10,null,null,10]
["TIER III",2.9,{"$nulls":4},2.9,null,2.9,null,2.9,2.9,2.9,2.9,2.9,2.9]
["TIER II / III / ULEV",null,1.9,1.9,1.9,1.9]
["Brandstofcel",0,{"$nulls":10},0,0,null,0]
["Elektromotor",{"$nulls":6},0]
[]
[]
[]
["Accu & Brandstofcel"]
[]
["Brandstof","Accu","Brandstofcel Zout","Brandstofcel Zoet"]
["Ammoniak",1.3490740740740743,0.9817352366655111,{"$f":"AccBC_[[#This Row],[Brandstofcel Zout]]","v":0.9817352366655111}]
["Waterstof",8.7037037037037042,6.3337757204226524,{"$f":"AccBC_[[#This Row],[Brandstofcel Zout]]","v":6.3337757204226524}]
["Methanol (Fossiel)",1.4433641975308642,1.0503511403034229,{"$f":"AccBC_[[#This Row],[Brandstofcel Zout]]","v":1.0503511403034229},{"$nulls":23},"Classificatie"]
["Methanol (Biogeen)",1.4433641975308642,1.0503511403034229,{"$f":"AccBC_[[#This Row],[Brandstofcel Zout]]","v":1.0503511403034229},{"$nulls":23},"Brandstofcel"]
["Elektriciteit",5.0000000000000001E-4,0,0,{"$nulls":23},"CCR II"]
[{"$nulls":27},"CCR 0"]
[{"$nulls":27},"CCR I"]
[{"$nulls":27},"Elektromotor"]
[{"$nulls":27},"Pre Tier I"]
[{"$nulls":27},"Stage V"]
[{"$nulls":27},"TIER I"]
["Emissie Calculaties",{"$nulls":26},"TIER II"]
[]
[]
["Standaard","Milieuprofiel 1","Milieuprofiel 2","Milieuprofiel 3","Milieuprofiel 4","Milieuprofiel 5"]
["NOx Emissies (in kg) - Standaard",{"$f":"(IFERROR(_xlfn.XLOOKUP(Invoerblad!D$44,NOx_Tab2[[#Headers],[Ammoniak]:[Waterstof]],(_xlfn.XLOOKUP(Invoerblad!D$46,NOx_Tab2[NOx],NOx_Tab2[[Ammoniak]:[Waterstof]],\"Not Found\",0))/3.6/1000*Invoerblad!D$57,\"Not Found\",0),\"\"))","v":19.448875000000001},{"$f":"(IFERROR(_xlfn.XLOOKUP(Invoerblad!E$44,NOx_Tab2[[#Headers],[Ammoniak]:[Waterstof]],(_xlfn.XLOOKUP(Invoerblad!E$46,NOx_Tab2[NOx],NOx_Tab2[[Ammoniak]:[Waterstof]],\"Not Found\",0))/3.6/1000*Invoerblad!E$57,\"Not Found\",0),\"\"))","v":""},{"$f":"(IFERROR(_xlfn.XLOOKUP(Invoerblad!F$44,NOx_Tab2[[#Headers],[Ammoniak]:[Waterstof]],(_xlfn.XLOOKUP(Invoerblad!F$46,NOx_Tab2[NOx],NOx_Tab2[[Ammoniak]:[Waterstof]],\"Not Found\",0))/3.6/1000*Invoerblad!F$57,\"Not Found\",0),\"\"))","v":""},{"$f":"(IFERROR(_xlfn.XLOOKUP(Invoerblad!G$44,NOx_Tab2[[#Headers],[Ammoniak]:[Waterstof]],(_xlfn.XLOOKUP(Invoerblad!G$46,NOx_Tab2[NOx],NOx_Tab2[[Ammoniak]:[Waterstof]],\"Not Found\",0))/3.6/1000*Invoerblad!G$57,\"Not Found\",0),\"\"))","v":""},{"$f":"(IFERROR(_xlfn.XLOOKUP(Invoerblad!H$44,NOx_Tab2[[#Headers],[Ammoniak]:[Waterstof]],(_xlfn.XLOOKUP(Invoerblad!H$46,NOx_Tab2[NOx],NOx_Tab2[[Ammoniak]:[Waterstof]],\"Not Found\",0))/3.6/1000*Invoerblad!H$57,\"Not Found\",0),\"\"))","v":""}]
["PM Emissies (in kg) - Standaard",{"$f":"IFERROR(_xlfn.XLOOKUP(Invoerblad!D$44,PM_Tab2[[#Headers],[Ammoniak]:[Waterstof]],(_xlfn.XLOOKUP(Invoerblad!D$46,PM_Tab2[PM],PM_Tab2[[Ammoniak]:[Waterstof]],\"Not Found\",0))/3.6/1000*Invoerblad!D$57,\"Not Found\",0),\"\")","v":0.16162500000000002},{"$f":"IFERROR(_xlfn.XLOOKUP(Invoerblad!E$44,PM_Tab2[[#Headers],[Ammoniak]:[Waterstof]],(_xlfn.XLOOKUP(Invoerblad!E$46,PM_Tab2[PM],PM_Tab2[[Ammoniak]:[Waterstof]],\"Not Found\",0))/3.6/1000*Invoerblad!E$57,\"Not Found\",0),\"\")","v":""},{"$f":"IFERROR(_xlfn.XLOOKUP(Invoerblad!F$44,PM_Tab2[[#Headers],[Ammoniak]:[Waterstof]],(_xlfn.XLOOKUP(Invoerblad!F$46,PM_Tab2[PM],PM_Tab2[[Ammoniak]:[Waterstof]],\"Not Found\",0))/3.6/1000*Invoerblad!F$57,\"Not Found\",0),\"\")","v":""},{"$f":"IFERROR(_xlfn.XLOOKUP(Invoerblad!G$44,PM_Tab2[[#Headers],[Ammoniak]:[Waterstof]],(_xlfn.XLOOKUP(Invoerblad!G$46,PM_Tab2[PM],PM_Tab2[[Ammoniak]:[Waterstof]],\"Not Found\",0))/3.6/1000*Invoerblad!G$57,\"Not Found\",0),\"\")","v":""},{"$f":"IFERROR(_xlfn.XLOOKUP(Invoerblad!H$44,PM_Tab2[[#Headers],[Ammoniak]:[Waterstof]],(_xlfn.XLOOKUP(Invoerblad!H$46,PM_Tab2[PM],PM_Tab2[[Ammoniak]:[Waterstof]],\"Not Found\",0))/3.6/1000*Invoerblad!H$57,\"Not Found\",0),\"\")","v":""}]
["Overschreven","Milieuprofiel 1","Milieuprofiel 2","Milieuprofiel 3","Milieuprofiel 4","Milieuprofiel 5"]
["NOx Emissies (in kg) - Overschreven",{"$f":"IFERROR(Invoerblad!D68/3.6/1000*Invoerblad!D$57,0)","v":0},{"$f":"IFERROR(Invoerblad!E68/3.6/1000*Invoerblad!E$57,0)","v":0},{"$f":"IFERROR(Invoerblad!F68/3.6/1000*Invoerblad!F$57,0)","v":0},{"$f":"IFERROR(Invoerblad!G68/3.6/1000*Invoerblad!G$57,0)","v":0},{"$f":"IFERROR(Invoerblad!H68/3.6/1000*Invoerblad!H$57,0)","v":0}]
["PM Emissies (in kg) - Overschreven",{"$f":"IFERROR(Invoerblad!D69/3.6/1000*Invoerblad!D$57,0)","v":0},{"$f":"IFERROR(Invoerblad!E69/3.6/1000*Invoerblad!E$57,0)","v":0},{"$f":"IFERROR(Invoerblad!F69/3.6/1000*Invoerblad!F$57,0)","v":0},{"$f":"IFERROR(Invoerblad!G69/3.6/1000*Invoerblad!G$57,0)","v":0},{"$f":"IFERROR(Invoerblad!H69/3.6/1000*Invoerblad!H$57,0)","v":0}]

{"sheet":"Liters","index":13,"n_rows":110,"n_cols":18,"rows_kept":110,"cut":false,"hidden":true,"merged":[]}
{"$rows_empty":31}
[{"$nulls":12},"Aandrijv","Energiedrager","m3/ton","MJ (input per kg)","ton/m3","m3/ton"]
[{"$nulls":12},"ing"]
[{"$nulls":12},"Verbrandingsmotor","Diesel",1.2019230769230769,43.1,0.83199999999999996,{"$f":"1/Q34","v":1.2019230769230769}]
[{"$nulls":13},"HFO",1.0526315789473684,40.5,0.95,1.0526315789473684]
[{"$nulls":13},"GTL",1.2820512820512819,44,0.78,1.2820512820512819]
[{"$nulls":13},"MGO",1.1764705882352942,42.6,0.85,1.1764705882352942]
[{"$nulls":13},"LNG",2.3364485981308412,49,0.42799999999999999,2.3364485981308412]
[{"$nulls":13},"Bio-LNG",2.3364485981308412,49,0.42799999999999999,2.3364485981308412]
[{"$nulls":13},"CNG",4.6511627906976747,46.3,0.215,4.6511627906976747]
[{"$nulls":13},"Bio-CNG",4.6511627906976747,46.3,0.215,4.6511627906976747]
[{"$nulls":13},"HVO",1.2820512820512819,44,0.78,1.2820512820512819]
[{"$nulls":13},"FAME",1.1235955056179776,37.200000000000003,0.89,1.1235955056179776]
[{"$nulls":13},"Ammoniak",1.4664906877841326,18.600000000000001,0.68189999999999995,1.4664906877841326]
[{"$nulls":13},"Waterstof  Vloeibaar",14.114326040931546,120,7.0849999999999996E-2,14.114326040931546]
[{"$nulls":13},"Waterstof  Gas",25.641025641025642,120,3.9E-2,25.641025641025642]
[{"$nulls":13},"Methanol",1.2658227848101264,19.899999999999999,0.79,1.2658227848101264]
[{"$nulls":12},"Brandstofcel","Ammoniak",1.4664906877841326,18.600000000000001,0.68189999999999995,1.4664906877841326]
[{"$nulls":13},"Waterstof  Vloeibaar",14.114326040931546,120,7.0849999999999996E-2,14.114326040931546]
[{"$nulls":13},"Waterstof  Gas",25.641025641025642,120,3.9E-2,25.641025641025642]
[{"$nulls":13},"Methanol",1.2658227848101264,19.899999999999999,0.79,1.2658227848101264]
[{"$nulls":12}," Accu elektrisch","Elektrisch","kWh (input)",3.6,"-"]
{"$rows_empty":27}
[null,null,null,"Brandstof","liter/ton"]
[null,null,null,"Ammoniak, Grijs",1466.4906877841327]
[null,null,null,"Ammoniak, Synthetisch",1466.4906877841327]
[null,null,null,"Bio CNG, Algemeen",4651.1627906976746]
[null,null,null,"Bio-LNG, Algemeen",2336.4485981308412]
[null,null,null,"Methanol, Bio",1265.8227848101264]
[null,null,null,"CNG, Algemeen",4651.1627906976746]
[null,null,null,"LNG, Algemeen",2336.4485981308412]
[null,null,null,"Diesel, Algemeen",1201.9230769230769]
[null,null,null,"FAME, Algemeen",1123.5955056179776]
[null,null,null,"GTL, Algemeen",1282.051282051282]
[null,null,null,"HFO, Algemeen",1052.6315789473683]
[null,null,null,"HVO, Algemeen",1282.051282051282]
[null,null,null,"Methanol, Grijs",1265.8227848101264]
[null,null,null,"E-Methanol",1265.8227848101264]
[null,null,null,"MGO, Algemeen",1176.4705882352941]
[null,null,null,"Waterstof, Gas, Electrolyse, Grijze Mix",25641.025641025641]
[null,null,null,"Waterstof, Gas, Electrolyse, Groene Mix",25641.025641025641]
[null,null,null,"Waterstof, Gas, Electrolyse, Wind Mix",25641.025641025641]
[null,null,null,"Waterstof, Gas, SMR, Grijze Mix",25641.025641025641]
[null,null,null,"Waterstof, Gas, SMR, Groene Mix",25641.025641025641]
[null,null,null,"Waterstof, Vloeibaar, Electrolyse, Grijze Mix",14114.326040931546]
[null,null,null,"Waterstof, Vloeibaar, Electrolyse, Groene Mix",14114.326040931546]
[null,null,null,"Waterstof, Vloeibaar, Electrolyse, Wind Mix",14114.326040931546]
[null,null,null,"Waterstof, Vloeibaar, SMR, Grijze Mix",14114.326040931546]
[null,null,null,"Waterstof, Vloeibaar, SMR, Groene Mix",14114.326040931546]
[null,null,null,"Elektriciteit, Grijs","n.v.t."]
[null,null,null,"Elektriciteit, Groen","n.v.t."]
[null,null,null,"Elektriciteit, Wind Land","n.v.t."]
[null,null,null,"Elektriciteit, Wind Zee","n.v.t."]
[null,null,null,"Elektriciteit, Wind Mix (37% Zee, 63% Land)","n.v.t."]

{"sheet":"Modellering","index":14,"n_rows":98,"n_cols":60,"rows_kept":98,"cut":false,"hidden":true,"merged":[]}
[]
[]
[null,null,"Milieuprofiel Motor 1",{"$f":"Invoerblad!D43","v":"Milieuprofiel 1"}]
[]
[null,null,"Onderdeel","Verdieping","Module","Milieuprofiel","Name Short","Eenheid","Hoeveelheid",null,"ECI-A1","ECI-A2","ADPE","ADPF","GWP1","ODP1","POCP","AP","EP","HTP","FAETP","MAETP","TETP","GWP2","GWP-F","GWP-B","GWP-L","ODP2","AP2","EP-FW","EP-M","EP-T","POCP2","ADP-MM","ADP-F","WDP","PM","IR","ETP-FW","HTP-C","HTP-NC","SQP","PERE","PERM","PERT","PENRE","PENRM","PENRT","SM","SF-R","SF-NR","FW","HWD","NHWD","RWD","CRU","MFR","MER","EE-E","EE-T"]
[null,null,"Energiedragers","Winning Energiedrager","A1-A3",{"$f":"_xlfn.XLOOKUP(Invoerblad!$D$45,Fuel_Short[Brandstof],Fuel_Short[Winning Energiedrager A1-A3],\"Not Found\",0)","v":"*RWS Energiedrager Diesel (ULSD) A1-A3 (markt mix TNO) (o.b.v. Diesel, low-sulfur {Europe without Switzerland}| diesel production, low-sulfur, petroleum refinery operation | Cut-off, U)"},{"$f":"_xlfn.XLOOKUP(F6:F17,RWS_[Environmental Profile],RWS_[Result Name],\"\",0)","v":"Diesel"},{"$f":"_xlfn.XLOOKUP(F6:F17,RWS_[Environmental Profile],RWS_[Fuctional Unit],\"Not Found\",0)","v":"ton"},1,null,{"$f":"IFERROR(_xlfn.XLOOKUP($F6,RWS_[[Environmental Profile]:[Environmental Profile]],RWS_[ECI-A1],\"Not Found\",0)*Modellering!$I6,0)","v":96.92313963290799},{"$f":"IFERROR(_xlfn.XLOOKUP($F6,RWS_[[Environmental Profile]:[Environmental Profile]],RWS_[ECI-A2],\"Not Found\",0)*Modellering!$I6,0)","v":135.33298117415166},{"$f":"IFERROR(_xlfn.XLOOKUP($F6,RWS_[[Environmental Profile]:[Environmental Profile]],RWS_[ADPE],\"Not Found\",0)*Modellering!$I6,0)","v":1.5020838E-3},{"$f":"IFERROR(_xlfn.XLOOKUP($F6,RWS_[[Environmental Profile]:[Environmental Profile]],RWS_[ADPF],\"Not Found\",0)*Modellering!$I6,0)","v":25.191085000000001},{"$f":"IFERROR(_xlfn.XLOOKUP($F6,RWS_[[Environmental Profile]:[Environmental Profile]],RWS_[GWP1],\"Not Found\",0)*Modellering!$I6,0)","v":581.08191999999997},{"$f":"IFERROR(_xlfn.XLOOKUP($F6,RWS_[[Environmental Profile]:[Environmental Profile]],RWS_[ODP1],\"Not Found\",0)*Modellering!$I6,0)","v":6.1122053000000004E-4},{"$f":"IFERROR(_xlfn.XLOOKUP($F6,RWS_[[Environmental Profile]:[Environmental Profile]],RWS_[POCP],\"Not Found\",0)*Modellering!$I6,0)","v":0.89344182999999999},{"$f":"IFERROR(_xlfn.XLOOKUP($F6,RWS_[[Environmental Profile]:[Environmental Profile]],RWS_[AP],\"Not Found\",0)*Modellering!$I6,0)","v":4.9203210999999998},{"$f":"IFERROR(_xlfn.XLOOKUP($F6,RWS_[[Environmental Profile]:[Environmental Profile]],RWS_[EP],\"Not Found\",0)*Modellering!$I6,0)","v":0.65705670999999999},{"$f":"IFERROR(_xlfn.XLOOKUP($F6,RWS_[[Environmental Profile]:[Environmental Profile]],RWS_[HTP],\"Not Found\",0)*Modellering!$I6,0)","v":329.95037000000002},{"$f":"IFERROR(_xlfn.XLOOKUP($F6,RWS_[[Environmental Profile]:[Environmental Profile]],RWS_[FAETP],\"Not Found\",0)*Modellering!$I6,0)","v":13.896025},{"$f":"IFERROR(_xlfn.XLOOKUP($F6,RWS_[[Environmental Profile]:[Environmental Profile]],RWS_[MAETP],\"Not Found\",0)*Modellering!$I6,0)","v":62759.277999999998},{"$f":"IFERROR(_xlfn.XLOOKUP($F6,RWS_[[Environmental Profile]:[Environmental Profile]],RWS_[TETP],\"Not Found\",0)*Modellering!$I6,0)","v":0.83121305999999995},{"$f":"IFERROR(_xlfn.XLOOKUP($F6,RWS_[[Environmental Profile]:[Environmental Profile]],RWS_[GWP2],\"Not Found\",0)*Modellering!$I6,0)","v":711.17328999999995},{"$f":"IFERROR(_xlfn.XLOOKUP($F6,RWS_[[Environmental Profile]:[Environmental Profile]],RWS_[GWP-F],\"Not Found\",0)*Modellering!$I6,0)","v":709.91552000000001},{"$f":"IFERROR(_xlfn.XLOOKUP($F6,RWS_[[Environmental Profile]:[Environmental Profile]],RWS_[GWP-B],\"Not Found\",0)*Modellering!$I6,0)","v":1.0909289},{"$f":"IFERROR(_xlfn.XLOOKUP($F6,RWS_[[Environmental Profile]:[Environmental Profile]],RWS_[GWP-L],\"Not Found\",0)*Modellering!$I6,0)","v":0.16684117000000001},{"$f":"IFERROR(_xlfn.XLOOKUP($F6,RWS_[[Environmental Profile]:[Environmental Profile]],RWS_[ODP2],\"Not Found\",0)*Modellering!$I6,0)","v":3.6979952000000001E-4},{"$f":"IFERROR(_xlfn.XLOOKUP($F6,RWS_[[Environmental Profile]:[Environmental Profile]],RWS_[AP2],\"Not Found\",0)*Modellering!$I6,0)","v":3.8227392},{"$f":"IFERROR(_xlfn.XLOOKUP($F6,RWS_[[Environmental Profile]:[Environmental Profile]],RWS_[EP-FW],\"Not Found\",0)*Modellering!$I6,0)","v":4.9505308999999997E-3},{"$f":"IFERROR(_xlfn.XLOOKUP($F6,RWS_[[Environmental Profile]:[Environmental Profile]],RWS_[EP-M],\"Not Found\",0)*Modellering!$I6,0)","v":0.66861837000000002},{"$f":"IFERROR(_xlfn.XLOOKUP($F6,RWS_[[Environmental Profile]:[Environmental Profile]],RWS_[EP-T],\"Not Found\",0)*Modellering!$I6,0)","v":5.9716078000000001},{"$f":"IFERROR(_xlfn.XLOOKUP($F6,RWS_[[Environmental Profile]:[Environmental Profile]],RWS_[POCP2],\"Not Found\",0)*Modellering!$I6,0)","v":4.8736362},{"$f":"IFERROR(_xlfn.XLOOKUP($F6,RWS_[[Environmental Profile]:[Environmental Profile]],RWS_[ADP-MM],\"Not Found\",0)*Modellering!$I6,0)","v":4.7333217E-4},{"$f":"IFERROR(_xlfn.XLOOKUP($F6,RWS_[[Environmental Profile]:[Environmental Profile]],RWS_[ADP-F],\"Not Found\",0)*Modellering!$I6,0)","v":53950.824999999997},{"$f":"IFERROR(_xlfn.XLOOKUP($F6,RWS_[[Environmental Profile]:[Environmental Profile]],RWS_[WDP],\"Not Found\",0)*Modellering!$I6,0)","v":56.286002000000003},{"$f":"IFERROR(_xlfn.XLOOKUP($F6,RWS_[[Environmental Profile]:[Environmental Profile]],RWS_[PM],\"Not Found\",0)*Modellering!$I6,0)","v":3.5139235E-5},{"$f":"IFERROR(_xlfn.XLOOKUP($F6,RWS_[[Environmental Profile]:[Environmental Profile]],RWS_[IR],\"Not Found\",0)*Modellering!$I6,0)","v":8.9450947000000003},{"$f":"IFERROR(_xlfn.XLOOKUP($F6,RWS_[[Environmental Profile]:[Environmental Profile]],RWS_[ETP-FW],\"Not Found\",0)*Modellering!$I6,0)","v":15926.173000000001},{"$f":"IFERROR(_xlfn.XLOOKUP($F6,RWS_[[Environmental Profile]:[Environmental Profile]],RWS_[HTP-C],\"Not Found\",0)*Modellering!$I6,0)","v":2.6861203000000003E-7},{"$f":"IFERROR(_xlfn.XLOOKUP($F6,RWS_[[Environmental Profile]:[Environmental Profile]],RWS_[HTP-NC],\"Not Found\",0)*Modellering!$I6,0)","v":4.9947016999999996E-6},{"$f":"IFERROR(_xlfn.XLOOKUP($F6,RWS_[[Environmental Profile]:[Environmental Profile]],RWS_[SQP],\"Not Found\",0)*Modellering!$I6,0)","v":1021.9279},{"$f":"IFERROR(_xlfn.XLOOKUP($F6,RWS_[[Environmental Profile]:[Environmental Profile]],RWS_[PERE],\"Not Found\",0)*Modellering!$I6,0)","v":0},{"$f":"IFERROR(_xlfn.XLOOKUP($F6,RWS_[[Environmental Profile]:[Environmental Profile]],RWS_[PERM],\"Not Found\",0)*Modellering!$I6,0)","v":0},{"$f":"IFERROR(_xlfn.XLOOKUP($F6,RWS_[[Environmental Profile]:[Environmental Profile]],RWS_[PERT],\"Not Found\",0)*Modellering!$I6,0)","v":147.71916999999999},{"$f":"IFERROR(_xlfn.XLOOKUP($F6,RWS_[[Environmental Profile]:[Environmental Profile]],RWS_[PENRE],\"Not Found\",0)*Modellering!$I6,0)","v":0},{"$f":"IFERROR(_xlfn.XLOOKUP($F6,RWS_[[Environmental Profile]:[Environmental Profile]],RWS_[PENRM],\"Not Found\",0)*Modellering!$I6,0)","v":0},{"$f":"IFERROR(_xlfn.XLOOKUP($F6,RWS_[[Environmental Profile]:[Environmental Profile]],RWS_[PENRT],\"Not Found\",0)*Modellering!$I6,0)","v":53950.737999999998},{"$f":"IFERROR(_xlfn.XLOOKUP($F6,RWS_[[Environmental Profile]:[Environmental Profile]],RWS_[SM],\"Not Found\",0)*Modellering!$I6,0)","v":0},{"$f":"IFERROR(_xlfn.XLOOKUP($F6,RWS_[[Environmental Profile]:[Environmental Profile]],RWS_[SF-R],\"Not Found\",0)*Modellering!$I6,0)","v":0},{"$f":"IFERROR(_xlfn.XLOOKUP($F6,RWS_[[Environmental Profile]:[Environmental Profile]],RWS_[SF-NR],\"Not Found\",0)*Modellering!$I6,0)","v":0},{"$f":"IFERROR(_xlfn.XLOOKUP($F6,RWS_[[Environmental Profile]:[Environmental Profile]],RWS_[FW],\"Not Found\",0)*Modellering!$I6,0)","v":2.2595575000000001},{"$f":"IFERROR(_xlfn.XLOOKUP($F6,RWS_[[Environmental Profile]:[Environmental Profile]],RWS_[HWD],\"Not Found\",0)*Modellering!$I6,0)","v":0.30420198999999998},{"$f":"IFERROR(_xlfn.XLOOKUP($F6,RWS_[[Environmental Profile]:[Environmental Profile]],RWS_[NHWD],\"Not Found\",0)*Modellering!$I6,0)","v":16.362404000000002},{"$f":"IFERROR(_xlfn.XLOOKUP($F6,RWS_[[Environmental Profile]:[Environmental Profile]],RWS_[RWD],\"Not Found\",0)*Modellering!$I6,0)","v":5.8822303999999997E-3},{"$f":"IFERROR(_xlfn.XLOOKUP($F6,RWS_[[Environmental Profile]:[Environmental Profile]],RWS_[CRU],\"Not Found\",0)*Modellering!$I6,0)","v":0},{"$f":"IFERROR(_xlfn.XLOOKUP($F6,RWS_[[Environmental Profile]:[Environmental Profile]],RWS_[MFR],\"Not Found\",0)*Modellering!$I6,0)","v":0},{"$f":"IFERROR(_xlfn.XLOOKUP($F6,RWS_[[Environmental Profile]:[Environmental Profile]],RWS_[MER],\"Not Found\",0)*Modellering!$I6,0)","v":0},{"$f":"IFERROR(_xlfn.XLOOKUP($F6,RWS_[[Environmental Profile]:[Environmental Profile]],RWS_[EE-E],\"Not Found\",0)*Modellering!$I6,0)","v":0},{"$f":"IFERROR(_xlfn.XLOOKUP($F6,RWS_[[Environmental Profile]:[Environmental Profile]],RWS_[EE-T],\"Not Found\",0)*Modellering!$I6,0)","v":0}]
[null,null,"Energiedragers","Opslag Energiedrager","A4",{"$f":"_xlfn.XLOOKUP(Invoerblad!$D$45,Fuel_Short[Brandstof],Fuel_Short[Opslag Energiedrager A4],\"Not Found\",0)","v":"*RWS Energiedrager Opslag en Transport van Diesel/FAME/HVO (A4) (o.b.v. NMD kaart Well-to-tank Diesel (A1-A4) zonder A1-A3 en aangepast naar ton)"},"Opslag Brandstof","ton",1,null,{"$f":"IFERROR(_xlfn.XLOOKUP($F7,RWS_[[Environmental Profile]:[Environmental Profile]],RWS_[ECI-A1],\"Not Found\",0)*Modellering!$I7,0)","v":1.9217281512220004},{"$f":"IFERROR(_xlfn.XLOOKUP($F7,RWS_[[Environmental Profile]:[Environmental Profile]],RWS_[ECI-A2],\"Not Found\",0)*Modellering!$I7,0)","v":3.6847178287471429},{"$f":"IFERROR(_xlfn.XLOOKUP($F7,RWS_[[Environmental Profile]:[Environmental Profile]],RWS_[ADPE],\"Not Found\",0)*Modellering!$I7,0)","v":1.3224526E-3},{"$f":"IFERROR(_xlfn.XLOOKUP($F7,RWS_[[Environmental Profile]:[Environmental Profile]],RWS_[ADPF],\"Not Found\",0)*Modellering!$I7,0)","v":0.13266258},{"$f":"IFERROR(_xlfn.XLOOKUP($F7,RWS_[[Environmental Profile]:[Environmental Profile]],RWS_[GWP1],\"Not Found\",0)*Modellering!$I7,0)","v":18.243867000000002},{"$f":"IFERROR(_xlfn.XLOOKUP($F7,RWS_[[Environmental Profile]:[Environmental Profile]],RWS_[ODP1],\"Not Found\",0)*Modellering!$I7,0)","v":2.9894602E-6},{"$f":"IFERROR(_xlfn.XLOOKUP($F7,RWS_[[Environmental Profile]:[Environmental Profile]],RWS_[POCP],\"Not Found\",0)*Modellering!$I7,0)","v":1.135274E-2},{"$f":"IFERROR(_xlfn.XLOOKUP($F7,RWS_[[Environmental Profile]:[Environmental Profile]],RWS_[AP],\"Not Found\",0)*Modellering!$I7,0)","v":7.5876618000000007E-2},{"$f":"IFERROR(_xlfn.XLOOKUP($F7,RWS_[[Environmental Profile]:[Environmental Profile]],RWS_[EP],\"Not Found\",0)*Modellering!$I7,0)","v":1.3368061000000001E-2},{"$f":"IFERROR(_xlfn.XLOOKUP($F7,RWS_[[Environmental Profile]:[Environmental Profile]],RWS_[HTP],\"Not Found\",0)*Modellering!$I7,0)","v":5.4048252999999997},{"$f":"IFERROR(_xlfn.XLOOKUP($F7,RWS_[[Environmental Profile]:[Environmental Profile]],RWS_[FAETP],\"Not Found\",0)*Modellering!$I7,0)","v":0.17500261},{"$f":"IFERROR(_xlfn.XLOOKUP($F7,RWS_[[Environmental Profile]:[Environmental Profile]],RWS_[MAETP],\"Not Found\",0)*Modellering!$I7,0)","v":470.60867000000002},{"$f":"IFERROR(_xlfn.XLOOKUP($F7,RWS_[[Environmental Profile]:[Environmental Profile]],RWS_[TETP],\"Not Found\",0)*Modellering!$I7,0)","v":4.5629814999999997E-2},{"$f":"IFERROR(_xlfn.XLOOKUP($F7,RWS_[[Environmental Profile]:[Environmental Profile]],RWS_[GWP2],\"Not Found\",0)*Modellering!$I7,0)","v":19.351282000000001},{"$f":"IFERROR(_xlfn.XLOOKUP($F7,RWS_[[Environmental Profile]:[Environmental Profile]],RWS_[GWP-F],\"Not Found\",0)*Modellering!$I7,0)","v":19.311563},{"$f":"IFERROR(_xlfn.XLOOKUP($F7,RWS_[[Environmental Profile]:[Environmental Profile]],RWS_[GWP-B],\"Not Found\",0)*Modellering!$I7,0)","v":2.7725335E-2},{"$f":"IFERROR(_xlfn.XLOOKUP($F7,RWS_[[Environmental Profile]:[Environmental Profile]],RWS_[GWP-L],\"Not Found\",0)*Modellering!$I7,0)","v":1.1993624E-2},{"$f":"IFERROR(_xlfn.XLOOKUP($F7,RWS_[[Environmental Profile]:[Environmental Profile]],RWS_[ODP2],\"Not Found\",0)*Modellering!$I7,0)","v":4.0489065E-7},{"$f":"IFERROR(_xlfn.XLOOKUP($F7,RWS_[[Environmental Profile]:[Environmental Profile]],RWS_[AP2],\"Not Found\",0)*Modellering!$I7,0)","v":8.5923324999999995E-2},{"$f":"IFERROR(_xlfn.XLOOKUP($F7,RWS_[[Environmental Profile]:[Environmental Profile]],RWS_[EP-FW],\"Not Found\",0)*Modellering!$I7,0)","v":3.9510237000000003E-4},{"$f":"IFERROR(_xlfn.XLOOKUP($F7,RWS_[[Environmental Profile]:[Environmental Profile]],RWS_[EP-M],\"Not Found\",0)*Modellering!$I7,0)","v":2.5844569000000001E-2},{"$f":"IFERROR(_xlfn.XLOOKUP($F7,RWS_[[Environmental Profile]:[Environmental Profile]],RWS_[EP-T],\"Not Found\",0)*Modellering!$I7,0)","v":0.30577389999999999},{"$f":"IFERROR(_xlfn.XLOOKUP($F7,RWS_[[Environmental Profile]:[Environmental Profile]],RWS_[POCP2],\"Not Found\",0)*Modellering!$I7,0)","v":0.10481137},{"$f":"IFERROR(_xlfn.XLOOKUP($F7,RWS_[[Environmental Profile]:[Environmental Profile]],RWS_[ADP-MM],\"Not Found\",0)*Modellering!$I7,0)","v":7.7190196000000001E-5},{"$f":"IFERROR(_xlfn.XLOOKUP($F7,RWS_[[Environmental Profile]:[Environmental Profile]],RWS_[ADP-F],\"Not Found\",0)*Modellering!$I7,0)","v":293.50810000000001},{"$f":"IFERROR(_xlfn.XLOOKUP($F7,RWS_[[Environmental Profile]:[Environmental Profile]],RWS_[WDP],\"Not Found\",0)*Modellering!$I7,0)","v":-1.1707367},{"$f":"IFERROR(_xlfn.XLOOKUP($F7,RWS_[[Environmental Profile]:[Environmental Profile]],RWS_[PM],\"Not Found\",0)*Modellering!$I7,0)","v":1.5676637000000001E-6},{"$f":"IFERROR(_xlfn.XLOOKUP($F7,RWS_[[Environmental Profile]:[Environmental Profile]],RWS_[IR],\"Not Found\",0)*Modellering!$I7,0)","v":0.58852537000000005},{"$f":"IFERROR(_xlfn.XLOOKUP($F7,RWS_[[Environmental Profile]:[Environmental Profile]],RWS_[ETP-FW],\"Not Found\",0)*Modellering!$I7,0)","v":168.25894},{"$f":"IFERROR(_xlfn.XLOOKUP($F7,RWS_[[Environmental Profile]:[Environmental Profile]],RWS_[HTP-C],\"Not Found\",0)*Modellering!$I7,0)","v":9.3468593000000007E-9},{"$f":"IFERROR(_xlfn.XLOOKUP($F7,RWS_[[Environmental Profile]:[Environmental Profile]],RWS_[HTP-NC],\"Not Found\",0)*Modellering!$I7,0)","v":1.6483713999999999E-7},{"$f":"IFERROR(_xlfn.XLOOKUP($F7,RWS_[[Environmental Profile]:[Environmental Profile]],RWS_[SQP],\"Not Found\",0)*Modellering!$I7,0)","v":515.93101000000001},{"$f":"IFERROR(_xlfn.XLOOKUP($F7,RWS_[[Environmental Profile]:[Environmental Profile]],RWS_[PERE],\"Not Found\",0)*Modellering!$I7,0)","v":0},{"$f":"IFERROR(_xlfn.XLOOKUP($F7,RWS_[[Environmental Profile]:[Environmental Profile]],RWS_[PERM],\"Not Found\",0)*Modellering!$I7,0)","v":0},{"$f":"IFERROR(_xlfn.XLOOKUP($F7,RWS_[[Environmental Profile]:[Environmental Profile]],RWS_[PERT],\"Not Found\",0)*Modellering!$I7,0)","v":18.412734},{"$f":"IFERROR(_xlfn.XLOOKUP($F7,RWS_[[Environmental Profile]:[Environmental Profile]],RWS_[PENRE],\"Not Found\",0)*Modellering!$I7,0)","v":0},{"$f":"IFERROR(_xlfn.XLOOKUP($F7,RWS_[[Environmental Profile]:[Environmental Profile]],RWS_[PENRM],\"Not Found\",0)*Modellering!$I7,0)","v":0},{"$f":"IFERROR(_xlfn.XLOOKUP($F7,RWS_[[Environmental Profile]:[Environmental Profile]],RWS_[PENRT],\"Not Found\",0)*Modellering!$I7,0)","v":293.48689000000002},{"$f":"IFERROR(_xlfn.XLOOKUP($F7,RWS_[[Environmental Profile]:[Environmental Profile]],RWS_[SM],\"Not Found\",0)*Modellering!$I7,0)","v":0},{"$f":"IFERROR(_xlfn.XLOOKUP($F7,RWS_[[Environmental Profile]:[Environmental Profile]],RWS_[SF-R],\"Not Found\",0)*Modellering!$I7,0)","v":0},{"$f":"IFERROR(_xlfn.XLOOKUP($F7,RWS_[[Environmental Profile]:[Environmental Profile]],RWS_[SF-NR],\"Not Found\",0)*Modellering!$I7,0)","v":0},{"$f":"IFERROR(_xlfn.XLOOKUP($F7,RWS_[[Environmental Profile]:[Environmental Profile]],RWS_[FW],\"Not Found\",0)*Modellering!$I7,0)","v":1.2152812000000001E-2},{"$f":"IFERROR(_xlfn.XLOOKUP($F7,RWS_[[Environmental Profile]:[Environmental Profile]],RWS_[HWD],\"Not Found\",0)*Modellering!$I7,0)","v":1.7000288E-3},{"$f":"IFERROR(_xlfn.XLOOKUP($F7,RWS_[[Environmental Profile]:[Environmental Profile]],RWS_[NHWD],\"Not Found\",0)*Modellering!$I7,0)","v":22.111228000000001},{"$f":"IFERROR(_xlfn.XLOOKUP($F7,RWS_[[Environmental Profile]:[Environmental Profile]],RWS_[RWD],\"Not Found\",0)*Modellering!$I7,0)","v":4.5481379999999999E-4},{"$f":"IFERROR(_xlfn.XLOOKUP($F7,RWS_[[Environmental Profile]:[Environmental Profile]],RWS_[CRU],\"Not Found\",0)*Modellering!$I7,0)","v":0},{"$f":"IFERROR(_xlfn.XLOOKUP($F7,RWS_[[Environmental Profile]:[Environmental Profile]],RWS_[MFR],\"Not Found\",0)*Modellering!$I7,0)","v":0},{"$f":"IFERROR(_xlfn.XLOOKUP($F7,RWS_[[Environmental Profile]:[Environmental Profile]],RWS_[MER],\"Not Found\",0)*Modellering!$I7,0)","v":0},{"$f":"IFERROR(_xlfn.XLOOKUP($F7,RWS_[[Environmental Profile]:[Environmental Profile]],RWS_[EE-E],\"Not Found\",0)*Modellering!$I7,0)","v":0},{"$f":"IFERROR(_xlfn.XLOOKUP($F7,RWS_[[Environmental Profile]:[Environmental Profile]],RWS_[EE-T],\"Not Found\",0)*Modellering!$I7,0)","v":0}]
[null,null,"Gebruiksprofiel","Gebruiksprofiel Basis","B1",{"$f":"_xlfn.XLOOKUP(Invoerblad!$D$44&Invoerblad!$D$46,Emi_Short[Brandstof]&Emi_Short[MotCel2],Emi_Short[Gebruiksprofiel Basis B1],\"Not Found\",0)","v":"*RWS Gebruiksprofiel Diesel (ULSD) Verbrandingsemissies (zoner PM en NOx) B1 (o.b.v Transport, freight, inland waterways, barge {RER}| transport, freight, inland waterways, barge | Cut-off, U)"},"Energiedrager Emissies","ton",1,null,{"$f":"IFERROR(_xlfn.XLOOKUP($F8,RWS_[[Environmental Profile]:[Environmental Profile]],RWS_[ECI-A1],\"Not Found\",0)*Modellering!$I8,0)","v":169.69198265289023},{"$f":"IFERROR(_xlfn.XLOOKUP($F8,RWS_[[Environmental Profile]:[Environmental Profile]],RWS_[ECI-A2],\"Not Found\",0)*Modellering!$I8,0)","v":379.28266291974086},{"$f":"IFERROR(_xlfn.XLOOKUP($F8,RWS_[[Environmental Profile]:[Environmental Profile]],RWS_[ADPE],\"Not Found\",0)*Modellering!$I8,0)","v":0},{"$f":"IFERROR(_xlfn.XLOOKUP($F8,RWS_[[Environmental Profile]:[Environmental Profile]],RWS_[ADPF],\"Not Found\",0)*Modellering!$I8,0)","v":0},{"$f":"IFERROR(_xlfn.XLOOKUP($F8,RWS_[[Environmental Profile]:[Environmental Profile]],RWS_[GWP1],\"Not Found\",0)*Modellering!$I8,0)","v":3240.7773999999999},{"$f":"IFERROR(_xlfn.XLOOKUP($F8,RWS_[[Environmental Profile]:[Environmental Profile]],RWS_[ODP1],\"Not Found\",0)*Modellering!$I8,0)","v":0},{"$f":"IFERROR(_xlfn.XLOOKUP($F8,RWS_[[Environmental Profile]:[Environmental Profile]],RWS_[POCP],\"Not Found\",0)*Modellering!$I8,0)","v":0.11124349},{"$f":"IFERROR(_xlfn.XLOOKUP($F8,RWS_[[Environmental Profile]:[Environmental Profile]],RWS_[AP],\"Not Found\",0)*Modellering!$I8,0)","v":0.80374867000000005},{"$f":"IFERROR(_xlfn.XLOOKUP($F8,RWS_[[Environmental Profile]:[Environmental Profile]],RWS_[EP],\"Not Found\",0)*Modellering!$I8,0)","v":0.10757721000000001},{"$f":"IFERROR(_xlfn.XLOOKUP($F8,RWS_[[Environmental Profile]:[Environmental Profile]],RWS_[HTP],\"Not Found\",0)*Modellering!$I8,0)","v":36.082622000000001},{"$f":"IFERROR(_xlfn.XLOOKUP($F8,RWS_[[Environmental Profile]:[Environmental Profile]],RWS_[FAETP],\"Not Found\",0)*Modellering!$I8,0)","v":2.9551214E-6},{"$f":"IFERROR(_xlfn.XLOOKUP($F8,RWS_[[Environmental Profile]:[Environmental Profile]],RWS_[MAETP],\"Not Found\",0)*Modellering!$I8,0)","v":8.6986240999999996E-5},{"$f":"IFERROR(_xlfn.XLOOKUP($F8,RWS_[[Environmental Profile]:[Environmental Profile]],RWS_[TETP],\"Not Found\",0)*Modellering!$I8,0)","v":4.2563199E-7},{"$f":"IFERROR(_xlfn.XLOOKUP($F8,RWS_[[Environmental Profile]:[Environmental Profile]],RWS_[GWP2],\"Not Found\",0)*Modellering!$I8,0)","v":3243.4223000000002},{"$f":"IFERROR(_xlfn.XLOOKUP($F8,RWS_[[Environmental Profile]:[Environmental Profile]],RWS_[GWP-F],\"Not Found\",0)*Modellering!$I8,0)","v":3243.4223000000002},{"$f":"IFERROR(_xlfn.XLOOKUP($F8,RWS_[[Environmental Profile]:[Environmental Profile]],RWS_[GWP-B],\"Not Found\",0)*Modellering!$I8,0)","v":0},{"$f":"IFERROR(_xlfn.XLOOKUP($F8,RWS_[[Environmental Profile]:[Environmental Profile]],RWS_[GWP-L],\"Not Found\",0)*Modellering!$I8,0)","v":0},{"$f":"IFERROR(_xlfn.XLOOKUP($F8,RWS_[[Environmental Profile]:[Environmental Profile]],RWS_[ODP2],\"Not Found\",0)*Modellering!$I8,0)","v":0},{"$f":"IFERROR(_xlfn.XLOOKUP($F8,RWS_[[Environmental Profile]:[Environmental Profile]],RWS_[AP2],\"Not Found\",0)*Modellering!$I8,0)","v":0.94346538999999996},{"$f":"IFERROR(_xlfn.XLOOKUP($F8,RWS_[[Environmental Profile]:[Environmental Profile]],RWS_[EP-FW],\"Not Found\",0)*Modellering!$I8,0)","v":0},{"$f":"IFERROR(_xlfn.XLOOKUP($F8,RWS_[[Environmental Profile]:[Environmental Profile]],RWS_[EP-M],\"Not Found\",0)*Modellering!$I8,0)","v":4.7714589999999996E-3},{"$f":"IFERROR(_xlfn.XLOOKUP($F8,RWS_[[Environmental Profile]:[Environmental Profile]],RWS_[EP-T],\"Not Found\",0)*Modellering!$I8,0)","v":0.69860383000000004},{"$f":"IFERROR(_xlfn.XLOOKUP($F8,RWS_[[Environmental Profile]:[Environmental Profile]],RWS_[POCP2],\"Not Found\",0)*Modellering!$I8,0)","v":1.1879272000000001},{"$f":"IFERROR(_xlfn.XLOOKUP($F8,RWS_[[Environmental Profile]:[Environmental Profile]],RWS_[ADP-MM],\"Not Found\",0)*Modellering!$I8,0)","v":0},{"$f":"IFERROR(_xlfn.XLOOKUP($F8,RWS_[[Environmental Profile]:[Environmental Profile]],RWS_[ADP-F],\"Not Found\",0)*Modellering!$I8,0)","v":0},{"$f":"IFERROR(_xlfn.XLOOKUP($F8,RWS_[[Environmental Profile]:[Environmental Profile]],RWS_[WDP],\"Not Found\",0)*Modellering!$I8,0)","v":0},{"$f":"IFERROR(_xlfn.XLOOKUP($F8,RWS_[[Environmental Profile]:[Environmental Profile]],RWS_[PM],\"Not Found\",0)*Modellering!$I8,0)","v":1.6837700000000001E-6},{"$f":"IFERROR(_xlfn.XLOOKUP($F8,RWS_[[Environmental Profile]:[Environmental Profile]],RWS_[IR],\"Not Found\",0)*Modellering!$I8,0)","v":0},{"$f":"IFERROR(_xlfn.XLOOKUP($F8,RWS_[[Environmental Profile]:[Environmental Profile]],RWS_[ETP-FW],\"Not Found\",0)*Modellering!$I8,0)","v":17.600111999999999},{"$f":"IFERROR(_xlfn.XLOOKUP($F8,RWS_[[Environmental Profile]:[Environmental Profile]],RWS_[HTP-C],\"Not Found\",0)*Modellering!$I8,0)","v":3.4412167E-9},{"$f":"IFERROR(_xlfn.XLOOKUP($F8,RWS_[[Environmental Profile]:[Environmental Profile]],RWS_[HTP-NC],\"Not Found\",0)*Modellering!$I8,0)","v":2.0050584999999999E-7},{"$f":"IFERROR(_xlfn.XLOOKUP($F8,RWS_[[Environmental Profile]:[Environmental Profile]],RWS_[SQP],\"Not Found\",0)*Modellering!$I8,0)","v":0},{"$f":"IFERROR(_xlfn.XLOOKUP($F8,RWS_[[Environmental Profile]:[Environmental Profile]],RWS_[PERE],\"Not Found\",0)*Modellering!$I8,0)","v":0},{"$f":"IFERROR(_xlfn.XLOOKUP($F8,RWS_[[Environmental Profile]:[Environmental Profile]],RWS_[PERM],\"Not Found\",0)*Modellering!$I8,0)","v":0},{"$f":"IFERROR(_xlfn.XLOOKUP($F8,RWS_[[Environmental Profile]:[Environmental Profile]],RWS_[PERT],\"Not Found\",0)*Modellering!$I8,0)","v":0},{"$f":"IFERROR(_xlfn.XLOOKUP($F8,RWS_[[Environmental Profile]:[Environmental Profile]],RWS_[PENRE],\"Not Found\",0)*Modellering!$I8,0)","v":0},{"$f":"IFERROR(_xlfn.XLOOKUP($F8,RWS_[[Environmental Profile]:[Environmental Profile]],RWS_[PENRM],\"Not Found\",0)*Modellering!$I8,0)","v":0},{"$f":"IFERROR(_xlfn.XLOOKUP($F8,RWS_[[Environmental Profile]:[Environmental Profile]],RWS_[PENRT],\"Not Found\",0)*Modellering!$I8,0)","v":0},{"$f":"IFERROR(_xlfn.XLOOKUP($F8,RWS_[[Environmental Profile]:[Environmental Profile]],RWS_[SM],\"Not Found\",0)*Modellering!$I8,0)","v":0},{"$f":"IFERROR(_xlfn.XLOOKUP($F8,RWS_[[Environmental Profile]:[Environmental Profile]],RWS_[SF-R],\"Not Found\",0)*Modellering!$I8,0)","v":0},{"$f":"IFERROR(_xlfn.XLOOKUP($F8,RWS_[[Environmental Profile]:[Environmental Profile]],RWS_[SF-NR],\"Not Found\",0)*Modellering!$I8,0)","v":0},{"$f":"IFERROR(_xlfn.XLOOKUP($F8,RWS_[[Environmental Profile]:[Environmental Profile]],RWS_[FW],\"Not Found\",0)*Modellering!$I8,0)","v":0},{"$f":"IFERROR(_xlfn.XLOOKUP($F8,RWS_[[Environmental Profile]:[Environmental Profile]],RWS_[HWD],\"Not Found\",0)*Modellering!$I8,0)","v":0},{"$f":"IFERROR(_xlfn.XLOOKUP($F8,RWS_[[Environmental Profile]:[Environmental Profile]],RWS_[NHWD],\"Not Found\",0)*Modellering!$I8,0)","v":0},{"$f":"IFERROR(_xlfn.XLOOKUP($F8,RWS_[[Environmental Profile]:[Environmental Profile]],RWS_[RWD],\"Not Found\",0)*Modellering!$I8,0)","v":0},{"$f":"IFERROR(_xlfn.XLOOKUP($F8,RWS_[[Environmental Profile]:[Environmental Profile]],RWS_[CRU],\"Not Found\",0)*Modellering!$I8,0)","v":0},{"$f":"IFERROR(_xlfn.XLOOKUP($F8,RWS_[[Environmental Profile]:[Environmental Profile]],RWS_[MFR],\"Not Found\",0)*Modellering!$I8,0)","v":0},{"$f":"IFERROR(_xlfn.XLOOKUP($F8,RWS_[[Environmental Profile]:[Environmental Profile]],RWS_[MER],\"Not Found\",0)*Modellering!$I8,0)","v":0},{"$f":"IFERROR(_xlfn.XLOOKUP($F8,RWS_[[Environmental Profile]:[Environmental Profile]],RWS_[EE-E],\"Not Found\",0)*Modellering!$I8,0)","v":0},{"$f":"IFERROR(_xlfn.XLOOKUP($F8,RWS_[[Environmental Profile]:[Environmental Profile]],RWS_[EE-T],\"Not Found\",0)*Modellering!$I8,0)","v":0}]
[null,null,"Gebruiksprofiel","NOx Emissies","B1","*RWS Gebruiksprofiel - NOx emissie naar lucht","NOx Emissies","kg",{"$f":"IF(Invoerblad!$D$67=\"Nee\",PM_NOx!$B$62,IF(Invoerblad!$D$70=\"Nee\",PM_NOx!$B$62,PM_NOx!$B$65))","v":19.448875000000001},null,{"$f":"IFERROR(_xlfn.XLOOKUP($F9,RWS_[[Environmental Profile]:[Environmental Profile]],RWS_[ECI-A1],\"Not Found\",0)*Modellering!$I9,0)","v":63.753412250000004},{"$f":"IFERROR(_xlfn.XLOOKUP($F9,RWS_[[Environmental Profile]:[Environmental Profile]],RWS_[ECI-A2],\"Not Found\",0)*Modellering!$I9,0)","v":86.227900111562505},{"$f":"IFERROR(_xlfn.XLOOKUP($F9,RWS_[[Environmental Profile]:[Environmental Profile]],RWS_[ADPE],\"Not Found\",0)*Modellering!$I9,0)","v":0},{"$f":"IFERROR(_xlfn.XLOOKUP($F9,RWS_[[Environmental Profile]:[Environmental Profile]],RWS_[ADPF],\"Not Found\",0)*Modellering!$I9,0)","v":0},{"$f":"IFERROR(_xlfn.XLOOKUP($F9,RWS_[[Environmental Profile]:[Environmental Profile]],RWS_[GWP1],\"Not Found\",0)*Modellering!$I9,0)","v":0},{"$f":"IFERROR(_xlfn.XLOOKUP($F9,RWS_[[Environmental Profile]:[Environmental Profile]],RWS_[ODP1],\"Not Found\",0)*Modellering!$I9,0)","v":0},{"$f":"IFERROR(_xlfn.XLOOKUP($F9,RWS_[[Environmental Profile]:[Environmental Profile]],RWS_[POCP],\"Not Found\",0)*Modellering!$I9,0)","v":0},{"$f":"IFERROR(_xlfn.XLOOKUP($F9,RWS_[[Environmental Profile]:[Environmental Profile]],RWS_[AP],\"Not Found\",0)*Modellering!$I9,0)","v":9.7244375000000005},{"$f":"IFERROR(_xlfn.XLOOKUP($F9,RWS_[[Environmental Profile]:[Environmental Profile]],RWS_[EP],\"Not Found\",0)*Modellering!$I9,0)","v":2.5283537500000004},{"$f":"IFERROR(_xlfn.XLOOKUP($F9,RWS_[[Environmental Profile]:[Environmental Profile]],RWS_[HTP],\"Not Found\",0)*Modellering!$I9,0)","v":23.338650000000001},{"$f":"IFERROR(_xlfn.XLOOKUP($F9,RWS_[[Environmental Profile]:[Environmental Profile]],RWS_[FAETP],\"Not Found\",0)*Modellering!$I9,0)","v":0},{"$f":"IFERROR(_xlfn.XLOOKUP($F9,RWS_[[Environmental Profile]:[Environmental Profile]],RWS_[MAETP],\"Not Found\",0)*Modellering!$I9,0)","v":0},{"$f":"IFERROR(_xlfn.XLOOKUP($F9,RWS_[[Environmental Profile]:[Environmental Profile]],RWS_[TETP],\"Not Found\",0)*Modellering!$I9,0)","v":0},{"$f":"IFERROR(_xlfn.XLOOKUP($F9,RWS_[[Environmental Profile]:[Environmental Profile]],RWS_[GWP2],\"Not Found\",0)*Modellering!$I9,0)","v":0},{"$f":"IFERROR(_xlfn.XLOOKUP($F9,RWS_[[Environmental Profile]:[Environmental Profile]],RWS_[GWP-F],\"Not Found\",0)*Modellering!$I9,0)","v":0},{"$f":"IFERROR(_xlfn.XLOOKUP($F9,RWS_[[Environmental Profile]:[Environmental Profile]],RWS_[GWP-B],\"Not Found\",0)*Modellering!$I9,0)","v":0},{"$f":"IFERROR(_xlfn.XLOOKUP($F9,RWS_[[Environmental Profile]:[Environmental Profile]],RWS_[GWP-L],\"Not Found\",0)*Modellering!$I9,0)","v":0},{"$f":"IFERROR(_xlfn.XLOOKUP($F9,RWS_[[Environmental Profile]:[Environmental Profile]],RWS_[ODP2],\"Not Found\",0)*Modellering!$I9,0)","v":0},{"$f":"IFERROR(_xlfn.XLOOKUP($F9,RWS_[[Environmental Profile]:[Environmental Profile]],RWS_[AP2],\"Not Found\",0)*Modellering!$I9,0)","v":14.392167500000001},{"$f":"IFERROR(_xlfn.XLOOKUP($F9,RWS_[[Environmental Profile]:[Environmental Profile]],RWS_[EP-FW],\"Not Found\",0)*Modellering!$I9,0)","v":0},{"$f":"IFERROR(_xlfn.XLOOKUP($F9,RWS_[[Environmental Profile]:[Environmental Profile]],RWS_[EP-M],\"Not Found\",0)*Modellering!$I9,0)","v":7.5656123750000006},{"$f":"IFERROR(_xlfn.XLOOKUP($F9,RWS_[[Environmental Profile]:[Environmental Profile]],RWS_[EP-T],\"Not Found\",0)*Modellering!$I9,0)","v":82.852207500000006},{"$f":"IFERROR(_xlfn.XLOOKUP($F9,RWS_[[Environmental Profile]:[Environmental Profile]],RWS_[POCP2],\"Not Found\",0)*Modellering!$I9,0)","v":19.448875000000001},{"$f":"IFERROR(_xlfn.XLOOKUP($F9,RWS_[[Environmental Profile]:[Environmental Profile]],RWS_[ADP-MM],\"Not Found\",0)*Modellering!$I9,0)","v":0},{"$f":"IFERROR(_xlfn.XLOOKUP($F9,RWS_[[Environmental Profile]:[Environmental Profile]],RWS_[ADP-F],\"Not Found\",0)*Modellering!$I9,0)","v":0},{"$f":"IFERROR(_xlfn.XLOOKUP($F9,RWS_[[Environmental Profile]:[Environmental Profile]],RWS_[WDP],\"Not Found\",0)*Modellering!$I9,0)","v":0},{"$f":"IFERROR(_xlfn.XLOOKUP($F9,RWS_[[Environmental Profile]:[Environmental Profile]],RWS_[PM],\"Not Found\",0)*Modellering!$I9,0)","v":4.08426375E-6},{"$f":"IFERROR(_xlfn.XLOOKUP($F9,RWS_[[Environmental Profile]:[Environmental Profile]],RWS_[IR],\"Not Found\",0)*Modellering!$I9,0)","v":0},{"$f":"IFERROR(_xlfn.XLOOKUP($F9,RWS_[[Environmental Profile]:[Environmental Profile]],RWS_[ETP-FW],\"Not Found\",0)*Modellering!$I9,0)","v":0},{"$f":"IFERROR(_xlfn.XLOOKUP($F9,RWS_[[Environmental Profile]:[Environmental Profile]],RWS_[HTP-C],\"Not Found\",0)*Modellering!$I9,0)","v":0},{"$f":"IFERROR(_xlfn.XLOOKUP($F9,RWS_[[Environmental Profile]:[Environmental Profile]],RWS_[HTP-NC],\"Not Found\",0)*Modellering!$I9,0)","v":0},{"$f":"IFERROR(_xlfn.XLOOKUP($F9,RWS_[[Environmental Profile]:[Environmental Profile]],RWS_[SQP],\"Not Found\",0)*Modellering!$I9,0)","v":0},{"$f":"IFERROR(_xlfn.XLOOKUP($F9,RWS_[[Environmental Profile]:[Environmental Profile]],RWS_[PERE],\"Not Found\",0)*Modellering!$I9,0)","v":0},{"$f":"IFERROR(_xlfn.XLOOKUP($F9,RWS_[[Environmental Profile]:[Environmental Profile]],RWS_[PERM],\"Not Found\",0)*Modellering!$I9,0)","v":0},{"$f":"IFERROR(_xlfn.XLOOKUP($F9,RWS_[[Environmental Profile]:[Environmental Profile]],RWS_[PERT],\"Not Found\",0)*Modellering!$I9,0)","v":0},{"$f":"IFERROR(_xlfn.XLOOKUP($F9,RWS_[[Environmental Profile]:[Environmental Profile]],RWS_[PENRE],\"Not Found\",0)*Modellering!$I9,0)","v":0},{"$f":"IFERROR(_xlfn.XLOOKUP($F9,RWS_[[Environmental Profile]:[Environmental Profile]],RWS_[PENRM],\"Not Found\",0)*Modellering!$I9,0)","v":0},{"$f":"IFERROR(_xlfn.XLOOKUP($F9,RWS_[[Environmental Profile]:[Environmental Profile]],RWS_[PENRT],\"Not Found\",0)*Modellering!$I9,0)","v":0},{"$f":"IFERROR(_xlfn.XLOOKUP($F9,RWS_[[Environmental Profile]:[Environmental Profile]],RWS_[SM],\"Not Found\",0)*Modellering!$I9,0)","v":0},{"$f":"IFERROR(_xlfn.XLOOKUP($F9,RWS_[[Environmental Profile]:[Environmental Profile]],RWS_[SF-R],\"Not Found\",0)*Modellering!$I9,0)","v":0},{"$f":"IFERROR(_xlfn.XLOOKUP($F9,RWS_[[Environmental Profile]:[Environmental Profile]],RWS_[SF-NR],\"Not Found\",0)*Modellering!$I9,0)","v":0},{"$f":"IFERROR(_xlfn.XLOOKUP($F9,RWS_[[Environmental Profile]:[Environmental Profile]],RWS_[FW],\"Not Found\",0)*Modellering!$I9,0)","v":0},{"$f":"IFERROR(_xlfn.XLOOKUP($F9,RWS_[[Environmental Profile]:[Environmental Profile]],RWS_[HWD],\"Not Found\",0)*Modellering!$I9,0)","v":0},{"$f":"IFERROR(_xlfn.XLOOKUP($F9,RWS_[[Environmental Profile]:[Environmental Profile]],RWS_[NHWD],\"Not Found\",0)*Modellering!$I9,0)","v":0},{"$f":"IFERROR(_xlfn.XLOOKUP($F9,RWS_[[Environmental Profile]:[Environmental Profile]],RWS_[RWD],\"Not Found\",0)*Modellering!$I9,0)","v":0},{"$f":"IFERROR(_xlfn.XLOOKUP($F9,RWS_[[Environmental Profile]:[Environmental Profile]],RWS_[CRU],\"Not Found\",0)*Modellering!$I9,0)","v":0},{"$f":"IFERROR(_xlfn.XLOOKUP($F9,RWS_[[Environmental Profile]:[Environmental Profile]],RWS_[MFR],\"Not Found\",0)*Modellering!$I9,0)","v":0},{"$f":"IFERROR(_xlfn.XLOOKUP($F9,RWS_[[Environmental Profile]:[Environmental Profile]],RWS_[MER],\"Not Found\",0)*Modellering!$I9,0)","v":0},{"$f":"IFERROR(_xlfn.XLOOKUP($F9,RWS_[[Environmental Profile]:[Environmental Profile]],RWS_[EE-E],\"Not Found\",0)*Modellering!$I9,0)","v":0},{"$f":"IFERROR(_xlfn.XLOOKUP($F9,RWS_[[Environmental Profile]:[Environmental Profile]],RWS_[EE-T],\"Not Found\",0)*Modellering!$I9,0)","v":0}]
[null,null,"Gebruiksprofiel","PM Emissies","B1","*RWS Gebruiksprofiel - PM emissie naar lucht","PM Emissies","kg",{"$f":"IF(Invoerblad!$D$67=\"Nee\",PM_NOx!$B$63,IF(Invoerblad!$D$70=\"Nee\",PM_NOx!$B$63,PM_NOx!$B$66))","v":0.16162500000000002},null,{"$f":"IFERROR(_xlfn.XLOOKUP($F10,RWS_[[Environmental Profile]:[Environmental Profile]],RWS_[ECI-A1],\"Not Found\",0)*Modellering!$I10,0)","v":1.1927925000000001E-2},{"$f":"IFERROR(_xlfn.XLOOKUP($F10,RWS_[[Environmental Profile]:[Environmental Profile]],RWS_[ECI-A2],\"Not Found\",0)*Modellering!$I10,0)","v":6.1664220562500018E-2},{"$f":"IFERROR(_xlfn.XLOOKUP($F10,RWS_[[Environmental Profile]:[Environmental Profile]],RWS_[ADPE],\"Not Found\",0)*Modellering!$I10,0)","v":0},{"$f":"IFERROR(_xlfn.XLOOKUP($F10,RWS_[[Environmental Profile]:[Environmental Profile]],RWS_[ADPF],\"Not Found\",0)*Modellering!$I10,0)","v":0},{"$f":"IFERROR(_xlfn.XLOOKUP($F10,RWS_[[Environmental Profile]:[Environmental Profile]],RWS_[GWP1],\"Not Found\",0)*Modellering!$I10,0)","v":0},{"$f":"IFERROR(_xlfn.XLOOKUP($F10,RWS_[[Environmental Profile]:[Environmental Profile]],RWS_[ODP1],\"Not Found\",0)*Modellering!$I10,0)","v":0},{"$f":"IFERROR(_xlfn.XLOOKUP($F10,RWS_[[Environmental Profile]:[Environmental Profile]],RWS_[POCP],\"Not Found\",0)*Modellering!$I10,0)","v":0},{"$f":"IFERROR(_xlfn.XLOOKUP($F10,RWS_[[Environmental Profile]:[Environmental Profile]],RWS_[AP],\"Not Found\",0)*Modellering!$I10,0)","v":0},{"$f":"IFERROR(_xlfn.XLOOKUP($F10,RWS_[[Environmental Profile]:[Environmental Profile]],RWS_[EP],\"Not Found\",0)*Modellering!$I10,0)","v":0},{"$f":"IFERROR(_xlfn.XLOOKUP($F10,RWS_[[Environmental Profile]:[Environmental Profile]],RWS_[HTP],\"Not Found\",0)*Modellering!$I10,0)","v":0.1325325},{"$f":"IFERROR(_xlfn.XLOOKUP($F10,RWS_[[Environmental Profile]:[Environmental Profile]],RWS_[FAETP],\"Not Found\",0)*Modellering!$I10,0)","v":0},{"$f":"IFERROR(_xlfn.XLOOKUP($F10,RWS_[[Environmental Profile]:[Environmental Profile]],RWS_[MAETP],\"Not Found\",0)*Modellering!$I10,0)","v":0},{"$f":"IFERROR(_xlfn.XLOOKUP($F10,RWS_[[Environmental Profile]:[Environmental Profile]],RWS_[TETP],\"Not Found\",0)*Modellering!$I10,0)","v":0},{"$f":"IFERROR(_xlfn.XLOOKUP($F10,RWS_[[Environmental Profile]:[Environmental Profile]],RWS_[GWP2],\"Not Found\",0)*Modellering!$I10,0)","v":0},{"$f":"IFERROR(_xlfn.XLOOKUP($F10,RWS_[[Environmental Profile]:[Environmental Profile]],RWS_[GWP-F],\"Not Found\",0)*Modellering!$I10,0)","v":0},{"$f":"IFERROR(_xlfn.XLOOKUP($F10,RWS_[[Environmental Profile]:[Environmental Profile]],RWS_[GWP-B],\"Not Found\",0)*Modellering!$I10,0)","v":0},{"$f":"IFERROR(_xlfn.XLOOKUP($F10,RWS_[[Environmental Profile]:[Environmental Profile]],RWS_[GWP-L],\"Not Found\",0)*Modellering!$I10,0)","v":0},{"$f":"IFERROR(_xlfn.XLOOKUP($F10,RWS_[[Environmental Profile]:[Environmental Profile]],RWS_[ODP2],\"Not Found\",0)*Modellering!$I10,0)","v":0},{"$f":"IFERROR(_xlfn.XLOOKUP($F10,RWS_[[Environmental Profile]:[Environmental Profile]],RWS_[AP2],\"Not Found\",0)*Modellering!$I10,0)","v":0},{"$f":"IFERROR(_xlfn.XLOOKUP($F10,RWS_[[Environmental Profile]:[Environmental Profile]],RWS_[EP-FW],\"Not Found\",0)*Modellering!$I10,0)","v":0},{"$f":"IFERROR(_xlfn.XLOOKUP($F10,RWS_[[Environmental Profile]:[Environmental Profile]],RWS_[EP-M],\"Not Found\",0)*Modellering!$I10,0)","v":0},{"$f":"IFERROR(_xlfn.XLOOKUP($F10,RWS_[[Environmental Profile]:[Environmental Profile]],RWS_[EP-T],\"Not Found\",0)*Modellering!$I10,0)","v":0},{"$f":"IFERROR(_xlfn.XLOOKUP($F10,RWS_[[Environmental Profile]:[Environmental Profile]],RWS_[POCP2],\"Not Found\",0)*Modellering!$I10,0)","v":0},{"$f":"IFERROR(_xlfn.XLOOKUP($F10,RWS_[[Environmental Profile]:[Environmental Profile]],RWS_[ADP-MM],\"Not Found\",0)*Modellering!$I10,0)","v":0},{"$f":"IFERROR(_xlfn.XLOOKUP($F10,RWS_[[Environmental Profile]:[Environmental Profile]],RWS_[ADP-F],\"Not Found\",0)*Modellering!$I10,0)","v":0},{"$f":"IFERROR(_xlfn.XLOOKUP($F10,RWS_[[Environmental Profile]:[Environmental Profile]],RWS_[WDP],\"Not Found\",0)*Modellering!$I10,0)","v":0},{"$f":"IFERROR(_xlfn.XLOOKUP($F10,RWS_[[Environmental Profile]:[Environmental Profile]],RWS_[PM],\"Not Found\",0)*Modellering!$I10,0)","v":1.1216775000000002E-7},{"$f":"IFERROR(_xlfn.XLOOKUP($F10,RWS_[[Environmental Profile]:[Environmental Profile]],RWS_[IR],\"Not Found\",0)*Modellering!$I10,0)","v":0},{"$f":"IFERROR(_xlfn.XLOOKUP($F10,RWS_[[Environmental Profile]:[Environmental Profile]],RWS_[ETP-FW],\"Not Found\",0)*Modellering!$I10,0)","v":0},{"$f":"IFERROR(_xlfn.XLOOKUP($F10,RWS_[[Environmental Profile]:[Environmental Profile]],RWS_[HTP-C],\"Not Found\",0)*Modellering!$I10,0)","v":0},{"$f":"IFERROR(_xlfn.XLOOKUP($F10,RWS_[[Environmental Profile]:[Environmental Profile]],RWS_[HTP-NC],\"Not Found\",0)*Modellering!$I10,0)","v":0},{"$f":"IFERROR(_xlfn.XLOOKUP($F10,RWS_[[Environmental Profile]:[Environmental Profile]],RWS_[SQP],\"Not Found\",0)*Modellering!$I10,0)","v":0},{"$f":"IFERROR(_xlfn.XLOOKUP($F10,RWS_[[Environmental Profile]:[Environmental Profile]],RWS_[PERE],\"Not Found\",0)*Modellering!$I10,0)","v":0},{"$f":"IFERROR(_xlfn.XLOOKUP($F10,RWS_[[Environmental Profile]:[Environmental Profile]],RWS_[PERM],\"Not Found\",0)*Modellering!$I10,0)","v":0},{"$f":"IFERROR(_xlfn.XLOOKUP($F10,RWS_[[Environmental Profile]:[Environmental Profile]],RWS_[PERT],\"Not Found\",0)*Modellering!$I10,0)","v":0},{"$f":"IFERROR(_xlfn.XLOOKUP($F10,RWS_[[Environmental Profile]:[Environmental Profile]],RWS_[PENRE],\"Not Found\",0)*Modellering!$I10,0)","v":0},{"$f":"IFERROR(_xlfn.XLOOKUP($F10,RWS_[[Environmental Profile]:[Environmental Profile]],RWS_[PENRM],\"Not Found\",0)*Modellering!$I10,0)","v":0},{"$f":"IFERROR(_xlfn.XLOOKUP($F10,RWS_[[Environmental Profile]:[Environmental Profile]],RWS_[PENRT],\"Not Found\",0)*Modellering!$I10,0)","v":0},{"$f":"IFERROR(_xlfn.XLOOKUP($F10,RWS_[[Environmental Profile]:[Environmental Profile]],RWS_[SM],\"Not Found\",0)*Modellering!$I10,0)","v":0},{"$f":"IFERROR(_xlfn.XLOOKUP($F10,RWS_[[Environmental Profile]:[Environmental Profile]],RWS_[SF-R],\"Not Found\",0)*Modellering!$I10,0)","v":0},{"$f":"IFERROR(_xlfn.XLOOKUP($F10,RWS_[[Environmental Profile]:[Environmental Profile]],RWS_[SF-NR],\"Not Found\",0)*Modellering!$I10,0)","v":0},{"$f":"IFERROR(_xlfn.XLOOKUP($F10,RWS_[[Environmental Profile]:[Environmental Profile]],RWS_[FW],\"Not Found\",0)*Modellering!$I10,0)","v":0},{"$f":"IFERROR(_xlfn.XLOOKUP($F10,RWS_[[Environmental Profile]:[Environmental Profile]],RWS_[HWD],\"Not Found\",0)*Modellering!$I10,0)","v":0},{"$f":"IFERROR(_xlfn.XLOOKUP($F10,RWS_[[Environmental Profile]:[Environmental Profile]],RWS_[NHWD],\"Not Found\",0)*Modellering!$I10,0)","v":0},{"$f":"IFERROR(_xlfn.XLOOKUP($F10,RWS_[[Environmental Profile]:[Environmental Profile]],RWS_[RWD],\"Not Found\",0)*Modellering!$I10,0)","v":0},{"$f":"IFERROR(_xlfn.XLOOKUP($F10,RWS_[[Environmental Profile]:[Environmental Profile]],RWS_[CRU],\"Not Found\",0)*Modellering!$I10,0)","v":0},{"$f":"IFERROR(_xlfn.XLOOKUP($F10,RWS_[[Environmental Profile]:[Environmental Profile]],RWS_[MFR],\"Not Found\",0)*Modellering!$I10,0)","v":0},{"$f":"IFERROR(_xlfn.XLOOKUP($F10,RWS_[[Environmental Profile]:[Environmental Profile]],RWS_[MER],\"Not Found\",0)*Modellering!$I10,0)","v":0},{"$f":"IFERROR(_xlfn.XLOOKUP($F10,RWS_[[Environmental Profile]:[Environmental Profile]],RWS_[EE-E],\"Not Found\",0)*Modellering!$I10,0)","v":0},{"$f":"IFERROR(_xlfn.XLOOKUP($F10,RWS_[[Environmental Profile]:[Environmental Profile]],RWS_[EE-T],\"Not Found\",0)*Modellering!$I10,0)","v":0}]
[null,null,"Kapitaalgoederen","Casco Schip","B1",{"$f":"_xlfn.XLOOKUP(Invoerblad!$D$32,Capital_Short[Lookup Help],Capital_Short[Kapitaalgoederen B1],\"Not Found\",0)","v":"*RWS Kapitaalgoederen - Baggeren Zout (MGO)"},"Kapitaalgoederen - Schip (Zout)","ton",{"$f":"IF(Invoerblad!$D$32=\"Binnenvaart\",(_xlfn.XLOOKUP(Invoerblad!$D$44&Invoerblad!$D$46,Emi_Short[Brandstof]&Emi_Short[MotCel2],Emi_Short[Afkap_Zoet],\"Not Found\",0)),(_xlfn.XLOOKUP(Invoerblad!$D$44&Invoerblad!$D$46,Emi_Short[Brandstof]&Emi_Short[MotCel2],Emi_Short[Afkap_Zout],\"Not Found\",0)))","v":1.011737089201878},null,{"$f":"IFERROR(_xlfn.XLOOKUP($F11,RWS_[[Environmental Profile]:[Environmental Profile]],RWS_[ECI-A1],\"Not Found\",0)*Modellering!$I11,0)","v":10.648482785287971},{"$f":"IFERROR(_xlfn.XLOOKUP($F11,RWS_[[Environmental Profile]:[Environmental Profile]],RWS_[ECI-A2],\"Not Found\",0)*Modellering!$I11,0)","v":10.723818161242589},{"$f":"IFERROR(_xlfn.XLOOKUP($F11,RWS_[[Environmental Profile]:[Environmental Profile]],RWS_[ADPE],\"Not Found\",0)*Modellering!$I11,0)","v":5.8505079215962442E-3},{"$f":"IFERROR(_xlfn.XLOOKUP($F11,RWS_[[Environmental Profile]:[Environmental Profile]],RWS_[ADPF],\"Not Found\",0)*Modellering!$I11,0)","v":0.36814580298122068},{"$f":"IFERROR(_xlfn.XLOOKUP($F11,RWS_[[Environmental Profile]:[Environmental Profile]],RWS_[GWP1],\"Not Found\",0)*Modellering!$I11,0)","v":44.963119920187793},{"$f":"IFERROR(_xlfn.XLOOKUP($F11,RWS_[[Environmental Profile]:[Environmental Profile]],RWS_[ODP1],\"Not Found\",0)*Modellering!$I11,0)","v":2.0163624760563379E-5},{"$f":"IFERROR(_xlfn.XLOOKUP($F11,RWS_[[Environmental Profile]:[Environmental Profile]],RWS_[POCP],\"Not Found\",0)*Modellering!$I11,0)","v":8.1626517356807524E-2},{"$f":"IFERROR(_xlfn.XLOOKUP($F11,RWS_[[Environmental Profile]:[Environmental Profile]],RWS_[AP],\"Not Found\",0)*Modellering!$I11,0)","v":0.22391173392018779},{"$f":"IFERROR(_xlfn.XLOOKUP($F11,RWS_[[Environmental Profile]:[Environmental Profile]],RWS_[EP],\"Not Found\",0)*Modellering!$I11,0)","v":3.4771561382629108E-2},{"$f":"IFERROR(_xlfn.XLOOKUP($F11,RWS_[[Environmental Profile]:[Environmental Profile]],RWS_[HTP],\"Not Found\",0)*Modellering!$I11,0)","v":73.86013916197183},{"$f":"IFERROR(_xlfn.XLOOKUP($F11,RWS_[[Environmental Profile]:[Environmental Profile]],RWS_[FAETP],\"Not Found\",0)*Modellering!$I11,0)","v":0.80711181612676064},{"$f":"IFERROR(_xlfn.XLOOKUP($F11,RWS_[[Environmental Profile]:[Environmental Profile]],RWS_[MAETP],\"Not Found\",0)*Modellering!$I11,0)","v":2144.3158539906108},{"$f":"IFERROR(_xlfn.XLOOKUP($F11,RWS_[[Environmental Profile]:[Environmental Profile]],RWS_[TETP],\"Not Found\",0)*Modellering!$I11,0)","v":1.3663497248826293},{"$f":"IFERROR(_xlfn.XLOOKUP($F11,RWS_[[Environmental Profile]:[Environmental Profile]],RWS_[GWP2],\"Not Found\",0)*Modellering!$I11,0)","v":54.986869720657282},{"$f":"IFERROR(_xlfn.XLOOKUP($F11,RWS_[[Environmental Profile]:[Environmental Profile]],RWS_[GWP-F],\"Not Found\",0)*Modellering!$I11,0)","v":54.673597471830988},{"$f":"IFERROR(_xlfn.XLOOKUP($F11,RWS_[[Environmental Profile]:[Environmental Profile]],RWS_[GWP-B],\"Not Found\",0)*Modellering!$I11,0)","v":0.17978821009389673},{"$f":"IFERROR(_xlfn.XLOOKUP($F11,RWS_[[Environmental Profile]:[Environmental Profile]],RWS_[GWP-L],\"Not Found\",0)*Modellering!$I11,0)","v":0.133483886971831},{"$f":"IFERROR(_xlfn.XLOOKUP($F11,RWS_[[Environmental Profile]:[Environmental Profile]],RWS_[ODP2],\"Not Found\",0)*Modellering!$I11,0)","v":1.3602323577464789E-5},{"$f":"IFERROR(_xlfn.XLOOKUP($F11,RWS_[[Environmental Profile]:[Environmental Profile]],RWS_[AP2],\"Not Found\",0)*Modellering!$I11,0)","v":0.25834198680751175},{"$f":"IFERROR(_xlfn.XLOOKUP($F11,RWS_[[Environmental Profile]:[Environmental Profile]],RWS_[EP-FW],\"Not Found\",0)*Modellering!$I11,0)","v":3.9849780436619717E-3},{"$f":"IFERROR(_xlfn.XLOOKUP($F11,RWS_[[Environmental Profile]:[Environmental Profile]],RWS_[EP-M],\"Not Found\",0)*Modellering!$I11,0)","v":5.281216007042254E-2},{"$f":"IFERROR(_xlfn.XLOOKUP($F11,RWS_[[Environmental Profile]:[Environmental Profile]],RWS_[EP-T],\"Not Found\",0)*Modellering!$I11,0)","v":0.53867768103286384},{"$f":"IFERROR(_xlfn.XLOOKUP($F11,RWS_[[Environmental Profile]:[Environmental Profile]],RWS_[POCP2],\"Not Found\",0)*Modellering!$I11,0)","v":0.32201658119718313},{"$f":"IFERROR(_xlfn.XLOOKUP($F11,RWS_[[Environmental Profile]:[Environmental Profile]],RWS_[ADP-MM],\"Not Found\",0)*Modellering!$I11,0)","v":6.0040620924882633E-4},{"$f":"IFERROR(_xlfn.XLOOKUP($F11,RWS_[[Environmental Profile]:[Environmental Profile]],RWS_[ADP-F],\"Not Found\",0)*Modellering!$I11,0)","v":748.52967896713619},{"$f":"IFERROR(_xlfn.XLOOKUP($F11,RWS_[[Environmental Profile]:[Environmental Profile]],RWS_[WDP],\"Not Found\",0)*Modellering!$I11,0)","v":21.25369053521127},{"$f":"IFERROR(_xlfn.XLOOKUP($F11,RWS_[[Environmental Profile]:[Environmental Profile]],RWS_[PM],\"Not Found\",0)*Modellering!$I11,0)","v":3.611320469014085E-6},{"$f":"IFERROR(_xlfn.XLOOKUP($F11,RWS_[[Environmental Profile]:[Environmental Profile]],RWS_[IR],\"Not Found\",0)*Modellering!$I11,0)","v":1.1925346082159625},{"$f":"IFERROR(_xlfn.XLOOKUP($F11,RWS_[[Environmental Profile]:[Environmental Profile]],RWS_[ETP-FW],\"Not Found\",0)*Modellering!$I11,0)","v":548.30473377934277},{"$f":"IFERROR(_xlfn.XLOOKUP($F11,RWS_[[Environmental Profile]:[Environmental Profile]],RWS_[HTP-C],\"Not Found\",0)*Modellering!$I11,0)","v":4.6643957192488265E-7},{"$f":"IFERROR(_xlfn.XLOOKUP($F11,RWS_[[Environmental Profile]:[Environmental Profile]],RWS_[HTP-NC],\"Not Found\",0)*Modellering!$I11,0)","v":2.1854220237089202E-6},{"$f":"IFERROR(_xlfn.XLOOKUP($F11,RWS_[[Environmental Profile]:[Environmental Profile]],RWS_[SQP],\"Not Found\",0)*Modellering!$I11,0)","v":1984.2148335680752},{"$f":"IFERROR(_xlfn.XLOOKUP($F11,RWS_[[Environmental Profile]:[Environmental Profile]],RWS_[PERE],\"Not Found\",0)*Modellering!$I11,0)","v":0},{"$f":"IFERROR(_xlfn.XLOOKUP($F11,RWS_[[Environmental Profile]:[Environmental Profile]],RWS_[PERM],\"Not Found\",0)*Modellering!$I11,0)","v":0},{"$f":"IFERROR(_xlfn.XLOOKUP($F11,RWS_[[Environmental Profile]:[Environmental Profile]],RWS_[PERT],\"Not Found\",0)*Modellering!$I11,0)","v":49.913607166666672},{"$f":"IFERROR(_xlfn.XLOOKUP($F11,RWS_[[Environmental Profile]:[Environmental Profile]],RWS_[PENRE],\"Not Found\",0)*Modellering!$I11,0)","v":0},{"$f":"IFERROR(_xlfn.XLOOKUP($F11,RWS_[[Environmental Profile]:[Environmental Profile]],RWS_[PENRM],\"Not Found\",0)*Modellering!$I11,0)","v":0},{"$f":"IFERROR(_xlfn.XLOOKUP($F11,RWS_[[Environmental Profile]:[Environmental Profile]],RWS_[PENRT],\"Not Found\",0)*Modellering!$I11,0)","v":748.62839415492965},{"$f":"IFERROR(_xlfn.XLOOKUP($F11,RWS_[[Environmental Profile]:[Environmental Profile]],RWS_[SM],\"Not Found\",0)*Modellering!$I11,0)","v":0},{"$f":"IFERROR(_xlfn.XLOOKUP($F11,RWS_[[Environmental Profile]:[Environmental Profile]],RWS_[SF-R],\"Not Found\",0)*Modellering!$I11,0)","v":0},{"$f":"IFERROR(_xlfn.XLOOKUP($F11,RWS_[[Environmental Profile]:[Environmental Profile]],RWS_[SF-NR],\"Not Found\",0)*Modellering!$I11,0)","v":0},{"$f":"IFERROR(_xlfn.XLOOKUP($F11,RWS_[[Environmental Profile]:[Environmental Profile]],RWS_[FW],\"Not Found\",0)*Modellering!$I11,0)","v":0.6702692149530517},{"$f":"IFERROR(_xlfn.XLOOKUP($F11,RWS_[[Environmental Profile]:[Environmental Profile]],RWS_[HWD],\"Not Found\",0)*Modellering!$I11,0)","v":3.9889889741784035E-3},{"$f":"IFERROR(_xlfn.XLOOKUP($F11,RWS_[[Environmental Profile]:[Environmental Profile]],RWS_[NHWD],\"Not Found\",0)*Modellering!$I11,0)","v":25.960150842723003},{"$f":"IFERROR(_xlfn.XLOOKUP($F11,RWS_[[Environmental Profile]:[Environmental Profile]],RWS_[RWD],\"Not Found\",0)*Modellering!$I11,0)","v":7.9925973469483576E-4},{"$f":"IFERROR(_xlfn.XLOOKUP($F11,RWS_[[Environmental Profile]:[Environmental Profile]],RWS_[CRU],\"Not Found\",0)*Modellering!$I11,0)","v":0},{"$f":"IFERROR(_xlfn.XLOOKUP($F11,RWS_[[Environmental Profile]:[Environmental Profile]],RWS_[MFR],\"Not Found\",0)*Modellering!$I11,0)","v":0},{"$f":"IFERROR(_xlfn.XLOOKUP($F11,RWS_[[Environmental Profile]:[Environmental Profile]],RWS_[MER],\"Not Found\",0)*Modellering!$I11,0)","v":0},{"$f":"IFERROR(_xlfn.XLOOKUP($F11,RWS_[[Environmental Profile]:[Environmental Profile]],RWS_[EE-E],\"Not Found\",0)*Modellering!$I11,0)","v":0},{"$f":"IFERROR(_xlfn.XLOOKUP($F11,RWS_[[Environmental Profile]:[Environmental Profile]],RWS_[EE-T],\"Not Found\",0)*Modellering!$I11,0)","v":0}]
[null,null,"Kapitaalgoederen","Aandrijving (Type Motor)","B1",{"$f":"_xlfn.XLOOKUP(Invoerblad!$D$44&Invoerblad!$D$46,Emi_Short[Brandstof]&Emi_Short[MotCel2],Emi_Short[Kapitaalgoed Motor (B1)],\"Not Found\",0)","v":"*RWS Kapitaalgoederen Verbrandingsmotor (1000 kg o.b.v. Marine engine {GLO}| marine engine construction | Cut-off, U) (inlcusief reD)"},"Kapitaalgoederen - Motor, Brandstof.","ton",{"$f":"IF(Invoerblad!$D$32=\"Binnenvaart\",(_xlfn.XLOOKUP(Invoerblad!D$44&Invoerblad!D$46,Emi_Short[Brandstof]&Emi_Short[MotCel2],Emi_Short[VM / EA Zoet],\"Not Found\",0)),(_xlfn.XLOOKUP(Invoerblad!D$44&Invoerblad!D$46,Emi_Short[Brandstof]&Emi_Short[MotCel2],Emi_Short[VM / EA Zout],\"\",0)))","v":1.1264954318336339E-3},null,{"$f":"IFERROR(_xlfn.XLOOKUP($F12,RWS_[[Environmental Profile]:[Environmental Profile]],RWS_[ECI-A1],\"Not Found\",0)*Modellering!$I12,0)","v":1.6735637611356498},{"$f":"IFERROR(_xlfn.XLOOKUP($F12,RWS_[[Environmental Profile]:[Environmental Profile]],RWS_[ECI-A2],\"Not Found\",0)*Modellering!$I12,0)","v":0.87491309043278731},{"$f":"IFERROR(_xlfn.XLOOKUP($F12,RWS_[[Environmental Profile]:[Environmental Profile]],RWS_[ADPE],\"Not Found\",0)*Modellering!$I12,0)","v":9.2777376345511229E-5},{"$f":"IFERROR(_xlfn.XLOOKUP($F12,RWS_[[Environmental Profile]:[Environmental Profile]],RWS_[ADPF],\"Not Found\",0)*Modellering!$I12,0)","v":2.7733931143810949E-2},{"$f":"IFERROR(_xlfn.XLOOKUP($F12,RWS_[[Environmental Profile]:[Environmental Profile]],RWS_[GWP1],\"Not Found\",0)*Modellering!$I12,0)","v":3.9738496176376543},{"$f":"IFERROR(_xlfn.XLOOKUP($F12,RWS_[[Environmental Profile]:[Environmental Profile]],RWS_[ODP1],\"Not Found\",0)*Modellering!$I12,0)","v":2.7133459512844622E-7},{"$f":"IFERROR(_xlfn.XLOOKUP($F12,RWS_[[Environmental Profile]:[Environmental Profile]],RWS_[POCP],\"Not Found\",0)*Modellering!$I12,0)","v":2.7106336882332361E-3},{"$f":"IFERROR(_xlfn.XLOOKUP($F12,RWS_[[Environmental Profile]:[Environmental Profile]],RWS_[AP],\"Not Found\",0)*Modellering!$I12,0)","v":1.6987994951251341E-2},{"$f":"IFERROR(_xlfn.XLOOKUP($F12,RWS_[[Environmental Profile]:[Environmental Profile]],RWS_[EP],\"Not Found\",0)*Modellering!$I12,0)","v":2.3139225509769767E-3},{"$f":"IFERROR(_xlfn.XLOOKUP($F12,RWS_[[Environmental Profile]:[Environmental Profile]],RWS_[HTP],\"Not Found\",0)*Modellering!$I12,0)","v":14.956768231285706},{"$f":"IFERROR(_xlfn.XLOOKUP($F12,RWS_[[Environmental Profile]:[Environmental Profile]],RWS_[FAETP],\"Not Found\",0)*Modellering!$I12,0)","v":8.2765519774610594E-2},{"$f":"IFERROR(_xlfn.XLOOKUP($F12,RWS_[[Environmental Profile]:[Environmental Profile]],RWS_[MAETP],\"Not Found\",0)*Modellering!$I12,0)","v":194.67885651293972},{"$f":"IFERROR(_xlfn.XLOOKUP($F12,RWS_[[Environmental Profile]:[Environmental Profile]],RWS_[TETP],\"Not Found\",0)*Modellering!$I12,0)","v":0.13587207753629899},{"$f":"IFERROR(_xlfn.XLOOKUP($F12,RWS_[[Environmental Profile]:[Environmental Profile]],RWS_[GWP2],\"Not Found\",0)*Modellering!$I12,0)","v":4.5246346892930092},{"$f":"IFERROR(_xlfn.XLOOKUP($F12,RWS_[[Environmental Profile]:[Environmental Profile]],RWS_[GWP-F],\"Not Found\",0)*Modellering!$I12,0)","v":4.3397647354279902},{"$f":"IFERROR(_xlfn.XLOOKUP($F12,RWS_[[Environmental Profile]:[Environmental Profile]],RWS_[GWP-B],\"Not Found\",0)*Modellering!$I12,0)","v":0.17948759248658178},{"$f":"IFERROR(_xlfn.XLOOKUP($F12,RWS_[[Environmental Profile]:[Environmental Profile]],RWS_[GWP-L],\"Not Found\",0)*Modellering!$I12,0)","v":5.3823409888708309E-3},{"$f":"IFERROR(_xlfn.XLOOKUP($F12,RWS_[[Environmental Profile]:[Environmental Profile]],RWS_[ODP2],\"Not Found\",0)*Modellering!$I12,0)","v":5.8689976044800205E-8},{"$f":"IFERROR(_xlfn.XLOOKUP($F12,RWS_[[Environmental Profile]:[Environmental Profile]],RWS_[AP2],\"Not Found\",0)*Modellering!$I12,0)","v":2.0919852649274706E-2},{"$f":"IFERROR(_xlfn.XLOOKUP($F12,RWS_[[Environmental Profile]:[Environmental Profile]],RWS_[EP-FW],\"Not Found\",0)*Modellering!$I12,0)","v":2.7010002372488242E-4},{"$f":"IFERROR(_xlfn.XLOOKUP($F12,RWS_[[Environmental Profile]:[Environmental Profile]],RWS_[EP-M],\"Not Found\",0)*Modellering!$I12,0)","v":4.1962094521236408E-3},{"$f":"IFERROR(_xlfn.XLOOKUP($F12,RWS_[[Environmental Profile]:[Environmental Profile]],RWS_[EP-T],\"Not Found\",0)*Modellering!$I12,0)","v":4.4290796016381778E-2},{"$f":"IFERROR(_xlfn.XLOOKUP($F12,RWS_[[Environmental Profile]:[Environmental Profile]],RWS_[POCP2],\"Not Found\",0)*Modellering!$I12,0)","v":1.5835760225295741E-2},{"$f":"IFERROR(_xlfn.XLOOKUP($F12,RWS_[[Environmental Profile]:[Environmental Profile]],RWS_[ADP-MM],\"Not Found\",0)*Modellering!$I12,0)","v":4.7315020574040745E-5},{"$f":"IFERROR(_xlfn.XLOOKUP($F12,RWS_[[Environmental Profile]:[Environmental Profile]],RWS_[ADP-F],\"Not Found\",0)*Modellering!$I12,0)","v":52.405712008259393},{"$f":"IFERROR(_xlfn.XLOOKUP($F12,RWS_[[Environmental Profile]:[Environmental Profile]],RWS_[WDP],\"Not Found\",0)*Modellering!$I12,0)","v":1.1410012008598123},{"$f":"IFERROR(_xlfn.XLOOKUP($F12,RWS_[[Environmental Profile]:[Environmental Profile]],RWS_[PM],\"Not Found\",0)*Modellering!$I12,0)","v":3.0734161348771853E-7},{"$f":"IFERROR(_xlfn.XLOOKUP($F12,RWS_[[Environmental Profile]:[Environmental Profile]],RWS_[IR],\"Not Found\",0)*Modellering!$I12,0)","v":0.12805392888046993},{"$f":"IFERROR(_xlfn.XLOOKUP($F12,RWS_[[Environmental Profile]:[Environmental Profile]],RWS_[ETP-FW],\"Not Found\",0)*Modellering!$I12,0)","v":29.110072607779529},{"$f":"IFERROR(_xlfn.XLOOKUP($F12,RWS_[[Environmental Profile]:[Environmental Profile]],RWS_[HTP-C],\"Not Found\",0)*Modellering!$I12,0)","v":3.8511857553643761E-8},{"$f":"IFERROR(_xlfn.XLOOKUP($F12,RWS_[[Environmental Profile]:[Environmental Profile]],RWS_[HTP-NC],\"Not Found\",0)*Modellering!$I12,0)","v":3.1354138248140379E-7},{"$f":"IFERROR(_xlfn.XLOOKUP($F12,RWS_[[Environmental Profile]:[Environmental Profile]],RWS_[SQP],\"Not Found\",0)*Modellering!$I12,0)","v":19.975951988482421},{"$f":"IFERROR(_xlfn.XLOOKUP($F12,RWS_[[Environmental Profile]:[Environmental Profile]],RWS_[PERE],\"Not Found\",0)*Modellering!$I12,0)","v":0},{"$f":"IFERROR(_xlfn.XLOOKUP($F12,RWS_[[Environmental Profile]:[Environmental Profile]],RWS_[PERM],\"Not Found\",0)*Modellering!$I12,0)","v":0},{"$f":"IFERROR(_xlfn.XLOOKUP($F12,RWS_[[Environmental Profile]:[Environmental Profile]],RWS_[PERT],\"Not Found\",0)*Modellering!$I12,0)","v":6.2879793311245447},{"$f":"IFERROR(_xlfn.XLOOKUP($F12,RWS_[[Environmental Profile]:[Environmental Profile]],RWS_[PENRE],\"Not Found\",0)*Modellering!$I12,0)","v":0},{"$f":"IFERROR(_xlfn.XLOOKUP($F12,RWS_[[Environmental Profile]:[Environmental Profile]],RWS_[PENRM],\"Not Found\",0)*Modellering!$I12,0)","v":0},{"$f":"IFERROR(_xlfn.XLOOKUP($F12,RWS_[[Environmental Profile]:[Environmental Profile]],RWS_[PENRT],\"Not Found\",0)*Modellering!$I12,0)","v":52.406142329514353},{"$f":"IFERROR(_xlfn.XLOOKUP($F12,RWS_[[Environmental Profile]:[Environmental Profile]],RWS_[SM],\"Not Found\",0)*Modellering!$I12,0)","v":0},{"$f":"IFERROR(_xlfn.XLOOKUP($F12,RWS_[[Environmental Profile]:[Environmental Profile]],RWS_[SF-R],\"Not Found\",0)*Modellering!$I12,0)","v":0},{"$f":"IFERROR(_xlfn.XLOOKUP($F12,RWS_[[Environmental Profile]:[Environmental Profile]],RWS_[SF-NR],\"Not Found\",0)*Modellering!$I12,0)","v":0},{"$f":"IFERROR(_xlfn.XLOOKUP($F12,RWS_[[Environmental Profile]:[Environmental Profile]],RWS_[FW],\"Not Found\",0)*Modellering!$I12,0)","v":3.9029602739582531E-2},{"$f":"IFERROR(_xlfn.XLOOKUP($F12,RWS_[[Environmental Profile]:[Environmental Profile]],RWS_[HWD],\"Not Found\",0)*Modellering!$I12,0)","v":5.435764696776912E-4},{"$f":"IFERROR(_xlfn.XLOOKUP($F12,RWS_[[Environmental Profile]:[Environmental Profile]],RWS_[NHWD],\"Not Found\",0)*Modellering!$I12,0)","v":2.0721791095954285},{"$f":"IFERROR(_xlfn.XLOOKUP($F12,RWS_[[Environmental Profile]:[Environmental Profile]],RWS_[RWD],\"Not Found\",0)*Modellering!$I12,0)","v":8.6393623611917176E-5},{"$f":"IFERROR(_xlfn.XLOOKUP($F12,RWS_[[Environmental Profile]:[Environmental Profile]],RWS_[CRU],\"Not Found\",0)*Modellering!$I12,0)","v":0},{"$f":"IFERROR(_xlfn.XLOOKUP($F12,RWS_[[Environmental Profile]:[Environmental Profile]],RWS_[MFR],\"Not Found\",0)*Modellering!$I12,0)","v":0},{"$f":"IFERROR(_xlfn.XLOOKUP($F12,RWS_[[Environmental Profile]:[Environmental Profile]],RWS_[MER],\"Not Found\",0)*Modellering!$I12,0)","v":0},{"$f":"IFERROR(_xlfn.XLOOKUP($F12,RWS_[[Environmental Profile]:[Environmental Profile]],RWS_[EE-E],\"Not Found\",0)*Modellering!$I12,0)","v":0},{"$f":"IFERROR(_xlfn.XLOOKUP($F12,RWS_[[Environmental Profile]:[Environmental Profile]],RWS_[EE-T],\"Not Found\",0)*Modellering!$I12,0)","v":0}]
[null,null,"Kapitaalgoederen","Accu","B1",{"$f":"IF($F12=\"*RWS Kapitaalgoederen aandrijving elektrisch schip (100 kW) (inlusief EOL en reD)\",\"Accu, Lithium-ion, per kWh accucapaciteit (o.b.v. 5kg per kWh)\",\"Niet van Toepassing\")","v":"Niet van Toepassing"},"","Not Found",{"$f":"_xlfn.XLOOKUP(Invoerblad!$D$44,PM_NOx!$A$47:$A$51,PM_NOx!$B$47:$B$51,0,0)","v":0},null,{"$f":"IFERROR(_xlfn.XLOOKUP($F13,RWS_[[Environmental Profile]:[Environmental Profile]],RWS_[ECI-A1],\"Not Found\",0)*Modellering!$I13,0)","v":0},{"$f":"IFERROR(_xlfn.XLOOKUP($F13,RWS_[[Environmental Profile]:[Environmental Profile]],RWS_[ECI-A2],\"Not Found\",0)*Modellering!$I13,0)","v":0},{"$f":"IFERROR(_xlfn.XLOOKUP($F13,RWS_[[Environmental Profile]:[Environmental Profile]],RWS_[ADPE],\"Not Found\",0)*Modellering!$I13,0)","v":0},{"$f":"IFERROR(_xlfn.XLOOKUP($F13,RWS_[[Environmental Profile]:[Environmental Profile]],RWS_[ADPF],\"Not Found\",0)*Modellering!$I13,0)","v":0},{"$f":"IFERROR(_xlfn.XLOOKUP($F13,RWS_[[Environmental Profile]:[Environmental Profile]],RWS_[GWP1],\"Not Found\",0)*Modellering!$I13,0)","v":0},{"$f":"IFERROR(_xlfn.XLOOKUP($F13,RWS_[[Environmental Profile]:[Environmental Profile]],RWS_[ODP1],\"Not Found\",0)*Modellering!$I13,0)","v":0},{"$f":"IFERROR(_xlfn.XLOOKUP($F13,RWS_[[Environmental Profile]:[Environmental Profile]],RWS_[POCP],\"Not Found\",0)*Modellering!$I13,0)","v":0},{"$f":"IFERROR(_xlfn.XLOOKUP($F13,RWS_[[Environmental Profile]:[Environmental Profile]],RWS_[AP],\"Not Found\",0)*Modellering!$I13,0)","v":0},{"$f":"IFERROR(_xlfn.XLOOKUP($F13,RWS_[[Environmental Profile]:[Environmental Profile]],RWS_[EP],\"Not Found\",0)*Modellering!$I13,0)","v":0},{"$f":"IFERROR(_xlfn.XLOOKUP($F13,RWS_[[Environmental Profile]:[Environmental Profile]],RWS_[HTP],\"Not Found\",0)*Modellering!$I13,0)","v":0},{"$f":"IFERROR(_xlfn.XLOOKUP($F13,RWS_[[Environmental Profile]:[Environmental Profile]],RWS_[FAETP],\"Not Found\",0)*Modellering!$I13,0)","v":0},{"$f":"IFERROR(_xlfn.XLOOKUP($F13,RWS_[[Environmental Profile]:[Environmental Profile]],RWS_[MAETP],\"Not Found\",0)*Modellering!$I13,0)","v":0},{"$f":"IFERROR(_xlfn.XLOOKUP($F13,RWS_[[Environmental Profile]:[Environmental Profile]],RWS_[TETP],\"Not Found\",0)*Modellering!$I13,0)","v":0},{"$f":"IFERROR(_xlfn.XLOOKUP($F13,RWS_[[Environmental Profile]:[Environmental Profile]],RWS_[GWP2],\"Not Found\",0)*Modellering!$I13,0)","v":0},{"$f":"IFERROR(_xlfn.XLOOKUP($F13,RWS_[[Environmental Profile]:[Environmental Profile]],RWS_[GWP-F],\"Not Found\",0)*Modellering!$I13,0)","v":0},{"$f":"IFERROR(_xlfn.XLOOKUP($F13,RWS_[[Environmental Profile]:[Environmental Profile]],RWS_[GWP-B],\"Not Found\",0)*Modellering!$I13,0)","v":0},{"$f":"IFERROR(_xlfn.XLOOKUP($F13,RWS_[[Environmental Profile]:[Environmental Profile]],RWS_[GWP-L],\"Not Found\",0)*Modellering!$I13,0)","v":0},{"$f":"IFERROR(_xlfn.XLOOKUP($F13,RWS_[[Environmental Profile]:[Environmental Profile]],RWS_[ODP2],\"Not Found\",0)*Modellering!$I13,0)","v":0},{"$f":"IFERROR(_xlfn.XLOOKUP($F13,RWS_[[Environmental Profile]:[Environmental Profile]],RWS_[AP2],\"Not Found\",0)*Modellering!$I13,0)","v":0},{"$f":"IFERROR(_xlfn.XLOOKUP($F13,RWS_[[Environmental Profile]:[Environmental Profile]],RWS_[EP-FW],\"Not Found\",0)*Modellering!$I13,0)","v":0},{"$f":"IFERROR(_xlfn.XLOOKUP($F13,RWS_[[Environmental Profile]:[Environmental Profile]],RWS_[EP-M],\"Not Found\",0)*Modellering!$I13,0)","v":0},{"$f":"IFERROR(_xlfn.XLOOKUP($F13,RWS_[[Environmental Profile]:[Environmental Profile]],RWS_[EP-T],\"Not Found\",0)*Modellering!$I13,0)","v":0},{"$f":"IFERROR(_xlfn.XLOOKUP($F13,RWS_[[Environmental Profile]:[Environmental Profile]],RWS_[POCP2],\"Not Found\",0)*Modellering!$I13,0)","v":0},{"$f":"IFERROR(_xlfn.XLOOKUP($F13,RWS_[[Environmental Profile]:[Environmental Profile]],RWS_[ADP-MM],\"Not Found\",0)*Modellering!$I13,0)","v":0},{"$f":"IFERROR(_xlfn.XLOOKUP($F13,RWS_[[Environmental Profile]:[Environmental Profile]],RWS_[ADP-F],\"Not Found\",0)*Modellering!$I13,0)","v":0},{"$f":"IFERROR(_xlfn.XLOOKUP($F13,RWS_[[Environmental Profile]:[Environmental Profile]],RWS_[WDP],\"Not Found\",0)*Modellering!$I13,0)","v":0},{"$f":"IFERROR(_xlfn.XLOOKUP($F13,RWS_[[Environmental Profile]:[Environmental Profile]],RWS_[PM],\"Not Found\",0)*Modellering!$I13,0)","v":0},{"$f":"IFERROR(_xlfn.XLOOKUP($F13,RWS_[[Environmental Profile]:[Environmental Profile]],RWS_[IR],\"Not Found\",0)*Modellering!$I13,0)","v":0},{"$f":"IFERROR(_xlfn.XLOOKUP($F13,RWS_[[Environmental Profile]:[Environmental Profile]],RWS_[ETP-FW],\"Not Found\",0)*Modellering!$I13,0)","v":0},{"$f":"IFERROR(_xlfn.XLOOKUP($F13,RWS_[[Environmental Profile]:[Environmental Profile]],RWS_[HTP-C],\"Not Found\",0)*Modellering!$I13,0)","v":0},{"$f":"IFERROR(_xlfn.XLOOKUP($F13,RWS_[[Environmental Profile]:[Environmental Profile]],RWS_[HTP-NC],\"Not Found\",0)*Modellering!$I13,0)","v":0},{"$f":"IFERROR(_xlfn.XLOOKUP($F13,RWS_[[Environmental Profile]:[Environmental Profile]],RWS_[SQP],\"Not Found\",0)*Modellering!$I13,0)","v":0},{"$f":"IFERROR(_xlfn.XLOOKUP($F13,RWS_[[Environmental Profile]:[Environmental Profile]],RWS_[PERE],\"Not Found\",0)*Modellering!$I13,0)","v":0},{"$f":"IFERROR(_xlfn.XLOOKUP($F13,RWS_[[Environmental Profile]:[Environmental Profile]],RWS_[PERM],\"Not Found\",0)*Modellering!$I13,0)","v":0},{"$f":"IFERROR(_xlfn.XLOOKUP($F13,RWS_[[Environmental Profile]:[Environmental Profile]],RWS_[PERT],\"Not Found\",0)*Modellering!$I13,0)","v":0},{"$f":"IFERROR(_xlfn.XLOOKUP($F13,RWS_[[Environmental Profile]:[Environmental Profile]],RWS_[PENRE],\"Not Found\",0)*Modellering!$I13,0)","v":0},{"$f":"IFERROR(_xlfn.XLOOKUP($F13,RWS_[[Environmental Profile]:[Environmental Profile]],RWS_[PENRM],\"Not Found\",0)*Modellering!$I13,0)","v":0},{"$f":"IFERROR(_xlfn.XLOOKUP($F13,RWS_[[Environmental Profile]:[Environmental Profile]],RWS_[PENRT],\"Not Found\",0)*Modellering!$I13,0)","v":0},{"$f":"IFERROR(_xlfn.XLOOKUP($F13,RWS_[[Environmental Profile]:[Environmental Profile]],RWS_[SM],\"Not Found\",0)*Modellering!$I13,0)","v":0},{"$f":"IFERROR(_xlfn.XLOOKUP($F13,RWS_[[Environmental Profile]:[Environmental Profile]],RWS_[SF-R],\"Not Found\",0)*Modellering!$I13,0)","v":0},{"$f":"IFERROR(_xlfn.XLOOKUP($F13,RWS_[[Environmental Profile]:[Environmental Profile]],RWS_[SF-NR],\"Not Found\",0)*Modellering!$I13,0)","v":0},{"$f":"IFERROR(_xlfn.XLOOKUP($F13,RWS_[[Environmental Profile]:[Environmental Profile]],RWS_[FW],\"Not Found\",0)*Modellering!$I13,0)","v":0},{"$f":"IFERROR(_xlfn.XLOOKUP($F13,RWS_[[Environmental Profile]:[Environmental Profile]],RWS_[HWD],\"Not Found\",0)*Modellering!$I13,0)","v":0},{"$f":"IFERROR(_xlfn.XLOOKUP($F13,RWS_[[Environmental Profile]:[Environmental Profile]],RWS_[NHWD],\"Not Found\",0)*Modellering!$I13,0)","v":0},{"$f":"IFERROR(_xlfn.XLOOKUP($F13,RWS_[[Environmental Profile]:[Environmental Profile]],RWS_[RWD],\"Not Found\",0)*Modellering!$I13,0)","v":0},{"$f":"IFERROR(_xlfn.XLOOKUP($F13,RWS_[[Environmental Profile]:[Environmental Profile]],RWS_[CRU],\"Not Found\",0)*Modellering!$I13,0)","v":0},{"$f":"IFERROR(_xlfn.XLOOKUP($F13,RWS_[[Environmental Profile]:[Environmental Profile]],RWS_[MFR],\"Not Found\",0)*Modellering!$I13,0)","v":0},{"$f":"IFERROR(_xlfn.XLOOKUP($F13,RWS_[[Environmental Profile]:[Environmental Profile]],RWS_[MER],\"Not Found\",0)*Modellering!$I13,0)","v":0},{"$f":"IFERROR(_xlfn.XLOOKUP($F13,RWS_[[Environmental Profile]:[Environmental Profile]],RWS_[EE-E],\"Not Found\",0)*Modellering!$I13,0)","v":0},{"$f":"IFERROR(_xlfn.XLOOKUP($F13,RWS_[[Environmental Profile]:[Environmental Profile]],RWS_[EE-T],\"Not Found\",0)*Modellering!$I13,0)","v":0}]
[null,null,"Kapitaalgoederen","Brandstofcel","B1",{"$f":"IF(Invoerblad!$D$46=\"Brandstofcel\",\"Brandstofcel Waterstof, per kW machinevermogen\",\"Niet van Toepassing\")","v":"Niet van Toepassing"},"","Not Found",{"$f":"_xlfn.XLOOKUP(Invoerblad!$D$44,PM_NOx!$A$47:$A$51,IF(Invoerblad!$D$32=\"Binnenvaart\",PM_NOx!$D$47:$D$51,PM_NOx!$C$47:$C$51),0,0)","v":0},null,{"$f":"IFERROR(_xlfn.XLOOKUP($F14,RWS_[[Environmental Profile]:[Environmental Profile]],RWS_[ECI-A1],\"Not Found\",0)*Modellering!$I14,0)","v":0},{"$f":"IFERROR(_xlfn.XLOOKUP($F14,RWS_[[Environmental Profile]:[Environmental Profile]],RWS_[ECI-A2],\"Not Found\",0)*Modellering!$I14,0)","v":0},{"$f":"IFERROR(_xlfn.XLOOKUP($F14,RWS_[[Environmental Profile]:[Environmental Profile]],RWS_[ADPE],\"Not Found\",0)*Modellering!$I14,0)","v":0},{"$f":"IFERROR(_xlfn.XLOOKUP($F14,RWS_[[Environmental Profile]:[Environmental Profile]],RWS_[ADPF],\"Not Found\",0)*Modellering!$I14,0)","v":0},{"$f":"IFERROR(_xlfn.XLOOKUP($F14,RWS_[[Environmental Profile]:[Environmental Profile]],RWS_[GWP1],\"Not Found\",0)*Modellering!$I14,0)","v":0},{"$f":"IFERROR(_xlfn.XLOOKUP($F14,RWS_[[Environmental Profile]:[Environmental Profile]],RWS_[ODP1],\"Not Found\",0)*Modellering!$I14,0)","v":0},{"$f":"IFERROR(_xlfn.XLOOKUP($F14,RWS_[[Environmental Profile]:[Environmental Profile]],RWS_[POCP],\"Not Found\",0)*Modellering!$I14,0)","v":0},{"$f":"IFERROR(_xlfn.XLOOKUP($F14,RWS_[[Environmental Profile]:[Environmental Profile]],RWS_[AP],\"Not Found\",0)*Modellering!$I14,0)","v":0},{"$f":"IFERROR(_xlfn.XLOOKUP($F14,RWS_[[Environmental Profile]:[Environmental Profile]],RWS_[EP],\"Not Found\",0)*Modellering!$I14,0)","v":0},{"$f":"IFERROR(_xlfn.XLOOKUP($F14,RWS_[[Environmental Profile]:[Environmental Profile]],RWS_[HTP],\"Not Found\",0)*Modellering!$I14,0)","v":0},{"$f":"IFERROR(_xlfn.XLOOKUP($F14,RWS_[[Environmental Profile]:[Environmental Profile]],RWS_[FAETP],\"Not Found\",0)*Modellering!$I14,0)","v":0},{"$f":"IFERROR(_xlfn.XLOOKUP($F14,RWS_[[Environmental Profile]:[Environmental Profile]],RWS_[MAETP],\"Not Found\",0)*Modellering!$I14,0)","v":0},{"$f":"IFERROR(_xlfn.XLOOKUP($F14,RWS_[[Environmental Profile]:[Environmental Profile]],RWS_[TETP],\"Not Found\",0)*Modellering!$I14,0)","v":0},{"$f":"IFERROR(_xlfn.XLOOKUP($F14,RWS_[[Environmental Profile]:[Environmental Profile]],RWS_[GWP2],\"Not Found\",0)*Modellering!$I14,0)","v":0},{"$f":"IFERROR(_xlfn.XLOOKUP($F14,RWS_[[Environmental Profile]:[Environmental Profile]],RWS_[GWP-F],\"Not Found\",0)*Modellering!$I14,0)","v":0},{"$f":"IFERROR(_xlfn.XLOOKUP($F14,RWS_[[Environmental Profile]:[Environmental Profile]],RWS_[GWP-B],\"Not Found\",0)*Modellering!$I14,0)","v":0},{"$f":"IFERROR(_xlfn.XLOOKUP($F14,RWS_[[Environmental Profile]:[Environmental Profile]],RWS_[GWP-L],\"Not Found\",0)*Modellering!$I14,0)","v":0},{"$f":"IFERROR(_xlfn.XLOOKUP($F14,RWS_[[Environmental Profile]:[Environmental Profile]],RWS_[ODP2],\"Not Found\",0)*Modellering!$I14,0)","v":0},{"$f":"IFERROR(_xlfn.XLOOKUP($F14,RWS_[[Environmental Profile]:[Environmental Profile]],RWS_[AP2],\"Not Found\",0)*Modellering!$I14,0)","v":0},{"$f":"IFERROR(_xlfn.XLOOKUP($F14,RWS_[[Environmental Profile]:[Environmental Profile]],RWS_[EP-FW],\"Not Found\",0)*Modellering!$I14,0)","v":0},{"$f":"IFERROR(_xlfn.XLOOKUP($F14,RWS_[[Environmental Profile]:[Environmental Profile]],RWS_[EP-M],\"Not Found\",0)*Modellering!$I14,0)","v":0},{"$f":"IFERROR(_xlfn.XLOOKUP($F14,RWS_[[Environmental Profile]:[Environmental Profile]],RWS_[EP-T],\"Not Found\",0)*Modellering!$I14,0)","v":0},{"$f":"IFERROR(_xlfn.XLOOKUP($F14,RWS_[[Environmental Profile]:[Environmental Profile]],RWS_[POCP2],\"Not Found\",0)*Modellering!$I14,0)","v":0},{"$f":"IFERROR(_xlfn.XLOOKUP($F14,RWS_[[Environmental Profile]:[Environmental Profile]],RWS_[ADP-MM],\"Not Found\",0)*Modellering!$I14,0)","v":0},{"$f":"IFERROR(_xlfn.XLOOKUP($F14,RWS_[[Environmental Profile]:[Environmental Profile]],RWS_[ADP-F],\"Not Found\",0)*Modellering!$I14,0)","v":0},{"$f":"IFERROR(_xlfn.XLOOKUP($F14,RWS_[[Environmental Profile]:[Environmental Profile]],RWS_[WDP],\"Not Found\",0)*Modellering!$I14,0)","v":0},{"$f":"IFERROR(_xlfn.XLOOKUP($F14,RWS_[[Environmental Profile]:[Environmental Profile]],RWS_[PM],\"Not Found\",0)*Modellering!$I14,0)","v":0},{"$f":"IFERROR(_xlfn.XLOOKUP($F14,RWS_[[Environmental Profile]:[Environmental Profile]],RWS_[IR],\"Not Found\",0)*Modellering!$I14,0)","v":0},{"$f":"IFERROR(_xlfn.XLOOKUP($F14,RWS_[[Environmental Profile]:[Environmental Profile]],RWS_[ETP-FW],\"Not Found\",0)*Modellering!$I14,0)","v":0},{"$f":"IFERROR(_xlfn.XLOOKUP($F14,RWS_[[Environmental Profile]:[Environmental Profile]],RWS_[HTP-C],\"Not Found\",0)*Modellering!$I14,0)","v":0},{"$f":"IFERROR(_xlfn.XLOOKUP($F14,RWS_[[Environmental Profile]:[Environmental Profile]],RWS_[HTP-NC],\"Not Found\",0)*Modellering!$I14,0)","v":0},{"$f":"IFERROR(_xlfn.XLOOKUP($F14,RWS_[[Environmental Profile]:[Environmental Profile]],RWS_[SQP],\"Not Found\",0)*Modellering!$I14,0)","v":0},{"$f":"IFERROR(_xlfn.XLOOKUP($F14,RWS_[[Environmental Profile]:[Environmental Profile]],RWS_[PERE],\"Not Found\",0)*Modellering!$I14,0)","v":0},{"$f":"IFERROR(_xlfn.XLOOKUP($F14,RWS_[[Environmental Profile]:[Environmental Profile]],RWS_[PERM],\"Not Found\",0)*Modellering!$I14,0)","v":0},{"$f":"IFERROR(_xlfn.XLOOKUP($F14,RWS_[[Environmental Profile]:[Environmental Profile]],RWS_[PERT],\"Not Found\",0)*Modellering!$I14,0)","v":0},{"$f":"IFERROR(_xlfn.XLOOKUP($F14,RWS_[[Environmental Profile]:[Environmental Profile]],RWS_[PENRE],\"Not Found\",0)*Modellering!$I14,0)","v":0},{"$f":"IFERROR(_xlfn.XLOOKUP($F14,RWS_[[Environmental Profile]:[Environmental Profile]],RWS_[PENRM],\"Not Found\",0)*Modellering!$I14,0)","v":0},{"$f":"IFERROR(_xlfn.XLOOKUP($F14,RWS_[[Environmental Profile]:[Environmental Profile]],RWS_[PENRT],\"Not Found\",0)*Modellering!$I14,0)","v":0},{"$f":"IFERROR(_xlfn.XLOOKUP($F14,RWS_[[Environmental Profile]:[Environmental Profile]],RWS_[SM],\"Not Found\",0)*Modellering!$I14,0)","v":0},{"$f":"IFERROR(_xlfn.XLOOKUP($F14,RWS_[[Environmental Profile]:[Environmental Profile]],RWS_[SF-R],\"Not Found\",0)*Modellering!$I14,0)","v":0},{"$f":"IFERROR(_xlfn.XLOOKUP($F14,RWS_[[Environmental Profile]:[Environmental Profile]],RWS_[SF-NR],\"Not Found\",0)*Modellering!$I14,0)","v":0},{"$f":"IFERROR(_xlfn.XLOOKUP($F14,RWS_[[Environmental Profile]:[Environmental Profile]],RWS_[FW],\"Not Found\",0)*Modellering!$I14,0)","v":0},{"$f":"IFERROR(_xlfn.XLOOKUP($F14,RWS_[[Environmental Profile]:[Environmental Profile]],RWS_[HWD],\"Not Found\",0)*Modellering!$I14,0)","v":0},{"$f":"IFERROR(_xlfn.XLOOKUP($F14,RWS_[[Environmental Profile]:[Environmental Profile]],RWS_[NHWD],\"Not Found\",0)*Modellering!$I14,0)","v":0},{"$f":"IFERROR(_xlfn.XLOOKUP($F14,RWS_[[Environmental Profile]:[Environmental Profile]],RWS_[RWD],\"Not Found\",0)*Modellering!$I14,0)","v":0},{"$f":"IFERROR(_xlfn.XLOOKUP($F14,RWS_[[Environmental Profile]:[Environmental Profile]],RWS_[CRU],\"Not Found\",0)*Modellering!$I14,0)","v":0},{"$f":"IFERROR(_xlfn.XLOOKUP($F14,RWS_[[Environmental Profile]:[Environmental Profile]],RWS_[MFR],\"Not Found\",0)*Modellering!$I14,0)","v":0},{"$f":"IFERROR(_xlfn.XLOOKUP($F14,RWS_[[Environmental Profile]:[Environmental Profile]],RWS_[MER],\"Not Found\",0)*Modellering!$I14,0)","v":0},{"$f":"IFERROR(_xlfn.XLOOKUP($F14,RWS_[[Environmental Profile]:[Environmental Profile]],RWS_[EE-E],\"Not Found\",0)*Modellering!$I14,0)","v":0},{"$f":"IFERROR(_xlfn.XLOOKUP($F14,RWS_[[Environmental Profile]:[Environmental Profile]],RWS_[EE-T],\"Not Found\",0)*Modellering!$I14,0)","v":0}]
[null,null,"AdBlue","Winning AdBlue","A1-A3","*RWS Energiedrager AdBlue (A1-A3) 32,5% Ureum","AdBlue ","kg",{"$f":"Invoerblad!$D$78","v":66.646634615384613},null,{"$f":"IFERROR(_xlfn.XLOOKUP($F15,RWS_[[Environmental Profile]:[Environmental Profile]],RWS_[ECI-A1],\"Not Found\",0)*Modellering!$I15,0)","v":8.2306819938409816},{"$f":"IFERROR(_xlfn.XLOOKUP($F15,RWS_[[Environmental Profile]:[Environmental Profile]],RWS_[ECI-A2],\"Not Found\",0)*Modellering!$I15,0)","v":5.2319397434699058},{"$f":"IFERROR(_xlfn.XLOOKUP($F15,RWS_[[Environmental Profile]:[Environmental Profile]],RWS_[ADPE],\"Not Found\",0)*Modellering!$I15,0)","v":1.2491970608173076E-3},{"$f":"IFERROR(_xlfn.XLOOKUP($F15,RWS_[[Environmental Profile]:[Environmental Profile]],RWS_[ADPF],\"Not Found\",0)*Modellering!$I15,0)","v":0.60970587337740378},{"$f":"IFERROR(_xlfn.XLOOKUP($F15,RWS_[[Environmental Profile]:[Environmental Profile]],RWS_[GWP1],\"Not Found\",0)*Modellering!$I15,0)","v":67.930008870192296},{"$f":"IFERROR(_xlfn.XLOOKUP($F15,RWS_[[Environmental Profile]:[Environmental Profile]],RWS_[ODP1],\"Not Found\",0)*Modellering!$I15,0)","v":1.0974365423076923E-5},{"$f":"IFERROR(_xlfn.XLOOKUP($F15,RWS_[[Environmental Profile]:[Environmental Profile]],RWS_[POCP],\"Not Found\",0)*Modellering!$I15,0)","v":2.1748101816105769E-2},{"$f":"IFERROR(_xlfn.XLOOKUP($F15,RWS_[[Environmental Profile]:[Environmental Profile]],RWS_[AP],\"Not Found\",0)*Modellering!$I15,0)","v":0.3379983874579327},{"$f":"IFERROR(_xlfn.XLOOKUP($F15,RWS_[[Environmental Profile]:[Environmental Profile]],RWS_[EP],\"Not Found\",0)*Modellering!$I15,0)","v":4.7180270308293269E-2},{"$f":"IFERROR(_xlfn.XLOOKUP($F15,RWS_[[Environmental Profile]:[Environmental Profile]],RWS_[HTP],\"Not Found\",0)*Modellering!$I15,0)","v":29.674675317307692},{"$f":"IFERROR(_xlfn.XLOOKUP($F15,RWS_[[Environmental Profile]:[Environmental Profile]],RWS_[FAETP],\"Not Found\",0)*Modellering!$I15,0)","v":0.5011955284495192},{"$f":"IFERROR(_xlfn.XLOOKUP($F15,RWS_[[Environmental Profile]:[Environmental Profile]],RWS_[MAETP],\"Not Found\",0)*Modellering!$I15,0)","v":2242.8547960336541},{"$f":"IFERROR(_xlfn.XLOOKUP($F15,RWS_[[Environmental Profile]:[Environmental Profile]],RWS_[TETP],\"Not Found\",0)*Modellering!$I15,0)","v":9.9086630757211538E-2},{"$f":"IFERROR(_xlfn.XLOOKUP($F15,RWS_[[Environmental Profile]:[Environmental Profile]],RWS_[GWP2],\"Not Found\",0)*Modellering!$I15,0)","v":30.489826972956728},{"$f":"IFERROR(_xlfn.XLOOKUP($F15,RWS_[[Environmental Profile]:[Environmental Profile]],RWS_[GWP-F],\"Not Found\",0)*Modellering!$I15,0)","v":30.449848989182691},{"$f":"IFERROR(_xlfn.XLOOKUP($F15,RWS_[[Environmental Profile]:[Environmental Profile]],RWS_[GWP-B],\"Not Found\",0)*Modellering!$I15,0)","v":2.9233552572716346E-2},{"$f":"IFERROR(_xlfn.XLOOKUP($F15,RWS_[[Environmental Profile]:[Environmental Profile]],RWS_[GWP-L],\"Not Found\",0)*Modellering!$I15,0)","v":1.07443645546875E-2},{"$f":"IFERROR(_xlfn.XLOOKUP($F15,RWS_[[Environmental Profile]:[Environmental Profile]],RWS_[ODP2],\"Not Found\",0)*Modellering!$I15,0)","v":1.348255620012019E-6},{"$f":"IFERROR(_xlfn.XLOOKUP($F15,RWS_[[Environmental Profile]:[Environmental Profile]],RWS_[AP2],\"Not Found\",0)*Modellering!$I15,0)","v":0.12489131461538462},{"$f":"IFERROR(_xlfn.XLOOKUP($F15,RWS_[[Environmental Profile]:[Environmental Profile]],RWS_[EP-FW],\"Not Found\",0)*Modellering!$I15,0)","v":4.7977116799278845E-4},{"$f":"IFERROR(_xlfn.XLOOKUP($F15,RWS_[[Environmental Profile]:[Environmental Profile]],RWS_[EP-M],\"Not Found\",0)*Modellering!$I15,0)","v":2.137745988701923E-2},{"$f":"IFERROR(_xlfn.XLOOKUP($F15,RWS_[[Environmental Profile]:[Environmental Profile]],RWS_[EP-T],\"Not Found\",0)*Modellering!$I15,0)","v":0.34771815930889421},{"$f":"IFERROR(_xlfn.XLOOKUP($F15,RWS_[[Environmental Profile]:[Environmental Profile]],RWS_[POCP2],\"Not Found\",0)*Modellering!$I15,0)","v":0.10411705875600961},{"$f":"IFERROR(_xlfn.XLOOKUP($F15,RWS_[[Environmental Profile]:[Environmental Profile]],RWS_[ADP-MM],\"Not Found\",0)*Modellering!$I15,0)","v":2.9704902898437498E-4},{"$f":"IFERROR(_xlfn.XLOOKUP($F15,RWS_[[Environmental Profile]:[Environmental Profile]],RWS_[ADP-F],\"Not Found\",0)*Modellering!$I15,0)","v":648.84914137620194},{"$f":"IFERROR(_xlfn.XLOOKUP($F15,RWS_[[Environmental Profile]:[Environmental Profile]],RWS_[WDP],\"Not Found\",0)*Modellering!$I15,0)","v":70.315305252403846},{"$f":"IFERROR(_xlfn.XLOOKUP($F15,RWS_[[Environmental Profile]:[Environmental Profile]],RWS_[PM],\"Not Found\",0)*Modellering!$I15,0)","v":1.1920434395432693E-6},{"$f":"IFERROR(_xlfn.XLOOKUP($F15,RWS_[[Environmental Profile]:[Environmental Profile]],RWS_[IR],\"Not Found\",0)*Modellering!$I15,0)","v":0.43246122799278847},{"$f":"IFERROR(_xlfn.XLOOKUP($F15,RWS_[[Environmental Profile]:[Environmental Profile]],RWS_[ETP-FW],\"Not Found\",0)*Modellering!$I15,0)","v":91.408498581730768},{"$f":"IFERROR(_xlfn.XLOOKUP($F15,RWS_[[Environmental Profile]:[Environmental Profile]],RWS_[HTP-C],\"Not Found\",0)*Modellering!$I15,0)","v":1.3513505564302884E-8},{"$f":"IFERROR(_xlfn.XLOOKUP($F15,RWS_[[Environmental Profile]:[Environmental Profile]],RWS_[HTP-NC],\"Not Found\",0)*Modellering!$I15,0)","v":3.026546974158654E-7},{"$f":"IFERROR(_xlfn.XLOOKUP($F15,RWS_[[Environmental Profile]:[Environmental Profile]],RWS_[SQP],\"Not Found\",0)*Modellering!$I15,0)","v":60.01101309134615},{"$f":"IFERROR(_xlfn.XLOOKUP($F15,RWS_[[Environmental Profile]:[Environmental Profile]],RWS_[PERE],\"Not Found\",0)*Modellering!$I15,0)","v":0},{"$f":"IFERROR(_xlfn.XLOOKUP($F15,RWS_[[Environmental Profile]:[Environmental Profile]],RWS_[PERM],\"Not Found\",0)*Modellering!$I15,0)","v":0},{"$f":"IFERROR(_xlfn.XLOOKUP($F15,RWS_[[Environmental Profile]:[Environmental Profile]],RWS_[PERT],\"Not Found\",0)*Modellering!$I15,0)","v":16.67422754266827},{"$f":"IFERROR(_xlfn.XLOOKUP($F15,RWS_[[Environmental Profile]:[Environmental Profile]],RWS_[PENRE],\"Not Found\",0)*Modellering!$I15,0)","v":0},{"$f":"IFERROR(_xlfn.XLOOKUP($F15,RWS_[[Environmental Profile]:[Environmental Profile]],RWS_[PENRM],\"Not Found\",0)*Modellering!$I15,0)","v":0},{"$f":"IFERROR(_xlfn.XLOOKUP($F15,RWS_[[Environmental Profile]:[Environmental Profile]],RWS_[PENRT],\"Not Found\",0)*Modellering!$I15,0)","v":648.83593201322117},{"$f":"IFERROR(_xlfn.XLOOKUP($F15,RWS_[[Environmental Profile]:[Environmental Profile]],RWS_[SM],\"Not Found\",0)*Modellering!$I15,0)","v":0},{"$f":"IFERROR(_xlfn.XLOOKUP($F15,RWS_[[Environmental Profile]:[Environmental Profile]],RWS_[SF-R],\"Not Found\",0)*Modellering!$I15,0)","v":0},{"$f":"IFERROR(_xlfn.XLOOKUP($F15,RWS_[[Environmental Profile]:[Environmental Profile]],RWS_[SF-NR],\"Not Found\",0)*Modellering!$I15,0)","v":0},{"$f":"IFERROR(_xlfn.XLOOKUP($F15,RWS_[[Environmental Profile]:[Environmental Profile]],RWS_[FW],\"Not Found\",0)*Modellering!$I15,0)","v":1.8872640096754807},{"$f":"IFERROR(_xlfn.XLOOKUP($F15,RWS_[[Environmental Profile]:[Environmental Profile]],RWS_[HWD],\"Not Found\",0)*Modellering!$I15,0)","v":2.8946962046875E-3},{"$f":"IFERROR(_xlfn.XLOOKUP($F15,RWS_[[Environmental Profile]:[Environmental Profile]],RWS_[NHWD],\"Not Found\",0)*Modellering!$I15,0)","v":2.9348571334735576},{"$f":"IFERROR(_xlfn.XLOOKUP($F15,RWS_[[Environmental Profile]:[Environmental Profile]],RWS_[RWD],\"Not Found\",0)*Modellering!$I15,0)","v":3.2626756673677886E-4},{"$f":"IFERROR(_xlfn.XLOOKUP($F15,RWS_[[Environmental Profile]:[Environmental Profile]],RWS_[CRU],\"Not Found\",0)*Modellering!$I15,0)","v":0},{"$f":"IFERROR(_xlfn.XLOOKUP($F15,RWS_[[Environmental Profile]:[Environmental Profile]],RWS_[MFR],\"Not Found\",0)*Modellering!$I15,0)","v":0},{"$f":"IFERROR(_xlfn.XLOOKUP($F15,RWS_[[Environmental Profile]:[Environmental Profile]],RWS_[MER],\"Not Found\",0)*Modellering!$I15,0)","v":0},{"$f":"IFERROR(_xlfn.XLOOKUP($F15,RWS_[[Environmental Profile]:[Environmental Profile]],RWS_[EE-E],\"Not Found\",0)*Modellering!$I15,0)","v":0},{"$f":"IFERROR(_xlfn.XLOOKUP($F15,RWS_[[Environmental Profile]:[Environmental Profile]],RWS_[EE-T],\"Not Found\",0)*Modellering!$I15,0)","v":0}]
[null,null,"AdBlue","Opslag AdBlue","A4","*RWS Energiedrager AdBlue (A4) 32,5% Ureum","Opslag AdBlue","kg",{"$f":"Invoerblad!$D$78","v":66.646634615384613},null,{"$f":"IFERROR(_xlfn.XLOOKUP($F16,RWS_[[Environmental Profile]:[Environmental Profile]],RWS_[ECI-A1],\"Not Found\",0)*Modellering!$I16,0)","v":8.5959039201876239E-2},{"$f":"IFERROR(_xlfn.XLOOKUP($F16,RWS_[[Environmental Profile]:[Environmental Profile]],RWS_[ECI-A2],\"Not Found\",0)*Modellering!$I16,0)","v":0.19168322781381023},{"$f":"IFERROR(_xlfn.XLOOKUP($F16,RWS_[[Environmental Profile]:[Environmental Profile]],RWS_[ADPE],\"Not Found\",0)*Modellering!$I16,0)","v":1.5400480394230768E-5},{"$f":"IFERROR(_xlfn.XLOOKUP($F16,RWS_[[Environmental Profile]:[Environmental Profile]],RWS_[ADPF],\"Not Found\",0)*Modellering!$I16,0)","v":6.6727237055288456E-3},{"$f":"IFERROR(_xlfn.XLOOKUP($F16,RWS_[[Environmental Profile]:[Environmental Profile]],RWS_[GWP1],\"Not Found\",0)*Modellering!$I16,0)","v":0.89637790805288464},{"$f":"IFERROR(_xlfn.XLOOKUP($F16,RWS_[[Environmental Profile]:[Environmental Profile]],RWS_[ODP1],\"Not Found\",0)*Modellering!$I16,0)","v":1.6981373890024037E-7},{"$f":"IFERROR(_xlfn.XLOOKUP($F16,RWS_[[Environmental Profile]:[Environmental Profile]],RWS_[POCP],\"Not Found\",0)*Modellering!$I16,0)","v":5.6021350268629802E-4},{"$f":"IFERROR(_xlfn.XLOOKUP($F16,RWS_[[Environmental Profile]:[Environmental Profile]],RWS_[AP],\"Not Found\",0)*Modellering!$I16,0)","v":3.3109171673677885E-3},{"$f":"IFERROR(_xlfn.XLOOKUP($F16,RWS_[[Environmental Profile]:[Environmental Profile]],RWS_[EP],\"Not Found\",0)*Modellering!$I16,0)","v":6.4192708861177876E-4},{"$f":"IFERROR(_xlfn.XLOOKUP($F16,RWS_[[Environmental Profile]:[Environmental Profile]],RWS_[HTP],\"Not Found\",0)*Modellering!$I16,0)","v":0.193641883515625},{"$f":"IFERROR(_xlfn.XLOOKUP($F16,RWS_[[Environmental Profile]:[Environmental Profile]],RWS_[FAETP],\"Not Found\",0)*Modellering!$I16,0)","v":8.1420420709134612E-3},{"$f":"IFERROR(_xlfn.XLOOKUP($F16,RWS_[[Environmental Profile]:[Environmental Profile]],RWS_[MAETP],\"Not Found\",0)*Modellering!$I16,0)","v":21.861864955528844},{"$f":"IFERROR(_xlfn.XLOOKUP($F16,RWS_[[Environmental Profile]:[Environmental Profile]],RWS_[TETP],\"Not Found\",0)*Modellering!$I16,0)","v":1.088212848016827E-3},{"$f":"IFERROR(_xlfn.XLOOKUP($F16,RWS_[[Environmental Profile]:[Environmental Profile]],RWS_[GWP2],\"Not Found\",0)*Modellering!$I16,0)","v":0.99678959387019228},{"$f":"IFERROR(_xlfn.XLOOKUP($F16,RWS_[[Environmental Profile]:[Environmental Profile]],RWS_[GWP-F],\"Not Found\",0)*Modellering!$I16,0)","v":0.99597957067307685},{"$f":"IFERROR(_xlfn.XLOOKUP($F16,RWS_[[Environmental Profile]:[Environmental Profile]],RWS_[GWP-B],\"Not Found\",0)*Modellering!$I16,0)","v":5.2013795490384615E-4},{"$f":"IFERROR(_xlfn.XLOOKUP($F16,RWS_[[Environmental Profile]:[Environmental Profile]],RWS_[GWP-L],\"Not Found\",0)*Modellering!$I16,0)","v":2.8991229408052883E-4},{"$f":"IFERROR(_xlfn.XLOOKUP($F16,RWS_[[Environmental Profile]:[Environmental Profile]],RWS_[ODP2],\"Not Found\",0)*Modellering!$I16,0)","v":2.1949217366586539E-8},{"$f":"IFERROR(_xlfn.XLOOKUP($F16,RWS_[[Environmental Profile]:[Environmental Profile]],RWS_[AP2],\"Not Found\",0)*Modellering!$I16,0)","v":3.8092362537259614E-3},{"$f":"IFERROR(_xlfn.XLOOKUP($F16,RWS_[[Environmental Profile]:[Environmental Profile]],RWS_[EP-FW],\"Not Found\",0)*Modellering!$I16,0)","v":6.0814316974759614E-6},{"$f":"IFERROR(_xlfn.XLOOKUP($F16,RWS_[[Environmental Profile]:[Environmental Profile]],RWS_[EP-M],\"Not Found\",0)*Modellering!$I16,0)","v":1.4532889167067306E-3},{"$f":"IFERROR(_xlfn.XLOOKUP($F16,RWS_[[Environmental Profile]:[Environmental Profile]],RWS_[EP-T],\"Not Found\",0)*Modellering!$I16,0)","v":1.5595932980168269E-2},{"$f":"IFERROR(_xlfn.XLOOKUP($F16,RWS_[[Environmental Profile]:[Environmental Profile]],RWS_[POCP2],\"Not Found\",0)*Modellering!$I16,0)","v":5.9733274571514422E-3},{"$f":"IFERROR(_xlfn.XLOOKUP($F16,RWS_[[Environmental Profile]:[Environmental Profile]],RWS_[ADP-MM],\"Not Found\",0)*Modellering!$I16,0)","v":1.5569569570913461E-6},{"$f":"IFERROR(_xlfn.XLOOKUP($F16,RWS_[[Environmental Profile]:[Environmental Profile]],RWS_[ADP-F],\"Not Found\",0)*Modellering!$I16,0)","v":14.488462520432693},{"$f":"IFERROR(_xlfn.XLOOKUP($F16,RWS_[[Environmental Profile]:[Environmental Profile]],RWS_[WDP],\"Not Found\",0)*Modellering!$I16,0)","v":6.4983311895432688E-2},{"$f":"IFERROR(_xlfn.XLOOKUP($F16,RWS_[[Environmental Profile]:[Environmental Profile]],RWS_[PM],\"Not Found\",0)*Modellering!$I16,0)","v":8.7438551832932686E-8},{"$f":"IFERROR(_xlfn.XLOOKUP($F16,RWS_[[Environmental Profile]:[Environmental Profile]],RWS_[IR],\"Not Found\",0)*Modellering!$I16,0)","v":5.4712913546874995E-3},{"$f":"IFERROR(_xlfn.XLOOKUP($F16,RWS_[[Environmental Profile]:[Environmental Profile]],RWS_[ETP-FW],\"Not Found\",0)*Modellering!$I16,0)","v":6.4662010469350966},{"$f":"IFERROR(_xlfn.XLOOKUP($F16,RWS_[[Environmental Profile]:[Environmental Profile]],RWS_[HTP-C],\"Not Found\",0)*Modellering!$I16,0)","v":3.082641047235577E-10},{"$f":"IFERROR(_xlfn.XLOOKUP($F16,RWS_[[Environmental Profile]:[Environmental Profile]],RWS_[HTP-NC],\"Not Found\",0)*Modellering!$I16,0)","v":6.3208471361177877E-9},{"$f":"IFERROR(_xlfn.XLOOKUP($F16,RWS_[[Environmental Profile]:[Environmental Profile]],RWS_[SQP],\"Not Found\",0)*Modellering!$I16,0)","v":15.278781640024038},{"$f":"IFERROR(_xlfn.XLOOKUP($F16,RWS_[[Environmental Profile]:[Environmental Profile]],RWS_[PERE],\"Not Found\",0)*Modellering!$I16,0)","v":0},{"$f":"IFERROR(_xlfn.XLOOKUP($F16,RWS_[[Environmental Profile]:[Environmental Profile]],RWS_[PERM],\"Not Found\",0)*Modellering!$I16,0)","v":0},{"$f":"IFERROR(_xlfn.XLOOKUP($F16,RWS_[[Environmental Profile]:[Environmental Profile]],RWS_[PERT],\"Not Found\",0)*Modellering!$I16,0)","v":0.1566880441045673},{"$f":"IFERROR(_xlfn.XLOOKUP($F16,RWS_[[Environmental Profile]:[Environmental Profile]],RWS_[PENRE],\"Not Found\",0)*Modellering!$I16,0)","v":0},{"$f":"IFERROR(_xlfn.XLOOKUP($F16,RWS_[[Environmental Profile]:[Environmental Profile]],RWS_[PENRM],\"Not Found\",0)*Modellering!$I16,0)","v":0},{"$f":"IFERROR(_xlfn.XLOOKUP($F16,RWS_[[Environmental Profile]:[Environmental Profile]],RWS_[PENRT],\"Not Found\",0)*Modellering!$I16,0)","v":14.488664459735576},{"$f":"IFERROR(_xlfn.XLOOKUP($F16,RWS_[[Environmental Profile]:[Environmental Profile]],RWS_[SM],\"Not Found\",0)*Modellering!$I16,0)","v":0},{"$f":"IFERROR(_xlfn.XLOOKUP($F16,RWS_[[Environmental Profile]:[Environmental Profile]],RWS_[SF-R],\"Not Found\",0)*Modellering!$I16,0)","v":0},{"$f":"IFERROR(_xlfn.XLOOKUP($F16,RWS_[[Environmental Profile]:[Environmental Profile]],RWS_[SF-NR],\"Not Found\",0)*Modellering!$I16,0)","v":0},{"$f":"IFERROR(_xlfn.XLOOKUP($F16,RWS_[[Environmental Profile]:[Environmental Profile]],RWS_[FW],\"Not Found\",0)*Modellering!$I16,0)","v":2.0399334549879807E-3},{"$f":"IFERROR(_xlfn.XLOOKUP($F16,RWS_[[Environmental Profile]:[Environmental Profile]],RWS_[HWD],\"Not Found\",0)*Modellering!$I16,0)","v":9.0973942530048066E-5},{"$f":"IFERROR(_xlfn.XLOOKUP($F16,RWS_[[Environmental Profile]:[Environmental Profile]],RWS_[NHWD],\"Not Found\",0)*Modellering!$I16,0)","v":1.3259469920072116},{"$f":"IFERROR(_xlfn.XLOOKUP($F16,RWS_[[Environmental Profile]:[Environmental Profile]],RWS_[RWD],\"Not Found\",0)*Modellering!$I16,0)","v":3.3739228296874999E-6},{"$f":"IFERROR(_xlfn.XLOOKUP($F16,RWS_[[Environmental Profile]:[Environmental Profile]],RWS_[CRU],\"Not Found\",0)*Modellering!$I16,0)","v":0},{"$f":"IFERROR(_xlfn.XLOOKUP($F16,RWS_[[Environmental Profile]:[Environmental Profile]],RWS_[MFR],\"Not Found\",0)*Modellering!$I16,0)","v":0},{"$f":"IFERROR(_xlfn.XLOOKUP($F16,RWS_[[Environmental Profile]:[Environmental Profile]],RWS_[MER],\"Not Found\",0)*Modellering!$I16,0)","v":0},{"$f":"IFERROR(_xlfn.XLOOKUP($F16,RWS_[[Environmental Profile]:[Environmental Profile]],RWS_[EE-E],\"Not Found\",0)*Modellering!$I16,0)","v":0},{"$f":"IFERROR(_xlfn.XLOOKUP($F16,RWS_[[Environmental Profile]:[Environmental Profile]],RWS_[EE-T],\"Not Found\",0)*Modellering!$I16,0)","v":0}]
[null,null,"AdBlue","Gebruiksprofiel AdBlue","B1","*RWS Emmissieprofiel AdBlue (B), CO2 naar lucht per kg AdBlue,  32,5% Ureum","AdBlue Emissies","kg",{"$f":"Invoerblad!$D$78","v":66.646634615384613},null,{"$f":"IFERROR(_xlfn.XLOOKUP($F17,RWS_[[Environmental Profile]:[Environmental Profile]],RWS_[ECI-A1],\"Not Found\",0)*Modellering!$I17,0)","v":0.79384472656249994},{"$f":"IFERROR(_xlfn.XLOOKUP($F17,RWS_[[Environmental Profile]:[Environmental Profile]],RWS_[ECI-A2],\"Not Found\",0)*Modellering!$I17,0)","v":1.8417197656249999},{"$f":"IFERROR(_xlfn.XLOOKUP($F17,RWS_[[Environmental Profile]:[Environmental Profile]],RWS_[ADPE],\"Not Found\",0)*Modellering!$I17,0)","v":0},{"$f":"IFERROR(_xlfn.XLOOKUP($F17,RWS_[[Environmental Profile]:[Environmental Profile]],RWS_[ADPF],\"Not Found\",0)*Modellering!$I17,0)","v":0},{"$f":"IFERROR(_xlfn.XLOOKUP($F17,RWS_[[Environmental Profile]:[Environmental Profile]],RWS_[GWP1],\"Not Found\",0)*Modellering!$I17,0)","v":15.876894531249999},{"$f":"IFERROR(_xlfn.XLOOKUP($F17,RWS_[[Environmental Profile]:[Environmental Profile]],RWS_[ODP1],\"Not Found\",0)*Modellering!$I17,0)","v":0},{"$f":"IFERROR(_xlfn.XLOOKUP($F17,RWS_[[Environmental Profile]:[Environmental Profile]],RWS_[POCP],\"Not Found\",0)*Modellering!$I17,0)","v":0},{"$f":"IFERROR(_xlfn.XLOOKUP($F17,RWS_[[Environmental Profile]:[Environmental Profile]],RWS_[AP],\"Not Found\",0)*Modellering!$I17,0)","v":0},{"$f":"IFERROR(_xlfn.XLOOKUP($F17,RWS_[[Environmental Profile]:[Environmental Profile]],RWS_[EP],\"Not Found\",0)*Modellering!$I17,0)","v":0},{"$f":"IFERROR(_xlfn.XLOOKUP($F17,RWS_[[Environmental Profile]:[Environmental Profile]],RWS_[HTP],\"Not Found\",0)*Modellering!$I17,0)","v":0},{"$f":"IFERROR(_xlfn.XLOOKUP($F17,RWS_[[Environmental Profile]:[Environmental Profile]],RWS_[FAETP],\"Not Found\",0)*Modellering!$I17,0)","v":0},{"$f":"IFERROR(_xlfn.XLOOKUP($F17,RWS_[[Environmental Profile]:[Environmental Profile]],RWS_[MAETP],\"Not Found\",0)*Modellering!$I17,0)","v":0},{"$f":"IFERROR(_xlfn.XLOOKUP($F17,RWS_[[Environmental Profile]:[Environmental Profile]],RWS_[TETP],\"Not Found\",0)*Modellering!$I17,0)","v":0},{"$f":"IFERROR(_xlfn.XLOOKUP($F17,RWS_[[Environmental Profile]:[Environmental Profile]],RWS_[GWP2],\"Not Found\",0)*Modellering!$I17,0)","v":15.876894531249999},{"$f":"IFERROR(_xlfn.XLOOKUP($F17,RWS_[[Environmental Profile]:[Environmental Profile]],RWS_[GWP-F],\"Not Found\",0)*Modellering!$I17,0)","v":15.876894531249999},{"$f":"IFERROR(_xlfn.XLOOKUP($F17,RWS_[[Environmental Profile]:[Environmental Profile]],RWS_[GWP-B],\"Not Found\",0)*Modellering!$I17,0)","v":0},{"$f":"IFERROR(_xlfn.XLOOKUP($F17,RWS_[[Environmental Profile]:[Environmental Profile]],RWS_[GWP-L],\"Not Found\",0)*Modellering!$I17,0)","v":0},{"$f":"IFERROR(_xlfn.XLOOKUP($F17,RWS_[[Environmental Profile]:[Environmental Profile]],RWS_[ODP2],\"Not Found\",0)*Modellering!$I17,0)","v":0},{"$f":"IFERROR(_xlfn.XLOOKUP($F17,RWS_[[Environmental Profile]:[Environmental Profile]],RWS_[AP2],\"Not Found\",0)*Modellering!$I17,0)","v":0},{"$f":"IFERROR(_xlfn.XLOOKUP($F17,RWS_[[Environmental Profile]:[Environmental Profile]],RWS_[EP-FW],\"Not Found\",0)*Modellering!$I17,0)","v":0},{"$f":"IFERROR(_xlfn.XLOOKUP($F17,RWS_[[Environmental Profile]:[Environmental Profile]],RWS_[EP-M],\"Not Found\",0)*Modellering!$I17,0)","v":0},{"$f":"IFERROR(_xlfn.XLOOKUP($F17,RWS_[[Environmental Profile]:[Environmental Profile]],RWS_[EP-T],\"Not Found\",0)*Modellering!$I17,0)","v":0},{"$f":"IFERROR(_xlfn.XLOOKUP($F17,RWS_[[Environmental Profile]:[Environmental Profile]],RWS_[POCP2],\"Not Found\",0)*Modellering!$I17,0)","v":0},{"$f":"IFERROR(_xlfn.XLOOKUP($F17,RWS_[[Environmental Profile]:[Environmental Profile]],RWS_[ADP-MM],\"Not Found\",0)*Modellering!$I17,0)","v":0},{"$f":"IFERROR(_xlfn.XLOOKUP($F17,RWS_[[Environmental Profile]:[Environmental Profile]],RWS_[ADP-F],\"Not Found\",0)*Modellering!$I17,0)","v":0},{"$f":"IFERROR(_xlfn.XLOOKUP($F17,RWS_[[Environmental Profile]:[Environmental Profile]],RWS_[WDP],\"Not Found\",0)*Modellering!$I17,0)","v":0},{"$f":"IFERROR(_xlfn.XLOOKUP($F17,RWS_[[Environmental Profile]:[Environmental Profile]],RWS_[PM],\"Not Found\",0)*Modellering!$I17,0)","v":0},{"$f":"IFERROR(_xlfn.XLOOKUP($F17,RWS_[[Environmental Profile]:[Environmental Profile]],RWS_[IR],\"Not Found\",0)*Modellering!$I17,0)","v":0},{"$f":"IFERROR(_xlfn.XLOOKUP($F17,RWS_[[Environmental Profile]:[Environmental Profile]],RWS_[ETP-FW],\"Not Found\",0)*Modellering!$I17,0)","v":0},{"$f":"IFERROR(_xlfn.XLOOKUP($F17,RWS_[[Environmental Profile]:[Environmental Profile]],RWS_[HTP-C],\"Not Found\",0)*Modellering!$I17,0)","v":0},{"$f":"IFERROR(_xlfn.XLOOKUP($F17,RWS_[[Environmental Profile]:[Environmental Profile]],RWS_[HTP-NC],\"Not Found\",0)*Modellering!$I17,0)","v":0},{"$f":"IFERROR(_xlfn.XLOOKUP($F17,RWS_[[Environmental Profile]:[Environmental Profile]],RWS_[SQP],\"Not Found\",0)*Modellering!$I17,0)","v":0},{"$f":"IFERROR(_xlfn.XLOOKUP($F17,RWS_[[Environmental Profile]:[Environmental Profile]],RWS_[PERE],\"Not Found\",0)*Modellering!$I17,0)","v":0},{"$f":"IFERROR(_xlfn.XLOOKUP($F17,RWS_[[Environmental Profile]:[Environmental Profile]],RWS_[PERM],\"Not Found\",0)*Modellering!$I17,0)","v":0},{"$f":"IFERROR(_xlfn.XLOOKUP($F17,RWS_[[Environmental Profile]:[Environmental Profile]],RWS_[PERT],\"Not Found\",0)*Modellering!$I17,0)","v":0},{"$f":"IFERROR(_xlfn.XLOOKUP($F17,RWS_[[Environmental Profile]:[Environmental Profile]],RWS_[PENRE],\"Not Found\",0)*Modellering!$I17,0)","v":0},{"$f":"IFERROR(_xlfn.XLOOKUP($F17,RWS_[[Environmental Profile]:[Environmental Profile]],RWS_[PENRM],\"Not Found\",0)*Modellering!$I17,0)","v":0},{"$f":"IFERROR(_xlfn.XLOOKUP($F17,RWS_[[Environmental Profile]:[Environmental Profile]],RWS_[PENRT],\"Not Found\",0)*Modellering!$I17,0)","v":0},{"$f":"IFERROR(_xlfn.XLOOKUP($F17,RWS_[[Environmental Profile]:[Environmental Profile]],RWS_[SM],\"Not Found\",0)*Modellering!$I17,0)","v":0},{"$f":"IFERROR(_xlfn.XLOOKUP($F17,RWS_[[Environmental Profile]:[Environmental Profile]],RWS_[SF-R],\"Not Found\",0)*Modellering!$I17,0)","v":0},{"$f":"IFERROR(_xlfn.XLOOKUP($F17,RWS_[[Environmental Profile]:[Environmental Profile]],RWS_[SF-NR],\"Not Found\",0)*Modellering!$I17,0)","v":0},{"$f":"IFERROR(_xlfn.XLOOKUP($F17,RWS_[[Environmental Profile]:[Environmental Profile]],RWS_[FW],\"Not Found\",0)*Modellering!$I17,0)","v":0},{"$f":"IFERROR(_xlfn.XLOOKUP($F17,RWS_[[Environmental Profile]:[Environmental Profile]],RWS_[HWD],\"Not Found\",0)*Modellering!$I17,0)","v":0},{"$f":"IFERROR(_xlfn.XLOOKUP($F17,RWS_[[Environmental Profile]:[Environmental Profile]],RWS_[NHWD],\"Not Found\",0)*Modellering!$I17,0)","v":0},{"$f":"IFERROR(_xlfn.XLOOKUP($F17,RWS_[[Environmental Profile]:[Environmental Profile]],RWS_[RWD],\"Not Found\",0)*Modellering!$I17,0)","v":0},{"$f":"IFERROR(_xlfn.XLOOKUP($F17,RWS_[[Environmental Profile]:[Environmental Profile]],RWS_[CRU],\"Not Found\",0)*Modellering!$I17,0)","v":0},{"$f":"IFERROR(_xlfn.XLOOKUP($F17,RWS_[[Environmental Profile]:[Environmental Profile]],RWS_[MFR],\"Not Found\",0)*Modellering!$I17,0)","v":0},{"$f":"IFERROR(_xlfn.XLOOKUP($F17,RWS_[[Environmental Profile]:[Environmental Profile]],RWS_[MER],\"Not Found\",0)*Modellering!$I17,0)","v":0},{"$f":"IFERROR(_xlfn.XLOOKUP($F17,RWS_[[Environmental Profile]:[Environmental Profile]],RWS_[EE-E],\"Not Found\",0)*Modellering!$I17,0)","v":0},{"$f":"IFERROR(_xlfn.XLOOKUP($F17,RWS_[[Environmental Profile]:[Environmental Profile]],RWS_[EE-T],\"Not Found\",0)*Modellering!$I17,0)","v":0}]
[{"$nulls":10},{"$f":"SUM(K6:K17)","v":353.73472291804921},623.45400024334867,1.0032419239153293E-2,26.336005911207966,3973.7434378473199,6.4578912871766903E-4,1.1226835263638331,16.106592921496738,3.3912634123305114,513.59422439408092,15.470245471543203,67833.598128478974,2.4792399466561466,4080.821887508027,4078.9854682983646,1.5076837281080986,0.32873529880946989,3.8523562904088822E-4,19.652257805325899,1.0086563937077117E-2,8.3446858913262716,90.774475599338317,26.063192497635644,1.4968495817643333E-3,55708.606094872026,147.89024560037038,4.7785244273878005E-5,11.29214112644391,16787.321558015788,8.0017330514755295E-7,8.167983640742307E-6,3617.3394902879277,{"$f":"SUM(AQ6:AQ17)","v":0},0,239.16440608456404,0,0,55708.584022957395,0,0,0,4.8703130728231026,0.31342025439107357,70.766766077799204,7.5523390478732192E-3,0,0,0,0,0]
[]
[]
[]
[]
[null,null,"Milieuprofiel Motor 2",{"$f":"Invoerblad!E43","v":"Milieuprofiel 2"}]
[]
[null,null,"Onderdeel","Verdieping","Module","Milieuprofiel","Name Short","Eenheid","Hoeveelheid",null,"ECI-A1","ECI-A2","ADPE","ADPF","GWP1","ODP1","POCP","AP","EP","HTP","FAETP","MAETP","TETP","GWP2","GWP-F","GWP-B","GWP-L","ODP2","AP2","EP-FW","EP-M","EP-T","POCP2","ADP-MM","ADP-F","WDP","PM","IR","ETP-FW","HTP-C","HTP-NC","SQP","PERE","PERM","PERT","PENRE","PENRM","PENRT","SM","SF-R","SF-NR","FW","HWD","NHWD","RWD","CRU","MFR","MER","EE-E","EE-T"]
[null,null,"Energiedragers","Winning Energiedrager","A1-A3",{"$f":"_xlfn.XLOOKUP(Invoerblad!$E$45,Fuel_Short[Brandstof],Fuel_Short[Winning Energiedrager A1-A3],\"Not Found\",0)","v":"Not Found"},{"$f":"_xlfn.XLOOKUP(F26:F37,RWS_[Environmental Profile],RWS_[Result Name],\"\",0)","v":""},{"$f":"_xlfn.XLOOKUP(F26:F37,RWS_[Environmental Profile],RWS_[Fuctional Unit],\"Not Found\",0)","v":"Not Found"},1,null,{"$f":"IFERROR(_xlfn.XLOOKUP($F26,RWS_[[Environmental Profile]:[Environmental Profile]],RWS_[ECI-A1],\"Not Found\",0)*Modellering!$I26,0)","v":0},{"$f":"IFERROR(_xlfn.XLOOKUP($F26,RWS_[[Environmental Profile]:[Environmental Profile]],RWS_[ECI-A2],\"Not Found\",0)*Modellering!$I26,0)","v":0},{"$f":"IFERROR(_xlfn.XLOOKUP($F26,RWS_[[Environmental Profile]:[Environmental Profile]],RWS_[ADPE],\"Not Found\",0)*Modellering!$I26,0)","v":0},{"$f":"IFERROR(_xlfn.XLOOKUP($F26,RWS_[[Environmental Profile]:[Environmental Profile]],RWS_[ADPF],\"Not Found\",0)*Modellering!$I26,0)","v":0},{"$f":"IFERROR(_xlfn.XLOOKUP($F26,RWS_[[Environmental Profile]:[Environmental Profile]],RWS_[GWP1],\"Not Found\",0)*Modellering!$I26,0)","v":0},{"$f":"IFERROR(_xlfn.XLOOKUP($F26,RWS_[[Environmental Profile]:[Environmental Profile]],RWS_[ODP1],\"Not Found\",0)*Modellering!$I26,0)","v":0},{"$f":"IFERROR(_xlfn.XLOOKUP($F26,RWS_[[Environmental Profile]:[Environmental Profile]],RWS_[POCP],\"Not Found\",0)*Modellering!$I26,0)","v":0},{"$f":"IFERROR(_xlfn.XLOOKUP($F26,RWS_[[Environmental Profile]:[Environmental Profile]],RWS_[AP],\"Not Found\",0)*Modellering!$I26,0)","v":0},{"$f":"IFERROR(_xlfn.XLOOKUP($F26,RWS_[[Environmental Profile]:[Environmental Profile]],RWS_[EP],\"Not Found\",0)*Modellering!$I26,0)","v":0},{"$f":"IFERROR(_xlfn.XLOOKUP($F26,RWS_[[Environmental Profile]:[Environmental Profile]],RWS_[HTP],\"Not Found\",0)*Modellering!$I26,0)","v":0},{"$f":"IFERROR(_xlfn.XLOOKUP($F26,RWS_[[Environmental Profile]:[Environmental Profile]],RWS_[FAETP],\"Not Found\",0)*Modellering!$I26,0)","v":0},{"$f":"IFERROR(_xlfn.XLOOKUP($F26,RWS_[[Environmental Profile]:[Environmental Profile]],RWS_[MAETP],\"Not Found\",0)*Modellering!$I26,0)","v":0},{"$f":"IFERROR(_xlfn.XLOOKUP($F26,RWS_[[Environmental Profile]:[Environmental Profile]],RWS_[TETP],\"Not Found\",0)*Modellering!$I26,0)","v":0},{"$f":"IFERROR(_xlfn.XLOOKUP($F26,RWS_[[Environmental Profile]:[Environmental Profile]],RWS_[GWP2],\"Not Found\",0)*Modellering!$I26,0)","v":0},{"$f":"IFERROR(_xlfn.XLOOKUP($F26,RWS_[[Environmental Profile]:[Environmental Profile]],RWS_[GWP-F],\"Not Found\",0)*Modellering!$I26,0)","v":0},{"$f":"IFERROR(_xlfn.XLOOKUP($F26,RWS_[[Environmental Profile]:[Environmental Profile]],RWS_[GWP-B],\"Not Found\",0)*Modellering!$I26,0)","v":0},{"$f":"IFERROR(_xlfn.XLOOKUP($F26,RWS_[[Environmental Profile]:[Environmental Profile]],RWS_[GWP-L],\"Not Found\",0)*Modellering!$I26,0)","v":0},{"$f":"IFERROR(_xlfn.XLOOKUP($F26,RWS_[[Environmental Profile]:[Environmental Profile]],RWS_[ODP2],\"Not Found\",0)*Modellering!$I26,0)","v":0},{"$f":"IFERROR(_xlfn.XLOOKUP($F26,RWS_[[Environmental Profile]:[Environmental Profile]],RWS_[AP2],\"Not Found\",0)*Modellering!$I26,0)","v":0},{"$f":"IFERROR(_xlfn.XLOOKUP($F26,RWS_[[Environmental Profile]:[Environmental Profile]],RWS_[EP-FW],\"Not Found\",0)*Modellering!$I26,0)","v":0},{"$f":"IFERROR(_xlfn.XLOOKUP($F26,RWS_[[Environmental Profile]:[Environmental Profile]],RWS_[EP-M],\"Not Found\",0)*Modellering!$I26,0)","v":0},{"$f":"IFERROR(_xlfn.XLOOKUP($F26,RWS_[[Environmental Profile]:[Environmental Profile]],RWS_[EP-T],\"Not Found\",0)*Modellering!$I26,0)","v":0},{"$f":"IFERROR(_xlfn.XLOOKUP($F26,RWS_[[Environmental Profile]:[Environmental Profile]],RWS_[POCP2],\"Not Found\",0)*Modellering!$I26,0)","v":0},{"$f":"IFERROR(_xlfn.XLOOKUP($F26,RWS_[[Environmental Profile]:[Environmental Profile]],RWS_[ADP-MM],\"Not Found\",0)*Modellering!$I26,0)","v":0},{"$f":"IFERROR(_xlfn.XLOOKUP($F26,RWS_[[Environmental Profile]:[Environmental Profile]],RWS_[ADP-F],\"Not Found\",0)*Modellering!$I26,0)","v":0},{"$f":"IFERROR(_xlfn.XLOOKUP($F26,RWS_[[Environmental Profile]:[Environmental Profile]],RWS_[WDP],\"Not Found\",0)*Modellering!$I26,0)","v":0},{"$f":"IFERROR(_xlfn.XLOOKUP($F26,RWS_[[Environmental Profile]:[Environmental Profile]],RWS_[PM],\"Not Found\",0)*Modellering!$I26,0)","v":0},{"$f":"IFERROR(_xlfn.XLOOKUP($F26,RWS_[[Environmental Profile]:[Environmental Profile]],RWS_[IR],\"Not Found\",0)*Modellering!$I26,0)","v":0},{"$f":"IFERROR(_xlfn.XLOOKUP($F26,RWS_[[Environmental Profile]:[Environmental Profile]],RWS_[ETP-FW],\"Not Found\",0)*Modellering!$I26,0)","v":0},{"$f":"IFERROR(_xlfn.XLOOKUP($F26,RWS_[[Environmental Profile]:[Environmental Profile]],RWS_[HTP-C],\"Not Found\",0)*Modellering!$I26,0)","v":0},{"$f":"IFERROR(_xlfn.XLOOKUP($F26,RWS_[[Environmental Profile]:[Environmental Profile]],RWS_[HTP-NC],\"Not Found\",0)*Modellering!$I26,0)","v":0},{"$f":"IFERROR(_xlfn.XLOOKUP($F26,RWS_[[Environmental Profile]:[Environmental Profile]],RWS_[SQP],\"Not Found\",0)*Modellering!$I26,0)","v":0},{"$f":"IFERROR(_xlfn.XLOOKUP($F26,RWS_[[Environmental Profile]:[Environmental Profile]],RWS_[PERE],\"Not Found\",0)*Modellering!$I26,0)","v":0},{"$f":"IFERROR(_xlfn.XLOOKUP($F26,RWS_[[Environmental Profile]:[Environmental Profile]],RWS_[PERM],\"Not Found\",0)*Modellering!$I26,0)","v":0},{"$f":"IFERROR(_xlfn.XLOOKUP($F26,RWS_[[Environmental Profile]:[Environmental Profile]],RWS_[PERT],\"Not Found\",0)*Modellering!$I26,0)","v":0},{"$f":"IFERROR(_xlfn.XLOOKUP($F26,RWS_[[Environmental Profile]:[Environmental Profile]],RWS_[PENRE],\"Not Found\",0)*Modellering!$I26,0)","v":0},{"$f":"IFERROR(_xlfn.XLOOKUP($F26,RWS_[[Environmental Profile]:[Environmental Profile]],RWS_[PENRM],\"Not Found\",0)*Modellering!$I26,0)","v":0},{"$f":"IFERROR(_xlfn.XLOOKUP($F26,RWS_[[Environmental Profile]:[Environmental Profile]],RWS_[PENRT],\"Not Found\",0)*Modellering!$I26,0)","v":0},{"$f":"IFERROR(_xlfn.XLOOKUP($F26,RWS_[[Environmental Profile]:[Environmental Profile]],RWS_[SM],\"Not Found\",0)*Modellering!$I26,0)","v":0},{"$f":"IFERROR(_xlfn.XLOOKUP($F26,RWS_[[Environmental Profile]:[Environmental Profile]],RWS_[SF-R],\"Not Found\",0)*Modellering!$I26,0)","v":0},{"$f":"IFERROR(_xlfn.XLOOKUP($F26,RWS_[[Environmental Profile]:[Environmental Profile]],RWS_[SF-NR],\"Not Found\",0)*Modellering!$I26,0)","v":0},{"$f":"IFERROR(_xlfn.XLOOKUP($F26,RWS_[[Environmental Profile]:[Environmental Profile]],RWS_[FW],\"Not Found\",0)*Modellering!$I26,0)","v":0},{"$f":"IFERROR(_xlfn.XLOOKUP($F26,RWS_[[Environmental Profile]:[Environmental Profile]],RWS_[HWD],\"Not Found\",0)*Modellering!$I26,0)","v":0},{"$f":"IFERROR(_xlfn.XLOOKUP($F26,RWS_[[Environmental Profile]:[Environmental Profile]],RWS_[NHWD],\"Not Found\",0)*Modellering!$I26,0)","v":0},{"$f":"IFERROR(_xlfn.XLOOKUP($F26,RWS_[[Environmental Profile]:[Environmental Profile]],RWS_[RWD],\"Not Found\",0)*Modellering!$I26,0)","v":0},{"$f":"IFERROR(_xlfn.XLOOKUP($F26,RWS_[[Environmental Profile]:[Environmental Profile]],RWS_[CRU],\"Not Found\",0)*Modellering!$I26,0)","v":0},{"$f":"IFERROR(_xlfn.XLOOKUP($F26,RWS_[[Environmental Profile]:[Environmental Profile]],RWS_[MFR],\"Not Found\",0)*Modellering!$I26,0)","v":0},{"$f":"IFERROR(_xlfn.XLOOKUP($F26,RWS_[[Environmental Profile]:[Environmental Profile]],RWS_[MER],\"Not Found\",0)*Modellering!$I26,0)","v":0},{"$f":"IFERROR(_xlfn.XLOOKUP($F26,RWS_[[Environmental Profile]:[Environmental Profile]],RWS_[EE-E],\"Not Found\",0)*Modellering!$I26,0)","v":0},{"$f":"IFERROR(_xlfn.XLOOKUP($F26,RWS_[[Environmental Profile]:[Environmental Profile]],RWS_[EE-T],\"Not Found\",0)*Modellering!$I26,0)","v":0}]
[null,null,"Energiedragers","Opslag Energiedrager","A4",{"$f":"_xlfn.XLOOKUP(Invoerblad!$E$45,Fuel_Short[Brandstof],Fuel_Short[Opslag Energiedrager A4],\"Not Found\",0)","v":"Not Found"},"","Not Found",1,null,{"$f":"IFERROR(_xlfn.XLOOKUP($F27,RWS_[[Environmental Profile]:[Environmental Profile]],RWS_[ECI-A1],\"Not Found\",0)*Modellering!$I27,0)","v":0},{"$f":"IFERROR(_xlfn.XLOOKUP($F27,RWS_[[Environmental Profile]:[Environmental Profile]],RWS_[ECI-A2],\"Not Found\",0)*Modellering!$I27,0)","v":0},{"$f":"IFERROR(_xlfn.XLOOKUP($F27,RWS_[[Environmental Profile]:[Environmental Profile]],RWS_[ADPE],\"Not Found\",0)*Modellering!$I27,0)","v":0},{"$f":"IFERROR(_xlfn.XLOOKUP($F27,RWS_[[Environmental Profile]:[Environmental Profile]],RWS_[ADPF],\"Not Found\",0)*Modellering!$I27,0)","v":0},{"$f":"IFERROR(_xlfn.XLOOKUP($F27,RWS_[[Environmental Profile]:[Environmental Profile]],RWS_[GWP1],\"Not Found\",0)*Modellering!$I27,0)","v":0},{"$f":"IFERROR(_xlfn.XLOOKUP($F27,RWS_[[Environmental Profile]:[Environmental Profile]],RWS_[ODP1],\"Not Found\",0)*Modellering!$I27,0)","v":0},{"$f":"IFERROR(_xlfn.XLOOKUP($F27,RWS_[[Environmental Profile]:[Environmental Profile]],RWS_[POCP],\"Not Found\",0)*Modellering!$I27,0)","v":0},{"$f":"IFERROR(_xlfn.XLOOKUP($F27,RWS_[[Environmental Profile]:[Environmental Profile]],RWS_[AP],\"Not Found\",0)*Modellering!$I27,0)","v":0},{"$f":"IFERROR(_xlfn.XLOOKUP($F27,RWS_[[Environmental Profile]:[Environmental Profile]],RWS_[EP],\"Not Found\",0)*Modellering!$I27,0)","v":0},{"$f":"IFERROR(_xlfn.XLOOKUP($F27,RWS_[[Environmental Profile]:[Environmental Profile]],RWS_[HTP],\"Not Found\",0)*Modellering!$I27,0)","v":0},{"$f":"IFERROR(_xlfn.XLOOKUP($F27,RWS_[[Environmental Profile]:[Environmental Profile]],RWS_[FAETP],\"Not Found\",0)*Modellering!$I27,0)","v":0},{"$f":"IFERROR(_xlfn.XLOOKUP($F27,RWS_[[Environmental Profile]:[Environmental Profile]],RWS_[MAETP],\"Not Found\",0)*Modellering!$I27,0)","v":0},{"$f":"IFERROR(_xlfn.XLOOKUP($F27,RWS_[[Environmental Profile]:[Environmental Profile]],RWS_[TETP],\"Not Found\",0)*Modellering!$I27,0)","v":0},{"$f":"IFERROR(_xlfn.XLOOKUP($F27,RWS_[[Environmental Profile]:[Environmental Profile]],RWS_[GWP2],\"Not Found\",0)*Modellering!$I27,0)","v":0},{"$f":"IFERROR(_xlfn.XLOOKUP($F27,RWS_[[Environmental Profile]:[Environmental Profile]],RWS_[GWP-F],\"Not Found\",0)*Modellering!$I27,0)","v":0},{"$f":"IFERROR(_xlfn.XLOOKUP($F27,RWS_[[Environmental Profile]:[Environmental Profile]],RWS_[GWP-B],\"Not Found\",0)*Modellering!$I27,0)","v":0},{"$f":"IFERROR(_xlfn.XLOOKUP($F27,RWS_[[Environmental Profile]:[Environmental Profile]],RWS_[GWP-L],\"Not Found\",0)*Modellering!$I27,0)","v":0},{"$f":"IFERROR(_xlfn.XLOOKUP($F27,RWS_[[Environmental Profile]:[Environmental Profile]],RWS_[ODP2],\"Not Found\",0)*Modellering!$I27,0)","v":0},{"$f":"IFERROR(_xlfn.XLOOKUP($F27,RWS_[[Environmental Profile]:[Environmental Profile]],RWS_[AP2],\"Not Found\",0)*Modellering!$I27,0)","v":0},{"$f":"IFERROR(_xlfn.XLOOKUP($F27,RWS_[[Environmental Profile]:[Environmental Profile]],RWS_[EP-FW],\"Not Found\",0)*Modellering!$I27,0)","v":0},{"$f":"IFERROR(_xlfn.XLOOKUP($F27,RWS_[[Environmental Profile]:[Environmental Profile]],RWS_[EP-M],\"Not Found\",0)*Modellering!$I27,0)","v":0},{"$f":"IFERROR(_xlfn.XLOOKUP($F27,RWS_[[Environmental Profile]:[Environmental Profile]],RWS_[EP-T],\"Not Found\",0)*Modellering!$I27,0)","v":0},{"$f":"IFERROR(_xlfn.XLOOKUP($F27,RWS_[[Environmental Profile]:[Environmental Profile]],RWS_[POCP2],\"Not Found\",0)*Modellering!$I27,0)","v":0},{"$f":"IFERROR(_xlfn.XLOOKUP($F27,RWS_[[Environmental Profile]:[Environmental Profile]],RWS_[ADP-MM],\"Not Found\",0)*Modellering!$I27,0)","v":0},{"$f":"IFERROR(_xlfn.XLOOKUP($F27,RWS_[[Environmental Profile]:[Environmental Profile]],RWS_[ADP-F],\"Not Found\",0)*Modellering!$I27,0)","v":0},{"$f":"IFERROR(_xlfn.XLOOKUP($F27,RWS_[[Environmental Profile]:[Environmental Profile]],RWS_[WDP],\"Not Found\",0)*Modellering!$I27,0)","v":0},{"$f":"IFERROR(_xlfn.XLOOKUP($F27,RWS_[[Environmental Profile]:[Environmental Profile]],RWS_[PM],\"Not Found\",0)*Modellering!$I27,0)","v":0},{"$f":"IFERROR(_xlfn.XLOOKUP($F27,RWS_[[Environmental Profile]:[Environmental Profile]],RWS_[IR],\"Not Found\",0)*Modellering!$I27,0)","v":0},{"$f":"IFERROR(_xlfn.XLOOKUP($F27,RWS_[[Environmental Profile]:[Environmental Profile]],RWS_[ETP-FW],\"Not Found\",0)*Modellering!$I27,0)","v":0},{"$f":"IFERROR(_xlfn.XLOOKUP($F27,RWS_[[Environmental Profile]:[Environmental Profile]],RWS_[HTP-C],\"Not Found\",0)*Modellering!$I27,0)","v":0},{"$f":"IFERROR(_xlfn.XLOOKUP($F27,RWS_[[Environmental Profile]:[Environmental Profile]],RWS_[HTP-NC],\"Not Found\",0)*Modellering!$I27,0)","v":0},{"$f":"IFERROR(_xlfn.XLOOKUP($F27,RWS_[[Environmental Profile]:[Environmental Profile]],RWS_[SQP],\"Not Found\",0)*Modellering!$I27,0)","v":0},{"$f":"IFERROR(_xlfn.XLOOKUP($F27,RWS_[[Environmental Profile]:[Environmental Profile]],RWS_[PERE],\"Not Found\",0)*Modellering!$I27,0)","v":0},{"$f":"IFERROR(_xlfn.XLOOKUP($F27,RWS_[[Environmental Profile]:[Environmental Profile]],RWS_[PERM],\"Not Found\",0)*Modellering!$I27,0)","v":0},{"$f":"IFERROR(_xlfn.XLOOKUP($F27,RWS_[[Environmental Profile]:[Environmental Profile]],RWS_[PERT],\"Not Found\",0)*Modellering!$I27,0)","v":0},{"$f":"IFERROR(_xlfn.XLOOKUP($F27,RWS_[[Environmental Profile]:[Environmental Profile]],RWS_[PENRE],\"Not Found\",0)*Modellering!$I27,0)","v":0},{"$f":"IFERROR(_xlfn.XLOOKUP($F27,RWS_[[Environmental Profile]:[Environmental Profile]],RWS_[PENRM],\"Not Found\",0)*Modellering!$I27,0)","v":0},{"$f":"IFERROR(_xlfn.XLOOKUP($F27,RWS_[[Environmental Profile]:[Environmental Profile]],RWS_[PENRT],\"Not Found\",0)*Modellering!$I27,0)","v":0},{"$f":"IFERROR(_xlfn.XLOOKUP($F27,RWS_[[Environmental Profile]:[Environmental Profile]],RWS_[SM],\"Not Found\",0)*Modellering!$I27,0)","v":0},{"$f":"IFERROR(_xlfn.XLOOKUP($F27,RWS_[[Environmental Profile]:[Environmental Profile]],RWS_[SF-R],\"Not Found\",0)*Modellering!$I27,0)","v":0},{"$f":"IFERROR(_xlfn.XLOOKUP($F27,RWS_[[Environmental Profile]:[Environmental Profile]],RWS_[SF-NR],\"Not Found\",0)*Modellering!$I27,0)","v":0},{"$f":"IFERROR(_xlfn.XLOOKUP($F27,RWS_[[Environmental Profile]:[Environmental Profile]],RWS_[FW],\"Not Found\",0)*Modellering!$I27,0)","v":0},{"$f":"IFERROR(_xlfn.XLOOKUP($F27,RWS_[[Environmental Profile]:[Environmental Profile]],RWS_[HWD],\"Not Found\",0)*Modellering!$I27,0)","v":0},{"$f":"IFERROR(_xlfn.XLOOKUP($F27,RWS_[[Environmental Profile]:[Environmental Profile]],RWS_[NHWD],\"Not Found\",0)*Modellering!$I27,0)","v":0},{"$f":"IFERROR(_xlfn.XLOOKUP($F27,RWS_[[Environmental Profile]:[Environmental Profile]],RWS_[RWD],\"Not Found\",0)*Modellering!$I27,0)","v":0},{"$f":"IFERROR(_xlfn.XLOOKUP($F27,RWS_[[Environmental Profile]:[Environmental Profile]],RWS_[CRU],\"Not Found\",0)*Modellering!$I27,0)","v":0},{"$f":"IFERROR(_xlfn.XLOOKUP($F27,RWS_[[Environmental Profile]:[Environmental Profile]],RWS_[MFR],\"Not Found\",0)*Modellering!$I27,0)","v":0},{"$f":"IFERROR(_xlfn.XLOOKUP($F27,RWS_[[Environmental Profile]:[Environmental Profile]],RWS_[MER],\"Not Found\",0)*Modellering!$I27,0)","v":0},{"$f":"IFERROR(_xlfn.XLOOKUP($F27,RWS_[[Environmental Profile]:[Environmental Profile]],RWS_[EE-E],\"Not Found\",0)*Modellering!$I27,0)","v":0},{"$f":"IFERROR(_xlfn.XLOOKUP($F27,RWS_[[Environmental Profile]:[Environmental Profile]],RWS_[EE-T],\"Not Found\",0)*Modellering!$I27,0)","v":0}]
[null,null,"Gebruiksprofiel","Gebruiksprofiel Basis","B1",{"$f":"_xlfn.XLOOKUP(Invoerblad!$E$44&Invoerblad!$E$46,Emi_Short[Brandstof]&Emi_Short[MotCel2],Emi_Short[Gebruiksprofiel Basis B1],\"Not Found\",0)","v":"Not Found"},"","Not Found",1,null,{"$f":"IFERROR(_xlfn.XLOOKUP($F28,RWS_[[Environmental Profile]:[Environmental Profile]],RWS_[ECI-A1],\"Not Found\",0)*Modellering!$I28,0)","v":0},{"$f":"IFERROR(_xlfn.XLOOKUP($F28,RWS_[[Environmental Profile]:[Environmental Profile]],RWS_[ECI-A2],\"Not Found\",0)*Modellering!$I28,0)","v":0},{"$f":"IFERROR(_xlfn.XLOOKUP($F28,RWS_[[Environmental Profile]:[Environmental Profile]],RWS_[ADPE],\"Not Found\",0)*Modellering!$I28,0)","v":0},{"$f":"IFERROR(_xlfn.XLOOKUP($F28,RWS_[[Environmental Profile]:[Environmental Profile]],RWS_[ADPF],\"Not Found\",0)*Modellering!$I28,0)","v":0},{"$f":"IFERROR(_xlfn.XLOOKUP($F28,RWS_[[Environmental Profile]:[Environmental Profile]],RWS_[GWP1],\"Not Found\",0)*Modellering!$I28,0)","v":0},{"$f":"IFERROR(_xlfn.XLOOKUP($F28,RWS_[[Environmental Profile]:[Environmental Profile]],RWS_[ODP1],\"Not Found\",0)*Modellering!$I28,0)","v":0},{"$f":"IFERROR(_xlfn.XLOOKUP($F28,RWS_[[Environmental Profile]:[Environmental Profile]],RWS_[POCP],\"Not Found\",0)*Modellering!$I28,0)","v":0},{"$f":"IFERROR(_xlfn.XLOOKUP($F28,RWS_[[Environmental Profile]:[Environmental Profile]],RWS_[AP],\"Not Found\",0)*Modellering!$I28,0)","v":0},{"$f":"IFERROR(_xlfn.XLOOKUP($F28,RWS_[[Environmental Profile]:[Environmental Profile]],RWS_[EP],\"Not Found\",0)*Modellering!$I28,0)","v":0},{"$f":"IFERROR(_xlfn.XLOOKUP($F28,RWS_[[Environmental Profile]:[Environmental Profile]],RWS_[HTP],\"Not Found\",0)*Modellering!$I28,0)","v":0},{"$f":"IFERROR(_xlfn.XLOOKUP($F28,RWS_[[Environmental Profile]:[Environmental Profile]],RWS_[FAETP],\"Not Found\",0)*Modellering!$I28,0)","v":0},{"$f":"IFERROR(_xlfn.XLOOKUP($F28,RWS_[[Environmental Profile]:[Environmental Profile]],RWS_[MAETP],\"Not Found\",0)*Modellering!$I28,0)","v":0},{"$f":"IFERROR(_xlfn.XLOOKUP($F28,RWS_[[Environmental Profile]:[Environmental Profile]],RWS_[TETP],\"Not Found\",0)*Modellering!$I28,0)","v":0},{"$f":"IFERROR(_xlfn.XLOOKUP($F28,RWS_[[Environmental Profile]:[Environmental Profile]],RWS_[GWP2],\"Not Found\",0)*Modellering!$I28,0)","v":0},{"$f":"IFERROR(_xlfn.XLOOKUP($F28,RWS_[[Environmental Profile]:[Environmental Profile]],RWS_[GWP-F],\"Not Found\",0)*Modellering!$I28,0)","v":0},{"$f":"IFERROR(_xlfn.XLOOKUP($F28,RWS_[[Environmental Profile]:[Environmental Profile]],RWS_[GWP-B],\"Not Found\",0)*Modellering!$I28,0)","v":0},{"$f":"IFERROR(_xlfn.XLOOKUP($F28,RWS_[[Environmental Profile]:[Environmental Profile]],RWS_[GWP-L],\"Not Found\",0)*Modellering!$I28,0)","v":0},{"$f":"IFERROR(_xlfn.XLOOKUP($F28,RWS_[[Environmental Profile]:[Environmental Profile]],RWS_[ODP2],\"Not Found\",0)*Modellering!$I28,0)","v":0},{"$f":"IFERROR(_xlfn.XLOOKUP($F28,RWS_[[Environmental Profile]:[Environmental Profile]],RWS_[AP2],\"Not Found\",0)*Modellering!$I28,0)","v":0},{"$f":"IFERROR(_xlfn.XLOOKUP($F28,RWS_[[Environmental Profile]:[Environmental Profile]],RWS_[EP-FW],\"Not Found\",0)*Modellering!$I28,0)","v":0},{"$f":"IFERROR(_xlfn.XLOOKUP($F28,RWS_[[Environmental Profile]:[Environmental Profile]],RWS_[EP-M],\"Not Found\",0)*Modellering!$I28,0)","v":0},{"$f":"IFERROR(_xlfn.XLOOKUP($F28,RWS_[[Environmental Profile]:[Environmental Profile]],RWS_[EP-T],\"Not Found\",0)*Modellering!$I28,0)","v":0},{"$f":"IFERROR(_xlfn.XLOOKUP($F28,RWS_[[Environmental Profile]:[Environmental Profile]],RWS_[POCP2],\"Not Found\",0)*Modellering!$I28,0)","v":0},{"$f":"IFERROR(_xlfn.XLOOKUP($F28,RWS_[[Environmental Profile]:[Environmental Profile]],RWS_[ADP-MM],\"Not Found\",0)*Modellering!$I28,0)","v":0},{"$f":"IFERROR(_xlfn.XLOOKUP($F28,RWS_[[Environmental Profile]:[Environmental Profile]],RWS_[ADP-F],\"Not Found\",0)*Modellering!$I28,0)","v":0},{"$f":"IFERROR(_xlfn.XLOOKUP($F28,RWS_[[Environmental Profile]:[Environmental Profile]],RWS_[WDP],\"Not Found\",0)*Modellering!$I28,0)","v":0},{"$f":"IFERROR(_xlfn.XLOOKUP($F28,RWS_[[Environmental Profile]:[Environmental Profile]],RWS_[PM],\"Not Found\",0)*Modellering!$I28,0)","v":0},{"$f":"IFERROR(_xlfn.XLOOKUP($F28,RWS_[[Environmental Profile]:[Environmental Profile]],RWS_[IR],\"Not Found\",0)*Modellering!$I28,0)","v":0},{"$f":"IFERROR(_xlfn.XLOOKUP($F28,RWS_[[Environmental Profile]:[Environmental Profile]],RWS_[ETP-FW],\"Not Found\",0)*Modellering!$I28,0)","v":0},{"$f":"IFERROR(_xlfn.XLOOKUP($F28,RWS_[[Environmental Profile]:[Environmental Profile]],RWS_[HTP-C],\"Not Found\",0)*Modellering!$I28,0)","v":0},{"$f":"IFERROR(_xlfn.XLOOKUP($F28,RWS_[[Environmental Profile]:[Environmental Profile]],RWS_[HTP-NC],\"Not Found\",0)*Modellering!$I28,0)","v":0},{"$f":"IFERROR(_xlfn.XLOOKUP($F28,RWS_[[Environmental Profile]:[Environmental Profile]],RWS_[SQP],\"Not Found\",0)*Modellering!$I28,0)","v":0},{"$f":"IFERROR(_xlfn.XLOOKUP($F28,RWS_[[Environmental Profile]:[Environmental Profile]],RWS_[PERE],\"Not Found\",0)*Modellering!$I28,0)","v":0},{"$f":"IFERROR(_xlfn.XLOOKUP($F28,RWS_[[Environmental Profile]:[Environmental Profile]],RWS_[PERM],\"Not Found\",0)*Modellering!$I28,0)","v":0},{"$f":"IFERROR(_xlfn.XLOOKUP($F28,RWS_[[Environmental Profile]:[Environmental Profile]],RWS_[PERT],\"Not Found\",0)*Modellering!$I28,0)","v":0},{"$f":"IFERROR(_xlfn.XLOOKUP($F28,RWS_[[Environmental Profile]:[Environmental Profile]],RWS_[PENRE],\"Not Found\",0)*Modellering!$I28,0)","v":0},{"$f":"IFERROR(_xlfn.XLOOKUP($F28,RWS_[[Environmental Profile]:[Environmental Profile]],RWS_[PENRM],\"Not Found\",0)*Modellering!$I28,0)","v":0},{"$f":"IFERROR(_xlfn.XLOOKUP($F28,RWS_[[Environmental Profile]:[Environmental Profile]],RWS_[PENRT],\"Not Found\",0)*Modellering!$I28,0)","v":0},{"$f":"IFERROR(_xlfn.XLOOKUP($F28,RWS_[[Environmental Profile]:[Environmental Profile]],RWS_[SM],\"Not Found\",0)*Modellering!$I28,0)","v":0},{"$f":"IFERROR(_xlfn.XLOOKUP($F28,RWS_[[Environmental Profile]:[Environmental Profile]],RWS_[SF-R],\"Not Found\",0)*Modellering!$I28,0)","v":0},{"$f":"IFERROR(_xlfn.XLOOKUP($F28,RWS_[[Environmental Profile]:[Environmental Profile]],RWS_[SF-NR],\"Not Found\",0)*Modellering!$I28,0)","v":0},{"$f":"IFERROR(_xlfn.XLOOKUP($F28,RWS_[[Environmental Profile]:[Environmental Profile]],RWS_[FW],\"Not Found\",0)*Modellering!$I28,0)","v":0},{"$f":"IFERROR(_xlfn.XLOOKUP($F28,RWS_[[Environmental Profile]:[Environmental Profile]],RWS_[HWD],\"Not Found\",0)*Modellering!$I28,0)","v":0},{"$f":"IFERROR(_xlfn.XLOOKUP($F28,RWS_[[Environmental Profile]:[Environmental Profile]],RWS_[NHWD],\"Not Found\",0)*Modellering!$I28,0)","v":0},{"$f":"IFERROR(_xlfn.XLOOKUP($F28,RWS_[[Environmental Profile]:[Environmental Profile]],RWS_[RWD],\"Not Found\",0)*Modellering!$I28,0)","v":0},{"$f":"IFERROR(_xlfn.XLOOKUP($F28,RWS_[[Environmental Profile]:[Environmental Profile]],RWS_[CRU],\"Not Found\",0)*Modellering!$I28,0)","v":0},{"$f":"IFERROR(_xlfn.XLOOKUP($F28,RWS_[[Environmental Profile]:[Environmental Profile]],RWS_[MFR],\"Not Found\",0)*Modellering!$I28,0)","v":0},{"$f":"IFERROR(_xlfn.XLOOKUP($F28,RWS_[[Environmental Profile]:[Environmental Profile]],RWS_[MER],\"Not Found\",0)*Modellering!$I28,0)","v":0},{"$f":"IFERROR(_xlfn.XLOOKUP($F28,RWS_[[Environmental Profile]:[Environmental Profile]],RWS_[EE-E],\"Not Found\",0)*Modellering!$I28,0)","v":0},{"$f":"IFERROR(_xlfn.XLOOKUP($F28,RWS_[[Environmental Profile]:[Environmental Profile]],RWS_[EE-T],\"Not Found\",0)*Modellering!$I28,0)","v":0}]
[null,null,"Gebruiksprofiel","NOx Emissies","B1","*RWS Gebruiksprofiel - NOx emissie naar lucht","NOx Emissies","kg",{"$f":"IF(Invoerblad!$E$67=\"Nee\",PM_NOx!$C$62,IF(Invoerblad!$E$70=\"Nee\",PM_NOx!$C$62,PM_NOx!$C$65))","v":""},null,{"$f":"IFERROR(_xlfn.XLOOKUP($F29,RWS_[[Environmental Profile]:[Environmental Profile]],RWS_[ECI-A1],\"Not Found\",0)*Modellering!$I29,0)","v":0},{"$f":"IFERROR(_xlfn.XLOOKUP($F29,RWS_[[Environmental Profile]:[Environmental Profile]],RWS_[ECI-A2],\"Not Found\",0)*Modellering!$I29,0)","v":0},{"$f":"IFERROR(_xlfn.XLOOKUP($F29,RWS_[[Environmental Profile]:[Environmental Profile]],RWS_[ADPE],\"Not Found\",0)*Modellering!$I29,0)","v":0},{"$f":"IFERROR(_xlfn.XLOOKUP($F29,RWS_[[Environmental Profile]:[Environmental Profile]],RWS_[ADPF],\"Not Found\",0)*Modellering!$I29,0)","v":0},{"$f":"IFERROR(_xlfn.XLOOKUP($F29,RWS_[[Environmental Profile]:[Environmental Profile]],RWS_[GWP1],\"Not Found\",0)*Modellering!$I29,0)","v":0},{"$f":"IFERROR(_xlfn.XLOOKUP($F29,RWS_[[Environmental Profile]:[Environmental Profile]],RWS_[ODP1],\"Not Found\",0)*Modellering!$I29,0)","v":0},{"$f":"IFERROR(_xlfn.XLOOKUP($F29,RWS_[[Environmental Profile]:[Environmental Profile]],RWS_[POCP],\"Not Found\",0)*Modellering!$I29,0)","v":0},{"$f":"IFERROR(_xlfn.XLOOKUP($F29,RWS_[[Environmental Profile]:[Environmental Profile]],RWS_[AP],\"Not Found\",0)*Modellering!$I29,0)","v":0},{"$f":"IFERROR(_xlfn.XLOOKUP($F29,RWS_[[Environmental Profile]:[Environmental Profile]],RWS_[EP],\"Not Found\",0)*Modellering!$I29,0)","v":0},{"$f":"IFERROR(_xlfn.XLOOKUP($F29,RWS_[[Environmental Profile]:[Environmental Profile]],RWS_[HTP],\"Not Found\",0)*Modellering!$I29,0)","v":0},{"$f":"IFERROR(_xlfn.XLOOKUP($F29,RWS_[[Environmental Profile]:[Environmental Profile]],RWS_[FAETP],\"Not Found\",0)*Modellering!$I29,0)","v":0},{"$f":"IFERROR(_xlfn.XLOOKUP($F29,RWS_[[Environmental Profile]:[Environmental Profile]],RWS_[MAETP],\"Not Found\",0)*Modellering!$I29,0)","v":0},{"$f":"IFERROR(_xlfn.XLOOKUP($F29,RWS_[[Environmental Profile]:[Environmental Profile]],RWS_[TETP],\"Not Found\",0)*Modellering!$I29,0)","v":0},{"$f":"IFERROR(_xlfn.XLOOKUP($F29,RWS_[[Environmental Profile]:[Environmental Profile]],RWS_[GWP2],\"Not Found\",0)*Modellering!$I29,0)","v":0},{"$f":"IFERROR(_xlfn.XLOOKUP($F29,RWS_[[Environmental Profile]:[Environmental Profile]],RWS_[GWP-F],\"Not Found\",0)*Modellering!$I29,0)","v":0},{"$f":"IFERROR(_xlfn.XLOOKUP($F29,RWS_[[Environmental Profile]:[Environmental Profile]],RWS_[GWP-B],\"Not Found\",0)*Modellering!$I29,0)","v":0},{"$f":"IFERROR(_xlfn.XLOOKUP($F29,RWS_[[Environmental Profile]:[Environmental Profile]],RWS_[GWP-L],\"Not Found\",0)*Modellering!$I29,0)","v":0},{"$f":"IFERROR(_xlfn.XLOOKUP($F29,RWS_[[Environmental Profile]:[Environmental Profile]],RWS_[ODP2],\"Not Found\",0)*Modellering!$I29,0)","v":0},{"$f":"IFERROR(_xlfn.XLOOKUP($F29,RWS_[[Environmental Profile]:[Environmental Profile]],RWS_[AP2],\"Not Found\",0)*Modellering!$I29,0)","v":0},{"$f":"IFERROR(_xlfn.XLOOKUP($F29,RWS_[[Environmental Profile]:[Environmental Profile]],RWS_[EP-FW],\"Not Found\",0)*Modellering!$I29,0)","v":0},{"$f":"IFERROR(_xlfn.XLOOKUP($F29,RWS_[[Environmental Profile]:[Environmental Profile]],RWS_[EP-M],\"Not Found\",0)*Modellering!$I29,0)","v":0},{"$f":"IFERROR(_xlfn.XLOOKUP($F29,RWS_[[Environmental Profile]:[Environmental Profile]],RWS_[EP-T],\"Not Found\",0)*Modellering!$I29,0)","v":0},{"$f":"IFERROR(_xlfn.XLOOKUP($F29,RWS_[[Environmental Profile]:[Environmental Profile]],RWS_[POCP2],\"Not Found\",0)*Modellering!$I29,0)","v":0},{"$f":"IFERROR(_xlfn.XLOOKUP($F29,RWS_[[Environmental Profile]:[Environmental Profile]],RWS_[ADP-MM],\"Not Found\",0)*Modellering!$I29,0)","v":0},{"$f":"IFERROR(_xlfn.XLOOKUP($F29,RWS_[[Environmental Profile]:[Environmental Profile]],RWS_[ADP-F],\"Not Found\",0)*Modellering!$I29,0)","v":0},{"$f":"IFERROR(_xlfn.XLOOKUP($F29,RWS_[[Environmental Profile]:[Environmental Profile]],RWS_[WDP],\"Not Found\",0)*Modellering!$I29,0)","v":0},{"$f":"IFERROR(_xlfn.XLOOKUP($F29,RWS_[[Environmental Profile]:[Environmental Profile]],RWS_[PM],\"Not Found\",0)*Modellering!$I29,0)","v":0},{"$f":"IFERROR(_xlfn.XLOOKUP($F29,RWS_[[Environmental Profile]:[Environmental Profile]],RWS_[IR],\"Not Found\",0)*Modellering!$I29,0)","v":0},{"$f":"IFERROR(_xlfn.XLOOKUP($F29,RWS_[[Environmental Profile]:[Environmental Profile]],RWS_[ETP-FW],\"Not Found\",0)*Modellering!$I29,0)","v":0},{"$f":"IFERROR(_xlfn.XLOOKUP($F29,RWS_[[Environmental Profile]:[Environmental Profile]],RWS_[HTP-C],\"Not Found\",0)*Modellering!$I29,0)","v":0},{"$f":"IFERROR(_xlfn.XLOOKUP($F29,RWS_[[Environmental Profile]:[Environmental Profile]],RWS_[HTP-NC],\"Not Found\",0)*Modellering!$I29,0)","v":0},{"$f":"IFERROR(_xlfn.XLOOKUP($F29,RWS_[[Environmental Profile]:[Environmental Profile]],RWS_[SQP],\"Not Found\",0)*Modellering!$I29,0)","v":0},{"$f":"IFERROR(_xlfn.XLOOKUP($F29,RWS_[[Environmental Profile]:[Environmental Profile]],RWS_[PERE],\"Not Found\",0)*Modellering!$I29,0)","v":0},{"$f":"IFERROR(_xlfn.XLOOKUP($F29,RWS_[[Environmental Profile]:[Environmental Profile]],RWS_[PERM],\"Not Found\",0)*Modellering!$I29,0)","v":0},{"$f":"IFERROR(_xlfn.XLOOKUP($F29,RWS_[[Environmental Profile]:[Environmental Profile]],RWS_[PERT],\"Not Found\",0)*Modellering!$I29,0)","v":0},{"$f":"IFERROR(_xlfn.XLOOKUP($F29,RWS_[[Environmental Profile]:[Environmental Profile]],RWS_[PENRE],\"Not Found\",0)*Modellering!$I29,0)","v":0},{"$f":"IFERROR(_xlfn.XLOOKUP($F29,RWS_[[Environmental Profile]:[Environmental Profile]],RWS_[PENRM],\"Not Found\",0)*Modellering!$I29,0)","v":0},{"$f":"IFERROR(_xlfn.XLOOKUP($F29,RWS_[[Environmental Profile]:[Environmental Profile]],RWS_[PENRT],\"Not Found\",0)*Modellering!$I29,0)","v":0},{"$f":"IFERROR(_xlfn.XLOOKUP($F29,RWS_[[Environmental Profile]:[Environmental Profile]],RWS_[SM],\"Not Found\",0)*Modellering!$I29,0)","v":0},{"$f":"IFERROR(_xlfn.XLOOKUP($F29,RWS_[[Environmental Profile]:[Environmental Profile]],RWS_[SF-R],\"Not Found\",0)*Modellering!$I29,0)","v":0},{"$f":"IFERROR(_xlfn.XLOOKUP($F29,RWS_[[Environmental Profile]:[Environmental Profile]],RWS_[SF-NR],\"Not Found\",0)*Modellering!$I29,0)","v":0},{"$f":"IFERROR(_xlfn.XLOOKUP($F29,RWS_[[Environmental Profile]:[Environmental Profile]],RWS_[FW],\"Not Found\",0)*Modellering!$I29,0)","v":0},{"$f":"IFERROR(_xlfn.XLOOKUP($F29,RWS_[[Environmental Profile]:[Environmental Profile]],RWS_[HWD],\"Not Found\",0)*Modellering!$I29,0)","v":0},{"$f":"IFERROR(_xlfn.XLOOKUP($F29,RWS_[[Environmental Profile]:[Environmental Profile]],RWS_[NHWD],\"Not Found\",0)*Modellering!$I29,0)","v":0},{"$f":"IFERROR(_xlfn.XLOOKUP($F29,RWS_[[Environmental Profile]:[Environmental Profile]],RWS_[RWD],\"Not Found\",0)*Modellering!$I29,0)","v":0},{"$f":"IFERROR(_xlfn.XLOOKUP($F29,RWS_[[Environmental Profile]:[Environmental Profile]],RWS_[CRU],\"Not Found\",0)*Modellering!$I29,0)","v":0},{"$f":"IFERROR(_xlfn.XLOOKUP($F29,RWS_[[Environmental Profile]:[Environmental Profile]],RWS_[MFR],\"Not Found\",0)*Modellering!$I29,0)","v":0},{"$f":"IFERROR(_xlfn.XLOOKUP($F29,RWS_[[Environmental Profile]:[Environmental Profile]],RWS_[MER],\"Not Found\",0)*Modellering!$I29,0)","v":0},{"$f":"IFERROR(_xlfn.XLOOKUP($F29,RWS_[[Environmental Profile]:[Environmental Profile]],RWS_[EE-E],\"Not Found\",0)*Modellering!$I29,0)","v":0},{"$f":"IFERROR(_xlfn.XLOOKUP($F29,RWS_[[Environmental Profile]:[Environmental Profile]],RWS_[EE-T],\"Not Found\",0)*Modellering!$I29,0)","v":0}]
[null,null,"Gebruiksprofiel","PM Emissies","B1","*RWS Gebruiksprofiel - PM emissie naar lucht","PM Emissies","kg",{"$f":"IF(Invoerblad!$E$67=\"Nee\",PM_NOx!$C$63,IF(Invoerblad!$E$70=\"Nee\",PM_NOx!$C$63,PM_NOx!$C$66))","v":""},null,{"$f":"IFERROR(_xlfn.XLOOKUP($F30,RWS_[[Environmental Profile]:[Environmental Profile]],RWS_[ECI-A1],\"Not Found\",0)*Modellering!$I30,0)","v":0},{"$f":"IFERROR(_xlfn.XLOOKUP($F30,RWS_[[Environmental Profile]:[Environmental Profile]],RWS_[ECI-A2],\"Not Found\",0)*Modellering!$I30,0)","v":0},{"$f":"IFERROR(_xlfn.XLOOKUP($F30,RWS_[[Environmental Profile]:[Environmental Profile]],RWS_[ADPE],\"Not Found\",0)*Modellering!$I30,0)","v":0},{"$f":"IFERROR(_xlfn.XLOOKUP($F30,RWS_[[Environmental Profile]:[Environmental Profile]],RWS_[ADPF],\"Not Found\",0)*Modellering!$I30,0)","v":0},{"$f":"IFERROR(_xlfn.XLOOKUP($F30,RWS_[[Environmental Profile]:[Environmental Profile]],RWS_[GWP1],\"Not Found\",0)*Modellering!$I30,0)","v":0},{"$f":"IFERROR(_xlfn.XLOOKUP($F30,RWS_[[Environmental Profile]:[Environmental Profile]],RWS_[ODP1],\"Not Found\",0)*Modellering!$I30,0)","v":0},{"$f":"IFERROR(_xlfn.XLOOKUP($F30,RWS_[[Environmental Profile]:[Environmental Profile]],RWS_[POCP],\"Not Found\",0)*Modellering!$I30,0)","v":0},{"$f":"IFERROR(_xlfn.XLOOKUP($F30,RWS_[[Environmental Profile]:[Environmental Profile]],RWS_[AP],\"Not Found\",0)*Modellering!$I30,0)","v":0},{"$f":"IFERROR(_xlfn.XLOOKUP($F30,RWS_[[Environmental Profile]:[Environmental Profile]],RWS_[EP],\"Not Found\",0)*Modellering!$I30,0)","v":0},{"$f":"IFERROR(_xlfn.XLOOKUP($F30,RWS_[[Environmental Profile]:[Environmental Profile]],RWS_[HTP],\"Not Found\",0)*Modellering!$I30,0)","v":0},{"$f":"IFERROR(_xlfn.XLOOKUP($F30,RWS_[[Environmental Profile]:[Environmental Profile]],RWS_[FAETP],\"Not Found\",0)*Modellering!$I30,0)","v":0},{"$f":"IFERROR(_xlfn.XLOOKUP($F30,RWS_[[Environmental Profile]:[Environmental Profile]],RWS_[MAETP],\"Not Found\",0)*Modellering!$I30,0)","v":0},{"$f":"IFERROR(_xlfn.XLOOKUP($F30,RWS_[[Environmental Profile]:[Environmental Profile]],RWS_[TETP],\"Not Found\",0)*Modellering!$I30,0)","v":0},{"$f":"IFERROR(_xlfn.XLOOKUP($F30,RWS_[[Environmental Profile]:[Environmental Profile]],RWS_[GWP2],\"Not Found\",0)*Modellering!$I30,0)","v":0},{"$f":"IFERROR(_xlfn.XLOOKUP($F30,RWS_[[Environmental Profile]:[Environmental Profile]],RWS_[GWP-F],\"Not Found\",0)*Modellering!$I30,0)","v":0},{"$f":"IFERROR(_xlfn.XLOOKUP($F30,RWS_[[Environmental Profile]:[Environmental Profile]],RWS_[GWP-B],\"Not Found\",0)*Modellering!$I30,0)","v":0},{"$f":"IFERROR(_xlfn.XLOOKUP($F30,RWS_[[Environmental Profile]:[Environmental Profile]],RWS_[GWP-L],\"Not Found\",0)*Modellering!$I30,0)","v":0},{"$f":"IFERROR(_xlfn.XLOOKUP($F30,RWS_[[Environmental Profile]:[Environmental Profile]],RWS_[ODP2],\"Not Found\",0)*Modellering!$I30,0)","v":0},{"$f":"IFERROR(_xlfn.XLOOKUP($F30,RWS_[[Environmental Profile]:[Environmental Profile]],RWS_[AP2],\"Not Found\",0)*Modellering!$I30,0)","v":0},{"$f":"IFERROR(_xlfn.XLOOKUP($F30,RWS_[[Environmental Profile]:[Environmental Profile]],RWS_[EP-FW],\"Not Found\",0)*Modellering!$I30,0)","v":0},{"$f":"IFERROR(_xlfn.XLOOKUP($F30,RWS_[[Environmental Profile]:[Environmental Profile]],RWS_[EP-M],\"Not Found\",0)*Modellering!$I30,0)","v":0},{"$f":"IFERROR(_xlfn.XLOOKUP($F30,RWS_[[Environmental Profile]:[Environmental Profile]],RWS_[EP-T],\"Not Found\",0)*Modellering!$I30,0)","v":0},{"$f":"IFERROR(_xlfn.XLOOKUP($F30,RWS_[[Environmental Profile]:[Environmental Profile]],RWS_[POCP2],\"Not Found\",0)*Modellering!$I30,0)","v":0},{"$f":"IFERROR(_xlfn.XLOOKUP($F30,RWS_[[Environmental Profile]:[Environmental Profile]],RWS_[ADP-MM],\"Not Found\",0)*Modellering!$I30,0)","v":0},{"$f":"IFERROR(_xlfn.XLOOKUP($F30,RWS_[[Environmental Profile]:[Environmental Profile]],RWS_[ADP-F],\"Not Found\",0)*Modellering!$I30,0)","v":0},{"$f":"IFERROR(_xlfn.XLOOKUP($F30,RWS_[[Environmental Profile]:[Environmental Profile]],RWS_[WDP],\"Not Found\",0)*Modellering!$I30,0)","v":0},{"$f":"IFERROR(_xlfn.XLOOKUP($F30,RWS_[[Environmental Profile]:[Environmental Profile]],RWS_[PM],\"Not Found\",0)*Modellering!$I30,0)","v":0},{"$f":"IFERROR(_xlfn.XLOOKUP($F30,RWS_[[Environmental Profile]:[Environmental Profile]],RWS_[IR],\"Not Found\",0)*Modellering!$I30,0)","v":0},{"$f":"IFERROR(_xlfn.XLOOKUP($F30,RWS_[[Environmental Profile]:[Environmental Profile]],RWS_[ETP-FW],\"Not Found\",0)*Modellering!$I30,0)","v":0},{"$f":"IFERROR(_xlfn.XLOOKUP($F30,RWS_[[Environmental Profile]:[Environmental Profile]],RWS_[HTP-C],\"Not Found\",0)*Modellering!$I30,0)","v":0},{"$f":"IFERROR(_xlfn.XLOOKUP($F30,RWS_[[Environmental Profile]:[Environmental Profile]],RWS_[HTP-NC],\"Not Found\",0)*Modellering!$I30,0)","v":0},{"$f":"IFERROR(_xlfn.XLOOKUP($F30,RWS_[[Environmental Profile]:[Environmental Profile]],RWS_[SQP],\"Not Found\",0)*Modellering!$I30,0)","v":0},{"$f":"IFERROR(_xlfn.XLOOKUP($F30,RWS_[[Environmental Profile]:[Environmental Profile]],RWS_[PERE],\"Not Found\",0)*Modellering!$I30,0)","v":0},{"$f":"IFERROR(_xlfn.XLOOKUP($F30,RWS_[[Environmental Profile]:[Environmental Profile]],RWS_[PERM],\"Not Found\",0)*Modellering!$I30,0)","v":0},{"$f":"IFERROR(_xlfn.XLOOKUP($F30,RWS_[[Environmental Profile]:[Environmental Profile]],RWS_[PERT],\"Not Found\",0)*Modellering!$I30,0)","v":0},{"$f":"IFERROR(_xlfn.XLOOKUP($F30,RWS_[[Environmental Profile]:[Environmental Profile]],RWS_[PENRE],\"Not Found\",0)*Modellering!$I30,0)","v":0},{"$f":"IFERROR(_xlfn.XLOOKUP($F30,RWS_[[Environmental Profile]:[Environmental Profile]],RWS_[PENRM],\"Not Found\",0)*Modellering!$I30,0)","v":0},{"$f":"IFERROR(_xlfn.XLOOKUP($F30,RWS_[[Environmental Profile]:[Environmental Profile]],RWS_[PENRT],\"Not Found\",0)*Modellering!$I30,0)","v":0},{"$f":"IFERROR(_xlfn.XLOOKUP($F30,RWS_[[Environmental Profile]:[Environmental Profile]],RWS_[SM],\"Not Found\",0)*Modellering!$I30,0)","v":0},{"$f":"IFERROR(_xlfn.XLOOKUP($F30,RWS_[[Environmental Profile]:[Environmental Profile]],RWS_[SF-R],\"Not Found\",0)*Modellering!$I30,0)","v":0},{"$f":"IFERROR(_xlfn.XLOOKUP($F30,RWS_[[Environmental Profile]:[Environmental Profile]],RWS_[SF-NR],\"Not Found\",0)*Modellering!$I30,0)","v":0},{"$f":"IFERROR(_xlfn.XLOOKUP($F30,RWS_[[Environmental Profile]:[Environmental Profile]],RWS_[FW],\"Not Found\",0)*Modellering!$I30,0)","v":0},{"$f":"IFERROR(_xlfn.XLOOKUP($F30,RWS_[[Environmental Profile]:[Environmental Profile]],RWS_[HWD],\"Not Found\",0)*Modellering!$I30,0)","v":0},{"$f":"IFERROR(_xlfn.XLOOKUP($F30,RWS_[[Environmental Profile]:[Environmental Profile]],RWS_[NHWD],\"Not Found\",0)*Modellering!$I30,0)","v":0},{"$f":"IFERROR(_xlfn.XLOOKUP($F30,RWS_[[Environmental Profile]:[Environmental Profile]],RWS_[RWD],\"Not Found\",0)*Modellering!$I30,0)","v":0},{"$f":"IFERROR(_xlfn.XLOOKUP($F30,RWS_[[Environmental Profile]:[Environmental Profile]],RWS_[CRU],\"Not Found\",0)*Modellering!$I30,0)","v":0},{"$f":"IFERROR(_xlfn.XLOOKUP($F30,RWS_[[Environmental Profile]:[Environmental Profile]],RWS_[MFR],\"Not Found\",0)*Modellering!$I30,0)","v":0},{"$f":"IFERROR(_xlfn.XLOOKUP($F30,RWS_[[Environmental Profile]:[Environmental Profile]],RWS_[MER],\"Not Found\",0)*Modellering!$I30,0)","v":0},{"$f":"IFERROR(_xlfn.XLOOKUP($F30,RWS_[[Environmental Profile]:[Environmental Profile]],RWS_[EE-E],\"Not Found\",0)*Modellering!$I30,0)","v":0},{"$f":"IFERROR(_xlfn.XLOOKUP($F30,RWS_[[Environmental Profile]:[Environmental Profile]],RWS_[EE-T],\"Not Found\",0)*Modellering!$I30,0)","v":0}]
[null,null,"Kapitaalgoederen","Casco Schip","B1",{"$f":"_xlfn.XLOOKUP(Invoerblad!$D$32,Capital_Short[Lookup Help],Capital_Short[Kapitaalgoederen B1],\"Not Found\",0)","v":"*RWS Kapitaalgoederen - Baggeren Zout (MGO)"},"Kapitaalgoederen - Schip (Zout)","ton",{"$f":"IF(Invoerblad!$D$32=\"Binnenvaart\",(_xlfn.XLOOKUP(Invoerblad!$E$44&Invoerblad!$E$46,Emi_Short[Brandstof]&Emi_Short[MotCel2],Emi_Short[Afkap_Zoet],\"Not Found\",0)),(_xlfn.XLOOKUP(Invoerblad!$E$44&Invoerblad!$E$46,Emi_Short[Brandstof]&Emi_Short[MotCel2],Emi_Short[Afkap_Zout],\"Not Found\",0)))","v":"Not Found"},null,{"$f":"IFERROR(_xlfn.XLOOKUP($F31,RWS_[[Environmental Profile]:[Environmental Profile]],RWS_[ECI-A1],\"Not Found\",0)*Modellering!$I31,0)","v":0},{"$f":"IFERROR(_xlfn.XLOOKUP($F31,RWS_[[Environmental Profile]:[Environmental Profile]],RWS_[ECI-A2],\"Not Found\",0)*Modellering!$I31,0)","v":0},{"$f":"IFERROR(_xlfn.XLOOKUP($F31,RWS_[[Environmental Profile]:[Environmental Profile]],RWS_[ADPE],\"Not Found\",0)*Modellering!$I31,0)","v":0},{"$f":"IFERROR(_xlfn.XLOOKUP($F31,RWS_[[Environmental Profile]:[Environmental Profile]],RWS_[ADPF],\"Not Found\",0)*Modellering!$I31,0)","v":0},{"$f":"IFERROR(_xlfn.XLOOKUP($F31,RWS_[[Environmental Profile]:[Environmental Profile]],RWS_[GWP1],\"Not Found\",0)*Modellering!$I31,0)","v":0},{"$f":"IFERROR(_xlfn.XLOOKUP($F31,RWS_[[Environmental Profile]:[Environmental Profile]],RWS_[ODP1],\"Not Found\",0)*Modellering!$I31,0)","v":0},{"$f":"IFERROR(_xlfn.XLOOKUP($F31,RWS_[[Environmental Profile]:[Environmental Profile]],RWS_[POCP],\"Not Found\",0)*Modellering!$I31,0)","v":0},{"$f":"IFERROR(_xlfn.XLOOKUP($F31,RWS_[[Environmental Profile]:[Environmental Profile]],RWS_[AP],\"Not Found\",0)*Modellering!$I31,0)","v":0},{"$f":"IFERROR(_xlfn.XLOOKUP($F31,RWS_[[Environmental Profile]:[Environmental Profile]],RWS_[EP],\"Not Found\",0)*Modellering!$I31,0)","v":0},{"$f":"IFERROR(_xlfn.XLOOKUP($F31,RWS_[[Environmental Profile]:[Environmental Profile]],RWS_[HTP],\"Not Found\",0)*Modellering!$I31,0)","v":0},{"$f":"IFERROR(_xlfn.XLOOKUP($F31,RWS_[[Environmental Profile]:[Environmental Profile]],RWS_[FAETP],\"Not Found\",0)*Modellering!$I31,0)","v":0},{"$f":"IFERROR(_xlfn.XLOOKUP($F31,RWS_[[Environmental Profile]:[Environmental Profile]],RWS_[MAETP],\"Not Found\",0)*Modellering!$I31,0)","v":0},{"$f":"IFERROR(_xlfn.XLOOKUP($F31,RWS_[[Environmental Profile]:[Environmental Profile]],RWS_[TETP],\"Not Found\",0)*Modellering!$I31,0)","v":0},{"$f":"IFERROR(_xlfn.XLOOKUP($F31,RWS_[[Environmental Profile]:[Environmental Profile]],RWS_[GWP2],\"Not Found\",0)*Modellering!$I31,0)","v":0},{"$f":"IFERROR(_xlfn.XLOOKUP($F31,RWS_[[Environmental Profile]:[Environmental Profile]],RWS_[GWP-F],\"Not Found\",0)*Modellering!$I31,0)","v":0},{"$f":"IFERROR(_xlfn.XLOOKUP($F31,RWS_[[Environmental Profile]:[Environmental Profile]],RWS_[GWP-B],\"Not Found\",0)*Modellering!$I31,0)","v":0},{"$f":"IFERROR(_xlfn.XLOOKUP($F31,RWS_[[Environmental Profile]:[Environmental Profile]],RWS_[GWP-L],\"Not Found\",0)*Modellering!$I31,0)","v":0},{"$f":"IFERROR(_xlfn.XLOOKUP($F31,RWS_[[Environmental Profile]:[Environmental Profile]],RWS_[ODP2],\"Not Found\",0)*Modellering!$I31,0)","v":0},{"$f":"IFERROR(_xlfn.XLOOKUP($F31,RWS_[[Environmental Profile]:[Environmental Profile]],RWS_[AP2],\"Not Found\",0)*Modellering!$I31,0)","v":0},{"$f":"IFERROR(_xlfn.XLOOKUP($F31,RWS_[[Environmental Profile]:[Environmental Profile]],RWS_[EP-FW],\"Not Found\",0)*Modellering!$I31,0)","v":0},{"$f":"IFERROR(_xlfn.XLOOKUP($F31,RWS_[[Environmental Profile]:[Environmental Profile]],RWS_[EP-M],\"Not Found\",0)*Modellering!$I31,0)","v":0},{"$f":"IFERROR(_xlfn.XLOOKUP($F31,RWS_[[Environmental Profile]:[Environmental Profile]],RWS_[EP-T],\"Not Found\",0)*Modellering!$I31,0)","v":0},{"$f":"IFERROR(_xlfn.XLOOKUP($F31,RWS_[[Environmental Profile]:[Environmental Profile]],RWS_[POCP2],\"Not Found\",0)*Modellering!$I31,0)","v":0},{"$f":"IFERROR(_xlfn.XLOOKUP($F31,RWS_[[Environmental Profile]:[Environmental Profile]],RWS_[ADP-MM],\"Not Found\",0)*Modellering!$I31,0)","v":0},{"$f":"IFERROR(_xlfn.XLOOKUP($F31,RWS_[[Environmental Profile]:[Environmental Profile]],RWS_[ADP-F],\"Not Found\",0)*Modellering!$I31,0)","v":0},{"$f":"IFERROR(_xlfn.XLOOKUP($F31,RWS_[[Environmental Profile]:[Environmental Profile]],RWS_[WDP],\"Not Found\",0)*Modellering!$I31,0)","v":0},{"$f":"IFERROR(_xlfn.XLOOKUP($F31,RWS_[[Environmental Profile]:[Environmental Profile]],RWS_[PM],\"Not Found\",0)*Modellering!$I31,0)","v":0},{"$f":"IFERROR(_xlfn.XLOOKUP($F31,RWS_[[Environmental Profile]:[Environmental Profile]],RWS_[IR],\"Not Found\",0)*Modellering!$I31,0)","v":0},{"$f":"IFERROR(_xlfn.XLOOKUP($F31,RWS_[[Environmental Profile]:[Environmental Profile]],RWS_[ETP-FW],\"Not Found\",0)*Modellering!$I31,0)","v":0},{"$f":"IFERROR(_xlfn.XLOOKUP($F31,RWS_[[Environmental Profile]:[Environmental Profile]],RWS_[HTP-C],\"Not Found\",0)*Modellering!$I31,0)","v":0},{"$f":"IFERROR(_xlfn.XLOOKUP($F31,RWS_[[Environmental Profile]:[Environmental Profile]],RWS_[HTP-NC],\"Not Found\",0)*Modellering!$I31,0)","v":0},{"$f":"IFERROR(_xlfn.XLOOKUP($F31,RWS_[[Environmental Profile]:[Environmental Profile]],RWS_[SQP],\"Not Found\",0)*Modellering!$I31,0)","v":0},{"$f":"IFERROR(_xlfn.XLOOKUP($F31,RWS_[[Environmental Profile]:[Environmental Profile]],RWS_[PERE],\"Not Found\",0)*Modellering!$I31,0)","v":0},{"$f":"IFERROR(_xlfn.XLOOKUP($F31,RWS_[[Environmental Profile]:[Environmental Profile]],RWS_[PERM],\"Not Found\",0)*Modellering!$I31,0)","v":0},{"$f":"IFERROR(_xlfn.XLOOKUP($F31,RWS_[[Environmental Profile]:[Environmental Profile]],RWS_[PERT],\"Not Found\",0)*Modellering!$I31,0)","v":0},{"$f":"IFERROR(_xlfn.XLOOKUP($F31,RWS_[[Environmental Profile]:[Environmental Profile]],RWS_[PENRE],\"Not Found\",0)*Modellering!$I31,0)","v":0},{"$f":"IFERROR(_xlfn.XLOOKUP($F31,RWS_[[Environmental Profile]:[Environmental Profile]],RWS_[PENRM],\"Not Found\",0)*Modellering!$I31,0)","v":0},{"$f":"IFERROR(_xlfn.XLOOKUP($F31,RWS_[[Environmental Profile]:[Environmental Profile]],RWS_[PENRT],\"Not Found\",0)*Modellering!$I31,0)","v":0},{"$f":"IFERROR(_xlfn.XLOOKUP($F31,RWS_[[Environmental Profile]:[Environmental Profile]],RWS_[SM],\"Not Found\",0)*Modellering!$I31,0)","v":0},{"$f":"IFERROR(_xlfn.XLOOKUP($F31,RWS_[[Environmental Profile]:[Environmental Profile]],RWS_[SF-R],\"Not Found\",0)*Modellering!$I31,0)","v":0},{"$f":"IFERROR(_xlfn.XLOOKUP($F31,RWS_[[Environmental Profile]:[Environmental Profile]],RWS_[SF-NR],\"Not Found\",0)*Modellering!$I31,0)","v":0},{"$f":"IFERROR(_xlfn.XLOOKUP($F31,RWS_[[Environmental Profile]:[Environmental Profile]],RWS_[FW],\"Not Found\",0)*Modellering!$I31,0)","v":0},{"$f":"IFERROR(_xlfn.XLOOKUP($F31,RWS_[[Environmental Profile]:[Environmental Profile]],RWS_[HWD],\"Not Found\",0)*Modellering!$I31,0)","v":0},{"$f":"IFERROR(_xlfn.XLOOKUP($F31,RWS_[[Environmental Profile]:[Environmental Profile]],RWS_[NHWD],\"Not Found\",0)*Modellering!$I31,0)","v":0},{"$f":"IFERROR(_xlfn.XLOOKUP($F31,RWS_[[Environmental Profile]:[Environmental Profile]],RWS_[RWD],\"Not Found\",0)*Modellering!$I31,0)","v":0},{"$f":"IFERROR(_xlfn.XLOOKUP($F31,RWS_[[Environmental Profile]:[Environmental Profile]],RWS_[CRU],\"Not Found\",0)*Modellering!$I31,0)","v":0},{"$f":"IFERROR(_xlfn.XLOOKUP($F31,RWS_[[Environmental Profile]:[Environmental Profile]],RWS_[MFR],\"Not Found\",0)*Modellering!$I31,0)","v":0},{"$f":"IFERROR(_xlfn.XLOOKUP($F31,RWS_[[Environmental Profile]:[Environmental Profile]],RWS_[MER],\"Not Found\",0)*Modellering!$I31,0)","v":0},{"$f":"IFERROR(_xlfn.XLOOKUP($F31,RWS_[[Environmental Profile]:[Environmental Profile]],RWS_[EE-E],\"Not Found\",0)*Modellering!$I31,0)","v":0},{"$f":"IFERROR(_xlfn.XLOOKUP($F31,RWS_[[Environmental Profile]:[Environmental Profile]],RWS_[EE-T],\"Not Found\",0)*Modellering!$I31,0)","v":0}]
[null,null,"Kapitaalgoederen","Aandrijving (Type Motor)","B1",{"$f":"_xlfn.XLOOKUP(Invoerblad!$E$44&Invoerblad!$E$46,Emi_Short[Brandstof]&Emi_Short[MotCel2],Emi_Short[Kapitaalgoed Motor (B1)],\"Not Found\",0)","v":"Not Found"},"","Not Found",{"$f":"IF(Invoerblad!$D$32=\"Binnenvaart\",(_xlfn.XLOOKUP(Invoerblad!E$44&Invoerblad!E$46,Emi_Short[Brandstof]&Emi_Short[MotCel2],Emi_Short[VM / EA Zoet],\"Not Found\",0)),(_xlfn.XLOOKUP(Invoerblad!E$44&Invoerblad!E$46,Emi_Short[Brandstof]&Emi_Short[MotCel2],Emi_Short[VM / EA Zout],\"\",0)))","v":""},null,{"$f":"IFERROR(_xlfn.XLOOKUP($F32,RWS_[[Environmental Profile]:[Environmental Profile]],RWS_[ECI-A1],\"Not Found\",0)*Modellering!$I32,0)","v":0},{"$f":"IFERROR(_xlfn.XLOOKUP($F32,RWS_[[Environmental Profile]:[Environmental Profile]],RWS_[ECI-A2],\"Not Found\",0)*Modellering!$I32,0)","v":0},{"$f":"IFERROR(_xlfn.XLOOKUP($F32,RWS_[[Environmental Profile]:[Environmental Profile]],RWS_[ADPE],\"Not Found\",0)*Modellering!$I32,0)","v":0},{"$f":"IFERROR(_xlfn.XLOOKUP($F32,RWS_[[Environmental Profile]:[Environmental Profile]],RWS_[ADPF],\"Not Found\",0)*Modellering!$I32,0)","v":0},{"$f":"IFERROR(_xlfn.XLOOKUP($F32,RWS_[[Environmental Profile]:[Environmental Profile]],RWS_[GWP1],\"Not Found\",0)*Modellering!$I32,0)","v":0},{"$f":"IFERROR(_xlfn.XLOOKUP($F32,RWS_[[Environmental Profile]:[Environmental Profile]],RWS_[ODP1],\"Not Found\",0)*Modellering!$I32,0)","v":0},{"$f":"IFERROR(_xlfn.XLOOKUP($F32,RWS_[[Environmental Profile]:[Environmental Profile]],RWS_[POCP],\"Not Found\",0)*Modellering!$I32,0)","v":0},{"$f":"IFERROR(_xlfn.XLOOKUP($F32,RWS_[[Environmental Profile]:[Environmental Profile]],RWS_[AP],\"Not Found\",0)*Modellering!$I32,0)","v":0},{"$f":"IFERROR(_xlfn.XLOOKUP($F32,RWS_[[Environmental Profile]:[Environmental Profile]],RWS_[EP],\"Not Found\",0)*Modellering!$I32,0)","v":0},{"$f":"IFERROR(_xlfn.XLOOKUP($F32,RWS_[[Environmental Profile]:[Environmental Profile]],RWS_[HTP],\"Not Found\",0)*Modellering!$I32,0)","v":0},{"$f":"IFERROR(_xlfn.XLOOKUP($F32,RWS_[[Environmental Profile]:[Environmental Profile]],RWS_[FAETP],\"Not Found\",0)*Modellering!$I32,0)","v":0},{"$f":"IFERROR(_xlfn.XLOOKUP($F32,RWS_[[Environmental Profile]:[Environmental Profile]],RWS_[MAETP],\"Not Found\",0)*Modellering!$I32,0)","v":0},{"$f":"IFERROR(_xlfn.XLOOKUP($F32,RWS_[[Environmental Profile]:[Environmental Profile]],RWS_[TETP],\"Not Found\",0)*Modellering!$I32,0)","v":0},{"$f":"IFERROR(_xlfn.XLOOKUP($F32,RWS_[[Environmental Profile]:[Environmental Profile]],RWS_[GWP2],\"Not Found\",0)*Modellering!$I32,0)","v":0},{"$f":"IFERROR(_xlfn.XLOOKUP($F32,RWS_[[Environmental Profile]:[Environmental Profile]],RWS_[GWP-F],\"Not Found\",0)*Modellering!$I32,0)","v":0},{"$f":"IFERROR(_xlfn.XLOOKUP($F32,RWS_[[Environmental Profile]:[Environmental Profile]],RWS_[GWP-B],\"Not Found\",0)*Modellering!$I32,0)","v":0},{"$f":"IFERROR(_xlfn.XLOOKUP($F32,RWS_[[Environmental Profile]:[Environmental Profile]],RWS_[GWP-L],\"Not Found\",0)*Modellering!$I32,0)","v":0},{"$f":"IFERROR(_xlfn.XLOOKUP($F32,RWS_[[Environmental Profile]:[Environmental Profile]],RWS_[ODP2],\"Not Found\",0)*Modellering!$I32,0)","v":0},{"$f":"IFERROR(_xlfn.XLOOKUP($F32,RWS_[[Environmental Profile]:[Environmental Profile]],RWS_[AP2],\"Not Found\",0)*Modellering!$I32,0)","v":0},{"$f":"IFERROR(_xlfn.XLOOKUP($F32,RWS_[[Environmental Profile]:[Environmental Profile]],RWS_[EP-FW],\"Not Found\",0)*Modellering!$I32,0)","v":0},{"$f":"IFERROR(_xlfn.XLOOKUP($F32,RWS_[[Environmental Profile]:[Environmental Profile]],RWS_[EP-M],\"Not Found\",0)*Modellering!$I32,0)","v":0},{"$f":"IFERROR(_xlfn.XLOOKUP($F32,RWS_[[Environmental Profile]:[Environmental Profile]],RWS_[EP-T],\"Not Found\",0)*Modellering!$I32,0)","v":0},{"$f":"IFERROR(_xlfn.XLOOKUP($F32,RWS_[[Environmental Profile]:[Environmental Profile]],RWS_[POCP2],\"Not Found\",0)*Modellering!$I32,0)","v":0},{"$f":"IFERROR(_xlfn.XLOOKUP($F32,RWS_[[Environmental Profile]:[Environmental Profile]],RWS_[ADP-MM],\"Not Found\",0)*Modellering!$I32,0)","v":0},{"$f":"IFERROR(_xlfn.XLOOKUP($F32,RWS_[[Environmental Profile]:[Environmental Profile]],RWS_[ADP-F],\"Not Found\",0)*Modellering!$I32,0)","v":0},{"$f":"IFERROR(_xlfn.XLOOKUP($F32,RWS_[[Environmental Profile]:[Environmental Profile]],RWS_[WDP],\"Not Found\",0)*Modellering!$I32,0)","v":0},{"$f":"IFERROR(_xlfn.XLOOKUP($F32,RWS_[[Environmental Profile]:[Environmental Profile]],RWS_[PM],\"Not Found\",0)*Modellering!$I32,0)","v":0},{"$f":"IFERROR(_xlfn.XLOOKUP($F32,RWS_[[Environmental Profile]:[Environmental Profile]],RWS_[IR],\"Not Found\",0)*Modellering!$I32,0)","v":0},{"$f":"IFERROR(_xlfn.XLOOKUP($F32,RWS_[[Environmental Profile]:[Environmental Profile]],RWS_[ETP-FW],\"Not Found\",0)*Modellering!$I32,0)","v":0},{"$f":"IFERROR(_xlfn.XLOOKUP($F32,RWS_[[Environmental Profile]:[Environmental Profile]],RWS_[HTP-C],\"Not Found\",0)*Modellering!$I32,0)","v":0},{"$f":"IFERROR(_xlfn.XLOOKUP($F32,RWS_[[Environmental Profile]:[Environmental Profile]],RWS_[HTP-NC],\"Not Found\",0)*Modellering!$I32,0)","v":0},{"$f":"IFERROR(_xlfn.XLOOKUP($F32,RWS_[[Environmental Profile]:[Environmental Profile]],RWS_[SQP],\"Not Found\",0)*Modellering!$I32,0)","v":0},{"$f":"IFERROR(_xlfn.XLOOKUP($F32,RWS_[[Environmental Profile]:[Environmental Profile]],RWS_[PERE],\"Not Found\",0)*Modellering!$I32,0)","v":0},{"$f":"IFERROR(_xlfn.XLOOKUP($F32,RWS_[[Environmental Profile]:[Environmental Profile]],RWS_[PERM],\"Not Found\",0)*Modellering!$I32,0)","v":0},{"$f":"IFERROR(_xlfn.XLOOKUP($F32,RWS_[[Environmental Profile]:[Environmental Profile]],RWS_[PERT],\"Not Found\",0)*Modellering!$I32,0)","v":0},{"$f":"IFERROR(_xlfn.XLOOKUP($F32,RWS_[[Environmental Profile]:[Environmental Profile]],RWS_[PENRE],\"Not Found\",0)*Modellering!$I32,0)","v":0},{"$f":"IFERROR(_xlfn.XLOOKUP($F32,RWS_[[Environmental Profile]:[Environmental Profile]],RWS_[PENRM],\"Not Found\",0)*Modellering!$I32,0)","v":0},{"$f":"IFERROR(_xlfn.XLOOKUP($F32,RWS_[[Environmental Profile]:[Environmental Profile]],RWS_[PENRT],\"Not Found\",0)*Modellering!$I32,0)","v":0},{"$f":"IFERROR(_xlfn.XLOOKUP($F32,RWS_[[Environmental Profile]:[Environmental Profile]],RWS_[SM],\"Not Found\",0)*Modellering!$I32,0)","v":0},{"$f":"IFERROR(_xlfn.XLOOKUP($F32,RWS_[[Environmental Profile]:[Environmental Profile]],RWS_[SF-R],\"Not Found\",0)*Modellering!$I32,0)","v":0},{"$f":"IFERROR(_xlfn.XLOOKUP($F32,RWS_[[Environmental Profile]:[Environmental Profile]],RWS_[SF-NR],\"Not Found\",0)*Modellering!$I32,0)","v":0},{"$f":"IFERROR(_xlfn.XLOOKUP($F32,RWS_[[Environmental Profile]:[Environmental Profile]],RWS_[FW],\"Not Found\",0)*Modellering!$I32,0)","v":0},{"$f":"IFERROR(_xlfn.XLOOKUP($F32,RWS_[[Environmental Profile]:[Environmental Profile]],RWS_[HWD],\"Not Found\",0)*Modellering!$I32,0)","v":0},{"$f":"IFERROR(_xlfn.XLOOKUP($F32,RWS_[[Environmental Profile]:[Environmental Profile]],RWS_[NHWD],\"Not Found\",0)*Modellering!$I32,0)","v":0},{"$f":"IFERROR(_xlfn.XLOOKUP($F32,RWS_[[Environmental Profile]:[Environmental Profile]],RWS_[RWD],\"Not Found\",0)*Modellering!$I32,0)","v":0},{"$f":"IFERROR(_xlfn.XLOOKUP($F32,RWS_[[Environmental Profile]:[Environmental Profile]],RWS_[CRU],\"Not Found\",0)*Modellering!$I32,0)","v":0},{"$f":"IFERROR(_xlfn.XLOOKUP($F32,RWS_[[Environmental Profile]:[Environmental Profile]],RWS_[MFR],\"Not Found\",0)*Modellering!$I32,0)","v":0},{"$f":"IFERROR(_xlfn.XLOOKUP($F32,RWS_[[Environmental Profile]:[Environmental Profile]],RWS_[MER],\"Not Found\",0)*Modellering!$I32,0)","v":0},{"$f":"IFERROR(_xlfn.XLOOKUP($F32,RWS_[[Environmental Profile]:[Environmental Profile]],RWS_[EE-E],\"Not Found\",0)*Modellering!$I32,0)","v":0},{"$f":"IFERROR(_xlfn.XLOOKUP($F32,RWS_[[Environmental Profile]:[Environmental Profile]],RWS_[EE-T],\"Not Found\",0)*Modellering!$I32,0)","v":0}]
[null,null,"Kapitaalgoederen","Accu","B1",{"$f":"IF($F32=\"*RWS Kapitaalgoederen aandrijving elektrisch schip (100 kW) (inlusief EOL en reD)\",\"Accu, Lithium-ion, per kWh accucapaciteit (o.b.v. 5kg per kWh)\",\"Niet van Toepassing\")","v":"Niet van Toepassing"},"","Not Found",{"$f":"_xlfn.XLOOKUP(Invoerblad!$E$44,PM_NOx!$A$47:$A$51,PM_NOx!$B$47:$B$51,0,0)","v":0},null,{"$f":"IFERROR(_xlfn.XLOOKUP($F33,RWS_[[Environmental Profile]:[Environmental Profile]],RWS_[ECI-A1],\"Not Found\",0)*Modellering!$I33,0)","v":0},{"$f":"IFERROR(_xlfn.XLOOKUP($F33,RWS_[[Environmental Profile]:[Environmental Profile]],RWS_[ECI-A2],\"Not Found\",0)*Modellering!$I33,0)","v":0},{"$f":"IFERROR(_xlfn.XLOOKUP($F33,RWS_[[Environmental Profile]:[Environmental Profile]],RWS_[ADPE],\"Not Found\",0)*Modellering!$I33,0)","v":0},{"$f":"IFERROR(_xlfn.XLOOKUP($F33,RWS_[[Environmental Profile]:[Environmental Profile]],RWS_[ADPF],\"Not Found\",0)*Modellering!$I33,0)","v":0},{"$f":"IFERROR(_xlfn.XLOOKUP($F33,RWS_[[Environmental Profile]:[Environmental Profile]],RWS_[GWP1],\"Not Found\",0)*Modellering!$I33,0)","v":0},{"$f":"IFERROR(_xlfn.XLOOKUP($F33,RWS_[[Environmental Profile]:[Environmental Profile]],RWS_[ODP1],\"Not Found\",0)*Modellering!$I33,0)","v":0},{"$f":"IFERROR(_xlfn.XLOOKUP($F33,RWS_[[Environmental Profile]:[Environmental Profile]],RWS_[POCP],\"Not Found\",0)*Modellering!$I33,0)","v":0},{"$f":"IFERROR(_xlfn.XLOOKUP($F33,RWS_[[Environmental Profile]:[Environmental Profile]],RWS_[AP],\"Not Found\",0)*Modellering!$I33,0)","v":0},{"$f":"IFERROR(_xlfn.XLOOKUP($F33,RWS_[[Environmental Profile]:[Environmental Profile]],RWS_[EP],\"Not Found\",0)*Modellering!$I33,0)","v":0},{"$f":"IFERROR(_xlfn.XLOOKUP($F33,RWS_[[Environmental Profile]:[Environmental Profile]],RWS_[HTP],\"Not Found\",0)*Modellering!$I33,0)","v":0},{"$f":"IFERROR(_xlfn.XLOOKUP($F33,RWS_[[Environmental Profile]:[Environmental Profile]],RWS_[FAETP],\"Not Found\",0)*Modellering!$I33,0)","v":0},{"$f":"IFERROR(_xlfn.XLOOKUP($F33,RWS_[[Environmental Profile]:[Environmental Profile]],RWS_[MAETP],\"Not Found\",0)*Modellering!$I33,0)","v":0},{"$f":"IFERROR(_xlfn.XLOOKUP($F33,RWS_[[Environmental Profile]:[Environmental Profile]],RWS_[TETP],\"Not Found\",0)*Modellering!$I33,0)","v":0},{"$f":"IFERROR(_xlfn.XLOOKUP($F33,RWS_[[Environmental Profile]:[Environmental Profile]],RWS_[GWP2],\"Not Found\",0)*Modellering!$I33,0)","v":0},{"$f":"IFERROR(_xlfn.XLOOKUP($F33,RWS_[[Environmental Profile]:[Environmental Profile]],RWS_[GWP-F],\"Not Found\",0)*Modellering!$I33,0)","v":0},{"$f":"IFERROR(_xlfn.XLOOKUP($F33,RWS_[[Environmental Profile]:[Environmental Profile]],RWS_[GWP-B],\"Not Found\",0)*Modellering!$I33,0)","v":0},{"$f":"IFERROR(_xlfn.XLOOKUP($F33,RWS_[[Environmental Profile]:[Environmental Profile]],RWS_[GWP-L],\"Not Found\",0)*Modellering!$I33,0)","v":0},{"$f":"IFERROR(_xlfn.XLOOKUP($F33,RWS_[[Environmental Profile]:[Environmental Profile]],RWS_[ODP2],\"Not Found\",0)*Modellering!$I33,0)","v":0},{"$f":"IFERROR(_xlfn.XLOOKUP($F33,RWS_[[Environmental Profile]:[Environmental Profile]],RWS_[AP2],\"Not Found\",0)*Modellering!$I33,0)","v":0},{"$f":"IFERROR(_xlfn.XLOOKUP($F33,RWS_[[Environmental Profile]:[Environmental Profile]],RWS_[EP-FW],\"Not Found\",0)*Modellering!$I33,0)","v":0},{"$f":"IFERROR(_xlfn.XLOOKUP($F33,RWS_[[Environmental Profile]:[Environmental Profile]],RWS_[EP-M],\"Not Found\",0)*Modellering!$I33,0)","v":0},{"$f":"IFERROR(_xlfn.XLOOKUP($F33,RWS_[[Environmental Profile]:[Environmental Profile]],RWS_[EP-T],\"Not Found\",0)*Modellering!$I33,0)","v":0},{"$f":"IFERROR(_xlfn.XLOOKUP($F33,RWS_[[Environmental Profile]:[Environmental Profile]],RWS_[POCP2],\"Not Found\",0)*Modellering!$I33,0)","v":0},{"$f":"IFERROR(_xlfn.XLOOKUP($F33,RWS_[[Environmental Profile]:[Environmental Profile]],RWS_[ADP-MM],\"Not Found\",0)*Modellering!$I33,0)","v":0},{"$f":"IFERROR(_xlfn.XLOOKUP($F33,RWS_[[Environmental Profile]:[Environmental Profile]],RWS_[ADP-F],\"Not Found\",0)*Modellering!$I33,0)","v":0},{"$f":"IFERROR(_xlfn.XLOOKUP($F33,RWS_[[Environmental Profile]:[Environmental Profile]],RWS_[WDP],\"Not Found\",0)*Modellering!$I33,0)","v":0},{"$f":"IFERROR(_xlfn.XLOOKUP($F33,RWS_[[Environmental Profile]:[Environmental Profile]],RWS_[PM],\"Not Found\",0)*Modellering!$I33,0)","v":0},{"$f":"IFERROR(_xlfn.XLOOKUP($F33,RWS_[[Environmental Profile]:[Environmental Profile]],RWS_[IR],\"Not Found\",0)*Modellering!$I33,0)","v":0},{"$f":"IFERROR(_xlfn.XLOOKUP($F33,RWS_[[Environmental Profile]:[Environmental Profile]],RWS_[ETP-FW],\"Not Found\",0)*Modellering!$I33,0)","v":0},{"$f":"IFERROR(_xlfn.XLOOKUP($F33,RWS_[[Environmental Profile]:[Environmental Profile]],RWS_[HTP-C],\"Not Found\",0)*Modellering!$I33,0)","v":0},{"$f":"IFERROR(_xlfn.XLOOKUP($F33,RWS_[[Environmental Profile]:[Environmental Profile]],RWS_[HTP-NC],\"Not Found\",0)*Modellering!$I33,0)","v":0},{"$f":"IFERROR(_xlfn.XLOOKUP($F33,RWS_[[Environmental Profile]:[Environmental Profile]],RWS_[SQP],\"Not Found\",0)*Modellering!$I33,0)","v":0},{"$f":"IFERROR(_xlfn.XLOOKUP($F33,RWS_[[Environmental Profile]:[Environmental Profile]],RWS_[PERE],\"Not Found\",0)*Modellering!$I33,0)","v":0},{"$f":"IFERROR(_xlfn.XLOOKUP($F33,RWS_[[Environmental Profile]:[Environmental Profile]],RWS_[PERM],\"Not Found\",0)*Modellering!$I33,0)","v":0},{"$f":"IFERROR(_xlfn.XLOOKUP($F33,RWS_[[Environmental Profile]:[Environmental Profile]],RWS_[PERT],\"Not Found\",0)*Modellering!$I33,0)","v":0},{"$f":"IFERROR(_xlfn.XLOOKUP($F33,RWS_[[Environmental Profile]:[Environmental Profile]],RWS_[PENRE],\"Not Found\",0)*Modellering!$I33,0)","v":0},{"$f":"IFERROR(_xlfn.XLOOKUP($F33,RWS_[[Environmental Profile]:[Environmental Profile]],RWS_[PENRM],\"Not Found\",0)*Modellering!$I33,0)","v":0},{"$f":"IFERROR(_xlfn.XLOOKUP($F33,RWS_[[Environmental Profile]:[Environmental Profile]],RWS_[PENRT],\"Not Found\",0)*Modellering!$I33,0)","v":0},{"$f":"IFERROR(_xlfn.XLOOKUP($F33,RWS_[[Environmental Profile]:[Environmental Profile]],RWS_[SM],\"Not Found\",0)*Modellering!$I33,0)","v":0},{"$f":"IFERROR(_xlfn.XLOOKUP($F33,RWS_[[Environmental Profile]:[Environmental Profile]],RWS_[SF-R],\"Not Found\",0)*Modellering!$I33,0)","v":0},{"$f":"IFERROR(_xlfn.XLOOKUP($F33,RWS_[[Environmental Profile]:[Environmental Profile]],RWS_[SF-NR],\"Not Found\",0)*Modellering!$I33,0)","v":0},{"$f":"IFERROR(_xlfn.XLOOKUP($F33,RWS_[[Environmental Profile]:[Environmental Profile]],RWS_[FW],\"Not Found\",0)*Modellering!$I33,0)","v":0},{"$f":"IFERROR(_xlfn.XLOOKUP($F33,RWS_[[Environmental Profile]:[Environmental Profile]],RWS_[HWD],\"Not Found\",0)*Modellering!$I33,0)","v":0},{"$f":"IFERROR(_xlfn.XLOOKUP($F33,RWS_[[Environmental Profile]:[Environmental Profile]],RWS_[NHWD],\"Not Found\",0)*Modellering!$I33,0)","v":0},{"$f":"IFERROR(_xlfn.XLOOKUP($F33,RWS_[[Environmental Profile]:[Environmental Profile]],RWS_[RWD],\"Not Found\",0)*Modellering!$I33,0)","v":0},{"$f":"IFERROR(_xlfn.XLOOKUP($F33,RWS_[[Environmental Profile]:[Environmental Profile]],RWS_[CRU],\"Not Found\",0)*Modellering!$I33,0)","v":0},{"$f":"IFERROR(_xlfn.XLOOKUP($F33,RWS_[[Environmental Profile]:[Environmental Profile]],RWS_[MFR],\"Not Found\",0)*Modellering!$I33,0)","v":0},{"$f":"IFERROR(_xlfn.XLOOKUP($F33,RWS_[[Environmental Profile]:[Environmental Profile]],RWS_[MER],\"Not Found\",0)*Modellering!$I33,0)","v":0},{"$f":"IFERROR(_xlfn.XLOOKUP($F33,RWS_[[Environmental Profile]:[Environmental Profile]],RWS_[EE-E],\"Not Found\",0)*Modellering!$I33,0)","v":0},{"$f":"IFERROR(_xlfn.XLOOKUP($F33,RWS_[[Environmental Profile]:[Environmental Profile]],RWS_[EE-T],\"Not Found\",0)*Modellering!$I33,0)","v":0}]
[null,null,"Kapitaalgoederen","Brandstofcel","B1",{"$f":"IF(Invoerblad!$E$46=\"Brandstofcel\",\"Brandstofcel Waterstof, per kW machinevermogen\",\"Niet van Toepassing\")","v":"Niet van Toepassing"},"","Not Found",{"$f":"_xlfn.XLOOKUP(Invoerblad!$E$44,PM_NOx!$A$47:$A$51,IF(Invoerblad!$D$32=\"Binnenvaart\",PM_NOx!$D$47:$D$51,PM_NOx!$C$47:$C$51),0,0)","v":0},null,{"$f":"IFERROR(_xlfn.XLOOKUP($F34,RWS_[[Environmental Profile]:[Environmental Profile]],RWS_[ECI-A1],\"Not Found\",0)*Modellering!$I34,0)","v":0},{"$f":"IFERROR(_xlfn.XLOOKUP($F34,RWS_[[Environmental Profile]:[Environmental Profile]],RWS_[ECI-A2],\"Not Found\",0)*Modellering!$I34,0)","v":0},{"$f":"IFERROR(_xlfn.XLOOKUP($F34,RWS_[[Environmental Profile]:[Environmental Profile]],RWS_[ADPE],\"Not Found\",0)*Modellering!$I34,0)","v":0},{"$f":"IFERROR(_xlfn.XLOOKUP($F34,RWS_[[Environmental Profile]:[Environmental Profile]],RWS_[ADPF],\"Not Found\",0)*Modellering!$I34,0)","v":0},{"$f":"IFERROR(_xlfn.XLOOKUP($F34,RWS_[[Environmental Profile]:[Environmental Profile]],RWS_[GWP1],\"Not Found\",0)*Modellering!$I34,0)","v":0},{"$f":"IFERROR(_xlfn.XLOOKUP($F34,RWS_[[Environmental Profile]:[Environmental Profile]],RWS_[ODP1],\"Not Found\",0)*Modellering!$I34,0)","v":0},{"$f":"IFERROR(_xlfn.XLOOKUP($F34,RWS_[[Environmental Profile]:[Environmental Profile]],RWS_[POCP],\"Not Found\",0)*Modellering!$I34,0)","v":0},{"$f":"IFERROR(_xlfn.XLOOKUP($F34,RWS_[[Environmental Profile]:[Environmental Profile]],RWS_[AP],\"Not Found\",0)*Modellering!$I34,0)","v":0},{"$f":"IFERROR(_xlfn.XLOOKUP($F34,RWS_[[Environmental Profile]:[Environmental Profile]],RWS_[EP],\"Not Found\",0)*Modellering!$I34,0)","v":0},{"$f":"IFERROR(_xlfn.XLOOKUP($F34,RWS_[[Environmental Profile]:[Environmental Profile]],RWS_[HTP],\"Not Found\",0)*Modellering!$I34,0)","v":0},{"$f":"IFERROR(_xlfn.XLOOKUP($F34,RWS_[[Environmental Profile]:[Environmental Profile]],RWS_[FAETP],\"Not Found\",0)*Modellering!$I34,0)","v":0},{"$f":"IFERROR(_xlfn.XLOOKUP($F34,RWS_[[Environmental Profile]:[Environmental Profile]],RWS_[MAETP],\"Not Found\",0)*Modellering!$I34,0)","v":0},{"$f":"IFERROR(_xlfn.XLOOKUP($F34,RWS_[[Environmental Profile]:[Environmental Profile]],RWS_[TETP],\"Not Found\",0)*Modellering!$I34,0)","v":0},{"$f":"IFERROR(_xlfn.XLOOKUP($F34,RWS_[[Environmental Profile]:[Environmental Profile]],RWS_[GWP2],\"Not Found\",0)*Modellering!$I34,0)","v":0},{"$f":"IFERROR(_xlfn.XLOOKUP($F34,RWS_[[Environmental Profile]:[Environmental Profile]],RWS_[GWP-F],\"Not Found\",0)*Modellering!$I34,0)","v":0},{"$f":"IFERROR(_xlfn.XLOOKUP($F34,RWS_[[Environmental Profile]:[Environmental Profile]],RWS_[GWP-B],\"Not Found\",0)*Modellering!$I34,0)","v":0},{"$f":"IFERROR(_xlfn.XLOOKUP($F34,RWS_[[Environmental Profile]:[Environmental Profile]],RWS_[GWP-L],\"Not Found\",0)*Modellering!$I34,0)","v":0},{"$f":"IFERROR(_xlfn.XLOOKUP($F34,RWS_[[Environmental Profile]:[Environmental Profile]],RWS_[ODP2],\"Not Found\",0)*Modellering!$I34,0)","v":0},{"$f":"IFERROR(_xlfn.XLOOKUP($F34,RWS_[[Environmental Profile]:[Environmental Profile]],RWS_[AP2],\"Not Found\",0)*Modellering!$I34,0)","v":0},{"$f":"IFERROR(_xlfn.XLOOKUP($F34,RWS_[[Environmental Profile]:[Environmental Profile]],RWS_[EP-FW],\"Not Found\",0)*Modellering!$I34,0)","v":0},{"$f":"IFERROR(_xlfn.XLOOKUP($F34,RWS_[[Environmental Profile]:[Environmental Profile]],RWS_[EP-M],\"Not Found\",0)*Modellering!$I34,0)","v":0},{"$f":"IFERROR(_xlfn.XLOOKUP($F34,RWS_[[Environmental Profile]:[Environmental Profile]],RWS_[EP-T],\"Not Found\",0)*Modellering!$I34,0)","v":0},{"$f":"IFERROR(_xlfn.XLOOKUP($F34,RWS_[[Environmental Profile]:[Environmental Profile]],RWS_[POCP2],\"Not Found\",0)*Modellering!$I34,0)","v":0},{"$f":"IFERROR(_xlfn.XLOOKUP($F34,RWS_[[Environmental Profile]:[Environmental Profile]],RWS_[ADP-MM],\"Not Found\",0)*Modellering!$I34,0)","v":0},{"$f":"IFERROR(_xlfn.XLOOKUP($F34,RWS_[[Environmental Profile]:[Environmental Profile]],RWS_[ADP-F],\"Not Found\",0)*Modellering!$I34,0)","v":0},{"$f":"IFERROR(_xlfn.XLOOKUP($F34,RWS_[[Environmental Profile]:[Environmental Profile]],RWS_[WDP],\"Not Found\",0)*Modellering!$I34,0)","v":0},{"$f":"IFERROR(_xlfn.XLOOKUP($F34,RWS_[[Environmental Profile]:[Environmental Profile]],RWS_[PM],\"Not Found\",0)*Modellering!$I34,0)","v":0},{"$f":"IFERROR(_xlfn.XLOOKUP($F34,RWS_[[Environmental Profile]:[Environmental Profile]],RWS_[IR],\"Not Found\",0)*Modellering!$I34,0)","v":0},{"$f":"IFERROR(_xlfn.XLOOKUP($F34,RWS_[[Environmental Profile]:[Environmental Profile]],RWS_[ETP-FW],\"Not Found\",0)*Modellering!$I34,0)","v":0},{"$f":"IFERROR(_xlfn.XLOOKUP($F34,RWS_[[Environmental Profile]:[Environmental Profile]],RWS_[HTP-C],\"Not Found\",0)*Modellering!$I34,0)","v":0},{"$f":"IFERROR(_xlfn.XLOOKUP($F34,RWS_[[Environmental Profile]:[Environmental Profile]],RWS_[HTP-NC],\"Not Found\",0)*Modellering!$I34,0)","v":0},{"$f":"IFERROR(_xlfn.XLOOKUP($F34,RWS_[[Environmental Profile]:[Environmental Profile]],RWS_[SQP],\"Not Found\",0)*Modellering!$I34,0)","v":0},{"$f":"IFERROR(_xlfn.XLOOKUP($F34,RWS_[[Environmental Profile]:[Environmental Profile]],RWS_[PERE],\"Not Found\",0)*Modellering!$I34,0)","v":0},{"$f":"IFERROR(_xlfn.XLOOKUP($F34,RWS_[[Environmental Profile]:[Environmental Profile]],RWS_[PERM],\"Not Found\",0)*Modellering!$I34,0)","v":0},{"$f":"IFERROR(_xlfn.XLOOKUP($F34,RWS_[[Environmental Profile]:[Environmental Profile]],RWS_[PERT],\"Not Found\",0)*Modellering!$I34,0)","v":0},{"$f":"IFERROR(_xlfn.XLOOKUP($F34,RWS_[[Environmental Profile]:[Environmental Profile]],RWS_[PENRE],\"Not Found\",0)*Modellering!$I34,0)","v":0},{"$f":"IFERROR(_xlfn.XLOOKUP($F34,RWS_[[Environmental Profile]:[Environmental Profile]],RWS_[PENRM],\"Not Found\",0)*Modellering!$I34,0)","v":0},{"$f":"IFERROR(_xlfn.XLOOKUP($F34,RWS_[[Environmental Profile]:[Environmental Profile]],RWS_[PENRT],\"Not Found\",0)*Modellering!$I34,0)","v":0},{"$f":"IFERROR(_xlfn.XLOOKUP($F34,RWS_[[Environmental Profile]:[Environmental Profile]],RWS_[SM],\"Not Found\",0)*Modellering!$I34,0)","v":0},{"$f":"IFERROR(_xlfn.XLOOKUP($F34,RWS_[[Environmental Profile]:[Environmental Profile]],RWS_[SF-R],\"Not Found\",0)*Modellering!$I34,0)","v":0},{"$f":"IFERROR(_xlfn.XLOOKUP($F34,RWS_[[Environmental Profile]:[Environmental Profile]],RWS_[SF-NR],\"Not Found\",0)*Modellering!$I34,0)","v":0},{"$f":"IFERROR(_xlfn.XLOOKUP($F34,RWS_[[Environmental Profile]:[Environmental Profile]],RWS_[FW],\"Not Found\",0)*Modellering!$I34,0)","v":0},{"$f":"IFERROR(_xlfn.XLOOKUP($F34,RWS_[[Environmental Profile]:[Environmental Profile]],RWS_[HWD],\"Not Found\",0)*Modellering!$I34,0)","v":0},{"$f":"IFERROR(_xlfn.XLOOKUP($F34,RWS_[[Environmental Profile]:[Environmental Profile]],RWS_[NHWD],\"Not Found\",0)*Modellering!$I34,0)","v":0},{"$f":"IFERROR(_xlfn.XLOOKUP($F34,RWS_[[Environmental Profile]:[Environmental Profile]],RWS_[RWD],\"Not Found\",0)*Modellering!$I34,0)","v":0},{"$f":"IFERROR(_xlfn.XLOOKUP($F34,RWS_[[Environmental Profile]:[Environmental Profile]],RWS_[CRU],\"Not Found\",0)*Modellering!$I34,0)","v":0},{"$f":"IFERROR(_xlfn.XLOOKUP($F34,RWS_[[Environmental Profile]:[Environmental Profile]],RWS_[MFR],\"Not Found\",0)*Modellering!$I34,0)","v":0},{"$f":"IFERROR(_xlfn.XLOOKUP($F34,RWS_[[Environmental Profile]:[Environmental Profile]],RWS_[MER],\"Not Found\",0)*Modellering!$I34,0)","v":0},{"$f":"IFERROR(_xlfn.XLOOKUP($F34,RWS_[[Environmental Profile]:[Environmental Profile]],RWS_[EE-E],\"Not Found\",0)*Modellering!$I34,0)","v":0},{"$f":"IFERROR(_xlfn.XLOOKUP($F34,RWS_[[Environmental Profile]:[Environmental Profile]],RWS_[EE-T],\"Not Found\",0)*Modellering!$I34,0)","v":0}]
[null,null,"AdBlue","Winning AdBlue","A1-A3","*RWS Energiedrager AdBlue (A1-A3) 32,5% Ureum","AdBlue ","kg",{"$f":"Invoerblad!$E$78","v":""},null,{"$f":"IFERROR(_xlfn.XLOOKUP($F35,RWS_[[Environmental Profile]:[Environmental Profile]],RWS_[ECI-A1],\"Not Found\",0)*Modellering!$I35,0)","v":0},{"$f":"IFERROR(_xlfn.XLOOKUP($F35,RWS_[[Environmental Profile]:[Environmental Profile]],RWS_[ECI-A2],\"Not Found\",0)*Modellering!$I35,0)","v":0},{"$f":"IFERROR(_xlfn.XLOOKUP($F35,RWS_[[Environmental Profile]:[Environmental Profile]],RWS_[ADPE],\"Not Found\",0)*Modellering!$I35,0)","v":0},{"$f":"IFERROR(_xlfn.XLOOKUP($F35,RWS_[[Environmental Profile]:[Environmental Profile]],RWS_[ADPF],\"Not Found\",0)*Modellering!$I35,0)","v":0},{"$f":"IFERROR(_xlfn.XLOOKUP($F35,RWS_[[Environmental Profile]:[Environmental Profile]],RWS_[GWP1],\"Not Found\",0)*Modellering!$I35,0)","v":0},{"$f":"IFERROR(_xlfn.XLOOKUP($F35,RWS_[[Environmental Profile]:[Environmental Profile]],RWS_[ODP1],\"Not Found\",0)*Modellering!$I35,0)","v":0},{"$f":"IFERROR(_xlfn.XLOOKUP($F35,RWS_[[Environmental Profile]:[Environmental Profile]],RWS_[POCP],\"Not Found\",0)*Modellering!$I35,0)","v":0},{"$f":"IFERROR(_xlfn.XLOOKUP($F35,RWS_[[Environmental Profile]:[Environmental Profile]],RWS_[AP],\"Not Found\",0)*Modellering!$I35,0)","v":0},{"$f":"IFERROR(_xlfn.XLOOKUP($F35,RWS_[[Environmental Profile]:[Environmental Profile]],RWS_[EP],\"Not Found\",0)*Modellering!$I35,0)","v":0},{"$f":"IFERROR(_xlfn.XLOOKUP($F35,RWS_[[Environmental Profile]:[Environmental Profile]],RWS_[HTP],\"Not Found\",0)*Modellering!$I35,0)","v":0},{"$f":"IFERROR(_xlfn.XLOOKUP($F35,RWS_[[Environmental Profile]:[Environmental Profile]],RWS_[FAETP],\"Not Found\",0)*Modellering!$I35,0)","v":0},{"$f":"IFERROR(_xlfn.XLOOKUP($F35,RWS_[[Environmental Profile]:[Environmental Profile]],RWS_[MAETP],\"Not Found\",0)*Modellering!$I35,0)","v":0},{"$f":"IFERROR(_xlfn.XLOOKUP($F35,RWS_[[Environmental Profile]:[Environmental Profile]],RWS_[TETP],\"Not Found\",0)*Modellering!$I35,0)","v":0},{"$f":"IFERROR(_xlfn.XLOOKUP($F35,RWS_[[Environmental Profile]:[Environmental Profile]],RWS_[GWP2],\"Not Found\",0)*Modellering!$I35,0)","v":0},{"$f":"IFERROR(_xlfn.XLOOKUP($F35,RWS_[[Environmental Profile]:[Environmental Profile]],RWS_[GWP-F],\"Not Found\",0)*Modellering!$I35,0)","v":0},{"$f":"IFERROR(_xlfn.XLOOKUP($F35,RWS_[[Environmental Profile]:[Environmental Profile]],RWS_[GWP-B],\"Not Found\",0)*Modellering!$I35,0)","v":0},{"$f":"IFERROR(_xlfn.XLOOKUP($F35,RWS_[[Environmental Profile]:[Environmental Profile]],RWS_[GWP-L],\"Not Found\",0)*Modellering!$I35,0)","v":0},{"$f":"IFERROR(_xlfn.XLOOKUP($F35,RWS_[[Environmental Profile]:[Environmental Profile]],RWS_[ODP2],\"Not Found\",0)*Modellering!$I35,0)","v":0},{"$f":"IFERROR(_xlfn.XLOOKUP($F35,RWS_[[Environmental Profile]:[Environmental Profile]],RWS_[AP2],\"Not Found\",0)*Modellering!$I35,0)","v":0},{"$f":"IFERROR(_xlfn.XLOOKUP($F35,RWS_[[Environmental Profile]:[Environmental Profile]],RWS_[EP-FW],\"Not Found\",0)*Modellering!$I35,0)","v":0},{"$f":"IFERROR(_xlfn.XLOOKUP($F35,RWS_[[Environmental Profile]:[Environmental Profile]],RWS_[EP-M],\"Not Found\",0)*Modellering!$I35,0)","v":0},{"$f":"IFERROR(_xlfn.XLOOKUP($F35,RWS_[[Environmental Profile]:[Environmental Profile]],RWS_[EP-T],\"Not Found\",0)*Modellering!$I35,0)","v":0},{"$f":"IFERROR(_xlfn.XLOOKUP($F35,RWS_[[Environmental Profile]:[Environmental Profile]],RWS_[POCP2],\"Not Found\",0)*Modellering!$I35,0)","v":0},{"$f":"IFERROR(_xlfn.XLOOKUP($F35,RWS_[[Environmental Profile]:[Environmental Profile]],RWS_[ADP-MM],\"Not Found\",0)*Modellering!$I35,0)","v":0},{"$f":"IFERROR(_xlfn.XLOOKUP($F35,RWS_[[Environmental Profile]:[Environmental Profile]],RWS_[ADP-F],\"Not Found\",0)*Modellering!$I35,0)","v":0},{"$f":"IFERROR(_xlfn.XLOOKUP($F35,RWS_[[Environmental Profile]:[Environmental Profile]],RWS_[WDP],\"Not Found\",0)*Modellering!$I35,0)","v":0},{"$f":"IFERROR(_xlfn.XLOOKUP($F35,RWS_[[Environmental Profile]:[Environmental Profile]],RWS_[PM],\"Not Found\",0)*Modellering!$I35,0)","v":0},{"$f":"IFERROR(_xlfn.XLOOKUP($F35,RWS_[[Environmental Profile]:[Environmental Profile]],RWS_[IR],\"Not Found\",0)*Modellering!$I35,0)","v":0},{"$f":"IFERROR(_xlfn.XLOOKUP($F35,RWS_[[Environmental Profile]:[Environmental Profile]],RWS_[ETP-FW],\"Not Found\",0)*Modellering!$I35,0)","v":0},{"$f":"IFERROR(_xlfn.XLOOKUP($F35,RWS_[[Environmental Profile]:[Environmental Profile]],RWS_[HTP-C],\"Not Found\",0)*Modellering!$I35,0)","v":0},{"$f":"IFERROR(_xlfn.XLOOKUP($F35,RWS_[[Environmental Profile]:[Environmental Profile]],RWS_[HTP-NC],\"Not Found\",0)*Modellering!$I35,0)","v":0},{"$f":"IFERROR(_xlfn.XLOOKUP($F35,RWS_[[Environmental Profile]:[Environmental Profile]],RWS_[SQP],\"Not Found\",0)*Modellering!$I35,0)","v":0},{"$f":"IFERROR(_xlfn.XLOOKUP($F35,RWS_[[Environmental Profile]:[Environmental Profile]],RWS_[PERE],\"Not Found\",0)*Modellering!$I35,0)","v":0},{"$f":"IFERROR(_xlfn.XLOOKUP($F35,RWS_[[Environmental Profile]:[Environmental Profile]],RWS_[PERM],\"Not Found\",0)*Modellering!$I35,0)","v":0},{"$f":"IFERROR(_xlfn.XLOOKUP($F35,RWS_[[Environmental Profile]:[Environmental Profile]],RWS_[PERT],\"Not Found\",0)*Modellering!$I35,0)","v":0},{"$f":"IFERROR(_xlfn.XLOOKUP($F35,RWS_[[Environmental Profile]:[Environmental Profile]],RWS_[PENRE],\"Not Found\",0)*Modellering!$I35,0)","v":0},{"$f":"IFERROR(_xlfn.XLOOKUP($F35,RWS_[[Environmental Profile]:[Environmental Profile]],RWS_[PENRM],\"Not Found\",0)*Modellering!$I35,0)","v":0},{"$f":"IFERROR(_xlfn.XLOOKUP($F35,RWS_[[Environmental Profile]:[Environmental Profile]],RWS_[PENRT],\"Not Found\",0)*Modellering!$I35,0)","v":0},{"$f":"IFERROR(_xlfn.XLOOKUP($F35,RWS_[[Environmental Profile]:[Environmental Profile]],RWS_[SM],\"Not Found\",0)*Modellering!$I35,0)","v":0},{"$f":"IFERROR(_xlfn.XLOOKUP($F35,RWS_[[Environmental Profile]:[Environmental Profile]],RWS_[SF-R],\"Not Found\",0)*Modellering!$I35,0)","v":0},{"$f":"IFERROR(_xlfn.XLOOKUP($F35,RWS_[[Environmental Profile]:[Environmental Profile]],RWS_[SF-NR],\"Not Found\",0)*Modellering!$I35,0)","v":0},{"$f":"IFERROR(_xlfn.XLOOKUP($F35,RWS_[[Environmental Profile]:[Environmental Profile]],RWS_[FW],\"Not Found\",0)*Modellering!$I35,0)","v":0},{"$f":"IFERROR(_xlfn.XLOOKUP($F35,RWS_[[Environmental Profile]:[Environmental Profile]],RWS_[HWD],\"Not Found\",0)*Modellering!$I35,0)","v":0},{"$f":"IFERROR(_xlfn.XLOOKUP($F35,RWS_[[Environmental Profile]:[Environmental Profile]],RWS_[NHWD],\"Not Found\",0)*Modellering!$I35,0)","v":0},{"$f":"IFERROR(_xlfn.XLOOKUP($F35,RWS_[[Environmental Profile]:[Environmental Profile]],RWS_[RWD],\"Not Found\",0)*Modellering!$I35,0)","v":0},{"$f":"IFERROR(_xlfn.XLOOKUP($F35,RWS_[[Environmental Profile]:[Environmental Profile]],RWS_[CRU],\"Not Found\",0)*Modellering!$I35,0)","v":0},{"$f":"IFERROR(_xlfn.XLOOKUP($F35,RWS_[[Environmental Profile]:[Environmental Profile]],RWS_[MFR],\"Not Found\",0)*Modellering!$I35,0)","v":0},{"$f":"IFERROR(_xlfn.XLOOKUP($F35,RWS_[[Environmental Profile]:[Environmental Profile]],RWS_[MER],\"Not Found\",0)*Modellering!$I35,0)","v":0},{"$f":"IFERROR(_xlfn.XLOOKUP($F35,RWS_[[Environmental Profile]:[Environmental Profile]],RWS_[EE-E],\"Not Found\",0)*Modellering!$I35,0)","v":0},{"$f":"IFERROR(_xlfn.XLOOKUP($F35,RWS_[[Environmental Profile]:[Environmental Profile]],RWS_[EE-T],\"Not Found\",0)*Modellering!$I35,0)","v":0}]
[null,null,"AdBlue","Opslag AdBlue","A4","*RWS Energiedrager AdBlue (A4) 32,5% Ureum","Opslag AdBlue","kg",{"$f":"Invoerblad!$E$78","v":""},null,{"$f":"IFERROR(_xlfn.XLOOKUP($F36,RWS_[[Environmental Profile]:[Environmental Profile]],RWS_[ECI-A1],\"Not Found\",0)*Modellering!$I36,0)","v":0},{"$f":"IFERROR(_xlfn.XLOOKUP($F36,RWS_[[Environmental Profile]:[Environmental Profile]],RWS_[ECI-A2],\"Not Found\",0)*Modellering!$I36,0)","v":0},{"$f":"IFERROR(_xlfn.XLOOKUP($F36,RWS_[[Environmental Profile]:[Environmental Profile]],RWS_[ADPE],\"Not Found\",0)*Modellering!$I36,0)","v":0},{"$f":"IFERROR(_xlfn.XLOOKUP($F36,RWS_[[Environmental Profile]:[Environmental Profile]],RWS_[ADPF],\"Not Found\",0)*Modellering!$I36,0)","v":0},{"$f":"IFERROR(_xlfn.XLOOKUP($F36,RWS_[[Environmental Profile]:[Environmental Profile]],RWS_[GWP1],\"Not Found\",0)*Modellering!$I36,0)","v":0},{"$f":"IFERROR(_xlfn.XLOOKUP($F36,RWS_[[Environmental Profile]:[Environmental Profile]],RWS_[ODP1],\"Not Found\",0)*Modellering!$I36,0)","v":0},{"$f":"IFERROR(_xlfn.XLOOKUP($F36,RWS_[[Environmental Profile]:[Environmental Profile]],RWS_[POCP],\"Not Found\",0)*Modellering!$I36,0)","v":0},{"$f":"IFERROR(_xlfn.XLOOKUP($F36,RWS_[[Environmental Profile]:[Environmental Profile]],RWS_[AP],\"Not Found\",0)*Modellering!$I36,0)","v":0},{"$f":"IFERROR(_xlfn.XLOOKUP($F36,RWS_[[Environmental Profile]:[Environmental Profile]],RWS_[EP],\"Not Found\",0)*Modellering!$I36,0)","v":0},{"$f":"IFERROR(_xlfn.XLOOKUP($F36,RWS_[[Environmental Profile]:[Environmental Profile]],RWS_[HTP],\"Not Found\",0)*Modellering!$I36,0)","v":0},{"$f":"IFERROR(_xlfn.XLOOKUP($F36,RWS_[[Environmental Profile]:[Environmental Profile]],RWS_[FAETP],\"Not Found\",0)*Modellering!$I36,0)","v":0},{"$f":"IFERROR(_xlfn.XLOOKUP($F36,RWS_[[Environmental Profile]:[Environmental Profile]],RWS_[MAETP],\"Not Found\",0)*Modellering!$I36,0)","v":0},{"$f":"IFERROR(_xlfn.XLOOKUP($F36,RWS_[[Environmental Profile]:[Environmental Profile]],RWS_[TETP],\"Not Found\",0)*Modellering!$I36,0)","v":0},{"$f":"IFERROR(_xlfn.XLOOKUP($F36,RWS_[[Environmental Profile]:[Environmental Profile]],RWS_[GWP2],\"Not Found\",0)*Modellering!$I36,0)","v":0},{"$f":"IFERROR(_xlfn.XLOOKUP($F36,RWS_[[Environmental Profile]:[Environmental Profile]],RWS_[GWP-F],\"Not Found\",0)*Modellering!$I36,0)","v":0},{"$f":"IFERROR(_xlfn.XLOOKUP($F36,RWS_[[Environmental Profile]:[Environmental Profile]],RWS_[GWP-B],\"Not Found\",0)*Modellering!$I36,0)","v":0},{"$f":"IFERROR(_xlfn.XLOOKUP($F36,RWS_[[Environmental Profile]:[Environmental Profile]],RWS_[GWP-L],\"Not Found\",0)*Modellering!$I36,0)","v":0},{"$f":"IFERROR(_xlfn.XLOOKUP($F36,RWS_[[Environmental Profile]:[Environmental Profile]],RWS_[ODP2],\"Not Found\",0)*Modellering!$I36,0)","v":0},{"$f":"IFERROR(_xlfn.XLOOKUP($F36,RWS_[[Environmental Profile]:[Environmental Profile]],RWS_[AP2],\"Not Found\",0)*Modellering!$I36,0)","v":0},{"$f":"IFERROR(_xlfn.XLOOKUP($F36,RWS_[[Environmental Profile]:[Environmental Profile]],RWS_[EP-FW],\"Not Found\",0)*Modellering!$I36,0)","v":0},{"$f":"IFERROR(_xlfn.XLOOKUP($F36,RWS_[[Environmental Profile]:[Environmental Profile]],RWS_[EP-M],\"Not Found\",0)*Modellering!$I36,0)","v":0},{"$f":"IFERROR(_xlfn.XLOOKUP($F36,RWS_[[Environmental Profile]:[Environmental Profile]],RWS_[EP-T],\"Not Found\",0)*Modellering!$I36,0)","v":0},{"$f":"IFERROR(_xlfn.XLOOKUP($F36,RWS_[[Environmental Profile]:[Environmental Profile]],RWS_[POCP2],\"Not Found\",0)*Modellering!$I36,0)","v":0},{"$f":"IFERROR(_xlfn.XLOOKUP($F36,RWS_[[Environmental Profile]:[Environmental Profile]],RWS_[ADP-MM],\"Not Found\",0)*Modellering!$I36,0)","v":0},{"$f":"IFERROR(_xlfn.XLOOKUP($F36,RWS_[[Environmental Profile]:[Environmental Profile]],RWS_[ADP-F],\"Not Found\",0)*Modellering!$I36,0)","v":0},{"$f":"IFERROR(_xlfn.XLOOKUP($F36,RWS_[[Environmental Profile]:[Environmental Profile]],RWS_[WDP],\"Not Found\",0)*Modellering!$I36,0)","v":0},{"$f":"IFERROR(_xlfn.XLOOKUP($F36,RWS_[[Environmental Profile]:[Environmental Profile]],RWS_[PM],\"Not Found\",0)*Modellering!$I36,0)","v":0},{"$f":"IFERROR(_xlfn.XLOOKUP($F36,RWS_[[Environmental Profile]:[Environmental Profile]],RWS_[IR],\"Not Found\",0)*Modellering!$I36,0)","v":0},{"$f":"IFERROR(_xlfn.XLOOKUP($F36,RWS_[[Environmental Profile]:[Environmental Profile]],RWS_[ETP-FW],\"Not Found\",0)*Modellering!$I36,0)","v":0},{"$f":"IFERROR(_xlfn.XLOOKUP($F36,RWS_[[Environmental Profile]:[Environmental Profile]],RWS_[HTP-C],\"Not Found\",0)*Modellering!$I36,0)","v":0},{"$f":"IFERROR(_xlfn.XLOOKUP($F36,RWS_[[Environmental Profile]:[Environmental Profile]],RWS_[HTP-NC],\"Not Found\",0)*Modellering!$I36,0)","v":0},{"$f":"IFERROR(_xlfn.XLOOKUP($F36,RWS_[[Environmental Profile]:[Environmental Profile]],RWS_[SQP],\"Not Found\",0)*Modellering!$I36,0)","v":0},{"$f":"IFERROR(_xlfn.XLOOKUP($F36,RWS_[[Environmental Profile]:[Environmental Profile]],RWS_[PERE],\"Not Found\",0)*Modellering!$I36,0)","v":0},{"$f":"IFERROR(_xlfn.XLOOKUP($F36,RWS_[[Environmental Profile]:[Environmental Profile]],RWS_[PERM],\"Not Found\",0)*Modellering!$I36,0)","v":0},{"$f":"IFERROR(_xlfn.XLOOKUP($F36,RWS_[[Environmental Profile]:[Environmental Profile]],RWS_[PERT],\"Not Found\",0)*Modellering!$I36,0)","v":0},{"$f":"IFERROR(_xlfn.XLOOKUP($F36,RWS_[[Environmental Profile]:[Environmental Profile]],RWS_[PENRE],\"Not Found\",0)*Modellering!$I36,0)","v":0},{"$f":"IFERROR(_xlfn.XLOOKUP($F36,RWS_[[Environmental Profile]:[Environmental Profile]],RWS_[PENRM],\"Not Found\",0)*Modellering!$I36,0)","v":0},{"$f":"IFERROR(_xlfn.XLOOKUP($F36,RWS_[[Environmental Profile]:[Environmental Profile]],RWS_[PENRT],\"Not Found\",0)*Modellering!$I36,0)","v":0},{"$f":"IFERROR(_xlfn.XLOOKUP($F36,RWS_[[Environmental Profile]:[Environmental Profile]],RWS_[SM],\"Not Found\",0)*Modellering!$I36,0)","v":0},{"$f":"IFERROR(_xlfn.XLOOKUP($F36,RWS_[[Environmental Profile]:[Environmental Profile]],RWS_[SF-R],\"Not Found\",0)*Modellering!$I36,0)","v":0},{"$f":"IFERROR(_xlfn.XLOOKUP($F36,RWS_[[Environmental Profile]:[Environmental Profile]],RWS_[SF-NR],\"Not Found\",0)*Modellering!$I36,0)","v":0},{"$f":"IFERROR(_xlfn.XLOOKUP($F36,RWS_[[Environmental Profile]:[Environmental Profile]],RWS_[FW],\"Not Found\",0)*Modellering!$I36,0)","v":0},{"$f":"IFERROR(_xlfn.XLOOKUP($F36,RWS_[[Environmental Profile]:[Environmental Profile]],RWS_[HWD],\"Not Found\",0)*Modellering!$I36,0)","v":0},{"$f":"IFERROR(_xlfn.XLOOKUP($F36,RWS_[[Environmental Profile]:[Environmental Profile]],RWS_[NHWD],\"Not Found\",0)*Modellering!$I36,0)","v":0},{"$f":"IFERROR(_xlfn.XLOOKUP($F36,RWS_[[Environmental Profile]:[Environmental Profile]],RWS_[RWD],\"Not Found\",0)*Modellering!$I36,0)","v":0},{"$f":"IFERROR(_xlfn.XLOOKUP($F36,RWS_[[Environmental Profile]:[Environmental Profile]],RWS_[CRU],\"Not Found\",0)*Modellering!$I36,0)","v":0},{"$f":"IFERROR(_xlfn.XLOOKUP($F36,RWS_[[Environmental Profile]:[Environmental Profile]],RWS_[MFR],\"Not Found\",0)*Modellering!$I36,0)","v":0},{"$f":"IFERROR(_xlfn.XLOOKUP($F36,RWS_[[Environmental Profile]:[Environmental Profile]],RWS_[MER],\"Not Found\",0)*Modellering!$I36,0)","v":0},{"$f":"IFERROR(_xlfn.XLOOKUP($F36,RWS_[[Environmental Profile]:[Environmental Profile]],RWS_[EE-E],\"Not Found\",0)*Modellering!$I36,0)","v":0},{"$f":"IFERROR(_xlfn.XLOOKUP($F36,RWS_[[Environmental Profile]:[Environmental Profile]],RWS_[EE-T],\"Not Found\",0)*Modellering!$I36,0)","v":0}]
[null,null,"AdBlue","Gebruiksprofiel AdBlue","B1","*RWS Emmissieprofiel AdBlue (B), CO2 naar lucht per kg AdBlue,  32,5% Ureum","AdBlue Emissies","kg",{"$f":"Invoerblad!$E$78","v":""},null,{"$f":"IFERROR(_xlfn.XLOOKUP($F37,RWS_[[Environmental Profile]:[Environmental Profile]],RWS_[ECI-A1],\"Not Found\",0)*Modellering!$I37,0)","v":0},{"$f":"IFERROR(_xlfn.XLOOKUP($F37,RWS_[[Environmental Profile]:[Environmental Profile]],RWS_[ECI-A2],\"Not Found\",0)*Modellering!$I37,0)","v":0},{"$f":"IFERROR(_xlfn.XLOOKUP($F37,RWS_[[Environmental Profile]:[Environmental Profile]],RWS_[ADPE],\"Not Found\",0)*Modellering!$I37,0)","v":0},{"$f":"IFERROR(_xlfn.XLOOKUP($F37,RWS_[[Environmental Profile]:[Environmental Profile]],RWS_[ADPF],\"Not Found\",0)*Modellering!$I37,0)","v":0},{"$f":"IFERROR(_xlfn.XLOOKUP($F37,RWS_[[Environmental Profile]:[Environmental Profile]],RWS_[GWP1],\"Not Found\",0)*Modellering!$I37,0)","v":0},{"$f":"IFERROR(_xlfn.XLOOKUP($F37,RWS_[[Environmental Profile]:[Environmental Profile]],RWS_[ODP1],\"Not Found\",0)*Modellering!$I37,0)","v":0},{"$f":"IFERROR(_xlfn.XLOOKUP($F37,RWS_[[Environmental Profile]:[Environmental Profile]],RWS_[POCP],\"Not Found\",0)*Modellering!$I37,0)","v":0},{"$f":"IFERROR(_xlfn.XLOOKUP($F37,RWS_[[Environmental Profile]:[Environmental Profile]],RWS_[AP],\"Not Found\",0)*Modellering!$I37,0)","v":0},{"$f":"IFERROR(_xlfn.XLOOKUP($F37,RWS_[[Environmental Profile]:[Environmental Profile]],RWS_[EP],\"Not Found\",0)*Modellering!$I37,0)","v":0},{"$f":"IFERROR(_xlfn.XLOOKUP($F37,RWS_[[Environmental Profile]:[Environmental Profile]],RWS_[HTP],\"Not Found\",0)*Modellering!$I37,0)","v":0},{"$f":"IFERROR(_xlfn.XLOOKUP($F37,RWS_[[Environmental Profile]:[Environmental Profile]],RWS_[FAETP],\"Not Found\",0)*Modellering!$I37,0)","v":0},{"$f":"IFERROR(_xlfn.XLOOKUP($F37,RWS_[[Environmental Profile]:[Environmental Profile]],RWS_[MAETP],\"Not Found\",0)*Modellering!$I37,0)","v":0},{"$f":"IFERROR(_xlfn.XLOOKUP($F37,RWS_[[Environmental Profile]:[Environmental Profile]],RWS_[TETP],\"Not Found\",0)*Modellering!$I37,0)","v":0},{"$f":"IFERROR(_xlfn.XLOOKUP($F37,RWS_[[Environmental Profile]:[Environmental Profile]],RWS_[GWP2],\"Not Found\",0)*Modellering!$I37,0)","v":0},{"$f":"IFERROR(_xlfn.XLOOKUP($F37,RWS_[[Environmental Profile]:[Environmental Profile]],RWS_[GWP-F],\"Not Found\",0)*Modellering!$I37,0)","v":0},{"$f":"IFERROR(_xlfn.XLOOKUP($F37,RWS_[[Environmental Profile]:[Environmental Profile]],RWS_[GWP-B],\"Not Found\",0)*Modellering!$I37,0)","v":0},{"$f":"IFERROR(_xlfn.XLOOKUP($F37,RWS_[[Environmental Profile]:[Environmental Profile]],RWS_[GWP-L],\"Not Found\",0)*Modellering!$I37,0)","v":0},{"$f":"IFERROR(_xlfn.XLOOKUP($F37,RWS_[[Environmental Profile]:[Environmental Profile]],RWS_[ODP2],\"Not Found\",0)*Modellering!$I37,0)","v":0},{"$f":"IFERROR(_xlfn.XLOOKUP($F37,RWS_[[Environmental Profile]:[Environmental Profile]],RWS_[AP2],\"Not Found\",0)*Modellering!$I37,0)","v":0},{"$f":"IFERROR(_xlfn.XLOOKUP($F37,RWS_[[Environmental Profile]:[Environmental Profile]],RWS_[EP-FW],\"Not Found\",0)*Modellering!$I37,0)","v":0},{"$f":"IFERROR(_xlfn.XLOOKUP($F37,RWS_[[Environmental Profile]:[Environmental Profile]],RWS_[EP-M],\"Not Found\",0)*Modellering!$I37,0)","v":0},{"$f":"IFERROR(_xlfn.XLOOKUP($F37,RWS_[[Environmental Profile]:[Environmental Profile]],RWS_[EP-T],\"Not Found\",0)*Modellering!$I37,0)","v":0},{"$f":"IFERROR(_xlfn.XLOOKUP($F37,RWS_[[Environmental Profile]:[Environmental Profile]],RWS_[POCP2],\"Not Found\",0)*Modellering!$I37,0)","v":0},{"$f":"IFERROR(_xlfn.XLOOKUP($F37,RWS_[[Environmental Profile]:[Environmental Profile]],RWS_[ADP-MM],\"Not Found\",0)*Modellering!$I37,0)","v":0},{"$f":"IFERROR(_xlfn.XLOOKUP($F37,RWS_[[Environmental Profile]:[Environmental Profile]],RWS_[ADP-F],\"Not Found\",0)*Modellering!$I37,0)","v":0},{"$f":"IFERROR(_xlfn.XLOOKUP($F37,RWS_[[Environmental Profile]:[Environmental Profile]],RWS_[WDP],\"Not Found\",0)*Modellering!$I37,0)","v":0},{"$f":"IFERROR(_xlfn.XLOOKUP($F37,RWS_[[Environmental Profile]:[Environmental Profile]],RWS_[PM],\"Not Found\",0)*Modellering!$I37,0)","v":0},{"$f":"IFERROR(_xlfn.XLOOKUP($F37,RWS_[[Environmental Profile]:[Environmental Profile]],RWS_[IR],\"Not Found\",0)*Modellering!$I37,0)","v":0},{"$f":"IFERROR(_xlfn.XLOOKUP($F37,RWS_[[Environmental Profile]:[Environmental Profile]],RWS_[ETP-FW],\"Not Found\",0)*Modellering!$I37,0)","v":0},{"$f":"IFERROR(_xlfn.XLOOKUP($F37,RWS_[[Environmental Profile]:[Environmental Profile]],RWS_[HTP-C],\"Not Found\",0)*Modellering!$I37,0)","v":0},{"$f":"IFERROR(_xlfn.XLOOKUP($F37,RWS_[[Environmental Profile]:[Environmental Profile]],RWS_[HTP-NC],\"Not Found\",0)*Modellering!$I37,0)","v":0},{"$f":"IFERROR(_xlfn.XLOOKUP($F37,RWS_[[Environmental Profile]:[Environmental Profile]],RWS_[SQP],\"Not Found\",0)*Modellering!$I37,0)","v":0},{"$f":"IFERROR(_xlfn.XLOOKUP($F37,RWS_[[Environmental Profile]:[Environmental Profile]],RWS_[PERE],\"Not Found\",0)*Modellering!$I37,0)","v":0},{"$f":"IFERROR(_xlfn.XLOOKUP($F37,RWS_[[Environmental Profile]:[Environmental Profile]],RWS_[PERM],\"Not Found\",0)*Modellering!$I37,0)","v":0},{"$f":"IFERROR(_xlfn.XLOOKUP($F37,RWS_[[Environmental Profile]:[Environmental Profile]],RWS_[PERT],\"Not Found\",0)*Modellering!$I37,0)","v":0},{"$f":"IFERROR(_xlfn.XLOOKUP($F37,RWS_[[Environmental Profile]:[Environmental Profile]],RWS_[PENRE],\"Not Found\",0)*Modellering!$I37,0)","v":0},{"$f":"IFERROR(_xlfn.XLOOKUP($F37,RWS_[[Environmental Profile]:[Environmental Profile]],RWS_[PENRM],\"Not Found\",0)*Modellering!$I37,0)","v":0},{"$f":"IFERROR(_xlfn.XLOOKUP($F37,RWS_[[Environmental Profile]:[Environmental Profile]],RWS_[PENRT],\"Not Found\",0)*Modellering!$I37,0)","v":0},{"$f":"IFERROR(_xlfn.XLOOKUP($F37,RWS_[[Environmental Profile]:[Environmental Profile]],RWS_[SM],\"Not Found\",0)*Modellering!$I37,0)","v":0},{"$f":"IFERROR(_xlfn.XLOOKUP($F37,RWS_[[Environmental Profile]:[Environmental Profile]],RWS_[SF-R],\"Not Found\",0)*Modellering!$I37,0)","v":0},{"$f":"IFERROR(_xlfn.XLOOKUP($F37,RWS_[[Environmental Profile]:[Environmental Profile]],RWS_[SF-NR],\"Not Found\",0)*Modellering!$I37,0)","v":0},{"$f":"IFERROR(_xlfn.XLOOKUP($F37,RWS_[[Environmental Profile]:[Environmental Profile]],RWS_[FW],\"Not Found\",0)*Modellering!$I37,0)","v":0},{"$f":"IFERROR(_xlfn.XLOOKUP($F37,RWS_[[Environmental Profile]:[Environmental Profile]],RWS_[HWD],\"Not Found\",0)*Modellering!$I37,0)","v":0},{"$f":"IFERROR(_xlfn.XLOOKUP($F37,RWS_[[Environmental Profile]:[Environmental Profile]],RWS_[NHWD],\"Not Found\",0)*Modellering!$I37,0)","v":0},{"$f":"IFERROR(_xlfn.XLOOKUP($F37,RWS_[[Environmental Profile]:[Environmental Profile]],RWS_[RWD],\"Not Found\",0)*Modellering!$I37,0)","v":0},{"$f":"IFERROR(_xlfn.XLOOKUP($F37,RWS_[[Environmental Profile]:[Environmental Profile]],RWS_[CRU],\"Not Found\",0)*Modellering!$I37,0)","v":0},{"$f":"IFERROR(_xlfn.XLOOKUP($F37,RWS_[[Environmental Profile]:[Environmental Profile]],RWS_[MFR],\"Not Found\",0)*Modellering!$I37,0)","v":0},{"$f":"IFERROR(_xlfn.XLOOKUP($F37,RWS_[[Environmental Profile]:[Environmental Profile]],RWS_[MER],\"Not Found\",0)*Modellering!$I37,0)","v":0},{"$f":"IFERROR(_xlfn.XLOOKUP($F37,RWS_[[Environmental Profile]:[Environmental Profile]],RWS_[EE-E],\"Not Found\",0)*Modellering!$I37,0)","v":0},{"$f":"IFERROR(_xlfn.XLOOKUP($F37,RWS_[[Environmental Profile]:[Environmental Profile]],RWS_[EE-T],\"Not Found\",0)*Modellering!$I37,0)","v":0}]
[{"$nulls":10},{"$f":"SUM(K26:K37)","v":0},0,0,0,0,0,0,0,0,0,0,0,0,0,0,0,0,0,0,0,0,0,0,0,0,0,0,0,0,0,0,0,{"$f":"SUM(AQ26:AQ37)","v":0},0,0,0,0,0,0,0,0,0,0,0,0,0,0,0,0,0]
[]
[]
[]
[]
[null,null,"Milieuprofiel Motor 3",{"$f":"Invoerblad!F43","v":"Milieuprofiel 3"}]
[]
[null,null,"Onderdeel","Verdieping","Module","Milieuprofiel","Name Short","Eenheid","Hoeveelheid",null,"ECI-A1","ECI-A2","ADPE","ADPF","GWP1","ODP1","POCP","AP","EP","HTP","FAETP","MAETP","TETP","GWP2","GWP-F","GWP-B","GWP-L","ODP2","AP2","EP-FW","EP-M","EP-T","POCP2","ADP-MM","ADP-F","WDP","PM","IR","ETP-FW","HTP-C","HTP-NC","SQP","PERE","PERM","PERT","PENRE","PENRM","PENRT","SM","SF-R","SF-NR","FW","HWD","NHWD","RWD","CRU","MFR","MER","EE-E","EE-T"]
[null,null,"Energiedragers","Winning Energiedrager","A1-A3",{"$f":"_xlfn.XLOOKUP(Invoerblad!$F$45,Fuel_Short[Brandstof],Fuel_Short[Winning Energiedrager A1-A3],\"Not Found\",0)","v":"Not Found"},{"$f":"_xlfn.XLOOKUP(F46:F57,RWS_[Environmental Profile],RWS_[Result Name],\"\",0)","v":""},{"$f":"_xlfn.XLOOKUP(F46:F57,RWS_[Environmental Profile],RWS_[Fuctional Unit],\"Not Found\",0)","v":"Not Found"},1,null,{"$f":"IFERROR(_xlfn.XLOOKUP($F46,RWS_[[Environmental Profile]:[Environmental Profile]],RWS_[ECI-A1],\"Not Found\",0)*Modellering!$I46,0)","v":0},{"$f":"IFERROR(_xlfn.XLOOKUP($F46,RWS_[[Environmental Profile]:[Environmental Profile]],RWS_[ECI-A2],\"Not Found\",0)*Modellering!$I46,0)","v":0},{"$f":"IFERROR(_xlfn.XLOOKUP($F46,RWS_[[Environmental Profile]:[Environmental Profile]],RWS_[ADPE],\"Not Found\",0)*Modellering!$I46,0)","v":0},{"$f":"IFERROR(_xlfn.XLOOKUP($F46,RWS_[[Environmental Profile]:[Environmental Profile]],RWS_[ADPF],\"Not Found\",0)*Modellering!$I46,0)","v":0},{"$f":"IFERROR(_xlfn.XLOOKUP($F46,RWS_[[Environmental Profile]:[Environmental Profile]],RWS_[GWP1],\"Not Found\",0)*Modellering!$I46,0)","v":0},{"$f":"IFERROR(_xlfn.XLOOKUP($F46,RWS_[[Environmental Profile]:[Environmental Profile]],RWS_[ODP1],\"Not Found\",0)*Modellering!$I46,0)","v":0},{"$f":"IFERROR(_xlfn.XLOOKUP($F46,RWS_[[Environmental Profile]:[Environmental Profile]],RWS_[POCP],\"Not Found\",0)*Modellering!$I46,0)","v":0},{"$f":"IFERROR(_xlfn.XLOOKUP($F46,RWS_[[Environmental Profile]:[Environmental Profile]],RWS_[AP],\"Not Found\",0)*Modellering!$I46,0)","v":0},{"$f":"IFERROR(_xlfn.XLOOKUP($F46,RWS_[[Environmental Profile]:[Environmental Profile]],RWS_[EP],\"Not Found\",0)*Modellering!$I46,0)","v":0},{"$f":"IFERROR(_xlfn.XLOOKUP($F46,RWS_[[Environmental Profile]:[Environmental Profile]],RWS_[HTP],\"Not Found\",0)*Modellering!$I46,0)","v":0},{"$f":"IFERROR(_xlfn.XLOOKUP($F46,RWS_[[Environmental Profile]:[Environmental Profile]],RWS_[FAETP],\"Not Found\",0)*Modellering!$I46,0)","v":0},{"$f":"IFERROR(_xlfn.XLOOKUP($F46,RWS_[[Environmental Profile]:[Environmental Profile]],RWS_[MAETP],\"Not Found\",0)*Modellering!$I46,0)","v":0},{"$f":"IFERROR(_xlfn.XLOOKUP($F46,RWS_[[Environmental Profile]:[Environmental Profile]],RWS_[TETP],\"Not Found\",0)*Modellering!$I46,0)","v":0},{"$f":"IFERROR(_xlfn.XLOOKUP($F46,RWS_[[Environmental Profile]:[Environmental Profile]],RWS_[GWP2],\"Not Found\",0)*Modellering!$I46,0)","v":0},{"$f":"IFERROR(_xlfn.XLOOKUP($F46,RWS_[[Environmental Profile]:[Environmental Profile]],RWS_[GWP-F],\"Not Found\",0)*Modellering!$I46,0)","v":0},{"$f":"IFERROR(_xlfn.XLOOKUP($F46,RWS_[[Environmental Profile]:[Environmental Profile]],RWS_[GWP-B],\"Not Found\",0)*Modellering!$I46,0)","v":0},{"$f":"IFERROR(_xlfn.XLOOKUP($F46,RWS_[[Environmental Profile]:[Environmental Profile]],RWS_[GWP-L],\"Not Found\",0)*Modellering!$I46,0)","v":0},{"$f":"IFERROR(_xlfn.XLOOKUP($F46,RWS_[[Environmental Profile]:[Environmental Profile]],RWS_[ODP2],\"Not Found\",0)*Modellering!$I46,0)","v":0},{"$f":"IFERROR(_xlfn.XLOOKUP($F46,RWS_[[Environmental Profile]:[Environmental Profile]],RWS_[AP2],\"Not Found\",0)*Modellering!$I46,0)","v":0},{"$f":"IFERROR(_xlfn.XLOOKUP($F46,RWS_[[Environmental Profile]:[Environmental Profile]],RWS_[EP-FW],\"Not Found\",0)*Modellering!$I46,0)","v":0},{"$f":"IFERROR(_xlfn.XLOOKUP($F46,RWS_[[Environmental Profile]:[Environmental Profile]],RWS_[EP-M],\"Not Found\",0)*Modellering!$I46,0)","v":0},{"$f":"IFERROR(_xlfn.XLOOKUP($F46,RWS_[[Environmental Profile]:[Environmental Profile]],RWS_[EP-T],\"Not Found\",0)*Modellering!$I46,0)","v":0},{"$f":"IFERROR(_xlfn.XLOOKUP($F46,RWS_[[Environmental Profile]:[Environmental Profile]],RWS_[POCP2],\"Not Found\",0)*Modellering!$I46,0)","v":0},{"$f":"IFERROR(_xlfn.XLOOKUP($F46,RWS_[[Environmental Profile]:[Environmental Profile]],RWS_[ADP-MM],\"Not Found\",0)*Modellering!$I46,0)","v":0},{"$f":"IFERROR(_xlfn.XLOOKUP($F46,RWS_[[Environmental Profile]:[Environmental Profile]],RWS_[ADP-F],\"Not Found\",0)*Modellering!$I46,0)","v":0},{"$f":"IFERROR(_xlfn.XLOOKUP($F46,RWS_[[Environmental Profile]:[Environmental Profile]],RWS_[WDP],\"Not Found\",0)*Modellering!$I46,0)","v":0},{"$f":"IFERROR(_xlfn.XLOOKUP($F46,RWS_[[Environmental Profile]:[Environmental Profile]],RWS_[PM],\"Not Found\",0)*Modellering!$I46,0)","v":0},{"$f":"IFERROR(_xlfn.XLOOKUP($F46,RWS_[[Environmental Profile]:[Environmental Profile]],RWS_[IR],\"Not Found\",0)*Modellering!$I46,0)","v":0},{"$f":"IFERROR(_xlfn.XLOOKUP($F46,RWS_[[Environmental Profile]:[Environmental Profile]],RWS_[ETP-FW],\"Not Found\",0)*Modellering!$I46,0)","v":0},{"$f":"IFERROR(_xlfn.XLOOKUP($F46,RWS_[[Environmental Profile]:[Environmental Profile]],RWS_[HTP-C],\"Not Found\",0)*Modellering!$I46,0)","v":0},{"$f":"IFERROR(_xlfn.XLOOKUP($F46,RWS_[[Environmental Profile]:[Environmental Profile]],RWS_[HTP-NC],\"Not Found\",0)*Modellering!$I46,0)","v":0},{"$f":"IFERROR(_xlfn.XLOOKUP($F46,RWS_[[Environmental Profile]:[Environmental Profile]],RWS_[SQP],\"Not Found\",0)*Modellering!$I46,0)","v":0},{"$f":"IFERROR(_xlfn.XLOOKUP($F46,RWS_[[Environmental Profile]:[Environmental Profile]],RWS_[PERE],\"Not Found\",0)*Modellering!$I46,0)","v":0},{"$f":"IFERROR(_xlfn.XLOOKUP($F46,RWS_[[Environmental Profile]:[Environmental Profile]],RWS_[PERM],\"Not Found\",0)*Modellering!$I46,0)","v":0},{"$f":"IFERROR(_xlfn.XLOOKUP($F46,RWS_[[Environmental Profile]:[Environmental Profile]],RWS_[PERT],\"Not Found\",0)*Modellering!$I46,0)","v":0},{"$f":"IFERROR(_xlfn.XLOOKUP($F46,RWS_[[Environmental Profile]:[Environmental Profile]],RWS_[PENRE],\"Not Found\",0)*Modellering!$I46,0)","v":0},{"$f":"IFERROR(_xlfn.XLOOKUP($F46,RWS_[[Environmental Profile]:[Environmental Profile]],RWS_[PENRM],\"Not Found\",0)*Modellering!$I46,0)","v":0},{"$f":"IFERROR(_xlfn.XLOOKUP($F46,RWS_[[Environmental Profile]:[Environmental Profile]],RWS_[PENRT],\"Not Found\",0)*Modellering!$I46,0)","v":0},{"$f":"IFERROR(_xlfn.XLOOKUP($F46,RWS_[[Environmental Profile]:[Environmental Profile]],RWS_[SM],\"Not Found\",0)*Modellering!$I46,0)","v":0},{"$f":"IFERROR(_xlfn.XLOOKUP($F46,RWS_[[Environmental Profile]:[Environmental Profile]],RWS_[SF-R],\"Not Found\",0)*Modellering!$I46,0)","v":0},{"$f":"IFERROR(_xlfn.XLOOKUP($F46,RWS_[[Environmental Profile]:[Environmental Profile]],RWS_[SF-NR],\"Not Found\",0)*Modellering!$I46,0)","v":0},{"$f":"IFERROR(_xlfn.XLOOKUP($F46,RWS_[[Environmental Profile]:[Environmental Profile]],RWS_[FW],\"Not Found\",0)*Modellering!$I46,0)","v":0},{"$f":"IFERROR(_xlfn.XLOOKUP($F46,RWS_[[Environmental Profile]:[Environmental Profile]],RWS_[HWD],\"Not Found\",0)*Modellering!$I46,0)","v":0},{"$f":"IFERROR(_xlfn.XLOOKUP($F46,RWS_[[Environmental Profile]:[Environmental Profile]],RWS_[NHWD],\"Not Found\",0)*Modellering!$I46,0)","v":0},{"$f":"IFERROR(_xlfn.XLOOKUP($F46,RWS_[[Environmental Profile]:[Environmental Profile]],RWS_[RWD],\"Not Found\",0)*Modellering!$I46,0)","v":0},{"$f":"IFERROR(_xlfn.XLOOKUP($F46,RWS_[[Environmental Profile]:[Environmental Profile]],RWS_[CRU],\"Not Found\",0)*Modellering!$I46,0)","v":0},{"$f":"IFERROR(_xlfn.XLOOKUP($F46,RWS_[[Environmental Profile]:[Environmental Profile]],RWS_[MFR],\"Not Found\",0)*Modellering!$I46,0)","v":0},{"$f":"IFERROR(_xlfn.XLOOKUP($F46,RWS_[[Environmental Profile]:[Environmental Profile]],RWS_[MER],\"Not Found\",0)*Modellering!$I46,0)","v":0},{"$f":"IFERROR(_xlfn.XLOOKUP($F46,RWS_[[Environmental Profile]:[Environmental Profile]],RWS_[EE-E],\"Not Found\",0)*Modellering!$I46,0)","v":0},{"$f":"IFERROR(_xlfn.XLOOKUP($F46,RWS_[[Environmental Profile]:[Environmental Profile]],RWS_[EE-T],\"Not Found\",0)*Modellering!$I46,0)","v":0}]
[null,null,"Energiedragers","Opslag Energiedrager","A4",{"$f":"_xlfn.XLOOKUP(Invoerblad!$F$45,Fuel_Short[Brandstof],Fuel_Short[Opslag Energiedrager A4],\"Not Found\",0)","v":"Not Found"},"","Not Found",1,null,{"$f":"IFERROR(_xlfn.XLOOKUP($F47,RWS_[[Environmental Profile]:[Environmental Profile]],RWS_[ECI-A1],\"Not Found\",0)*Modellering!$I47,0)","v":0},{"$f":"IFERROR(_xlfn.XLOOKUP($F47,RWS_[[Environmental Profile]:[Environmental Profile]],RWS_[ECI-A2],\"Not Found\",0)*Modellering!$I47,0)","v":0},{"$f":"IFERROR(_xlfn.XLOOKUP($F47,RWS_[[Environmental Profile]:[Environmental Profile]],RWS_[ADPE],\"Not Found\",0)*Modellering!$I47,0)","v":0},{"$f":"IFERROR(_xlfn.XLOOKUP($F47,RWS_[[Environmental Profile]:[Environmental Profile]],RWS_[ADPF],\"Not Found\",0)*Modellering!$I47,0)","v":0},{"$f":"IFERROR(_xlfn.XLOOKUP($F47,RWS_[[Environmental Profile]:[Environmental Profile]],RWS_[GWP1],\"Not Found\",0)*Modellering!$I47,0)","v":0},{"$f":"IFERROR(_xlfn.XLOOKUP($F47,RWS_[[Environmental Profile]:[Environmental Profile]],RWS_[ODP1],\"Not Found\",0)*Modellering!$I47,0)","v":0},{"$f":"IFERROR(_xlfn.XLOOKUP($F47,RWS_[[Environmental Profile]:[Environmental Profile]],RWS_[POCP],\"Not Found\",0)*Modellering!$I47,0)","v":0},{"$f":"IFERROR(_xlfn.XLOOKUP($F47,RWS_[[Environmental Profile]:[Environmental Profile]],RWS_[AP],\"Not Found\",0)*Modellering!$I47,0)","v":0},{"$f":"IFERROR(_xlfn.XLOOKUP($F47,RWS_[[Environmental Profile]:[Environmental Profile]],RWS_[EP],\"Not Found\",0)*Modellering!$I47,0)","v":0},{"$f":"IFERROR(_xlfn.XLOOKUP($F47,RWS_[[Environmental Profile]:[Environmental Profile]],RWS_[HTP],\"Not Found\",0)*Modellering!$I47,0)","v":0},{"$f":"IFERROR(_xlfn.XLOOKUP($F47,RWS_[[Environmental Profile]:[Environmental Profile]],RWS_[FAETP],\"Not Found\",0)*Modellering!$I47,0)","v":0},{"$f":"IFERROR(_xlfn.XLOOKUP($F47,RWS_[[Environmental Profile]:[Environmental Profile]],RWS_[MAETP],\"Not Found\",0)*Modellering!$I47,0)","v":0},{"$f":"IFERROR(_xlfn.XLOOKUP($F47,RWS_[[Environmental Profile]:[Environmental Profile]],RWS_[TETP],\"Not Found\",0)*Modellering!$I47,0)","v":0},{"$f":"IFERROR(_xlfn.XLOOKUP($F47,RWS_[[Environmental Profile]:[Environmental Profile]],RWS_[GWP2],\"Not Found\",0)*Modellering!$I47,0)","v":0},{"$f":"IFERROR(_xlfn.XLOOKUP($F47,RWS_[[Environmental Profile]:[Environmental Profile]],RWS_[GWP-F],\"Not Found\",0)*Modellering!$I47,0)","v":0},{"$f":"IFERROR(_xlfn.XLOOKUP($F47,RWS_[[Environmental Profile]:[Environmental Profile]],RWS_[GWP-B],\"Not Found\",0)*Modellering!$I47,0)","v":0},{"$f":"IFERROR(_xlfn.XLOOKUP($F47,RWS_[[Environmental Profile]:[Environmental Profile]],RWS_[GWP-L],\"Not Found\",0)*Modellering!$I47,0)","v":0},{"$f":"IFERROR(_xlfn.XLOOKUP($F47,RWS_[[Environmental Profile]:[Environmental Profile]],RWS_[ODP2],\"Not Found\",0)*Modellering!$I47,0)","v":0},{"$f":"IFERROR(_xlfn.XLOOKUP($F47,RWS_[[Environmental Profile]:[Environmental Profile]],RWS_[AP2],\"Not Found\",0)*Modellering!$I47,0)","v":0},{"$f":"IFERROR(_xlfn.XLOOKUP($F47,RWS_[[Environmental Profile]:[Environmental Profile]],RWS_[EP-FW],\"Not Found\",0)*Modellering!$I47,0)","v":0},{"$f":"IFERROR(_xlfn.XLOOKUP($F47,RWS_[[Environmental Profile]:[Environmental Profile]],RWS_[EP-M],\"Not Found\",0)*Modellering!$I47,0)","v":0},{"$f":"IFERROR(_xlfn.XLOOKUP($F47,RWS_[[Environmental Profile]:[Environmental Profile]],RWS_[EP-T],\"Not Found\",0)*Modellering!$I47,0)","v":0},{"$f":"IFERROR(_xlfn.XLOOKUP($F47,RWS_[[Environmental Profile]:[Environmental Profile]],RWS_[POCP2],\"Not Found\",0)*Modellering!$I47,0)","v":0},{"$f":"IFERROR(_xlfn.XLOOKUP($F47,RWS_[[Environmental Profile]:[Environmental Profile]],RWS_[ADP-MM],\"Not Found\",0)*Modellering!$I47,0)","v":0},{"$f":"IFERROR(_xlfn.XLOOKUP($F47,RWS_[[Environmental Profile]:[Environmental Profile]],RWS_[ADP-F],\"Not Found\",0)*Modellering!$I47,0)","v":0},{"$f":"IFERROR(_xlfn.XLOOKUP($F47,RWS_[[Environmental Profile]:[Environmental Profile]],RWS_[WDP],\"Not Found\",0)*Modellering!$I47,0)","v":0},{"$f":"IFERROR(_xlfn.XLOOKUP($F47,RWS_[[Environmental Profile]:[Environmental Profile]],RWS_[PM],\"Not Found\",0)*Modellering!$I47,0)","v":0},{"$f":"IFERROR(_xlfn.XLOOKUP($F47,RWS_[[Environmental Profile]:[Environmental Profile]],RWS_[IR],\"Not Found\",0)*Modellering!$I47,0)","v":0},{"$f":"IFERROR(_xlfn.XLOOKUP($F47,RWS_[[Environmental Profile]:[Environmental Profile]],RWS_[ETP-FW],\"Not Found\",0)*Modellering!$I47,0)","v":0},{"$f":"IFERROR(_xlfn.XLOOKUP($F47,RWS_[[Environmental Profile]:[Environmental Profile]],RWS_[HTP-C],\"Not Found\",0)*Modellering!$I47,0)","v":0},{"$f":"IFERROR(_xlfn.XLOOKUP($F47,RWS_[[Environmental Profile]:[Environmental Profile]],RWS_[HTP-NC],\"Not Found\",0)*Modellering!$I47,0)","v":0},{"$f":"IFERROR(_xlfn.XLOOKUP($F47,RWS_[[Environmental Profile]:[Environmental Profile]],RWS_[SQP],\"Not Found\",0)*Modellering!$I47,0)","v":0},{"$f":"IFERROR(_xlfn.XLOOKUP($F47,RWS_[[Environmental Profile]:[Environmental Profile]],RWS_[PERE],\"Not Found\",0)*Modellering!$I47,0)","v":0},{"$f":"IFERROR(_xlfn.XLOOKUP($F47,RWS_[[Environmental Profile]:[Environmental Profile]],RWS_[PERM],\"Not Found\",0)*Modellering!$I47,0)","v":0},{"$f":"IFERROR(_xlfn.XLOOKUP($F47,RWS_[[Environmental Profile]:[Environmental Profile]],RWS_[PERT],\"Not Found\",0)*Modellering!$I47,0)","v":0},{"$f":"IFERROR(_xlfn.XLOOKUP($F47,RWS_[[Environmental Profile]:[Environmental Profile]],RWS_[PENRE],\"Not Found\",0)*Modellering!$I47,0)","v":0},{"$f":"IFERROR(_xlfn.XLOOKUP($F47,RWS_[[Environmental Profile]:[Environmental Profile]],RWS_[PENRM],\"Not Found\",0)*Modellering!$I47,0)","v":0},{"$f":"IFERROR(_xlfn.XLOOKUP($F47,RWS_[[Environmental Profile]:[Environmental Profile]],RWS_[PENRT],\"Not Found\",0)*Modellering!$I47,0)","v":0},{"$f":"IFERROR(_xlfn.XLOOKUP($F47,RWS_[[Environmental Profile]:[Environmental Profile]],RWS_[SM],\"Not Found\",0)*Modellering!$I47,0)","v":0},{"$f":"IFERROR(_xlfn.XLOOKUP($F47,RWS_[[Environmental Profile]:[Environmental Profile]],RWS_[SF-R],\"Not Found\",0)*Modellering!$I47,0)","v":0},{"$f":"IFERROR(_xlfn.XLOOKUP($F47,RWS_[[Environmental Profile]:[Environmental Profile]],RWS_[SF-NR],\"Not Found\",0)*Modellering!$I47,0)","v":0},{"$f":"IFERROR(_xlfn.XLOOKUP($F47,RWS_[[Environmental Profile]:[Environmental Profile]],RWS_[FW],\"Not Found\",0)*Modellering!$I47,0)","v":0},{"$f":"IFERROR(_xlfn.XLOOKUP($F47,RWS_[[Environmental Profile]:[Environmental Profile]],RWS_[HWD],\"Not Found\",0)*Modellering!$I47,0)","v":0},{"$f":"IFERROR(_xlfn.XLOOKUP($F47,RWS_[[Environmental Profile]:[Environmental Profile]],RWS_[NHWD],\"Not Found\",0)*Modellering!$I47,0)","v":0},{"$f":"IFERROR(_xlfn.XLOOKUP($F47,RWS_[[Environmental Profile]:[Environmental Profile]],RWS_[RWD],\"Not Found\",0)*Modellering!$I47,0)","v":0},{"$f":"IFERROR(_xlfn.XLOOKUP($F47,RWS_[[Environmental Profile]:[Environmental Profile]],RWS_[CRU],\"Not Found\",0)*Modellering!$I47,0)","v":0},{"$f":"IFERROR(_xlfn.XLOOKUP($F47,RWS_[[Environmental Profile]:[Environmental Profile]],RWS_[MFR],\"Not Found\",0)*Modellering!$I47,0)","v":0},{"$f":"IFERROR(_xlfn.XLOOKUP($F47,RWS_[[Environmental Profile]:[Environmental Profile]],RWS_[MER],\"Not Found\",0)*Modellering!$I47,0)","v":0},{"$f":"IFERROR(_xlfn.XLOOKUP($F47,RWS_[[Environmental Profile]:[Environmental Profile]],RWS_[EE-E],\"Not Found\",0)*Modellering!$I47,0)","v":0},{"$f":"IFERROR(_xlfn.XLOOKUP($F47,RWS_[[Environmental Profile]:[Environmental Profile]],RWS_[EE-T],\"Not Found\",0)*Modellering!$I47,0)","v":0}]
[null,null,"Gebruiksprofiel","Gebruiksprofiel Basis","B1",{"$f":"_xlfn.XLOOKUP(Invoerblad!$F$44&Invoerblad!$F$46,Emi_Short[Brandstof]&Emi_Short[MotCel2],Emi_Short[Gebruiksprofiel Basis B1],\"Not Found\",0)","v":"Not Found"},"","Not Found",1,null,{"$f":"IFERROR(_xlfn.XLOOKUP($F48,RWS_[[Environmental Profile]:[Environmental Profile]],RWS_[ECI-A1],\"Not Found\",0)*Modellering!$I48,0)","v":0},{"$f":"IFERROR(_xlfn.XLOOKUP($F48,RWS_[[Environmental Profile]:[Environmental Profile]],RWS_[ECI-A2],\"Not Found\",0)*Modellering!$I48,0)","v":0},{"$f":"IFERROR(_xlfn.XLOOKUP($F48,RWS_[[Environmental Profile]:[Environmental Profile]],RWS_[ADPE],\"Not Found\",0)*Modellering!$I48,0)","v":0},{"$f":"IFERROR(_xlfn.XLOOKUP($F48,RWS_[[Environmental Profile]:[Environmental Profile]],RWS_[ADPF],\"Not Found\",0)*Modellering!$I48,0)","v":0},{"$f":"IFERROR(_xlfn.XLOOKUP($F48,RWS_[[Environmental Profile]:[Environmental Profile]],RWS_[GWP1],\"Not Found\",0)*Modellering!$I48,0)","v":0},{"$f":"IFERROR(_xlfn.XLOOKUP($F48,RWS_[[Environmental Profile]:[Environmental Profile]],RWS_[ODP1],\"Not Found\",0)*Modellering!$I48,0)","v":0},{"$f":"IFERROR(_xlfn.XLOOKUP($F48,RWS_[[Environmental Profile]:[Environmental Profile]],RWS_[POCP],\"Not Found\",0)*Modellering!$I48,0)","v":0},{"$f":"IFERROR(_xlfn.XLOOKUP($F48,RWS_[[Environmental Profile]:[Environmental Profile]],RWS_[AP],\"Not Found\",0)*Modellering!$I48,0)","v":0},{"$f":"IFERROR(_xlfn.XLOOKUP($F48,RWS_[[Environmental Profile]:[Environmental Profile]],RWS_[EP],\"Not Found\",0)*Modellering!$I48,0)","v":0},{"$f":"IFERROR(_xlfn.XLOOKUP($F48,RWS_[[Environmental Profile]:[Environmental Profile]],RWS_[HTP],\"Not Found\",0)*Modellering!$I48,0)","v":0},{"$f":"IFERROR(_xlfn.XLOOKUP($F48,RWS_[[Environmental Profile]:[Environmental Profile]],RWS_[FAETP],\"Not Found\",0)*Modellering!$I48,0)","v":0},{"$f":"IFERROR(_xlfn.XLOOKUP($F48,RWS_[[Environmental Profile]:[Environmental Profile]],RWS_[MAETP],\"Not Found\",0)*Modellering!$I48,0)","v":0},{"$f":"IFERROR(_xlfn.XLOOKUP($F48,RWS_[[Environmental Profile]:[Environmental Profile]],RWS_[TETP],\"Not Found\",0)*Modellering!$I48,0)","v":0},{"$f":"IFERROR(_xlfn.XLOOKUP($F48,RWS_[[Environmental Profile]:[Environmental Profile]],RWS_[GWP2],\"Not Found\",0)*Modellering!$I48,0)","v":0},{"$f":"IFERROR(_xlfn.XLOOKUP($F48,RWS_[[Environmental Profile]:[Environmental Profile]],RWS_[GWP-F],\"Not Found\",0)*Modellering!$I48,0)","v":0},{"$f":"IFERROR(_xlfn.XLOOKUP($F48,RWS_[[Environmental Profile]:[Environmental Profile]],RWS_[GWP-B],\"Not Found\",0)*Modellering!$I48,0)","v":0},{"$f":"IFERROR(_xlfn.XLOOKUP($F48,RWS_[[Environmental Profile]:[Environmental Profile]],RWS_[GWP-L],\"Not Found\",0)*Modellering!$I48,0)","v":0},{"$f":"IFERROR(_xlfn.XLOOKUP($F48,RWS_[[Environmental Profile]:[Environmental Profile]],RWS_[ODP2],\"Not Found\",0)*Modellering!$I48,0)","v":0},{"$f":"IFERROR(_xlfn.XLOOKUP($F48,RWS_[[Environmental Profile]:[Environmental Profile]],RWS_[AP2],\"Not Found\",0)*Modellering!$I48,0)","v":0},{"$f":"IFERROR(_xlfn.XLOOKUP($F48,RWS_[[Environmental Profile]:[Environmental Profile]],RWS_[EP-FW],\"Not Found\",0)*Modellering!$I48,0)","v":0},{"$f":"IFERROR(_xlfn.XLOOKUP($F48,RWS_[[Environmental Profile]:[Environmental Profile]],RWS_[EP-M],\"Not Found\",0)*Modellering!$I48,0)","v":0},{"$f":"IFERROR(_xlfn.XLOOKUP($F48,RWS_[[Environmental Profile]:[Environmental Profile]],RWS_[EP-T],\"Not Found\",0)*Modellering!$I48,0)","v":0},{"$f":"IFERROR(_xlfn.XLOOKUP($F48,RWS_[[Environmental Profile]:[Environmental Profile]],RWS_[POCP2],\"Not Found\",0)*Modellering!$I48,0)","v":0},{"$f":"IFERROR(_xlfn.XLOOKUP($F48,RWS_[[Environmental Profile]:[Environmental Profile]],RWS_[ADP-MM],\"Not Found\",0)*Modellering!$I48,0)","v":0},{"$f":"IFERROR(_xlfn.XLOOKUP($F48,RWS_[[Environmental Profile]:[Environmental Profile]],RWS_[ADP-F],\"Not Found\",0)*Modellering!$I48,0)","v":0},{"$f":"IFERROR(_xlfn.XLOOKUP($F48,RWS_[[Environmental Profile]:[Environmental Profile]],RWS_[WDP],\"Not Found\",0)*Modellering!$I48,0)","v":0},{"$f":"IFERROR(_xlfn.XLOOKUP($F48,RWS_[[Environmental Profile]:[Environmental Profile]],RWS_[PM],\"Not Found\",0)*Modellering!$I48,0)","v":0},{"$f":"IFERROR(_xlfn.XLOOKUP($F48,RWS_[[Environmental Profile]:[Environmental Profile]],RWS_[IR],\"Not Found\",0)*Modellering!$I48,0)","v":0},{"$f":"IFERROR(_xlfn.XLOOKUP($F48,RWS_[[Environmental Profile]:[Environmental Profile]],RWS_[ETP-FW],\"Not Found\",0)*Modellering!$I48,0)","v":0},{"$f":"IFERROR(_xlfn.XLOOKUP($F48,RWS_[[Environmental Profile]:[Environmental Profile]],RWS_[HTP-C],\"Not Found\",0)*Modellering!$I48,0)","v":0},{"$f":"IFERROR(_xlfn.XLOOKUP($F48,RWS_[[Environmental Profile]:[Environmental Profile]],RWS_[HTP-NC],\"Not Found\",0)*Modellering!$I48,0)","v":0},{"$f":"IFERROR(_xlfn.XLOOKUP($F48,RWS_[[Environmental Profile]:[Environmental Profile]],RWS_[SQP],\"Not Found\",0)*Modellering!$I48,0)","v":0},{"$f":"IFERROR(_xlfn.XLOOKUP($F48,RWS_[[Environmental Profile]:[Environmental Profile]],RWS_[PERE],\"Not Found\",0)*Modellering!$I48,0)","v":0},{"$f":"IFERROR(_xlfn.XLOOKUP($F48,RWS_[[Environmental Profile]:[Environmental Profile]],RWS_[PERM],\"Not Found\",0)*Modellering!$I48,0)","v":0},{"$f":"IFERROR(_xlfn.XLOOKUP($F48,RWS_[[Environmental Profile]:[Environmental Profile]],RWS_[PERT],\"Not Found\",0)*Modellering!$I48,0)","v":0},{"$f":"IFERROR(_xlfn.XLOOKUP($F48,RWS_[[Environmental Profile]:[Environmental Profile]],RWS_[PENRE],\"Not Found\",0)*Modellering!$I48,0)","v":0},{"$f":"IFERROR(_xlfn.XLOOKUP($F48,RWS_[[Environmental Profile]:[Environmental Profile]],RWS_[PENRM],\"Not Found\",0)*Modellering!$I48,0)","v":0},{"$f":"IFERROR(_xlfn.XLOOKUP($F48,RWS_[[Environmental Profile]:[Environmental Profile]],RWS_[PENRT],\"Not Found\",0)*Modellering!$I48,0)","v":0},{"$f":"IFERROR(_xlfn.XLOOKUP($F48,RWS_[[Environmental Profile]:[Environmental Profile]],RWS_[SM],\"Not Found\",0)*Modellering!$I48,0)","v":0},{"$f":"IFERROR(_xlfn.XLOOKUP($F48,RWS_[[Environmental Profile]:[Environmental Profile]],RWS_[SF-R],\"Not Found\",0)*Modellering!$I48,0)","v":0},{"$f":"IFERROR(_xlfn.XLOOKUP($F48,RWS_[[Environmental Profile]:[Environmental Profile]],RWS_[SF-NR],\"Not Found\",0)*Modellering!$I48,0)","v":0},{"$f":"IFERROR(_xlfn.XLOOKUP($F48,RWS_[[Environmental Profile]:[Environmental Profile]],RWS_[FW],\"Not Found\",0)*Modellering!$I48,0)","v":0},{"$f":"IFERROR(_xlfn.XLOOKUP($F48,RWS_[[Environmental Profile]:[Environmental Profile]],RWS_[HWD],\"Not Found\",0)*Modellering!$I48,0)","v":0},{"$f":"IFERROR(_xlfn.XLOOKUP($F48,RWS_[[Environmental Profile]:[Environmental Profile]],RWS_[NHWD],\"Not Found\",0)*Modellering!$I48,0)","v":0},{"$f":"IFERROR(_xlfn.XLOOKUP($F48,RWS_[[Environmental Profile]:[Environmental Profile]],RWS_[RWD],\"Not Found\",0)*Modellering!$I48,0)","v":0},{"$f":"IFERROR(_xlfn.XLOOKUP($F48,RWS_[[Environmental Profile]:[Environmental Profile]],RWS_[CRU],\"Not Found\",0)*Modellering!$I48,0)","v":0},{"$f":"IFERROR(_xlfn.XLOOKUP($F48,RWS_[[Environmental Profile]:[Environmental Profile]],RWS_[MFR],\"Not Found\",0)*Modellering!$I48,0)","v":0},{"$f":"IFERROR(_xlfn.XLOOKUP($F48,RWS_[[Environmental Profile]:[Environmental Profile]],RWS_[MER],\"Not Found\",0)*Modellering!$I48,0)","v":0},{"$f":"IFERROR(_xlfn.XLOOKUP($F48,RWS_[[Environmental Profile]:[Environmental Profile]],RWS_[EE-E],\"Not Found\",0)*Modellering!$I48,0)","v":0},{"$f":"IFERROR(_xlfn.XLOOKUP($F48,RWS_[[Environmental Profile]:[Environmental Profile]],RWS_[EE-T],\"Not Found\",0)*Modellering!$I48,0)","v":0}]
[null,null,"Gebruiksprofiel","NOx Emissies","B1","*RWS Gebruiksprofiel - NOx emissie naar lucht","NOx Emissies","kg",{"$f":"IF(Invoerblad!$F$67=\"Nee\",PM_NOx!$D$62,IF(Invoerblad!$F$70=\"Nee\",PM_NOx!$D$62,PM_NOx!$D$65))","v":""},null,{"$f":"IFERROR(_xlfn.XLOOKUP($F49,RWS_[[Environmental Profile]:[Environmental Profile]],RWS_[ECI-A1],\"Not Found\",0)*Modellering!$I49,0)","v":0},{"$f":"IFERROR(_xlfn.XLOOKUP($F49,RWS_[[Environmental Profile]:[Environmental Profile]],RWS_[ECI-A2],\"Not Found\",0)*Modellering!$I49,0)","v":0},{"$f":"IFERROR(_xlfn.XLOOKUP($F49,RWS_[[Environmental Profile]:[Environmental Profile]],RWS_[ADPE],\"Not Found\",0)*Modellering!$I49,0)","v":0},{"$f":"IFERROR(_xlfn.XLOOKUP($F49,RWS_[[Environmental Profile]:[Environmental Profile]],RWS_[ADPF],\"Not Found\",0)*Modellering!$I49,0)","v":0},{"$f":"IFERROR(_xlfn.XLOOKUP($F49,RWS_[[Environmental Profile]:[Environmental Profile]],RWS_[GWP1],\"Not Found\",0)*Modellering!$I49,0)","v":0},{"$f":"IFERROR(_xlfn.XLOOKUP($F49,RWS_[[Environmental Profile]:[Environmental Profile]],RWS_[ODP1],\"Not Found\",0)*Modellering!$I49,0)","v":0},{"$f":"IFERROR(_xlfn.XLOOKUP($F49,RWS_[[Environmental Profile]:[Environmental Profile]],RWS_[POCP],\"Not Found\",0)*Modellering!$I49,0)","v":0},{"$f":"IFERROR(_xlfn.XLOOKUP($F49,RWS_[[Environmental Profile]:[Environmental Profile]],RWS_[AP],\"Not Found\",0)*Modellering!$I49,0)","v":0},{"$f":"IFERROR(_xlfn.XLOOKUP($F49,RWS_[[Environmental Profile]:[Environmental Profile]],RWS_[EP],\"Not Found\",0)*Modellering!$I49,0)","v":0},{"$f":"IFERROR(_xlfn.XLOOKUP($F49,RWS_[[Environmental Profile]:[Environmental Profile]],RWS_[HTP],\"Not Found\",0)*Modellering!$I49,0)","v":0},{"$f":"IFERROR(_xlfn.XLOOKUP($F49,RWS_[[Environmental Profile]:[Environmental Profile]],RWS_[FAETP],\"Not Found\",0)*Modellering!$I49,0)","v":0},{"$f":"IFERROR(_xlfn.XLOOKUP($F49,RWS_[[Environmental Profile]:[Environmental Profile]],RWS_[MAETP],\"Not Found\",0)*Modellering!$I49,0)","v":0},{"$f":"IFERROR(_xlfn.XLOOKUP($F49,RWS_[[Environmental Profile]:[Environmental Profile]],RWS_[TETP],\"Not Found\",0)*Modellering!$I49,0)","v":0},{"$f":"IFERROR(_xlfn.XLOOKUP($F49,RWS_[[Environmental Profile]:[Environmental Profile]],RWS_[GWP2],\"Not Found\",0)*Modellering!$I49,0)","v":0},{"$f":"IFERROR(_xlfn.XLOOKUP($F49,RWS_[[Environmental Profile]:[Environmental Profile]],RWS_[GWP-F],\"Not Found\",0)*Modellering!$I49,0)","v":0},{"$f":"IFERROR(_xlfn.XLOOKUP($F49,RWS_[[Environmental Profile]:[Environmental Profile]],RWS_[GWP-B],\"Not Found\",0)*Modellering!$I49,0)","v":0},{"$f":"IFERROR(_xlfn.XLOOKUP($F49,RWS_[[Environmental Profile]:[Environmental Profile]],RWS_[GWP-L],\"Not Found\",0)*Modellering!$I49,0)","v":0},{"$f":"IFERROR(_xlfn.XLOOKUP($F49,RWS_[[Environmental Profile]:[Environmental Profile]],RWS_[ODP2],\"Not Found\",0)*Modellering!$I49,0)","v":0},{"$f":"IFERROR(_xlfn.XLOOKUP($F49,RWS_[[Environmental Profile]:[Environmental Profile]],RWS_[AP2],\"Not Found\",0)*Modellering!$I49,0)","v":0},{"$f":"IFERROR(_xlfn.XLOOKUP($F49,RWS_[[Environmental Profile]:[Environmental Profile]],RWS_[EP-FW],\"Not Found\",0)*Modellering!$I49,0)","v":0},{"$f":"IFERROR(_xlfn.XLOOKUP($F49,RWS_[[Environmental Profile]:[Environmental Profile]],RWS_[EP-M],\"Not Found\",0)*Modellering!$I49,0)","v":0},{"$f":"IFERROR(_xlfn.XLOOKUP($F49,RWS_[[Environmental Profile]:[Environmental Profile]],RWS_[EP-T],\"Not Found\",0)*Modellering!$I49,0)","v":0},{"$f":"IFERROR(_xlfn.XLOOKUP($F49,RWS_[[Environmental Profile]:[Environmental Profile]],RWS_[POCP2],\"Not Found\",0)*Modellering!$I49,0)","v":0},{"$f":"IFERROR(_xlfn.XLOOKUP($F49,RWS_[[Environmental Profile]:[Environmental Profile]],RWS_[ADP-MM],\"Not Found\",0)*Modellering!$I49,0)","v":0},{"$f":"IFERROR(_xlfn.XLOOKUP($F49,RWS_[[Environmental Profile]:[Environmental Profile]],RWS_[ADP-F],\"Not Found\",0)*Modellering!$I49,0)","v":0},{"$f":"IFERROR(_xlfn.XLOOKUP($F49,RWS_[[Environmental Profile]:[Environmental Profile]],RWS_[WDP],\"Not Found\",0)*Modellering!$I49,0)","v":0},{"$f":"IFERROR(_xlfn.XLOOKUP($F49,RWS_[[Environmental Profile]:[Environmental Profile]],RWS_[PM],\"Not Found\",0)*Modellering!$I49,0)","v":0},{"$f":"IFERROR(_xlfn.XLOOKUP($F49,RWS_[[Environmental Profile]:[Environmental Profile]],RWS_[IR],\"Not Found\",0)*Modellering!$I49,0)","v":0},{"$f":"IFERROR(_xlfn.XLOOKUP($F49,RWS_[[Environmental Profile]:[Environmental Profile]],RWS_[ETP-FW],\"Not Found\",0)*Modellering!$I49,0)","v":0},{"$f":"IFERROR(_xlfn.XLOOKUP($F49,RWS_[[Environmental Profile]:[Environmental Profile]],RWS_[HTP-C],\"Not Found\",0)*Modellering!$I49,0)","v":0},{"$f":"IFERROR(_xlfn.XLOOKUP($F49,RWS_[[Environmental Profile]:[Environmental Profile]],RWS_[HTP-NC],\"Not Found\",0)*Modellering!$I49,0)","v":0},{"$f":"IFERROR(_xlfn.XLOOKUP($F49,RWS_[[Environmental Profile]:[Environmental Profile]],RWS_[SQP],\"Not Found\",0)*Modellering!$I49,0)","v":0},{"$f":"IFERROR(_xlfn.XLOOKUP($F49,RWS_[[Environmental Profile]:[Environmental Profile]],RWS_[PERE],\"Not Found\",0)*Modellering!$I49,0)","v":0},{"$f":"IFERROR(_xlfn.XLOOKUP($F49,RWS_[[Environmental Profile]:[Environmental Profile]],RWS_[PERM],\"Not Found\",0)*Modellering!$I49,0)","v":0},{"$f":"IFERROR(_xlfn.XLOOKUP($F49,RWS_[[Environmental Profile]:[Environmental Profile]],RWS_[PERT],\"Not Found\",0)*Modellering!$I49,0)","v":0},{"$f":"IFERROR(_xlfn.XLOOKUP($F49,RWS_[[Environmental Profile]:[Environmental Profile]],RWS_[PENRE],\"Not Found\",0)*Modellering!$I49,0)","v":0},{"$f":"IFERROR(_xlfn.XLOOKUP($F49,RWS_[[Environmental Profile]:[Environmental Profile]],RWS_[PENRM],\"Not Found\",0)*Modellering!$I49,0)","v":0},{"$f":"IFERROR(_xlfn.XLOOKUP($F49,RWS_[[Environmental Profile]:[Environmental Profile]],RWS_[PENRT],\"Not Found\",0)*Modellering!$I49,0)","v":0},{"$f":"IFERROR(_xlfn.XLOOKUP($F49,RWS_[[Environmental Profile]:[Environmental Profile]],RWS_[SM],\"Not Found\",0)*Modellering!$I49,0)","v":0},{"$f":"IFERROR(_xlfn.XLOOKUP($F49,RWS_[[Environmental Profile]:[Environmental Profile]],RWS_[SF-R],\"Not Found\",0)*Modellering!$I49,0)","v":0},{"$f":"IFERROR(_xlfn.XLOOKUP($F49,RWS_[[Environmental Profile]:[Environmental Profile]],RWS_[SF-NR],\"Not Found\",0)*Modellering!$I49,0)","v":0},{"$f":"IFERROR(_xlfn.XLOOKUP($F49,RWS_[[Environmental Profile]:[Environmental Profile]],RWS_[FW],\"Not Found\",0)*Modellering!$I49,0)","v":0},{"$f":"IFERROR(_xlfn.XLOOKUP($F49,RWS_[[Environmental Profile]:[Environmental Profile]],RWS_[HWD],\"Not Found\",0)*Modellering!$I49,0)","v":0},{"$f":"IFERROR(_xlfn.XLOOKUP($F49,RWS_[[Environmental Profile]:[Environmental Profile]],RWS_[NHWD],\"Not Found\",0)*Modellering!$I49,0)","v":0},{"$f":"IFERROR(_xlfn.XLOOKUP($F49,RWS_[[Environmental Profile]:[Environmental Profile]],RWS_[RWD],\"Not Found\",0)*Modellering!$I49,0)","v":0},{"$f":"IFERROR(_xlfn.XLOOKUP($F49,RWS_[[Environmental Profile]:[Environmental Profile]],RWS_[CRU],\"Not Found\",0)*Modellering!$I49,0)","v":0},{"$f":"IFERROR(_xlfn.XLOOKUP($F49,RWS_[[Environmental Profile]:[Environmental Profile]],RWS_[MFR],\"Not Found\",0)*Modellering!$I49,0)","v":0},{"$f":"IFERROR(_xlfn.XLOOKUP($F49,RWS_[[Environmental Profile]:[Environmental Profile]],RWS_[MER],\"Not Found\",0)*Modellering!$I49,0)","v":0},{"$f":"IFERROR(_xlfn.XLOOKUP($F49,RWS_[[Environmental Profile]:[Environmental Profile]],RWS_[EE-E],\"Not Found\",0)*Modellering!$I49,0)","v":0},{"$f":"IFERROR(_xlfn.XLOOKUP($F49,RWS_[[Environmental Profile]:[Environmental Profile]],RWS_[EE-T],\"Not Found\",0)*Modellering!$I49,0)","v":0}]
[null,null,"Gebruiksprofiel","PM Emissies","B1","*RWS Gebruiksprofiel - PM emissie naar lucht","PM Emissies","kg",{"$f":"IF(Invoerblad!$F$67=\"Nee\",PM_NOx!$D$63,IF(Invoerblad!$F$70=\"Nee\",PM_NOx!$D$63,PM_NOx!$D$66))","v":""},null,{"$f":"IFERROR(_xlfn.XLOOKUP($F50,RWS_[[Environmental Profile]:[Environmental Profile]],RWS_[ECI-A1],\"Not Found\",0)*Modellering!$I50,0)","v":0},{"$f":"IFERROR(_xlfn.XLOOKUP($F50,RWS_[[Environmental Profile]:[Environmental Profile]],RWS_[ECI-A2],\"Not Found\",0)*Modellering!$I50,0)","v":0},{"$f":"IFERROR(_xlfn.XLOOKUP($F50,RWS_[[Environmental Profile]:[Environmental Profile]],RWS_[ADPE],\"Not Found\",0)*Modellering!$I50,0)","v":0},{"$f":"IFERROR(_xlfn.XLOOKUP($F50,RWS_[[Environmental Profile]:[Environmental Profile]],RWS_[ADPF],\"Not Found\",0)*Modellering!$I50,0)","v":0},{"$f":"IFERROR(_xlfn.XLOOKUP($F50,RWS_[[Environmental Profile]:[Environmental Profile]],RWS_[GWP1],\"Not Found\",0)*Modellering!$I50,0)","v":0},{"$f":"IFERROR(_xlfn.XLOOKUP($F50,RWS_[[Environmental Profile]:[Environmental Profile]],RWS_[ODP1],\"Not Found\",0)*Modellering!$I50,0)","v":0},{"$f":"IFERROR(_xlfn.XLOOKUP($F50,RWS_[[Environmental Profile]:[Environmental Profile]],RWS_[POCP],\"Not Found\",0)*Modellering!$I50,0)","v":0},{"$f":"IFERROR(_xlfn.XLOOKUP($F50,RWS_[[Environmental Profile]:[Environmental Profile]],RWS_[AP],\"Not Found\",0)*Modellering!$I50,0)","v":0},{"$f":"IFERROR(_xlfn.XLOOKUP($F50,RWS_[[Environmental Profile]:[Environmental Profile]],RWS_[EP],\"Not Found\",0)*Modellering!$I50,0)","v":0},{"$f":"IFERROR(_xlfn.XLOOKUP($F50,RWS_[[Environmental Profile]:[Environmental Profile]],RWS_[HTP],\"Not Found\",0)*Modellering!$I50,0)","v":0},{"$f":"IFERROR(_xlfn.XLOOKUP($F50,RWS_[[Environmental Profile]:[Environmental Profile]],RWS_[FAETP],\"Not Found\",0)*Modellering!$I50,0)","v":0},{"$f":"IFERROR(_xlfn.XLOOKUP($F50,RWS_[[Environmental Profile]:[Environmental Profile]],RWS_[MAETP],\"Not Found\",0)*Modellering!$I50,0)","v":0},{"$f":"IFERROR(_xlfn.XLOOKUP($F50,RWS_[[Environmental Profile]:[Environmental Profile]],RWS_[TETP],\"Not Found\",0)*Modellering!$I50,0)","v":0},{"$f":"IFERROR(_xlfn.XLOOKUP($F50,RWS_[[Environmental Profile]:[Environmental Profile]],RWS_[GWP2],\"Not Found\",0)*Modellering!$I50,0)","v":0},{"$f":"IFERROR(_xlfn.XLOOKUP($F50,RWS_[[Environmental Profile]:[Environmental Profile]],RWS_[GWP-F],\"Not Found\",0)*Modellering!$I50,0)","v":0},{"$f":"IFERROR(_xlfn.XLOOKUP($F50,RWS_[[Environmental Profile]:[Environmental Profile]],RWS_[GWP-B],\"Not Found\",0)*Modellering!$I50,0)","v":0},{"$f":"IFERROR(_xlfn.XLOOKUP($F50,RWS_[[Environmental Profile]:[Environmental Profile]],RWS_[GWP-L],\"Not Found\",0)*Modellering!$I50,0)","v":0},{"$f":"IFERROR(_xlfn.XLOOKUP($F50,RWS_[[Environmental Profile]:[Environmental Profile]],RWS_[ODP2],\"Not Found\",0)*Modellering!$I50,0)","v":0},{"$f":"IFERROR(_xlfn.XLOOKUP($F50,RWS_[[Environmental Profile]:[Environmental Profile]],RWS_[AP2],\"Not Found\",0)*Modellering!$I50,0)","v":0},{"$f":"IFERROR(_xlfn.XLOOKUP($F50,RWS_[[Environmental Profile]:[Environmental Profile]],RWS_[EP-FW],\"Not Found\",0)*Modellering!$I50,0)","v":0},{"$f":"IFERROR(_xlfn.XLOOKUP($F50,RWS_[[Environmental Profile]:[Environmental Profile]],RWS_[EP-M],\"Not Found\",0)*Modellering!$I50,0)","v":0},{"$f":"IFERROR(_xlfn.XLOOKUP($F50,RWS_[[Environmental Profile]:[Environmental Profile]],RWS_[EP-T],\"Not Found\",0)*Modellering!$I50,0)","v":0},{"$f":"IFERROR(_xlfn.XLOOKUP($F50,RWS_[[Environmental Profile]:[Environmental Profile]],RWS_[POCP2],\"Not Found\",0)*Modellering!$I50,0)","v":0},{"$f":"IFERROR(_xlfn.XLOOKUP($F50,RWS_[[Environmental Profile]:[Environmental Profile]],RWS_[ADP-MM],\"Not Found\",0)*Modellering!$I50,0)","v":0},{"$f":"IFERROR(_xlfn.XLOOKUP($F50,RWS_[[Environmental Profile]:[Environmental Profile]],RWS_[ADP-F],\"Not Found\",0)*Modellering!$I50,0)","v":0},{"$f":"IFERROR(_xlfn.XLOOKUP($F50,RWS_[[Environmental Profile]:[Environmental Profile]],RWS_[WDP],\"Not Found\",0)*Modellering!$I50,0)","v":0},{"$f":"IFERROR(_xlfn.XLOOKUP($F50,RWS_[[Environmental Profile]:[Environmental Profile]],RWS_[PM],\"Not Found\",0)*Modellering!$I50,0)","v":0},{"$f":"IFERROR(_xlfn.XLOOKUP($F50,RWS_[[Environmental Profile]:[Environmental Profile]],RWS_[IR],\"Not Found\",0)*Modellering!$I50,0)","v":0},{"$f":"IFERROR(_xlfn.XLOOKUP($F50,RWS_[[Environmental Profile]:[Environmental Profile]],RWS_[ETP-FW],\"Not Found\",0)*Modellering!$I50,0)","v":0},{"$f":"IFERROR(_xlfn.XLOOKUP($F50,RWS_[[Environmental Profile]:[Environmental Profile]],RWS_[HTP-C],\"Not Found\",0)*Modellering!$I50,0)","v":0},{"$f":"IFERROR(_xlfn.XLOOKUP($F50,RWS_[[Environmental Profile]:[Environmental Profile]],RWS_[HTP-NC],\"Not Found\",0)*Modellering!$I50,0)","v":0},{"$f":"IFERROR(_xlfn.XLOOKUP($F50,RWS_[[Environmental Profile]:[Environmental Profile]],RWS_[SQP],\"Not Found\",0)*Modellering!$I50,0)","v":0},{"$f":"IFERROR(_xlfn.XLOOKUP($F50,RWS_[[Environmental Profile]:[Environmental Profile]],RWS_[PERE],\"Not Found\",0)*Modellering!$I50,0)","v":0},{"$f":"IFERROR(_xlfn.XLOOKUP($F50,RWS_[[Environmental Profile]:[Environmental Profile]],RWS_[PERM],\"Not Found\",0)*Modellering!$I50,0)","v":0},{"$f":"IFERROR(_xlfn.XLOOKUP($F50,RWS_[[Environmental Profile]:[Environmental Profile]],RWS_[PERT],\"Not Found\",0)*Modellering!$I50,0)","v":0},{"$f":"IFERROR(_xlfn.XLOOKUP($F50,RWS_[[Environmental Profile]:[Environmental Profile]],RWS_[PENRE],\"Not Found\",0)*Modellering!$I50,0)","v":0},{"$f":"IFERROR(_xlfn.XLOOKUP($F50,RWS_[[Environmental Profile]:[Environmental Profile]],RWS_[PENRM],\"Not Found\",0)*Modellering!$I50,0)","v":0},{"$f":"IFERROR(_xlfn.XLOOKUP($F50,RWS_[[Environmental Profile]:[Environmental Profile]],RWS_[PENRT],\"Not Found\",0)*Modellering!$I50,0)","v":0},{"$f":"IFERROR(_xlfn.XLOOKUP($F50,RWS_[[Environmental Profile]:[Environmental Profile]],RWS_[SM],\"Not Found\",0)*Modellering!$I50,0)","v":0},{"$f":"IFERROR(_xlfn.XLOOKUP($F50,RWS_[[Environmental Profile]:[Environmental Profile]],RWS_[SF-R],\"Not Found\",0)*Modellering!$I50,0)","v":0},{"$f":"IFERROR(_xlfn.XLOOKUP($F50,RWS_[[Environmental Profile]:[Environmental Profile]],RWS_[SF-NR],\"Not Found\",0)*Modellering!$I50,0)","v":0},{"$f":"IFERROR(_xlfn.XLOOKUP($F50,RWS_[[Environmental Profile]:[Environmental Profile]],RWS_[FW],\"Not Found\",0)*Modellering!$I50,0)","v":0},{"$f":"IFERROR(_xlfn.XLOOKUP($F50,RWS_[[Environmental Profile]:[Environmental Profile]],RWS_[HWD],\"Not Found\",0)*Modellering!$I50,0)","v":0},{"$f":"IFERROR(_xlfn.XLOOKUP($F50,RWS_[[Environmental Profile]:[Environmental Profile]],RWS_[NHWD],\"Not Found\",0)*Modellering!$I50,0)","v":0},{"$f":"IFERROR(_xlfn.XLOOKUP($F50,RWS_[[Environmental Profile]:[Environmental Profile]],RWS_[RWD],\"Not Found\",0)*Modellering!$I50,0)","v":0},{"$f":"IFERROR(_xlfn.XLOOKUP($F50,RWS_[[Environmental Profile]:[Environmental Profile]],RWS_[CRU],\"Not Found\",0)*Modellering!$I50,0)","v":0},{"$f":"IFERROR(_xlfn.XLOOKUP($F50,RWS_[[Environmental Profile]:[Environmental Profile]],RWS_[MFR],\"Not Found\",0)*Modellering!$I50,0)","v":0},{"$f":"IFERROR(_xlfn.XLOOKUP($F50,RWS_[[Environmental Profile]:[Environmental Profile]],RWS_[MER],\"Not Found\",0)*Modellering!$I50,0)","v":0},{"$f":"IFERROR(_xlfn.XLOOKUP($F50,RWS_[[Environmental Profile]:[Environmental Profile]],RWS_[EE-E],\"Not Found\",0)*Modellering!$I50,0)","v":0},{"$f":"IFERROR(_xlfn.XLOOKUP($F50,RWS_[[Environmental Profile]:[Environmental Profile]],RWS_[EE-T],\"Not Found\",0)*Modellering!$I50,0)","v":0}]
[null,null,"Kapitaalgoederen","Casco Schip","B1",{"$f":"_xlfn.XLOOKUP(Invoerblad!$D$32,Capital_Short[Lookup Help],Capital_Short[Kapitaalgoederen B1],\"Not Found\",0)","v":"*RWS Kapitaalgoederen - Baggeren Zout (MGO)"},"Kapitaalgoederen - Schip (Zout)","ton",{"$f":"IF(Invoerblad!$D$32=\"Binnenvaart\",(_xlfn.XLOOKUP(Invoerblad!$F$44&Invoerblad!$F$46,Emi_Short[Brandstof]&Emi_Short[MotCel2],Emi_Short[Afkap_Zoet],\"Not Found\",0)),(_xlfn.XLOOKUP(Invoerblad!$F$44&Invoerblad!$F$46,Emi_Short[Brandstof]&Emi_Short[MotCel2],Emi_Short[Afkap_Zout],\"Not Found\",0)))","v":"Not Found"},null,{"$f":"IFERROR(_xlfn.XLOOKUP($F51,RWS_[[Environmental Profile]:[Environmental Profile]],RWS_[ECI-A1],\"Not Found\",0)*Modellering!$I51,0)","v":0},{"$f":"IFERROR(_xlfn.XLOOKUP($F51,RWS_[[Environmental Profile]:[Environmental Profile]],RWS_[ECI-A2],\"Not Found\",0)*Modellering!$I51,0)","v":0},{"$f":"IFERROR(_xlfn.XLOOKUP($F51,RWS_[[Environmental Profile]:[Environmental Profile]],RWS_[ADPE],\"Not Found\",0)*Modellering!$I51,0)","v":0},{"$f":"IFERROR(_xlfn.XLOOKUP($F51,RWS_[[Environmental Profile]:[Environmental Profile]],RWS_[ADPF],\"Not Found\",0)*Modellering!$I51,0)","v":0},{"$f":"IFERROR(_xlfn.XLOOKUP($F51,RWS_[[Environmental Profile]:[Environmental Profile]],RWS_[GWP1],\"Not Found\",0)*Modellering!$I51,0)","v":0},{"$f":"IFERROR(_xlfn.XLOOKUP($F51,RWS_[[Environmental Profile]:[Environmental Profile]],RWS_[ODP1],\"Not Found\",0)*Modellering!$I51,0)","v":0},{"$f":"IFERROR(_xlfn.XLOOKUP($F51,RWS_[[Environmental Profile]:[Environmental Profile]],RWS_[POCP],\"Not Found\",0)*Modellering!$I51,0)","v":0},{"$f":"IFERROR(_xlfn.XLOOKUP($F51,RWS_[[Environmental Profile]:[Environmental Profile]],RWS_[AP],\"Not Found\",0)*Modellering!$I51,0)","v":0},{"$f":"IFERROR(_xlfn.XLOOKUP($F51,RWS_[[Environmental Profile]:[Environmental Profile]],RWS_[EP],\"Not Found\",0)*Modellering!$I51,0)","v":0},{"$f":"IFERROR(_xlfn.XLOOKUP($F51,RWS_[[Environmental Profile]:[Environmental Profile]],RWS_[HTP],\"Not Found\",0)*Modellering!$I51,0)","v":0},{"$f":"IFERROR(_xlfn.XLOOKUP($F51,RWS_[[Environmental Profile]:[Environmental Profile]],RWS_[FAETP],\"Not Found\",0)*Modellering!$I51,0)","v":0},{"$f":"IFERROR(_xlfn.XLOOKUP($F51,RWS_[[Environmental Profile]:[Environmental Profile]],RWS_[MAETP],\"Not Found\",0)*Modellering!$I51,0)","v":0},{"$f":"IFERROR(_xlfn.XLOOKUP($F51,RWS_[[Environmental Profile]:[Environmental Profile]],RWS_[TETP],\"Not Found\",0)*Modellering!$I51,0)","v":0},{"$f":"IFERROR(_xlfn.XLOOKUP($F51,RWS_[[Environmental Profile]:[Environmental Profile]],RWS_[GWP2],\"Not Found\",0)*Modellering!$I51,0)","v":0},{"$f":"IFERROR(_xlfn.XLOOKUP($F51,RWS_[[Environmental Profile]:[Environmental Profile]],RWS_[GWP-F],\"Not Found\",0)*Modellering!$I51,0)","v":0},{"$f":"IFERROR(_xlfn.XLOOKUP($F51,RWS_[[Environmental Profile]:[Environmental Profile]],RWS_[GWP-B],\"Not Found\",0)*Modellering!$I51,0)","v":0},{"$f":"IFERROR(_xlfn.XLOOKUP($F51,RWS_[[Environmental Profile]:[Environmental Profile]],RWS_[GWP-L],\"Not Found\",0)*Modellering!$I51,0)","v":0},{"$f":"IFERROR(_xlfn.XLOOKUP($F51,RWS_[[Environmental Profile]:[Environmental Profile]],RWS_[ODP2],\"Not Found\",0)*Modellering!$I51,0)","v":0},{"$f":"IFERROR(_xlfn.XLOOKUP($F51,RWS_[[Environmental Profile]:[Environmental Profile]],RWS_[AP2],\"Not Found\",0)*Modellering!$I51,0)","v":0},{"$f":"IFERROR(_xlfn.XLOOKUP($F51,RWS_[[Environmental Profile]:[Environmental Profile]],RWS_[EP-FW],\"Not Found\",0)*Modellering!$I51,0)","v":0},{"$f":"IFERROR(_xlfn.XLOOKUP($F51,RWS_[[Environmental Profile]:[Environmental Profile]],RWS_[EP-M],\"Not Found\",0)*Modellering!$I51,0)","v":0},{"$f":"IFERROR(_xlfn.XLOOKUP($F51,RWS_[[Environmental Profile]:[Environmental Profile]],RWS_[EP-T],\"Not Found\",0)*Modellering!$I51,0)","v":0},{"$f":"IFERROR(_xlfn.XLOOKUP($F51,RWS_[[Environmental Profile]:[Environmental Profile]],RWS_[POCP2],\"Not Found\",0)*Modellering!$I51,0)","v":0},{"$f":"IFERROR(_xlfn.XLOOKUP($F51,RWS_[[Environmental Profile]:[Environmental Profile]],RWS_[ADP-MM],\"Not Found\",0)*Modellering!$I51,0)","v":0},{"$f":"IFERROR(_xlfn.XLOOKUP($F51,RWS_[[Environmental Profile]:[Environmental Profile]],RWS_[ADP-F],\"Not Found\",0)*Modellering!$I51,0)","v":0},{"$f":"IFERROR(_xlfn.XLOOKUP($F51,RWS_[[Environmental Profile]:[Environmental Profile]],RWS_[WDP],\"Not Found\",0)*Modellering!$I51,0)","v":0},{"$f":"IFERROR(_xlfn.XLOOKUP($F51,RWS_[[Environmental Profile]:[Environmental Profile]],RWS_[PM],\"Not Found\",0)*Modellering!$I51,0)","v":0},{"$f":"IFERROR(_xlfn.XLOOKUP($F51,RWS_[[Environmental Profile]:[Environmental Profile]],RWS_[IR],\"Not Found\",0)*Modellering!$I51,0)","v":0},{"$f":"IFERROR(_xlfn.XLOOKUP($F51,RWS_[[Environmental Profile]:[Environmental Profile]],RWS_[ETP-FW],\"Not Found\",0)*Modellering!$I51,0)","v":0},{"$f":"IFERROR(_xlfn.XLOOKUP($F51,RWS_[[Environmental Profile]:[Environmental Profile]],RWS_[HTP-C],\"Not Found\",0)*Modellering!$I51,0)","v":0},{"$f":"IFERROR(_xlfn.XLOOKUP($F51,RWS_[[Environmental Profile]:[Environmental Profile]],RWS_[HTP-NC],\"Not Found\",0)*Modellering!$I51,0)","v":0},{"$f":"IFERROR(_xlfn.XLOOKUP($F51,RWS_[[Environmental Profile]:[Environmental Profile]],RWS_[SQP],\"Not Found\",0)*Modellering!$I51,0)","v":0},{"$f":"IFERROR(_xlfn.XLOOKUP($F51,RWS_[[Environmental Profile]:[Environmental Profile]],RWS_[PERE],\"Not Found\",0)*Modellering!$I51,0)","v":0},{"$f":"IFERROR(_xlfn.XLOOKUP($F51,RWS_[[Environmental Profile]:[Environmental Profile]],RWS_[PERM],\"Not Found\",0)*Modellering!$I51,0)","v":0},{"$f":"IFERROR(_xlfn.XLOOKUP($F51,RWS_[[Environmental Profile]:[Environmental Profile]],RWS_[PERT],\"Not Found\",0)*Modellering!$I51,0)","v":0},{"$f":"IFERROR(_xlfn.XLOOKUP($F51,RWS_[[Environmental Profile]:[Environmental Profile]],RWS_[PENRE],\"Not Found\",0)*Modellering!$I51,0)","v":0},{"$f":"IFERROR(_xlfn.XLOOKUP($F51,RWS_[[Environmental Profile]:[Environmental Profile]],RWS_[PENRM],\"Not Found\",0)*Modellering!$I51,0)","v":0},{"$f":"IFERROR(_xlfn.XLOOKUP($F51,RWS_[[Environmental Profile]:[Environmental Profile]],RWS_[PENRT],\"Not Found\",0)*Modellering!$I51,0)","v":0},{"$f":"IFERROR(_xlfn.XLOOKUP($F51,RWS_[[Environmental Profile]:[Environmental Profile]],RWS_[SM],\"Not Found\",0)*Modellering!$I51,0)","v":0},{"$f":"IFERROR(_xlfn.XLOOKUP($F51,RWS_[[Environmental Profile]:[Environmental Profile]],RWS_[SF-R],\"Not Found\",0)*Modellering!$I51,0)","v":0},{"$f":"IFERROR(_xlfn.XLOOKUP($F51,RWS_[[Environmental Profile]:[Environmental Profile]],RWS_[SF-NR],\"Not Found\",0)*Modellering!$I51,0)","v":0},{"$f":"IFERROR(_xlfn.XLOOKUP($F51,RWS_[[Environmental Profile]:[Environmental Profile]],RWS_[FW],\"Not Found\",0)*Modellering!$I51,0)","v":0},{"$f":"IFERROR(_xlfn.XLOOKUP($F51,RWS_[[Environmental Profile]:[Environmental Profile]],RWS_[HWD],\"Not Found\",0)*Modellering!$I51,0)","v":0},{"$f":"IFERROR(_xlfn.XLOOKUP($F51,RWS_[[Environmental Profile]:[Environmental Profile]],RWS_[NHWD],\"Not Found\",0)*Modellering!$I51,0)","v":0},{"$f":"IFERROR(_xlfn.XLOOKUP($F51,RWS_[[Environmental Profile]:[Environmental Profile]],RWS_[RWD],\"Not Found\",0)*Modellering!$I51,0)","v":0},{"$f":"IFERROR(_xlfn.XLOOKUP($F51,RWS_[[Environmental Profile]:[Environmental Profile]],RWS_[CRU],\"Not Found\",0)*Modellering!$I51,0)","v":0},{"$f":"IFERROR(_xlfn.XLOOKUP($F51,RWS_[[Environmental Profile]:[Environmental Profile]],RWS_[MFR],\"Not Found\",0)*Modellering!$I51,0)","v":0},{"$f":"IFERROR(_xlfn.XLOOKUP($F51,RWS_[[Environmental Profile]:[Environmental Profile]],RWS_[MER],\"Not Found\",0)*Modellering!$I51,0)","v":0},{"$f":"IFERROR(_xlfn.XLOOKUP($F51,RWS_[[Environmental Profile]:[Environmental Profile]],RWS_[EE-E],\"Not Found\",0)*Modellering!$I51,0)","v":0},{"$f":"IFERROR(_xlfn.XLOOKUP($F51,RWS_[[Environmental Profile]:[Environmental Profile]],RWS_[EE-T],\"Not Found\",0)*Modellering!$I51,0)","v":0}]
[null,null,"Kapitaalgoederen","Aandrijving (Type Motor)","B1",{"$f":"_xlfn.XLOOKUP(Invoerblad!$F$44&Invoerblad!$F$46,Emi_Short[Brandstof]&Emi_Short[MotCel2],Emi_Short[Kapitaalgoed Motor (B1)],\"Not Found\",0)","v":"Not Found"},"","Not Found",{"$f":"IF(Invoerblad!$D$32=\"Binnenvaart\",(_xlfn.XLOOKUP(Invoerblad!F$44&Invoerblad!F$46,Emi_Short[Brandstof]&Emi_Short[MotCel2],Emi_Short[VM / EA Zoet],\"Not Found\",0)),(_xlfn.XLOOKUP(Invoerblad!F$44&Invoerblad!F$46,Emi_Short[Brandstof]&Emi_Short[MotCel2],Emi_Short[VM / EA Zout],\"\",0)))","v":""},null,{"$f":"IFERROR(_xlfn.XLOOKUP($F52,RWS_[[Environmental Profile]:[Environmental Profile]],RWS_[ECI-A1],\"Not Found\",0)*Modellering!$I52,0)","v":0},{"$f":"IFERROR(_xlfn.XLOOKUP($F52,RWS_[[Environmental Profile]:[Environmental Profile]],RWS_[ECI-A2],\"Not Found\",0)*Modellering!$I52,0)","v":0},{"$f":"IFERROR(_xlfn.XLOOKUP($F52,RWS_[[Environmental Profile]:[Environmental Profile]],RWS_[ADPE],\"Not Found\",0)*Modellering!$I52,0)","v":0},{"$f":"IFERROR(_xlfn.XLOOKUP($F52,RWS_[[Environmental Profile]:[Environmental Profile]],RWS_[ADPF],\"Not Found\",0)*Modellering!$I52,0)","v":0},{"$f":"IFERROR(_xlfn.XLOOKUP($F52,RWS_[[Environmental Profile]:[Environmental Profile]],RWS_[GWP1],\"Not Found\",0)*Modellering!$I52,0)","v":0},{"$f":"IFERROR(_xlfn.XLOOKUP($F52,RWS_[[Environmental Profile]:[Environmental Profile]],RWS_[ODP1],\"Not Found\",0)*Modellering!$I52,0)","v":0},{"$f":"IFERROR(_xlfn.XLOOKUP($F52,RWS_[[Environmental Profile]:[Environmental Profile]],RWS_[POCP],\"Not Found\",0)*Modellering!$I52,0)","v":0},{"$f":"IFERROR(_xlfn.XLOOKUP($F52,RWS_[[Environmental Profile]:[Environmental Profile]],RWS_[AP],\"Not Found\",0)*Modellering!$I52,0)","v":0},{"$f":"IFERROR(_xlfn.XLOOKUP($F52,RWS_[[Environmental Profile]:[Environmental Profile]],RWS_[EP],\"Not Found\",0)*Modellering!$I52,0)","v":0},{"$f":"IFERROR(_xlfn.XLOOKUP($F52,RWS_[[Environmental Profile]:[Environmental Profile]],RWS_[HTP],\"Not Found\",0)*Modellering!$I52,0)","v":0},{"$f":"IFERROR(_xlfn.XLOOKUP($F52,RWS_[[Environmental Profile]:[Environmental Profile]],RWS_[FAETP],\"Not Found\",0)*Modellering!$I52,0)","v":0},{"$f":"IFERROR(_xlfn.XLOOKUP($F52,RWS_[[Environmental Profile]:[Environmental Profile]],RWS_[MAETP],\"Not Found\",0)*Modellering!$I52,0)","v":0},{"$f":"IFERROR(_xlfn.XLOOKUP($F52,RWS_[[Environmental Profile]:[Environmental Profile]],RWS_[TETP],\"Not Found\",0)*Modellering!$I52,0)","v":0},{"$f":"IFERROR(_xlfn.XLOOKUP($F52,RWS_[[Environmental Profile]:[Environmental Profile]],RWS_[GWP2],\"Not Found\",0)*Modellering!$I52,0)","v":0},{"$f":"IFERROR(_xlfn.XLOOKUP($F52,RWS_[[Environmental Profile]:[Environmental Profile]],RWS_[GWP-F],\"Not Found\",0)*Modellering!$I52,0)","v":0},{"$f":"IFERROR(_xlfn.XLOOKUP($F52,RWS_[[Environmental Profile]:[Environmental Profile]],RWS_[GWP-B],\"Not Found\",0)*Modellering!$I52,0)","v":0},{"$f":"IFERROR(_xlfn.XLOOKUP($F52,RWS_[[Environmental Profile]:[Environmental Profile]],RWS_[GWP-L],\"Not Found\",0)*Modellering!$I52,0)","v":0},{"$f":"IFERROR(_xlfn.XLOOKUP($F52,RWS_[[Environmental Profile]:[Environmental Profile]],RWS_[ODP2],\"Not Found\",0)*Modellering!$I52,0)","v":0},{"$f":"IFERROR(_xlfn.XLOOKUP($F52,RWS_[[Environmental Profile]:[Environmental Profile]],RWS_[AP2],\"Not Found\",0)*Modellering!$I52,0)","v":0},{"$f":"IFERROR(_xlfn.XLOOKUP($F52,RWS_[[Environmental Profile]:[Environmental Profile]],RWS_[EP-FW],\"Not Found\",0)*Modellering!$I52,0)","v":0},{"$f":"IFERROR(_xlfn.XLOOKUP($F52,RWS_[[Environmental Profile]:[Environmental Profile]],RWS_[EP-M],\"Not Found\",0)*Modellering!$I52,0)","v":0},{"$f":"IFERROR(_xlfn.XLOOKUP($F52,RWS_[[Environmental Profile]:[Environmental Profile]],RWS_[EP-T],\"Not Found\",0)*Modellering!$I52,0)","v":0},{"$f":"IFERROR(_xlfn.XLOOKUP($F52,RWS_[[Environmental Profile]:[Environmental Profile]],RWS_[POCP2],\"Not Found\",0)*Modellering!$I52,0)","v":0},{"$f":"IFERROR(_xlfn.XLOOKUP($F52,RWS_[[Environmental Profile]:[Environmental Profile]],RWS_[ADP-MM],\"Not Found\",0)*Modellering!$I52,0)","v":0},{"$f":"IFERROR(_xlfn.XLOOKUP($F52,RWS_[[Environmental Profile]:[Environmental Profile]],RWS_[ADP-F],\"Not Found\",0)*Modellering!$I52,0)","v":0},{"$f":"IFERROR(_xlfn.XLOOKUP($F52,RWS_[[Environmental Profile]:[Environmental Profile]],RWS_[WDP],\"Not Found\",0)*Modellering!$I52,0)","v":0},{"$f":"IFERROR(_xlfn.XLOOKUP($F52,RWS_[[Environmental Profile]:[Environmental Profile]],RWS_[PM],\"Not Found\",0)*Modellering!$I52,0)","v":0},{"$f":"IFERROR(_xlfn.XLOOKUP($F52,RWS_[[Environmental Profile]:[Environmental Profile]],RWS_[IR],\"Not Found\",0)*Modellering!$I52,0)","v":0},{"$f":"IFERROR(_xlfn.XLOOKUP($F52,RWS_[[Environmental Profile]:[Environmental Profile]],RWS_[ETP-FW],\"Not Found\",0)*Modellering!$I52,0)","v":0},{"$f":"IFERROR(_xlfn.XLOOKUP($F52,RWS_[[Environmental Profile]:[Environmental Profile]],RWS_[HTP-C],\"Not Found\",0)*Modellering!$I52,0)","v":0},{"$f":"IFERROR(_xlfn.XLOOKUP($F52,RWS_[[Environmental Profile]:[Environmental Profile]],RWS_[HTP-NC],\"Not Found\",0)*Modellering!$I52,0)","v":0},{"$f":"IFERROR(_xlfn.XLOOKUP($F52,RWS_[[Environmental Profile]:[Environmental Profile]],RWS_[SQP],\"Not Found\",0)*Modellering!$I52,0)","v":0},{"$f":"IFERROR(_xlfn.XLOOKUP($F52,RWS_[[Environmental Profile]:[Environmental Profile]],RWS_[PERE],\"Not Found\",0)*Modellering!$I52,0)","v":0},{"$f":"IFERROR(_xlfn.XLOOKUP($F52,RWS_[[Environmental Profile]:[Environmental Profile]],RWS_[PERM],\"Not Found\",0)*Modellering!$I52,0)","v":0},{"$f":"IFERROR(_xlfn.XLOOKUP($F52,RWS_[[Environmental Profile]:[Environmental Profile]],RWS_[PERT],\"Not Found\",0)*Modellering!$I52,0)","v":0},{"$f":"IFERROR(_xlfn.XLOOKUP($F52,RWS_[[Environmental Profile]:[Environmental Profile]],RWS_[PENRE],\"Not Found\",0)*Modellering!$I52,0)","v":0},{"$f":"IFERROR(_xlfn.XLOOKUP($F52,RWS_[[Environmental Profile]:[Environmental Profile]],RWS_[PENRM],\"Not Found\",0)*Modellering!$I52,0)","v":0},{"$f":"IFERROR(_xlfn.XLOOKUP($F52,RWS_[[Environmental Profile]:[Environmental Profile]],RWS_[PENRT],\"Not Found\",0)*Modellering!$I52,0)","v":0},{"$f":"IFERROR(_xlfn.XLOOKUP($F52,RWS_[[Environmental Profile]:[Environmental Profile]],RWS_[SM],\"Not Found\",0)*Modellering!$I52,0)","v":0},{"$f":"IFERROR(_xlfn.XLOOKUP($F52,RWS_[[Environmental Profile]:[Environmental Profile]],RWS_[SF-R],\"Not Found\",0)*Modellering!$I52,0)","v":0},{"$f":"IFERROR(_xlfn.XLOOKUP($F52,RWS_[[Environmental Profile]:[Environmental Profile]],RWS_[SF-NR],\"Not Found\",0)*Modellering!$I52,0)","v":0},{"$f":"IFERROR(_xlfn.XLOOKUP($F52,RWS_[[Environmental Profile]:[Environmental Profile]],RWS_[FW],\"Not Found\",0)*Modellering!$I52,0)","v":0},{"$f":"IFERROR(_xlfn.XLOOKUP($F52,RWS_[[Environmental Profile]:[Environmental Profile]],RWS_[HWD],\"Not Found\",0)*Modellering!$I52,0)","v":0},{"$f":"IFERROR(_xlfn.XLOOKUP($F52,RWS_[[Environmental Profile]:[Environmental Profile]],RWS_[NHWD],\"Not Found\",0)*Modellering!$I52,0)","v":0},{"$f":"IFERROR(_xlfn.XLOOKUP($F52,RWS_[[Environmental Profile]:[Environmental Profile]],RWS_[RWD],\"Not Found\",0)*Modellering!$I52,0)","v":0},{"$f":"IFERROR(_xlfn.XLOOKUP($F52,RWS_[[Environmental Profile]:[Environmental Profile]],RWS_[CRU],\"Not Found\",0)*Modellering!$I52,0)","v":0},{"$f":"IFERROR(_xlfn.XLOOKUP($F52,RWS_[[Environmental Profile]:[Environmental Profile]],RWS_[MFR],\"Not Found\",0)*Modellering!$I52,0)","v":0},{"$f":"IFERROR(_xlfn.XLOOKUP($F52,RWS_[[Environmental Profile]:[Environmental Profile]],RWS_[MER],\"Not Found\",0)*Modellering!$I52,0)","v":0},{"$f":"IFERROR(_xlfn.XLOOKUP($F52,RWS_[[Environmental Profile]:[Environmental Profile]],RWS_[EE-E],\"Not Found\",0)*Modellering!$I52,0)","v":0},{"$f":"IFERROR(_xlfn.XLOOKUP($F52,RWS_[[Environmental Profile]:[Environmental Profile]],RWS_[EE-T],\"Not Found\",0)*Modellering!$I52,0)","v":0}]
[null,null,"Kapitaalgoederen","Accu","B1",{"$f":"IF($F52=\"*RWS Kapitaalgoederen aandrijving elektrisch schip (100 kW) (inlusief EOL en reD)\",\"Accu, Lithium-ion, per kWh accucapaciteit (o.b.v. 5kg per kWh)\",\"Niet van Toepassing\")","v":"Niet van Toepassing"},"","Not Found",{"$f":"_xlfn.XLOOKUP(Invoerblad!$F$44,PM_NOx!$A$47:$A$51,PM_NOx!$B$47:$B$51,0,0)","v":0},null,{"$f":"IFERROR(_xlfn.XLOOKUP($F53,RWS_[[Environmental Profile]:[Environmental Profile]],RWS_[ECI-A1],\"Not Found\",0)*Modellering!$I53,0)","v":0},{"$f":"IFERROR(_xlfn.XLOOKUP($F53,RWS_[[Environmental Profile]:[Environmental Profile]],RWS_[ECI-A2],\"Not Found\",0)*Modellering!$I53,0)","v":0},{"$f":"IFERROR(_xlfn.XLOOKUP($F53,RWS_[[Environmental Profile]:[Environmental Profile]],RWS_[ADPE],\"Not Found\",0)*Modellering!$I53,0)","v":0},{"$f":"IFERROR(_xlfn.XLOOKUP($F53,RWS_[[Environmental Profile]:[Environmental Profile]],RWS_[ADPF],\"Not Found\",0)*Modellering!$I53,0)","v":0},{"$f":"IFERROR(_xlfn.XLOOKUP($F53,RWS_[[Environmental Profile]:[Environmental Profile]],RWS_[GWP1],\"Not Found\",0)*Modellering!$I53,0)","v":0},{"$f":"IFERROR(_xlfn.XLOOKUP($F53,RWS_[[Environmental Profile]:[Environmental Profile]],RWS_[ODP1],\"Not Found\",0)*Modellering!$I53,0)","v":0},{"$f":"IFERROR(_xlfn.XLOOKUP($F53,RWS_[[Environmental Profile]:[Environmental Profile]],RWS_[POCP],\"Not Found\",0)*Modellering!$I53,0)","v":0},{"$f":"IFERROR(_xlfn.XLOOKUP($F53,RWS_[[Environmental Profile]:[Environmental Profile]],RWS_[AP],\"Not Found\",0)*Modellering!$I53,0)","v":0},{"$f":"IFERROR(_xlfn.XLOOKUP($F53,RWS_[[Environmental Profile]:[Environmental Profile]],RWS_[EP],\"Not Found\",0)*Modellering!$I53,0)","v":0},{"$f":"IFERROR(_xlfn.XLOOKUP($F53,RWS_[[Environmental Profile]:[Environmental Profile]],RWS_[HTP],\"Not Found\",0)*Modellering!$I53,0)","v":0},{"$f":"IFERROR(_xlfn.XLOOKUP($F53,RWS_[[Environmental Profile]:[Environmental Profile]],RWS_[FAETP],\"Not Found\",0)*Modellering!$I53,0)","v":0},{"$f":"IFERROR(_xlfn.XLOOKUP($F53,RWS_[[Environmental Profile]:[Environmental Profile]],RWS_[MAETP],\"Not Found\",0)*Modellering!$I53,0)","v":0},{"$f":"IFERROR(_xlfn.XLOOKUP($F53,RWS_[[Environmental Profile]:[Environmental Profile]],RWS_[TETP],\"Not Found\",0)*Modellering!$I53,0)","v":0},{"$f":"IFERROR(_xlfn.XLOOKUP($F53,RWS_[[Environmental Profile]:[Environmental Profile]],RWS_[GWP2],\"Not Found\",0)*Modellering!$I53,0)","v":0},{"$f":"IFERROR(_xlfn.XLOOKUP($F53,RWS_[[Environmental Profile]:[Environmental Profile]],RWS_[GWP-F],\"Not Found\",0)*Modellering!$I53,0)","v":0},{"$f":"IFERROR(_xlfn.XLOOKUP($F53,RWS_[[Environmental Profile]:[Environmental Profile]],RWS_[GWP-B],\"Not Found\",0)*Modellering!$I53,0)","v":0},{"$f":"IFERROR(_xlfn.XLOOKUP($F53,RWS_[[Environmental Profile]:[Environmental Profile]],RWS_[GWP-L],\"Not Found\",0)*Modellering!$I53,0)","v":0},{"$f":"IFERROR(_xlfn.XLOOKUP($F53,RWS_[[Environmental Profile]:[Environmental Profile]],RWS_[ODP2],\"Not Found\",0)*Modellering!$I53,0)","v":0},{"$f":"IFERROR(_xlfn.XLOOKUP($F53,RWS_[[Environmental Profile]:[Environmental Profile]],RWS_[AP2],\"Not Found\",0)*Modellering!$I53,0)","v":0},{"$f":"IFERROR(_xlfn.XLOOKUP($F53,RWS_[[Environmental Profile]:[Environmental Profile]],RWS_[EP-FW],\"Not Found\",0)*Modellering!$I53,0)","v":0},{"$f":"IFERROR(_xlfn.XLOOKUP($F53,RWS_[[Environmental Profile]:[Environmental Profile]],RWS_[EP-M],\"Not Found\",0)*Modellering!$I53,0)","v":0},{"$f":"IFERROR(_xlfn.XLOOKUP($F53,RWS_[[Environmental Profile]:[Environmental Profile]],RWS_[EP-T],\"Not Found\",0)*Modellering!$I53,0)","v":0},{"$f":"IFERROR(_xlfn.XLOOKUP($F53,RWS_[[Environmental Profile]:[Environmental Profile]],RWS_[POCP2],\"Not Found\",0)*Modellering!$I53,0)","v":0},{"$f":"IFERROR(_xlfn.XLOOKUP($F53,RWS_[[Environmental Profile]:[Environmental Profile]],RWS_[ADP-MM],\"Not Found\",0)*Modellering!$I53,0)","v":0},{"$f":"IFERROR(_xlfn.XLOOKUP($F53,RWS_[[Environmental Profile]:[Environmental Profile]],RWS_[ADP-F],\"Not Found\",0)*Modellering!$I53,0)","v":0},{"$f":"IFERROR(_xlfn.XLOOKUP($F53,RWS_[[Environmental Profile]:[Environmental Profile]],RWS_[WDP],\"Not Found\",0)*Modellering!$I53,0)","v":0},{"$f":"IFERROR(_xlfn.XLOOKUP($F53,RWS_[[Environmental Profile]:[Environmental Profile]],RWS_[PM],\"Not Found\",0)*Modellering!$I53,0)","v":0},{"$f":"IFERROR(_xlfn.XLOOKUP($F53,RWS_[[Environmental Profile]:[Environmental Profile]],RWS_[IR],\"Not Found\",0)*Modellering!$I53,0)","v":0},{"$f":"IFERROR(_xlfn.XLOOKUP($F53,RWS_[[Environmental Profile]:[Environmental Profile]],RWS_[ETP-FW],\"Not Found\",0)*Modellering!$I53,0)","v":0},{"$f":"IFERROR(_xlfn.XLOOKUP($F53,RWS_[[Environmental Profile]:[Environmental Profile]],RWS_[HTP-C],\"Not Found\",0)*Modellering!$I53,0)","v":0},{"$f":"IFERROR(_xlfn.XLOOKUP($F53,RWS_[[Environmental Profile]:[Environmental Profile]],RWS_[HTP-NC],\"Not Found\",0)*Modellering!$I53,0)","v":0},{"$f":"IFERROR(_xlfn.XLOOKUP($F53,RWS_[[Environmental Profile]:[Environmental Profile]],RWS_[SQP],\"Not Found\",0)*Modellering!$I53,0)","v":0},{"$f":"IFERROR(_xlfn.XLOOKUP($F53,RWS_[[Environmental Profile]:[Environmental Profile]],RWS_[PERE],\"Not Found\",0)*Modellering!$I53,0)","v":0},{"$f":"IFERROR(_xlfn.XLOOKUP($F53,RWS_[[Environmental Profile]:[Environmental Profile]],RWS_[PERM],\"Not Found\",0)*Modellering!$I53,0)","v":0},{"$f":"IFERROR(_xlfn.XLOOKUP($F53,RWS_[[Environmental Profile]:[Environmental Profile]],RWS_[PERT],\"Not Found\",0)*Modellering!$I53,0)","v":0},{"$f":"IFERROR(_xlfn.XLOOKUP($F53,RWS_[[Environmental Profile]:[Environmental Profile]],RWS_[PENRE],\"Not Found\",0)*Modellering!$I53,0)","v":0},{"$f":"IFERROR(_xlfn.XLOOKUP($F53,RWS_[[Environmental Profile]:[Environmental Profile]],RWS_[PENRM],\"Not Found\",0)*Modellering!$I53,0)","v":0},{"$f":"IFERROR(_xlfn.XLOOKUP($F53,RWS_[[Environmental Profile]:[Environmental Profile]],RWS_[PENRT],\"Not Found\",0)*Modellering!$I53,0)","v":0},{"$f":"IFERROR(_xlfn.XLOOKUP($F53,RWS_[[Environmental Profile]:[Environmental Profile]],RWS_[SM],\"Not Found\",0)*Modellering!$I53,0)","v":0},{"$f":"IFERROR(_xlfn.XLOOKUP($F53,RWS_[[Environmental Profile]:[Environmental Profile]],RWS_[SF-R],\"Not Found\",0)*Modellering!$I53,0)","v":0},{"$f":"IFERROR(_xlfn.XLOOKUP($F53,RWS_[[Environmental Profile]:[Environmental Profile]],RWS_[SF-NR],\"Not Found\",0)*Modellering!$I53,0)","v":0},{"$f":"IFERROR(_xlfn.XLOOKUP($F53,RWS_[[Environmental Profile]:[Environmental Profile]],RWS_[FW],\"Not Found\",0)*Modellering!$I53,0)","v":0},{"$f":"IFERROR(_xlfn.XLOOKUP($F53,RWS_[[Environmental Profile]:[Environmental Profile]],RWS_[HWD],\"Not Found\",0)*Modellering!$I53,0)","v":0},{"$f":"IFERROR(_xlfn.XLOOKUP($F53,RWS_[[Environmental Profile]:[Environmental Profile]],RWS_[NHWD],\"Not Found\",0)*Modellering!$I53,0)","v":0},{"$f":"IFERROR(_xlfn.XLOOKUP($F53,RWS_[[Environmental Profile]:[Environmental Profile]],RWS_[RWD],\"Not Found\",0)*Modellering!$I53,0)","v":0},{"$f":"IFERROR(_xlfn.XLOOKUP($F53,RWS_[[Environmental Profile]:[Environmental Profile]],RWS_[CRU],\"Not Found\",0)*Modellering!$I53,0)","v":0},{"$f":"IFERROR(_xlfn.XLOOKUP($F53,RWS_[[Environmental Profile]:[Environmental Profile]],RWS_[MFR],\"Not Found\",0)*Modellering!$I53,0)","v":0},{"$f":"IFERROR(_xlfn.XLOOKUP($F53,RWS_[[Environmental Profile]:[Environmental Profile]],RWS_[MER],\"Not Found\",0)*Modellering!$I53,0)","v":0},{"$f":"IFERROR(_xlfn.XLOOKUP($F53,RWS_[[Environmental Profile]:[Environmental Profile]],RWS_[EE-E],\"Not Found\",0)*Modellering!$I53,0)","v":0},{"$f":"IFERROR(_xlfn.XLOOKUP($F53,RWS_[[Environmental Profile]:[Environmental Profile]],RWS_[EE-T],\"Not Found\",0)*Modellering!$I53,0)","v":0}]
[null,null,"Kapitaalgoederen","Brandstofcel","B1",{"$f":"IF(Invoerblad!$F$46=\"Brandstofcel\",\"Brandstofcel Waterstof, per kW machinevermogen\",\"Niet van Toepassing\")","v":"Niet van Toepassing"},"","Not Found",{"$f":"_xlfn.XLOOKUP(Invoerblad!$F$44,PM_NOx!$A$47:$A$51,IF(Invoerblad!$D$32=\"Binnenvaart\",PM_NOx!$D$47:$D$51,PM_NOx!$C$47:$C$51),0,0)","v":0},null,{"$f":"IFERROR(_xlfn.XLOOKUP($F54,RWS_[[Environmental Profile]:[Environmental Profile]],RWS_[ECI-A1],\"Not Found\",0)*Modellering!$I54,0)","v":0},{"$f":"IFERROR(_xlfn.XLOOKUP($F54,RWS_[[Environmental Profile]:[Environmental Profile]],RWS_[ECI-A2],\"Not Found\",0)*Modellering!$I54,0)","v":0},{"$f":"IFERROR(_xlfn.XLOOKUP($F54,RWS_[[Environmental Profile]:[Environmental Profile]],RWS_[ADPE],\"Not Found\",0)*Modellering!$I54,0)","v":0},{"$f":"IFERROR(_xlfn.XLOOKUP($F54,RWS_[[Environmental Profile]:[Environmental Profile]],RWS_[ADPF],\"Not Found\",0)*Modellering!$I54,0)","v":0},{"$f":"IFERROR(_xlfn.XLOOKUP($F54,RWS_[[Environmental Profile]:[Environmental Profile]],RWS_[GWP1],\"Not Found\",0)*Modellering!$I54,0)","v":0},{"$f":"IFERROR(_xlfn.XLOOKUP($F54,RWS_[[Environmental Profile]:[Environmental Profile]],RWS_[ODP1],\"Not Found\",0)*Modellering!$I54,0)","v":0},{"$f":"IFERROR(_xlfn.XLOOKUP($F54,RWS_[[Environmental Profile]:[Environmental Profile]],RWS_[POCP],\"Not Found\",0)*Modellering!$I54,0)","v":0},{"$f":"IFERROR(_xlfn.XLOOKUP($F54,RWS_[[Environmental Profile]:[Environmental Profile]],RWS_[AP],\"Not Found\",0)*Modellering!$I54,0)","v":0},{"$f":"IFERROR(_xlfn.XLOOKUP($F54,RWS_[[Environmental Profile]:[Environmental Profile]],RWS_[EP],\"Not Found\",0)*Modellering!$I54,0)","v":0},{"$f":"IFERROR(_xlfn.XLOOKUP($F54,RWS_[[Environmental Profile]:[Environmental Profile]],RWS_[HTP],\"Not Found\",0)*Modellering!$I54,0)","v":0},{"$f":"IFERROR(_xlfn.XLOOKUP($F54,RWS_[[Environmental Profile]:[Environmental Profile]],RWS_[FAETP],\"Not Found\",0)*Modellering!$I54,0)","v":0},{"$f":"IFERROR(_xlfn.XLOOKUP($F54,RWS_[[Environmental Profile]:[Environmental Profile]],RWS_[MAETP],\"Not Found\",0)*Modellering!$I54,0)","v":0},{"$f":"IFERROR(_xlfn.XLOOKUP($F54,RWS_[[Environmental Profile]:[Environmental Profile]],RWS_[TETP],\"Not Found\",0)*Modellering!$I54,0)","v":0},{"$f":"IFERROR(_xlfn.XLOOKUP($F54,RWS_[[Environmental Profile]:[Environmental Profile]],RWS_[GWP2],\"Not Found\",0)*Modellering!$I54,0)","v":0},{"$f":"IFERROR(_xlfn.XLOOKUP($F54,RWS_[[Environmental Profile]:[Environmental Profile]],RWS_[GWP-F],\"Not Found\",0)*Modellering!$I54,0)","v":0},{"$f":"IFERROR(_xlfn.XLOOKUP($F54,RWS_[[Environmental Profile]:[Environmental Profile]],RWS_[GWP-B],\"Not Found\",0)*Modellering!$I54,0)","v":0},{"$f":"IFERROR(_xlfn.XLOOKUP($F54,RWS_[[Environmental Profile]:[Environmental Profile]],RWS_[GWP-L],\"Not Found\",0)*Modellering!$I54,0)","v":0},{"$f":"IFERROR(_xlfn.XLOOKUP($F54,RWS_[[Environmental Profile]:[Environmental Profile]],RWS_[ODP2],\"Not Found\",0)*Modellering!$I54,0)","v":0},{"$f":"IFERROR(_xlfn.XLOOKUP($F54,RWS_[[Environmental Profile]:[Environmental Profile]],RWS_[AP2],\"Not Found\",0)*Modellering!$I54,0)","v":0},{"$f":"IFERROR(_xlfn.XLOOKUP($F54,RWS_[[Environmental Profile]:[Environmental Profile]],RWS_[EP-FW],\"Not Found\",0)*Modellering!$I54,0)","v":0},{"$f":"IFERROR(_xlfn.XLOOKUP($F54,RWS_[[Environmental Profile]:[Environmental Profile]],RWS_[EP-M],\"Not Found\",0)*Modellering!$I54,0)","v":0},{"$f":"IFERROR(_xlfn.XLOOKUP($F54,RWS_[[Environmental Profile]:[Environmental Profile]],RWS_[EP-T],\"Not Found\",0)*Modellering!$I54,0)","v":0},{"$f":"IFERROR(_xlfn.XLOOKUP($F54,RWS_[[Environmental Profile]:[Environmental Profile]],RWS_[POCP2],\"Not Found\",0)*Modellering!$I54,0)","v":0},{"$f":"IFERROR(_xlfn.XLOOKUP($F54,RWS_[[Environmental Profile]:[Environmental Profile]],RWS_[ADP-MM],\"Not Found\",0)*Modellering!$I54,0)","v":0},{"$f":"IFERROR(_xlfn.XLOOKUP($F54,RWS_[[Environmental Profile]:[Environmental Profile]],RWS_[ADP-F],\"Not Found\",0)*Modellering!$I54,0)","v":0},{"$f":"IFERROR(_xlfn.XLOOKUP($F54,RWS_[[Environmental Profile]:[Environmental Profile]],RWS_[WDP],\"Not Found\",0)*Modellering!$I54,0)","v":0},{"$f":"IFERROR(_xlfn.XLOOKUP($F54,RWS_[[Environmental Profile]:[Environmental Profile]],RWS_[PM],\"Not Found\",0)*Modellering!$I54,0)","v":0},{"$f":"IFERROR(_xlfn.XLOOKUP($F54,RWS_[[Environmental Profile]:[Environmental Profile]],RWS_[IR],\"Not Found\",0)*Modellering!$I54,0)","v":0},{"$f":"IFERROR(_xlfn.XLOOKUP($F54,RWS_[[Environmental Profile]:[Environmental Profile]],RWS_[ETP-FW],\"Not Found\",0)*Modellering!$I54,0)","v":0},{"$f":"IFERROR(_xlfn.XLOOKUP($F54,RWS_[[Environmental Profile]:[Environmental Profile]],RWS_[HTP-C],\"Not Found\",0)*Modellering!$I54,0)","v":0},{"$f":"IFERROR(_xlfn.XLOOKUP($F54,RWS_[[Environmental Profile]:[Environmental Profile]],RWS_[HTP-NC],\"Not Found\",0)*Modellering!$I54,0)","v":0},{"$f":"IFERROR(_xlfn.XLOOKUP($F54,RWS_[[Environmental Profile]:[Environmental Profile]],RWS_[SQP],\"Not Found\",0)*Modellering!$I54,0)","v":0},{"$f":"IFERROR(_xlfn.XLOOKUP($F54,RWS_[[Environmental Profile]:[Environmental Profile]],RWS_[PERE],\"Not Found\",0)*Modellering!$I54,0)","v":0},{"$f":"IFERROR(_xlfn.XLOOKUP($F54,RWS_[[Environmental Profile]:[Environmental Profile]],RWS_[PERM],\"Not Found\",0)*Modellering!$I54,0)","v":0},{"$f":"IFERROR(_xlfn.XLOOKUP($F54,RWS_[[Environmental Profile]:[Environmental Profile]],RWS_[PERT],\"Not Found\",0)*Modellering!$I54,0)","v":0},{"$f":"IFERROR(_xlfn.XLOOKUP($F54,RWS_[[Environmental Profile]:[Environmental Profile]],RWS_[PENRE],\"Not Found\",0)*Modellering!$I54,0)","v":0},{"$f":"IFERROR(_xlfn.XLOOKUP($F54,RWS_[[Environmental Profile]:[Environmental Profile]],RWS_[PENRM],\"Not Found\",0)*Modellering!$I54,0)","v":0},{"$f":"IFERROR(_xlfn.XLOOKUP($F54,RWS_[[Environmental Profile]:[Environmental Profile]],RWS_[PENRT],\"Not Found\",0)*Modellering!$I54,0)","v":0},{"$f":"IFERROR(_xlfn.XLOOKUP($F54,RWS_[[Environmental Profile]:[Environmental Profile]],RWS_[SM],\"Not Found\",0)*Modellering!$I54,0)","v":0},{"$f":"IFERROR(_xlfn.XLOOKUP($F54,RWS_[[Environmental Profile]:[Environmental Profile]],RWS_[SF-R],\"Not Found\",0)*Modellering!$I54,0)","v":0},{"$f":"IFERROR(_xlfn.XLOOKUP($F54,RWS_[[Environmental Profile]:[Environmental Profile]],RWS_[SF-NR],\"Not Found\",0)*Modellering!$I54,0)","v":0},{"$f":"IFERROR(_xlfn.XLOOKUP($F54,RWS_[[Environmental Profile]:[Environmental Profile]],RWS_[FW],\"Not Found\",0)*Modellering!$I54,0)","v":0},{"$f":"IFERROR(_xlfn.XLOOKUP($F54,RWS_[[Environmental Profile]:[Environmental Profile]],RWS_[HWD],\"Not Found\",0)*Modellering!$I54,0)","v":0},{"$f":"IFERROR(_xlfn.XLOOKUP($F54,RWS_[[Environmental Profile]:[Environmental Profile]],RWS_[NHWD],\"Not Found\",0)*Modellering!$I54,0)","v":0},{"$f":"IFERROR(_xlfn.XLOOKUP($F54,RWS_[[Environmental Profile]:[Environmental Profile]],RWS_[RWD],\"Not Found\",0)*Modellering!$I54,0)","v":0},{"$f":"IFERROR(_xlfn.XLOOKUP($F54,RWS_[[Environmental Profile]:[Environmental Profile]],RWS_[CRU],\"Not Found\",0)*Modellering!$I54,0)","v":0},{"$f":"IFERROR(_xlfn.XLOOKUP($F54,RWS_[[Environmental Profile]:[Environmental Profile]],RWS_[MFR],\"Not Found\",0)*Modellering!$I54,0)","v":0},{"$f":"IFERROR(_xlfn.XLOOKUP($F54,RWS_[[Environmental Profile]:[Environmental Profile]],RWS_[MER],\"Not Found\",0)*Modellering!$I54,0)","v":0},{"$f":"IFERROR(_xlfn.XLOOKUP($F54,RWS_[[Environmental Profile]:[Environmental Profile]],RWS_[EE-E],\"Not Found\",0)*Modellering!$I54,0)","v":0},{"$f":"IFERROR(_xlfn.XLOOKUP($F54,RWS_[[Environmental Profile]:[Environmental Profile]],RWS_[EE-T],\"Not Found\",0)*Modellering!$I54,0)","v":0}]
[null,null,"AdBlue","Winning AdBlue","A1-A3","*RWS Energiedrager AdBlue (A1-A3) 32,5% Ureum","AdBlue ","kg",{"$f":"Invoerblad!$F$78","v":""},null,{"$f":"IFERROR(_xlfn.XLOOKUP($F55,RWS_[[Environmental Profile]:[Environmental Profile]],RWS_[ECI-A1],\"Not Found\",0)*Modellering!$I55,0)","v":0},{"$f":"IFERROR(_xlfn.XLOOKUP($F55,RWS_[[Environmental Profile]:[Environmental Profile]],RWS_[ECI-A2],\"Not Found\",0)*Modellering!$I55,0)","v":0},{"$f":"IFERROR(_xlfn.XLOOKUP($F55,RWS_[[Environmental Profile]:[Environmental Profile]],RWS_[ADPE],\"Not Found\",0)*Modellering!$I55,0)","v":0},{"$f":"IFERROR(_xlfn.XLOOKUP($F55,RWS_[[Environmental Profile]:[Environmental Profile]],RWS_[ADPF],\"Not Found\",0)*Modellering!$I55,0)","v":0},{"$f":"IFERROR(_xlfn.XLOOKUP($F55,RWS_[[Environmental Profile]:[Environmental Profile]],RWS_[GWP1],\"Not Found\",0)*Modellering!$I55,0)","v":0},{"$f":"IFERROR(_xlfn.XLOOKUP($F55,RWS_[[Environmental Profile]:[Environmental Profile]],RWS_[ODP1],\"Not Found\",0)*Modellering!$I55,0)","v":0},{"$f":"IFERROR(_xlfn.XLOOKUP($F55,RWS_[[Environmental Profile]:[Environmental Profile]],RWS_[POCP],\"Not Found\",0)*Modellering!$I55,0)","v":0},{"$f":"IFERROR(_xlfn.XLOOKUP($F55,RWS_[[Environmental Profile]:[Environmental Profile]],RWS_[AP],\"Not Found\",0)*Modellering!$I55,0)","v":0},{"$f":"IFERROR(_xlfn.XLOOKUP($F55,RWS_[[Environmental Profile]:[Environmental Profile]],RWS_[EP],\"Not Found\",0)*Modellering!$I55,0)","v":0},{"$f":"IFERROR(_xlfn.XLOOKUP($F55,RWS_[[Environmental Profile]:[Environmental Profile]],RWS_[HTP],\"Not Found\",0)*Modellering!$I55,0)","v":0},{"$f":"IFERROR(_xlfn.XLOOKUP($F55,RWS_[[Environmental Profile]:[Environmental Profile]],RWS_[FAETP],\"Not Found\",0)*Modellering!$I55,0)","v":0},{"$f":"IFERROR(_xlfn.XLOOKUP($F55,RWS_[[Environmental Profile]:[Environmental Profile]],RWS_[MAETP],\"Not Found\",0)*Modellering!$I55,0)","v":0},{"$f":"IFERROR(_xlfn.XLOOKUP($F55,RWS_[[Environmental Profile]:[Environmental Profile]],RWS_[TETP],\"Not Found\",0)*Modellering!$I55,0)","v":0},{"$f":"IFERROR(_xlfn.XLOOKUP($F55,RWS_[[Environmental Profile]:[Environmental Profile]],RWS_[GWP2],\"Not Found\",0)*Modellering!$I55,0)","v":0},{"$f":"IFERROR(_xlfn.XLOOKUP($F55,RWS_[[Environmental Profile]:[Environmental Profile]],RWS_[GWP-F],\"Not Found\",0)*Modellering!$I55,0)","v":0},{"$f":"IFERROR(_xlfn.XLOOKUP($F55,RWS_[[Environmental Profile]:[Environmental Profile]],RWS_[GWP-B],\"Not Found\",0)*Modellering!$I55,0)","v":0},{"$f":"IFERROR(_xlfn.XLOOKUP($F55,RWS_[[Environmental Profile]:[Environmental Profile]],RWS_[GWP-L],\"Not Found\",0)*Modellering!$I55,0)","v":0},{"$f":"IFERROR(_xlfn.XLOOKUP($F55,RWS_[[Environmental Profile]:[Environmental Profile]],RWS_[ODP2],\"Not Found\",0)*Modellering!$I55,0)","v":0},{"$f":"IFERROR(_xlfn.XLOOKUP($F55,RWS_[[Environmental Profile]:[Environmental Profile]],RWS_[AP2],\"Not Found\",0)*Modellering!$I55,0)","v":0},{"$f":"IFERROR(_xlfn.XLOOKUP($F55,RWS_[[Environmental Profile]:[Environmental Profile]],RWS_[EP-FW],\"Not Found\",0)*Modellering!$I55,0)","v":0},{"$f":"IFERROR(_xlfn.XLOOKUP($F55,RWS_[[Environmental Profile]:[Environmental Profile]],RWS_[EP-M],\"Not Found\",0)*Modellering!$I55,0)","v":0},{"$f":"IFERROR(_xlfn.XLOOKUP($F55,RWS_[[Environmental Profile]:[Environmental Profile]],RWS_[EP-T],\"Not Found\",0)*Modellering!$I55,0)","v":0},{"$f":"IFERROR(_xlfn.XLOOKUP($F55,RWS_[[Environmental Profile]:[Environmental Profile]],RWS_[POCP2],\"Not Found\",0)*Modellering!$I55,0)","v":0},{"$f":"IFERROR(_xlfn.XLOOKUP($F55,RWS_[[Environmental Profile]:[Environmental Profile]],RWS_[ADP-MM],\"Not Found\",0)*Modellering!$I55,0)","v":0},{"$f":"IFERROR(_xlfn.XLOOKUP($F55,RWS_[[Environmental Profile]:[Environmental Profile]],RWS_[ADP-F],\"Not Found\",0)*Modellering!$I55,0)","v":0},{"$f":"IFERROR(_xlfn.XLOOKUP($F55,RWS_[[Environmental Profile]:[Environmental Profile]],RWS_[WDP],\"Not Found\",0)*Modellering!$I55,0)","v":0},{"$f":"IFERROR(_xlfn.XLOOKUP($F55,RWS_[[Environmental Profile]:[Environmental Profile]],RWS_[PM],\"Not Found\",0)*Modellering!$I55,0)","v":0},{"$f":"IFERROR(_xlfn.XLOOKUP($F55,RWS_[[Environmental Profile]:[Environmental Profile]],RWS_[IR],\"Not Found\",0)*Modellering!$I55,0)","v":0},{"$f":"IFERROR(_xlfn.XLOOKUP($F55,RWS_[[Environmental Profile]:[Environmental Profile]],RWS_[ETP-FW],\"Not Found\",0)*Modellering!$I55,0)","v":0},{"$f":"IFERROR(_xlfn.XLOOKUP($F55,RWS_[[Environmental Profile]:[Environmental Profile]],RWS_[HTP-C],\"Not Found\",0)*Modellering!$I55,0)","v":0},{"$f":"IFERROR(_xlfn.XLOOKUP($F55,RWS_[[Environmental Profile]:[Environmental Profile]],RWS_[HTP-NC],\"Not Found\",0)*Modellering!$I55,0)","v":0},{"$f":"IFERROR(_xlfn.XLOOKUP($F55,RWS_[[Environmental Profile]:[Environmental Profile]],RWS_[SQP],\"Not Found\",0)*Modellering!$I55,0)","v":0},{"$f":"IFERROR(_xlfn.XLOOKUP($F55,RWS_[[Environmental Profile]:[Environmental Profile]],RWS_[PERE],\"Not Found\",0)*Modellering!$I55,0)","v":0},{"$f":"IFERROR(_xlfn.XLOOKUP($F55,RWS_[[Environmental Profile]:[Environmental Profile]],RWS_[PERM],\"Not Found\",0)*Modellering!$I55,0)","v":0},{"$f":"IFERROR(_xlfn.XLOOKUP($F55,RWS_[[Environmental Profile]:[Environmental Profile]],RWS_[PERT],\"Not Found\",0)*Modellering!$I55,0)","v":0},{"$f":"IFERROR(_xlfn.XLOOKUP($F55,RWS_[[Environmental Profile]:[Environmental Profile]],RWS_[PENRE],\"Not Found\",0)*Modellering!$I55,0)","v":0},{"$f":"IFERROR(_xlfn.XLOOKUP($F55,RWS_[[Environmental Profile]:[Environmental Profile]],RWS_[PENRM],\"Not Found\",0)*Modellering!$I55,0)","v":0},{"$f":"IFERROR(_xlfn.XLOOKUP($F55,RWS_[[Environmental Profile]:[Environmental Profile]],RWS_[PENRT],\"Not Found\",0)*Modellering!$I55,0)","v":0},{"$f":"IFERROR(_xlfn.XLOOKUP($F55,RWS_[[Environmental Profile]:[Environmental Profile]],RWS_[SM],\"Not Found\",0)*Modellering!$I55,0)","v":0},{"$f":"IFERROR(_xlfn.XLOOKUP($F55,RWS_[[Environmental Profile]:[Environmental Profile]],RWS_[SF-R],\"Not Found\",0)*Modellering!$I55,0)","v":0},{"$f":"IFERROR(_xlfn.XLOOKUP($F55,RWS_[[Environmental Profile]:[Environmental Profile]],RWS_[SF-NR],\"Not Found\",0)*Modellering!$I55,0)","v":0},{"$f":"IFERROR(_xlfn.XLOOKUP($F55,RWS_[[Environmental Profile]:[Environmental Profile]],RWS_[FW],\"Not Found\",0)*Modellering!$I55,0)","v":0},{"$f":"IFERROR(_xlfn.XLOOKUP($F55,RWS_[[Environmental Profile]:[Environmental Profile]],RWS_[HWD],\"Not Found\",0)*Modellering!$I55,0)","v":0},{"$f":"IFERROR(_xlfn.XLOOKUP($F55,RWS_[[Environmental Profile]:[Environmental Profile]],RWS_[NHWD],\"Not Found\",0)*Modellering!$I55,0)","v":0},{"$f":"IFERROR(_xlfn.XLOOKUP($F55,RWS_[[Environmental Profile]:[Environmental Profile]],RWS_[RWD],\"Not Found\",0)*Modellering!$I55,0)","v":0},{"$f":"IFERROR(_xlfn.XLOOKUP($F55,RWS_[[Environmental Profile]:[Environmental Profile]],RWS_[CRU],\"Not Found\",0)*Modellering!$I55,0)","v":0},{"$f":"IFERROR(_xlfn.XLOOKUP($F55,RWS_[[Environmental Profile]:[Environmental Profile]],RWS_[MFR],\"Not Found\",0)*Modellering!$I55,0)","v":0},{"$f":"IFERROR(_xlfn.XLOOKUP($F55,RWS_[[Environmental Profile]:[Environmental Profile]],RWS_[MER],\"Not Found\",0)*Modellering!$I55,0)","v":0},{"$f":"IFERROR(_xlfn.XLOOKUP($F55,RWS_[[Environmental Profile]:[Environmental Profile]],RWS_[EE-E],\"Not Found\",0)*Modellering!$I55,0)","v":0},{"$f":"IFERROR(_xlfn.XLOOKUP($F55,RWS_[[Environmental Profile]:[Environmental Profile]],RWS_[EE-T],\"Not Found\",0)*Modellering!$I55,0)","v":0}]
[null,null,"AdBlue","Opslag AdBlue","A4","*RWS Energiedrager AdBlue (A4) 32,5% Ureum","Opslag AdBlue","kg",{"$f":"Invoerblad!$F$78","v":""},null,{"$f":"IFERROR(_xlfn.XLOOKUP($F56,RWS_[[Environmental Profile]:[Environmental Profile]],RWS_[ECI-A1],\"Not Found\",0)*Modellering!$I56,0)","v":0},{"$f":"IFERROR(_xlfn.XLOOKUP($F56,RWS_[[Environmental Profile]:[Environmental Profile]],RWS_[ECI-A2],\"Not Found\",0)*Modellering!$I56,0)","v":0},{"$f":"IFERROR(_xlfn.XLOOKUP($F56,RWS_[[Environmental Profile]:[Environmental Profile]],RWS_[ADPE],\"Not Found\",0)*Modellering!$I56,0)","v":0},{"$f":"IFERROR(_xlfn.XLOOKUP($F56,RWS_[[Environmental Profile]:[Environmental Profile]],RWS_[ADPF],\"Not Found\",0)*Modellering!$I56,0)","v":0},{"$f":"IFERROR(_xlfn.XLOOKUP($F56,RWS_[[Environmental Profile]:[Environmental Profile]],RWS_[GWP1],\"Not Found\",0)*Modellering!$I56,0)","v":0},{"$f":"IFERROR(_xlfn.XLOOKUP($F56,RWS_[[Environmental Profile]:[Environmental Profile]],RWS_[ODP1],\"Not Found\",0)*Modellering!$I56,0)","v":0},{"$f":"IFERROR(_xlfn.XLOOKUP($F56,RWS_[[Environmental Profile]:[Environmental Profile]],RWS_[POCP],\"Not Found\",0)*Modellering!$I56,0)","v":0},{"$f":"IFERROR(_xlfn.XLOOKUP($F56,RWS_[[Environmental Profile]:[Environmental Profile]],RWS_[AP],\"Not Found\",0)*Modellering!$I56,0)","v":0},{"$f":"IFERROR(_xlfn.XLOOKUP($F56,RWS_[[Environmental Profile]:[Environmental Profile]],RWS_[EP],\"Not Found\",0)*Modellering!$I56,0)","v":0},{"$f":"IFERROR(_xlfn.XLOOKUP($F56,RWS_[[Environmental Profile]:[Environmental Profile]],RWS_[HTP],\"Not Found\",0)*Modellering!$I56,0)","v":0},{"$f":"IFERROR(_xlfn.XLOOKUP($F56,RWS_[[Environmental Profile]:[Environmental Profile]],RWS_[FAETP],\"Not Found\",0)*Modellering!$I56,0)","v":0},{"$f":"IFERROR(_xlfn.XLOOKUP($F56,RWS_[[Environmental Profile]:[Environmental Profile]],RWS_[MAETP],\"Not Found\",0)*Modellering!$I56,0)","v":0},{"$f":"IFERROR(_xlfn.XLOOKUP($F56,RWS_[[Environmental Profile]:[Environmental Profile]],RWS_[TETP],\"Not Found\",0)*Modellering!$I56,0)","v":0},{"$f":"IFERROR(_xlfn.XLOOKUP($F56,RWS_[[Environmental Profile]:[Environmental Profile]],RWS_[GWP2],\"Not Found\",0)*Modellering!$I56,0)","v":0},{"$f":"IFERROR(_xlfn.XLOOKUP($F56,RWS_[[Environmental Profile]:[Environmental Profile]],RWS_[GWP-F],\"Not Found\",0)*Modellering!$I56,0)","v":0},{"$f":"IFERROR(_xlfn.XLOOKUP($F56,RWS_[[Environmental Profile]:[Environmental Profile]],RWS_[GWP-B],\"Not Found\",0)*Modellering!$I56,0)","v":0},{"$f":"IFERROR(_xlfn.XLOOKUP($F56,RWS_[[Environmental Profile]:[Environmental Profile]],RWS_[GWP-L],\"Not Found\",0)*Modellering!$I56,0)","v":0},{"$f":"IFERROR(_xlfn.XLOOKUP($F56,RWS_[[Environmental Profile]:[Environmental Profile]],RWS_[ODP2],\"Not Found\",0)*Modellering!$I56,0)","v":0},{"$f":"IFERROR(_xlfn.XLOOKUP($F56,RWS_[[Environmental Profile]:[Environmental Profile]],RWS_[AP2],\"Not Found\",0)*Modellering!$I56,0)","v":0},{"$f":"IFERROR(_xlfn.XLOOKUP($F56,RWS_[[Environmental Profile]:[Environmental Profile]],RWS_[EP-FW],\"Not Found\",0)*Modellering!$I56,0)","v":0},{"$f":"IFERROR(_xlfn.XLOOKUP($F56,RWS_[[Environmental Profile]:[Environmental Profile]],RWS_[EP-M],\"Not Found\",0)*Modellering!$I56,0)","v":0},{"$f":"IFERROR(_xlfn.XLOOKUP($F56,RWS_[[Environmental Profile]:[Environmental Profile]],RWS_[EP-T],\"Not Found\",0)*Modellering!$I56,0)","v":0},{"$f":"IFERROR(_xlfn.XLOOKUP($F56,RWS_[[Environmental Profile]:[Environmental Profile]],RWS_[POCP2],\"Not Found\",0)*Modellering!$I56,0)","v":0},{"$f":"IFERROR(_xlfn.XLOOKUP($F56,RWS_[[Environmental Profile]:[Environmental Profile]],RWS_[ADP-MM],\"Not Found\",0)*Modellering!$I56,0)","v":0},{"$f":"IFERROR(_xlfn.XLOOKUP($F56,RWS_[[Environmental Profile]:[Environmental Profile]],RWS_[ADP-F],\"Not Found\",0)*Modellering!$I56,0)","v":0},{"$f":"IFERROR(_xlfn.XLOOKUP($F56,RWS_[[Environmental Profile]:[Environmental Profile]],RWS_[WDP],\"Not Found\",0)*Modellering!$I56,0)","v":0},{"$f":"IFERROR(_xlfn.XLOOKUP($F56,RWS_[[Environmental Profile]:[Environmental Profile]],RWS_[PM],\"Not Found\",0)*Modellering!$I56,0)","v":0},{"$f":"IFERROR(_xlfn.XLOOKUP($F56,RWS_[[Environmental Profile]:[Environmental Profile]],RWS_[IR],\"Not Found\",0)*Modellering!$I56,0)","v":0},{"$f":"IFERROR(_xlfn.XLOOKUP($F56,RWS_[[Environmental Profile]:[Environmental Profile]],RWS_[ETP-FW],\"Not Found\",0)*Modellering!$I56,0)","v":0},{"$f":"IFERROR(_xlfn.XLOOKUP($F56,RWS_[[Environmental Profile]:[Environmental Profile]],RWS_[HTP-C],\"Not Found\",0)*Modellering!$I56,0)","v":0},{"$f":"IFERROR(_xlfn.XLOOKUP($F56,RWS_[[Environmental Profile]:[Environmental Profile]],RWS_[HTP-NC],\"Not Found\",0)*Modellering!$I56,0)","v":0},{"$f":"IFERROR(_xlfn.XLOOKUP($F56,RWS_[[Environmental Profile]:[Environmental Profile]],RWS_[SQP],\"Not Found\",0)*Modellering!$I56,0)","v":0},{"$f":"IFERROR(_xlfn.XLOOKUP($F56,RWS_[[Environmental Profile]:[Environmental Profile]],RWS_[PERE],\"Not Found\",0)*Modellering!$I56,0)","v":0},{"$f":"IFERROR(_xlfn.XLOOKUP($F56,RWS_[[Environmental Profile]:[Environmental Profile]],RWS_[PERM],\"Not Found\",0)*Modellering!$I56,0)","v":0},{"$f":"IFERROR(_xlfn.XLOOKUP($F56,RWS_[[Environmental Profile]:[Environmental Profile]],RWS_[PERT],\"Not Found\",0)*Modellering!$I56,0)","v":0},{"$f":"IFERROR(_xlfn.XLOOKUP($F56,RWS_[[Environmental Profile]:[Environmental Profile]],RWS_[PENRE],\"Not Found\",0)*Modellering!$I56,0)","v":0},{"$f":"IFERROR(_xlfn.XLOOKUP($F56,RWS_[[Environmental Profile]:[Environmental Profile]],RWS_[PENRM],\"Not Found\",0)*Modellering!$I56,0)","v":0},{"$f":"IFERROR(_xlfn.XLOOKUP($F56,RWS_[[Environmental Profile]:[Environmental Profile]],RWS_[PENRT],\"Not Found\",0)*Modellering!$I56,0)","v":0},{"$f":"IFERROR(_xlfn.XLOOKUP($F56,RWS_[[Environmental Profile]:[Environmental Profile]],RWS_[SM],\"Not Found\",0)*Modellering!$I56,0)","v":0},{"$f":"IFERROR(_xlfn.XLOOKUP($F56,RWS_[[Environmental Profile]:[Environmental Profile]],RWS_[SF-R],\"Not Found\",0)*Modellering!$I56,0)","v":0},{"$f":"IFERROR(_xlfn.XLOOKUP($F56,RWS_[[Environmental Profile]:[Environmental Profile]],RWS_[SF-NR],\"Not Found\",0)*Modellering!$I56,0)","v":0},{"$f":"IFERROR(_xlfn.XLOOKUP($F56,RWS_[[Environmental Profile]:[Environmental Profile]],RWS_[FW],\"Not Found\",0)*Modellering!$I56,0)","v":0},{"$f":"IFERROR(_xlfn.XLOOKUP($F56,RWS_[[Environmental Profile]:[Environmental Profile]],RWS_[HWD],\"Not Found\",0)*Modellering!$I56,0)","v":0},{"$f":"IFERROR(_xlfn.XLOOKUP($F56,RWS_[[Environmental Profile]:[Environmental Profile]],RWS_[NHWD],\"Not Found\",0)*Modellering!$I56,0)","v":0},{"$f":"IFERROR(_xlfn.XLOOKUP($F56,RWS_[[Environmental Profile]:[Environmental Profile]],RWS_[RWD],\"Not Found\",0)*Modellering!$I56,0)","v":0},{"$f":"IFERROR(_xlfn.XLOOKUP($F56,RWS_[[Environmental Profile]:[Environmental Profile]],RWS_[CRU],\"Not Found\",0)*Modellering!$I56,0)","v":0},{"$f":"IFERROR(_xlfn.XLOOKUP($F56,RWS_[[Environmental Profile]:[Environmental Profile]],RWS_[MFR],\"Not Found\",0)*Modellering!$I56,0)","v":0},{"$f":"IFERROR(_xlfn.XLOOKUP($F56,RWS_[[Environmental Profile]:[Environmental Profile]],RWS_[MER],\"Not Found\",0)*Modellering!$I56,0)","v":0},{"$f":"IFERROR(_xlfn.XLOOKUP($F56,RWS_[[Environmental Profile]:[Environmental Profile]],RWS_[EE-E],\"Not Found\",0)*Modellering!$I56,0)","v":0},{"$f":"IFERROR(_xlfn.XLOOKUP($F56,RWS_[[Environmental Profile]:[Environmental Profile]],RWS_[EE-T],\"Not Found\",0)*Modellering!$I56,0)","v":0}]
[null,null,"AdBlue","Gebruiksprofiel AdBlue","B1","*RWS Emmissieprofiel AdBlue (B), CO2 naar lucht per kg AdBlue,  32,5% Ureum","AdBlue Emissies","kg",{"$f":"Invoerblad!$F$78","v":""},null,{"$f":"IFERROR(_xlfn.XLOOKUP($F57,RWS_[[Environmental Profile]:[Environmental Profile]],RWS_[ECI-A1],\"Not Found\",0)*Modellering!$I57,0)","v":0},{"$f":"IFERROR(_xlfn.XLOOKUP($F57,RWS_[[Environmental Profile]:[Environmental Profile]],RWS_[ECI-A2],\"Not Found\",0)*Modellering!$I57,0)","v":0},{"$f":"IFERROR(_xlfn.XLOOKUP($F57,RWS_[[Environmental Profile]:[Environmental Profile]],RWS_[ADPE],\"Not Found\",0)*Modellering!$I57,0)","v":0},{"$f":"IFERROR(_xlfn.XLOOKUP($F57,RWS_[[Environmental Profile]:[Environmental Profile]],RWS_[ADPF],\"Not Found\",0)*Modellering!$I57,0)","v":0},{"$f":"IFERROR(_xlfn.XLOOKUP($F57,RWS_[[Environmental Profile]:[Environmental Profile]],RWS_[GWP1],\"Not Found\",0)*Modellering!$I57,0)","v":0},{"$f":"IFERROR(_xlfn.XLOOKUP($F57,RWS_[[Environmental Profile]:[Environmental Profile]],RWS_[ODP1],\"Not Found\",0)*Modellering!$I57,0)","v":0},{"$f":"IFERROR(_xlfn.XLOOKUP($F57,RWS_[[Environmental Profile]:[Environmental Profile]],RWS_[POCP],\"Not Found\",0)*Modellering!$I57,0)","v":0},{"$f":"IFERROR(_xlfn.XLOOKUP($F57,RWS_[[Environmental Profile]:[Environmental Profile]],RWS_[AP],\"Not Found\",0)*Modellering!$I57,0)","v":0},{"$f":"IFERROR(_xlfn.XLOOKUP($F57,RWS_[[Environmental Profile]:[Environmental Profile]],RWS_[EP],\"Not Found\",0)*Modellering!$I57,0)","v":0},{"$f":"IFERROR(_xlfn.XLOOKUP($F57,RWS_[[Environmental Profile]:[Environmental Profile]],RWS_[HTP],\"Not Found\",0)*Modellering!$I57,0)","v":0},{"$f":"IFERROR(_xlfn.XLOOKUP($F57,RWS_[[Environmental Profile]:[Environmental Profile]],RWS_[FAETP],\"Not Found\",0)*Modellering!$I57,0)","v":0},{"$f":"IFERROR(_xlfn.XLOOKUP($F57,RWS_[[Environmental Profile]:[Environmental Profile]],RWS_[MAETP],\"Not Found\",0)*Modellering!$I57,0)","v":0},{"$f":"IFERROR(_xlfn.XLOOKUP($F57,RWS_[[Environmental Profile]:[Environmental Profile]],RWS_[TETP],\"Not Found\",0)*Modellering!$I57,0)","v":0},{"$f":"IFERROR(_xlfn.XLOOKUP($F57,RWS_[[Environmental Profile]:[Environmental Profile]],RWS_[GWP2],\"Not Found\",0)*Modellering!$I57,0)","v":0},{"$f":"IFERROR(_xlfn.XLOOKUP($F57,RWS_[[Environmental Profile]:[Environmental Profile]],RWS_[GWP-F],\"Not Found\",0)*Modellering!$I57,0)","v":0},{"$f":"IFERROR(_xlfn.XLOOKUP($F57,RWS_[[Environmental Profile]:[Environmental Profile]],RWS_[GWP-B],\"Not Found\",0)*Modellering!$I57,0)","v":0},{"$f":"IFERROR(_xlfn.XLOOKUP($F57,RWS_[[Environmental Profile]:[Environmental Profile]],RWS_[GWP-L],\"Not Found\",0)*Modellering!$I57,0)","v":0},{"$f":"IFERROR(_xlfn.XLOOKUP($F57,RWS_[[Environmental Profile]:[Environmental Profile]],RWS_[ODP2],\"Not Found\",0)*Modellering!$I57,0)","v":0},{"$f":"IFERROR(_xlfn.XLOOKUP($F57,RWS_[[Environmental Profile]:[Environmental Profile]],RWS_[AP2],\"Not Found\",0)*Modellering!$I57,0)","v":0},{"$f":"IFERROR(_xlfn.XLOOKUP($F57,RWS_[[Environmental Profile]:[Environmental Profile]],RWS_[EP-FW],\"Not Found\",0)*Modellering!$I57,0)","v":0},{"$f":"IFERROR(_xlfn.XLOOKUP($F57,RWS_[[Environmental Profile]:[Environmental Profile]],RWS_[EP-M],\"Not Found\",0)*Modellering!$I57,0)","v":0},{"$f":"IFERROR(_xlfn.XLOOKUP($F57,RWS_[[Environmental Profile]:[Environmental Profile]],RWS_[EP-T],\"Not Found\",0)*Modellering!$I57,0)","v":0},{"$f":"IFERROR(_xlfn.XLOOKUP($F57,RWS_[[Environmental Profile]:[Environmental Profile]],RWS_[POCP2],\"Not Found\",0)*Modellering!$I57,0)","v":0},{"$f":"IFERROR(_xlfn.XLOOKUP($F57,RWS_[[Environmental Profile]:[Environmental Profile]],RWS_[ADP-MM],\"Not Found\",0)*Modellering!$I57,0)","v":0},{"$f":"IFERROR(_xlfn.XLOOKUP($F57,RWS_[[Environmental Profile]:[Environmental Profile]],RWS_[ADP-F],\"Not Found\",0)*Modellering!$I57,0)","v":0},{"$f":"IFERROR(_xlfn.XLOOKUP($F57,RWS_[[Environmental Profile]:[Environmental Profile]],RWS_[WDP],\"Not Found\",0)*Modellering!$I57,0)","v":0},{"$f":"IFERROR(_xlfn.XLOOKUP($F57,RWS_[[Environmental Profile]:[Environmental Profile]],RWS_[PM],\"Not Found\",0)*Modellering!$I57,0)","v":0},{"$f":"IFERROR(_xlfn.XLOOKUP($F57,RWS_[[Environmental Profile]:[Environmental Profile]],RWS_[IR],\"Not Found\",0)*Modellering!$I57,0)","v":0},{"$f":"IFERROR(_xlfn.XLOOKUP($F57,RWS_[[Environmental Profile]:[Environmental Profile]],RWS_[ETP-FW],\"Not Found\",0)*Modellering!$I57,0)","v":0},{"$f":"IFERROR(_xlfn.XLOOKUP($F57,RWS_[[Environmental Profile]:[Environmental Profile]],RWS_[HTP-C],\"Not Found\",0)*Modellering!$I57,0)","v":0},{"$f":"IFERROR(_xlfn.XLOOKUP($F57,RWS_[[Environmental Profile]:[Environmental Profile]],RWS_[HTP-NC],\"Not Found\",0)*Modellering!$I57,0)","v":0},{"$f":"IFERROR(_xlfn.XLOOKUP($F57,RWS_[[Environmental Profile]:[Environmental Profile]],RWS_[SQP],\"Not Found\",0)*Modellering!$I57,0)","v":0},{"$f":"IFERROR(_xlfn.XLOOKUP($F57,RWS_[[Environmental Profile]:[Environmental Profile]],RWS_[PERE],\"Not Found\",0)*Modellering!$I57,0)","v":0},{"$f":"IFERROR(_xlfn.XLOOKUP($F57,RWS_[[Environmental Profile]:[Environmental Profile]],RWS_[PERM],\"Not Found\",0)*Modellering!$I57,0)","v":0},{"$f":"IFERROR(_xlfn.XLOOKUP($F57,RWS_[[Environmental Profile]:[Environmental Profile]],RWS_[PERT],\"Not Found\",0)*Modellering!$I57,0)","v":0},{"$f":"IFERROR(_xlfn.XLOOKUP($F57,RWS_[[Environmental Profile]:[Environmental Profile]],RWS_[PENRE],\"Not Found\",0)*Modellering!$I57,0)","v":0},{"$f":"IFERROR(_xlfn.XLOOKUP($F57,RWS_[[Environmental Profile]:[Environmental Profile]],RWS_[PENRM],\"Not Found\",0)*Modellering!$I57,0)","v":0},{"$f":"IFERROR(_xlfn.XLOOKUP($F57,RWS_[[Environmental Profile]:[Environmental Profile]],RWS_[PENRT],\"Not Found\",0)*Modellering!$I57,0)","v":0},{"$f":"IFERROR(_xlfn.XLOOKUP($F57,RWS_[[Environmental Profile]:[Environmental Profile]],RWS_[SM],\"Not Found\",0)*Modellering!$I57,0)","v":0},{"$f":"IFERROR(_xlfn.XLOOKUP($F57,RWS_[[Environmental Profile]:[Environmental Profile]],RWS_[SF-R],\"Not Found\",0)*Modellering!$I57,0)","v":0},{"$f":"IFERROR(_xlfn.XLOOKUP($F57,RWS_[[Environmental Profile]:[Environmental Profile]],RWS_[SF-NR],\"Not Found\",0)*Modellering!$I57,0)","v":0},{"$f":"IFERROR(_xlfn.XLOOKUP($F57,RWS_[[Environmental Profile]:[Environmental Profile]],RWS_[FW],\"Not Found\",0)*Modellering!$I57,0)","v":0},{"$f":"IFERROR(_xlfn.XLOOKUP($F57,RWS_[[Environmental Profile]:[Environmental Profile]],RWS_[HWD],\"Not Found\",0)*Modellering!$I57,0)","v":0},{"$f":"IFERROR(_xlfn.XLOOKUP($F57,RWS_[[Environmental Profile]:[Environmental Profile]],RWS_[NHWD],\"Not Found\",0)*Modellering!$I57,0)","v":0},{"$f":"IFERROR(_xlfn.XLOOKUP($F57,RWS_[[Environmental Profile]:[Environmental Profile]],RWS_[RWD],\"Not Found\",0)*Modellering!$I57,0)","v":0},{"$f":"IFERROR(_xlfn.XLOOKUP($F57,RWS_[[Environmental Profile]:[Environmental Profile]],RWS_[CRU],\"Not Found\",0)*Modellering!$I57,0)","v":0},{"$f":"IFERROR(_xlfn.XLOOKUP($F57,RWS_[[Environmental Profile]:[Environmental Profile]],RWS_[MFR],\"Not Found\",0)*Modellering!$I57,0)","v":0},{"$f":"IFERROR(_xlfn.XLOOKUP($F57,RWS_[[Environmental Profile]:[Environmental Profile]],RWS_[MER],\"Not Found\",0)*Modellering!$I57,0)","v":0},{"$f":"IFERROR(_xlfn.XLOOKUP($F57,RWS_[[Environmental Profile]:[Environmental Profile]],RWS_[EE-E],\"Not Found\",0)*Modellering!$I57,0)","v":0},{"$f":"IFERROR(_xlfn.XLOOKUP($F57,RWS_[[Environmental Profile]:[Environmental Profile]],RWS_[EE-T],\"Not Found\",0)*Modellering!$I57,0)","v":0}]
[{"$nulls":10},{"$f":"SUM(K46:K57)","v":0},0,0,0,0,0,0,0,0,0,0,0,0,0,0,0,0,0,0,0,0,0,0,0,0,0,0,0,0,0,0,0,{"$f":"SUM(AQ46:AQ57)","v":0},0,0,0,0,0,0,0,0,0,0,0,0,0,0,0,0,0]
[]
[]
[]
[]
[null,null,"Milieuprofiel Motor 4",{"$f":"Invoerblad!G43","v":"Milieuprofiel 4"}]
[]
[null,null,"Onderdeel","Verdieping","Module","Milieuprofiel","Name Short","Eenheid","Hoeveelheid",null,"ECI-A1","ECI-A2","ADPE","ADPF","GWP1","ODP1","POCP","AP","EP","HTP","FAETP","MAETP","TETP","GWP2","GWP-F","GWP-B","GWP-L","ODP2","AP2","EP-FW","EP-M","EP-T","POCP2","ADP-MM","ADP-F","WDP","PM","IR","ETP-FW","HTP-C","HTP-NC","SQP","PERE","PERM","PERT","PENRE","PENRM","PENRT","SM","SF-R","SF-NR","FW","HWD","NHWD","RWD","CRU","MFR","MER","EE-E","EE-T"]
[null,null,"Energiedragers","Winning Energiedrager","A1-A3",{"$f":"_xlfn.XLOOKUP(Invoerblad!$G$45,Fuel_Short[Brandstof],Fuel_Short[Winning Energiedrager A1-A3],\"Not Found\",0)","v":"Not Found"},{"$f":"_xlfn.XLOOKUP(F66:F77,RWS_[Environmental Profile],RWS_[Result Name],\"\",0)","v":""},{"$f":"_xlfn.XLOOKUP(F66:F77,RWS_[Environmental Profile],RWS_[Fuctional Unit],\"Not Found\",0)","v":"Not Found"},1,null,{"$f":"IFERROR(_xlfn.XLOOKUP($F66,RWS_[[Environmental Profile]:[Environmental Profile]],RWS_[ECI-A1],\"Not Found\",0)*Modellering!$I66,0)","v":0},{"$f":"IFERROR(_xlfn.XLOOKUP($F66,RWS_[[Environmental Profile]:[Environmental Profile]],RWS_[ECI-A2],\"Not Found\",0)*Modellering!$I66,0)","v":0},{"$f":"IFERROR(_xlfn.XLOOKUP($F66,RWS_[[Environmental Profile]:[Environmental Profile]],RWS_[ADPE],\"Not Found\",0)*Modellering!$I66,0)","v":0},{"$f":"IFERROR(_xlfn.XLOOKUP($F66,RWS_[[Environmental Profile]:[Environmental Profile]],RWS_[ADPF],\"Not Found\",0)*Modellering!$I66,0)","v":0},{"$f":"IFERROR(_xlfn.XLOOKUP($F66,RWS_[[Environmental Profile]:[Environmental Profile]],RWS_[GWP1],\"Not Found\",0)*Modellering!$I66,0)","v":0},{"$f":"IFERROR(_xlfn.XLOOKUP($F66,RWS_[[Environmental Profile]:[Environmental Profile]],RWS_[ODP1],\"Not Found\",0)*Modellering!$I66,0)","v":0},{"$f":"IFERROR(_xlfn.XLOOKUP($F66,RWS_[[Environmental Profile]:[Environmental Profile]],RWS_[POCP],\"Not Found\",0)*Modellering!$I66,0)","v":0},{"$f":"IFERROR(_xlfn.XLOOKUP($F66,RWS_[[Environmental Profile]:[Environmental Profile]],RWS_[AP],\"Not Found\",0)*Modellering!$I66,0)","v":0},{"$f":"IFERROR(_xlfn.XLOOKUP($F66,RWS_[[Environmental Profile]:[Environmental Profile]],RWS_[EP],\"Not Found\",0)*Modellering!$I66,0)","v":0},{"$f":"IFERROR(_xlfn.XLOOKUP($F66,RWS_[[Environmental Profile]:[Environmental Profile]],RWS_[HTP],\"Not Found\",0)*Modellering!$I66,0)","v":0},{"$f":"IFERROR(_xlfn.XLOOKUP($F66,RWS_[[Environmental Profile]:[Environmental Profile]],RWS_[FAETP],\"Not Found\",0)*Modellering!$I66,0)","v":0},{"$f":"IFERROR(_xlfn.XLOOKUP($F66,RWS_[[Environmental Profile]:[Environmental Profile]],RWS_[MAETP],\"Not Found\",0)*Modellering!$I66,0)","v":0},{"$f":"IFERROR(_xlfn.XLOOKUP($F66,RWS_[[Environmental Profile]:[Environmental Profile]],RWS_[TETP],\"Not Found\",0)*Modellering!$I66,0)","v":0},{"$f":"IFERROR(_xlfn.XLOOKUP($F66,RWS_[[Environmental Profile]:[Environmental Profile]],RWS_[GWP2],\"Not Found\",0)*Modellering!$I66,0)","v":0},{"$f":"IFERROR(_xlfn.XLOOKUP($F66,RWS_[[Environmental Profile]:[Environmental Profile]],RWS_[GWP-F],\"Not Found\",0)*Modellering!$I66,0)","v":0},{"$f":"IFERROR(_xlfn.XLOOKUP($F66,RWS_[[Environmental Profile]:[Environmental Profile]],RWS_[GWP-B],\"Not Found\",0)*Modellering!$I66,0)","v":0},{"$f":"IFERROR(_xlfn.XLOOKUP($F66,RWS_[[Environmental Profile]:[Environmental Profile]],RWS_[GWP-L],\"Not Found\",0)*Modellering!$I66,0)","v":0},{"$f":"IFERROR(_xlfn.XLOOKUP($F66,RWS_[[Environmental Profile]:[Environmental Profile]],RWS_[ODP2],\"Not Found\",0)*Modellering!$I66,0)","v":0},{"$f":"IFERROR(_xlfn.XLOOKUP($F66,RWS_[[Environmental Profile]:[Environmental Profile]],RWS_[AP2],\"Not Found\",0)*Modellering!$I66,0)","v":0},{"$f":"IFERROR(_xlfn.XLOOKUP($F66,RWS_[[Environmental Profile]:[Environmental Profile]],RWS_[EP-FW],\"Not Found\",0)*Modellering!$I66,0)","v":0},{"$f":"IFERROR(_xlfn.XLOOKUP($F66,RWS_[[Environmental Profile]:[Environmental Profile]],RWS_[EP-M],\"Not Found\",0)*Modellering!$I66,0)","v":0},{"$f":"IFERROR(_xlfn.XLOOKUP($F66,RWS_[[Environmental Profile]:[Environmental Profile]],RWS_[EP-T],\"Not Found\",0)*Modellering!$I66,0)","v":0},{"$f":"IFERROR(_xlfn.XLOOKUP($F66,RWS_[[Environmental Profile]:[Environmental Profile]],RWS_[POCP2],\"Not Found\",0)*Modellering!$I66,0)","v":0},{"$f":"IFERROR(_xlfn.XLOOKUP($F66,RWS_[[Environmental Profile]:[Environmental Profile]],RWS_[ADP-MM],\"Not Found\",0)*Modellering!$I66,0)","v":0},{"$f":"IFERROR(_xlfn.XLOOKUP($F66,RWS_[[Environmental Profile]:[Environmental Profile]],RWS_[ADP-F],\"Not Found\",0)*Modellering!$I66,0)","v":0},{"$f":"IFERROR(_xlfn.XLOOKUP($F66,RWS_[[Environmental Profile]:[Environmental Profile]],RWS_[WDP],\"Not Found\",0)*Modellering!$I66,0)","v":0},{"$f":"IFERROR(_xlfn.XLOOKUP($F66,RWS_[[Environmental Profile]:[Environmental Profile]],RWS_[PM],\"Not Found\",0)*Modellering!$I66,0)","v":0},{"$f":"IFERROR(_xlfn.XLOOKUP($F66,RWS_[[Environmental Profile]:[Environmental Profile]],RWS_[IR],\"Not Found\",0)*Modellering!$I66,0)","v":0},{"$f":"IFERROR(_xlfn.XLOOKUP($F66,RWS_[[Environmental Profile]:[Environmental Profile]],RWS_[ETP-FW],\"Not Found\",0)*Modellering!$I66,0)","v":0},{"$f":"IFERROR(_xlfn.XLOOKUP($F66,RWS_[[Environmental Profile]:[Environmental Profile]],RWS_[HTP-C],\"Not Found\",0)*Modellering!$I66,0)","v":0},{"$f":"IFERROR(_xlfn.XLOOKUP($F66,RWS_[[Environmental Profile]:[Environmental Profile]],RWS_[HTP-NC],\"Not Found\",0)*Modellering!$I66,0)","v":0},{"$f":"IFERROR(_xlfn.XLOOKUP($F66,RWS_[[Environmental Profile]:[Environmental Profile]],RWS_[SQP],\"Not Found\",0)*Modellering!$I66,0)","v":0},{"$f":"IFERROR(_xlfn.XLOOKUP($F66,RWS_[[Environmental Profile]:[Environmental Profile]],RWS_[PERE],\"Not Found\",0)*Modellering!$I66,0)","v":0},{"$f":"IFERROR(_xlfn.XLOOKUP($F66,RWS_[[Environmental Profile]:[Environmental Profile]],RWS_[PERM],\"Not Found\",0)*Modellering!$I66,0)","v":0},{"$f":"IFERROR(_xlfn.XLOOKUP($F66,RWS_[[Environmental Profile]:[Environmental Profile]],RWS_[PERT],\"Not Found\",0)*Modellering!$I66,0)","v":0},{"$f":"IFERROR(_xlfn.XLOOKUP($F66,RWS_[[Environmental Profile]:[Environmental Profile]],RWS_[PENRE],\"Not Found\",0)*Modellering!$I66,0)","v":0},{"$f":"IFERROR(_xlfn.XLOOKUP($F66,RWS_[[Environmental Profile]:[Environmental Profile]],RWS_[PENRM],\"Not Found\",0)*Modellering!$I66,0)","v":0},{"$f":"IFERROR(_xlfn.XLOOKUP($F66,RWS_[[Environmental Profile]:[Environmental Profile]],RWS_[PENRT],\"Not Found\",0)*Modellering!$I66,0)","v":0},{"$f":"IFERROR(_xlfn.XLOOKUP($F66,RWS_[[Environmental Profile]:[Environmental Profile]],RWS_[SM],\"Not Found\",0)*Modellering!$I66,0)","v":0},{"$f":"IFERROR(_xlfn.XLOOKUP($F66,RWS_[[Environmental Profile]:[Environmental Profile]],RWS_[SF-R],\"Not Found\",0)*Modellering!$I66,0)","v":0},{"$f":"IFERROR(_xlfn.XLOOKUP($F66,RWS_[[Environmental Profile]:[Environmental Profile]],RWS_[SF-NR],\"Not Found\",0)*Modellering!$I66,0)","v":0},{"$f":"IFERROR(_xlfn.XLOOKUP($F66,RWS_[[Environmental Profile]:[Environmental Profile]],RWS_[FW],\"Not Found\",0)*Modellering!$I66,0)","v":0},{"$f":"IFERROR(_xlfn.XLOOKUP($F66,RWS_[[Environmental Profile]:[Environmental Profile]],RWS_[HWD],\"Not Found\",0)*Modellering!$I66,0)","v":0},{"$f":"IFERROR(_xlfn.XLOOKUP($F66,RWS_[[Environmental Profile]:[Environmental Profile]],RWS_[NHWD],\"Not Found\",0)*Modellering!$I66,0)","v":0},{"$f":"IFERROR(_xlfn.XLOOKUP($F66,RWS_[[Environmental Profile]:[Environmental Profile]],RWS_[RWD],\"Not Found\",0)*Modellering!$I66,0)","v":0},{"$f":"IFERROR(_xlfn.XLOOKUP($F66,RWS_[[Environmental Profile]:[Environmental Profile]],RWS_[CRU],\"Not Found\",0)*Modellering!$I66,0)","v":0},{"$f":"IFERROR(_xlfn.XLOOKUP($F66,RWS_[[Environmental Profile]:[Environmental Profile]],RWS_[MFR],\"Not Found\",0)*Modellering!$I66,0)","v":0},{"$f":"IFERROR(_xlfn.XLOOKUP($F66,RWS_[[Environmental Profile]:[Environmental Profile]],RWS_[MER],\"Not Found\",0)*Modellering!$I66,0)","v":0},{"$f":"IFERROR(_xlfn.XLOOKUP($F66,RWS_[[Environmental Profile]:[Environmental Profile]],RWS_[EE-E],\"Not Found\",0)*Modellering!$I66,0)","v":0},{"$f":"IFERROR(_xlfn.XLOOKUP($F66,RWS_[[Environmental Profile]:[Environmental Profile]],RWS_[EE-T],\"Not Found\",0)*Modellering!$I66,0)","v":0}]
[null,null,"Energiedragers","Opslag Energiedrager","A4",{"$f":"_xlfn.XLOOKUP(Invoerblad!$G$45,Fuel_Short[Brandstof],Fuel_Short[Opslag Energiedrager A4],\"Not Found\",0)","v":"Not Found"},"","Not Found",1,null,{"$f":"IFERROR(_xlfn.XLOOKUP($F67,RWS_[[Environmental Profile]:[Environmental Profile]],RWS_[ECI-A1],\"Not Found\",0)*Modellering!$I67,0)","v":0},{"$f":"IFERROR(_xlfn.XLOOKUP($F67,RWS_[[Environmental Profile]:[Environmental Profile]],RWS_[ECI-A2],\"Not Found\",0)*Modellering!$I67,0)","v":0},{"$f":"IFERROR(_xlfn.XLOOKUP($F67,RWS_[[Environmental Profile]:[Environmental Profile]],RWS_[ADPE],\"Not Found\",0)*Modellering!$I67,0)","v":0},{"$f":"IFERROR(_xlfn.XLOOKUP($F67,RWS_[[Environmental Profile]:[Environmental Profile]],RWS_[ADPF],\"Not Found\",0)*Modellering!$I67,0)","v":0},{"$f":"IFERROR(_xlfn.XLOOKUP($F67,RWS_[[Environmental Profile]:[Environmental Profile]],RWS_[GWP1],\"Not Found\",0)*Modellering!$I67,0)","v":0},{"$f":"IFERROR(_xlfn.XLOOKUP($F67,RWS_[[Environmental Profile]:[Environmental Profile]],RWS_[ODP1],\"Not Found\",0)*Modellering!$I67,0)","v":0},{"$f":"IFERROR(_xlfn.XLOOKUP($F67,RWS_[[Environmental Profile]:[Environmental Profile]],RWS_[POCP],\"Not Found\",0)*Modellering!$I67,0)","v":0},{"$f":"IFERROR(_xlfn.XLOOKUP($F67,RWS_[[Environmental Profile]:[Environmental Profile]],RWS_[AP],\"Not Found\",0)*Modellering!$I67,0)","v":0},{"$f":"IFERROR(_xlfn.XLOOKUP($F67,RWS_[[Environmental Profile]:[Environmental Profile]],RWS_[EP],\"Not Found\",0)*Modellering!$I67,0)","v":0},{"$f":"IFERROR(_xlfn.XLOOKUP($F67,RWS_[[Environmental Profile]:[Environmental Profile]],RWS_[HTP],\"Not Found\",0)*Modellering!$I67,0)","v":0},{"$f":"IFERROR(_xlfn.XLOOKUP($F67,RWS_[[Environmental Profile]:[Environmental Profile]],RWS_[FAETP],\"Not Found\",0)*Modellering!$I67,0)","v":0},{"$f":"IFERROR(_xlfn.XLOOKUP($F67,RWS_[[Environmental Profile]:[Environmental Profile]],RWS_[MAETP],\"Not Found\",0)*Modellering!$I67,0)","v":0},{"$f":"IFERROR(_xlfn.XLOOKUP($F67,RWS_[[Environmental Profile]:[Environmental Profile]],RWS_[TETP],\"Not Found\",0)*Modellering!$I67,0)","v":0},{"$f":"IFERROR(_xlfn.XLOOKUP($F67,RWS_[[Environmental Profile]:[Environmental Profile]],RWS_[GWP2],\"Not Found\",0)*Modellering!$I67,0)","v":0},{"$f":"IFERROR(_xlfn.XLOOKUP($F67,RWS_[[Environmental Profile]:[Environmental Profile]],RWS_[GWP-F],\"Not Found\",0)*Modellering!$I67,0)","v":0},{"$f":"IFERROR(_xlfn.XLOOKUP($F67,RWS_[[Environmental Profile]:[Environmental Profile]],RWS_[GWP-B],\"Not Found\",0)*Modellering!$I67,0)","v":0},{"$f":"IFERROR(_xlfn.XLOOKUP($F67,RWS_[[Environmental Profile]:[Environmental Profile]],RWS_[GWP-L],\"Not Found\",0)*Modellering!$I67,0)","v":0},{"$f":"IFERROR(_xlfn.XLOOKUP($F67,RWS_[[Environmental Profile]:[Environmental Profile]],RWS_[ODP2],\"Not Found\",0)*Modellering!$I67,0)","v":0},{"$f":"IFERROR(_xlfn.XLOOKUP($F67,RWS_[[Environmental Profile]:[Environmental Profile]],RWS_[AP2],\"Not Found\",0)*Modellering!$I67,0)","v":0},{"$f":"IFERROR(_xlfn.XLOOKUP($F67,RWS_[[Environmental Profile]:[Environmental Profile]],RWS_[EP-FW],\"Not Found\",0)*Modellering!$I67,0)","v":0},{"$f":"IFERROR(_xlfn.XLOOKUP($F67,RWS_[[Environmental Profile]:[Environmental Profile]],RWS_[EP-M],\"Not Found\",0)*Modellering!$I67,0)","v":0},{"$f":"IFERROR(_xlfn.XLOOKUP($F67,RWS_[[Environmental Profile]:[Environmental Profile]],RWS_[EP-T],\"Not Found\",0)*Modellering!$I67,0)","v":0},{"$f":"IFERROR(_xlfn.XLOOKUP($F67,RWS_[[Environmental Profile]:[Environmental Profile]],RWS_[POCP2],\"Not Found\",0)*Modellering!$I67,0)","v":0},{"$f":"IFERROR(_xlfn.XLOOKUP($F67,RWS_[[Environmental Profile]:[Environmental Profile]],RWS_[ADP-MM],\"Not Found\",0)*Modellering!$I67,0)","v":0},{"$f":"IFERROR(_xlfn.XLOOKUP($F67,RWS_[[Environmental Profile]:[Environmental Profile]],RWS_[ADP-F],\"Not Found\",0)*Modellering!$I67,0)","v":0},{"$f":"IFERROR(_xlfn.XLOOKUP($F67,RWS_[[Environmental Profile]:[Environmental Profile]],RWS_[WDP],\"Not Found\",0)*Modellering!$I67,0)","v":0},{"$f":"IFERROR(_xlfn.XLOOKUP($F67,RWS_[[Environmental Profile]:[Environmental Profile]],RWS_[PM],\"Not Found\",0)*Modellering!$I67,0)","v":0},{"$f":"IFERROR(_xlfn.XLOOKUP($F67,RWS_[[Environmental Profile]:[Environmental Profile]],RWS_[IR],\"Not Found\",0)*Modellering!$I67,0)","v":0},{"$f":"IFERROR(_xlfn.XLOOKUP($F67,RWS_[[Environmental Profile]:[Environmental Profile]],RWS_[ETP-FW],\"Not Found\",0)*Modellering!$I67,0)","v":0},{"$f":"IFERROR(_xlfn.XLOOKUP($F67,RWS_[[Environmental Profile]:[Environmental Profile]],RWS_[HTP-C],\"Not Found\",0)*Modellering!$I67,0)","v":0},{"$f":"IFERROR(_xlfn.XLOOKUP($F67,RWS_[[Environmental Profile]:[Environmental Profile]],RWS_[HTP-NC],\"Not Found\",0)*Modellering!$I67,0)","v":0},{"$f":"IFERROR(_xlfn.XLOOKUP($F67,RWS_[[Environmental Profile]:[Environmental Profile]],RWS_[SQP],\"Not Found\",0)*Modellering!$I67,0)","v":0},{"$f":"IFERROR(_xlfn.XLOOKUP($F67,RWS_[[Environmental Profile]:[Environmental Profile]],RWS_[PERE],\"Not Found\",0)*Modellering!$I67,0)","v":0},{"$f":"IFERROR(_xlfn.XLOOKUP($F67,RWS_[[Environmental Profile]:[Environmental Profile]],RWS_[PERM],\"Not Found\",0)*Modellering!$I67,0)","v":0},{"$f":"IFERROR(_xlfn.XLOOKUP($F67,RWS_[[Environmental Profile]:[Environmental Profile]],RWS_[PERT],\"Not Found\",0)*Modellering!$I67,0)","v":0},{"$f":"IFERROR(_xlfn.XLOOKUP($F67,RWS_[[Environmental Profile]:[Environmental Profile]],RWS_[PENRE],\"Not Found\",0)*Modellering!$I67,0)","v":0},{"$f":"IFERROR(_xlfn.XLOOKUP($F67,RWS_[[Environmental Profile]:[Environmental Profile]],RWS_[PENRM],\"Not Found\",0)*Modellering!$I67,0)","v":0},{"$f":"IFERROR(_xlfn.XLOOKUP($F67,RWS_[[Environmental Profile]:[Environmental Profile]],RWS_[PENRT],\"Not Found\",0)*Modellering!$I67,0)","v":0},{"$f":"IFERROR(_xlfn.XLOOKUP($F67,RWS_[[Environmental Profile]:[Environmental Profile]],RWS_[SM],\"Not Found\",0)*Modellering!$I67,0)","v":0},{"$f":"IFERROR(_xlfn.XLOOKUP($F67,RWS_[[Environmental Profile]:[Environmental Profile]],RWS_[SF-R],\"Not Found\",0)*Modellering!$I67,0)","v":0},{"$f":"IFERROR(_xlfn.XLOOKUP($F67,RWS_[[Environmental Profile]:[Environmental Profile]],RWS_[SF-NR],\"Not Found\",0)*Modellering!$I67,0)","v":0},{"$f":"IFERROR(_xlfn.XLOOKUP($F67,RWS_[[Environmental Profile]:[Environmental Profile]],RWS_[FW],\"Not Found\",0)*Modellering!$I67,0)","v":0},{"$f":"IFERROR(_xlfn.XLOOKUP($F67,RWS_[[Environmental Profile]:[Environmental Profile]],RWS_[HWD],\"Not Found\",0)*Modellering!$I67,0)","v":0},{"$f":"IFERROR(_xlfn.XLOOKUP($F67,RWS_[[Environmental Profile]:[Environmental Profile]],RWS_[NHWD],\"Not Found\",0)*Modellering!$I67,0)","v":0},{"$f":"IFERROR(_xlfn.XLOOKUP($F67,RWS_[[Environmental Profile]:[Environmental Profile]],RWS_[RWD],\"Not Found\",0)*Modellering!$I67,0)","v":0},{"$f":"IFERROR(_xlfn.XLOOKUP($F67,RWS_[[Environmental Profile]:[Environmental Profile]],RWS_[CRU],\"Not Found\",0)*Modellering!$I67,0)","v":0},{"$f":"IFERROR(_xlfn.XLOOKUP($F67,RWS_[[Environmental Profile]:[Environmental Profile]],RWS_[MFR],\"Not Found\",0)*Modellering!$I67,0)","v":0},{"$f":"IFERROR(_xlfn.XLOOKUP($F67,RWS_[[Environmental Profile]:[Environmental Profile]],RWS_[MER],\"Not Found\",0)*Modellering!$I67,0)","v":0},{"$f":"IFERROR(_xlfn.XLOOKUP($F67,RWS_[[Environmental Profile]:[Environmental Profile]],RWS_[EE-E],\"Not Found\",0)*Modellering!$I67,0)","v":0},{"$f":"IFERROR(_xlfn.XLOOKUP($F67,RWS_[[Environmental Profile]:[Environmental Profile]],RWS_[EE-T],\"Not Found\",0)*Modellering!$I67,0)","v":0}]
[null,null,"Gebruiksprofiel","Gebruiksprofiel Basis","B1",{"$f":"_xlfn.XLOOKUP(Invoerblad!$G$44&Invoerblad!$G$46,Emi_Short[Brandstof]&Emi_Short[MotCel2],Emi_Short[Gebruiksprofiel Basis B1],\"Not Found\",0)","v":"Not Found"},"","Not Found",1,null,{"$f":"IFERROR(_xlfn.XLOOKUP($F68,RWS_[[Environmental Profile]:[Environmental Profile]],RWS_[ECI-A1],\"Not Found\",0)*Modellering!$I68,0)","v":0},{"$f":"IFERROR(_xlfn.XLOOKUP($F68,RWS_[[Environmental Profile]:[Environmental Profile]],RWS_[ECI-A2],\"Not Found\",0)*Modellering!$I68,0)","v":0},{"$f":"IFERROR(_xlfn.XLOOKUP($F68,RWS_[[Environmental Profile]:[Environmental Profile]],RWS_[ADPE],\"Not Found\",0)*Modellering!$I68,0)","v":0},{"$f":"IFERROR(_xlfn.XLOOKUP($F68,RWS_[[Environmental Profile]:[Environmental Profile]],RWS_[ADPF],\"Not Found\",0)*Modellering!$I68,0)","v":0},{"$f":"IFERROR(_xlfn.XLOOKUP($F68,RWS_[[Environmental Profile]:[Environmental Profile]],RWS_[GWP1],\"Not Found\",0)*Modellering!$I68,0)","v":0},{"$f":"IFERROR(_xlfn.XLOOKUP($F68,RWS_[[Environmental Profile]:[Environmental Profile]],RWS_[ODP1],\"Not Found\",0)*Modellering!$I68,0)","v":0},{"$f":"IFERROR(_xlfn.XLOOKUP($F68,RWS_[[Environmental Profile]:[Environmental Profile]],RWS_[POCP],\"Not Found\",0)*Modellering!$I68,0)","v":0},{"$f":"IFERROR(_xlfn.XLOOKUP($F68,RWS_[[Environmental Profile]:[Environmental Profile]],RWS_[AP],\"Not Found\",0)*Modellering!$I68,0)","v":0},{"$f":"IFERROR(_xlfn.XLOOKUP($F68,RWS_[[Environmental Profile]:[Environmental Profile]],RWS_[EP],\"Not Found\",0)*Modellering!$I68,0)","v":0},{"$f":"IFERROR(_xlfn.XLOOKUP($F68,RWS_[[Environmental Profile]:[Environmental Profile]],RWS_[HTP],\"Not Found\",0)*Modellering!$I68,0)","v":0},{"$f":"IFERROR(_xlfn.XLOOKUP($F68,RWS_[[Environmental Profile]:[Environmental Profile]],RWS_[FAETP],\"Not Found\",0)*Modellering!$I68,0)","v":0},{"$f":"IFERROR(_xlfn.XLOOKUP($F68,RWS_[[Environmental Profile]:[Environmental Profile]],RWS_[MAETP],\"Not Found\",0)*Modellering!$I68,0)","v":0},{"$f":"IFERROR(_xlfn.XLOOKUP($F68,RWS_[[Environmental Profile]:[Environmental Profile]],RWS_[TETP],\"Not Found\",0)*Modellering!$I68,0)","v":0},{"$f":"IFERROR(_xlfn.XLOOKUP($F68,RWS_[[Environmental Profile]:[Environmental Profile]],RWS_[GWP2],\"Not Found\",0)*Modellering!$I68,0)","v":0},{"$f":"IFERROR(_xlfn.XLOOKUP($F68,RWS_[[Environmental Profile]:[Environmental Profile]],RWS_[GWP-F],\"Not Found\",0)*Modellering!$I68,0)","v":0},{"$f":"IFERROR(_xlfn.XLOOKUP($F68,RWS_[[Environmental Profile]:[Environmental Profile]],RWS_[GWP-B],\"Not Found\",0)*Modellering!$I68,0)","v":0},{"$f":"IFERROR(_xlfn.XLOOKUP($F68,RWS_[[Environmental Profile]:[Environmental Profile]],RWS_[GWP-L],\"Not Found\",0)*Modellering!$I68,0)","v":0},{"$f":"IFERROR(_xlfn.XLOOKUP($F68,RWS_[[Environmental Profile]:[Environmental Profile]],RWS_[ODP2],\"Not Found\",0)*Modellering!$I68,0)","v":0},{"$f":"IFERROR(_xlfn.XLOOKUP($F68,RWS_[[Environmental Profile]:[Environmental Profile]],RWS_[AP2],\"Not Found\",0)*Modellering!$I68,0)","v":0},{"$f":"IFERROR(_xlfn.XLOOKUP($F68,RWS_[[Environmental Profile]:[Environmental Profile]],RWS_[EP-FW],\"Not Found\",0)*Modellering!$I68,0)","v":0},{"$f":"IFERROR(_xlfn.XLOOKUP($F68,RWS_[[Environmental Profile]:[Environmental Profile]],RWS_[EP-M],\"Not Found\",0)*Modellering!$I68,0)","v":0},{"$f":"IFERROR(_xlfn.XLOOKUP($F68,RWS_[[Environmental Profile]:[Environmental Profile]],RWS_[EP-T],\"Not Found\",0)*Modellering!$I68,0)","v":0},{"$f":"IFERROR(_xlfn.XLOOKUP($F68,RWS_[[Environmental Profile]:[Environmental Profile]],RWS_[POCP2],\"Not Found\",0)*Modellering!$I68,0)","v":0},{"$f":"IFERROR(_xlfn.XLOOKUP($F68,RWS_[[Environmental Profile]:[Environmental Profile]],RWS_[ADP-MM],\"Not Found\",0)*Modellering!$I68,0)","v":0},{"$f":"IFERROR(_xlfn.XLOOKUP($F68,RWS_[[Environmental Profile]:[Environmental Profile]],RWS_[ADP-F],\"Not Found\",0)*Modellering!$I68,0)","v":0},{"$f":"IFERROR(_xlfn.XLOOKUP($F68,RWS_[[Environmental Profile]:[Environmental Profile]],RWS_[WDP],\"Not Found\",0)*Modellering!$I68,0)","v":0},{"$f":"IFERROR(_xlfn.XLOOKUP($F68,RWS_[[Environmental Profile]:[Environmental Profile]],RWS_[PM],\"Not Found\",0)*Modellering!$I68,0)","v":0},{"$f":"IFERROR(_xlfn.XLOOKUP($F68,RWS_[[Environmental Profile]:[Environmental Profile]],RWS_[IR],\"Not Found\",0)*Modellering!$I68,0)","v":0},{"$f":"IFERROR(_xlfn.XLOOKUP($F68,RWS_[[Environmental Profile]:[Environmental Profile]],RWS_[ETP-FW],\"Not Found\",0)*Modellering!$I68,0)","v":0},{"$f":"IFERROR(_xlfn.XLOOKUP($F68,RWS_[[Environmental Profile]:[Environmental Profile]],RWS_[HTP-C],\"Not Found\",0)*Modellering!$I68,0)","v":0},{"$f":"IFERROR(_xlfn.XLOOKUP($F68,RWS_[[Environmental Profile]:[Environmental Profile]],RWS_[HTP-NC],\"Not Found\",0)*Modellering!$I68,0)","v":0},{"$f":"IFERROR(_xlfn.XLOOKUP($F68,RWS_[[Environmental Profile]:[Environmental Profile]],RWS_[SQP],\"Not Found\",0)*Modellering!$I68,0)","v":0},{"$f":"IFERROR(_xlfn.XLOOKUP($F68,RWS_[[Environmental Profile]:[Environmental Profile]],RWS_[PERE],\"Not Found\",0)*Modellering!$I68,0)","v":0},{"$f":"IFERROR(_xlfn.XLOOKUP($F68,RWS_[[Environmental Profile]:[Environmental Profile]],RWS_[PERM],\"Not Found\",0)*Modellering!$I68,0)","v":0},{"$f":"IFERROR(_xlfn.XLOOKUP($F68,RWS_[[Environmental Profile]:[Environmental Profile]],RWS_[PERT],\"Not Found\",0)*Modellering!$I68,0)","v":0},{"$f":"IFERROR(_xlfn.XLOOKUP($F68,RWS_[[Environmental Profile]:[Environmental Profile]],RWS_[PENRE],\"Not Found\",0)*Modellering!$I68,0)","v":0},{"$f":"IFERROR(_xlfn.XLOOKUP($F68,RWS_[[Environmental Profile]:[Environmental Profile]],RWS_[PENRM],\"Not Found\",0)*Modellering!$I68,0)","v":0},{"$f":"IFERROR(_xlfn.XLOOKUP($F68,RWS_[[Environmental Profile]:[Environmental Profile]],RWS_[PENRT],\"Not Found\",0)*Modellering!$I68,0)","v":0},{"$f":"IFERROR(_xlfn.XLOOKUP($F68,RWS_[[Environmental Profile]:[Environmental Profile]],RWS_[SM],\"Not Found\",0)*Modellering!$I68,0)","v":0},{"$f":"IFERROR(_xlfn.XLOOKUP($F68,RWS_[[Environmental Profile]:[Environmental Profile]],RWS_[SF-R],\"Not Found\",0)*Modellering!$I68,0)","v":0},{"$f":"IFERROR(_xlfn.XLOOKUP($F68,RWS_[[Environmental Profile]:[Environmental Profile]],RWS_[SF-NR],\"Not Found\",0)*Modellering!$I68,0)","v":0},{"$f":"IFERROR(_xlfn.XLOOKUP($F68,RWS_[[Environmental Profile]:[Environmental Profile]],RWS_[FW],\"Not Found\",0)*Modellering!$I68,0)","v":0},{"$f":"IFERROR(_xlfn.XLOOKUP($F68,RWS_[[Environmental Profile]:[Environmental Profile]],RWS_[HWD],\"Not Found\",0)*Modellering!$I68,0)","v":0},{"$f":"IFERROR(_xlfn.XLOOKUP($F68,RWS_[[Environmental Profile]:[Environmental Profile]],RWS_[NHWD],\"Not Found\",0)*Modellering!$I68,0)","v":0},{"$f":"IFERROR(_xlfn.XLOOKUP($F68,RWS_[[Environmental Profile]:[Environmental Profile]],RWS_[RWD],\"Not Found\",0)*Modellering!$I68,0)","v":0},{"$f":"IFERROR(_xlfn.XLOOKUP($F68,RWS_[[Environmental Profile]:[Environmental Profile]],RWS_[CRU],\"Not Found\",0)*Modellering!$I68,0)","v":0},{"$f":"IFERROR(_xlfn.XLOOKUP($F68,RWS_[[Environmental Profile]:[Environmental Profile]],RWS_[MFR],\"Not Found\",0)*Modellering!$I68,0)","v":0},{"$f":"IFERROR(_xlfn.XLOOKUP($F68,RWS_[[Environmental Profile]:[Environmental Profile]],RWS_[MER],\"Not Found\",0)*Modellering!$I68,0)","v":0},{"$f":"IFERROR(_xlfn.XLOOKUP($F68,RWS_[[Environmental Profile]:[Environmental Profile]],RWS_[EE-E],\"Not Found\",0)*Modellering!$I68,0)","v":0},{"$f":"IFERROR(_xlfn.XLOOKUP($F68,RWS_[[Environmental Profile]:[Environmental Profile]],RWS_[EE-T],\"Not Found\",0)*Modellering!$I68,0)","v":0}]
[null,null,"Gebruiksprofiel","NOx Emissies","B1","*RWS Gebruiksprofiel - NOx emissie naar lucht","NOx Emissies","kg",{"$f":"IF(Invoerblad!$G$67=\"Nee\",PM_NOx!$E$62,IF(Invoerblad!$G$70=\"Nee\",PM_NOx!$E$62,PM_NOx!$E$65))","v":""},null,{"$f":"IFERROR(_xlfn.XLOOKUP($F69,RWS_[[Environmental Profile]:[Environmental Profile]],RWS_[ECI-A1],\"Not Found\",0)*Modellering!$I69,0)","v":0},{"$f":"IFERROR(_xlfn.XLOOKUP($F69,RWS_[[Environmental Profile]:[Environmental Profile]],RWS_[ECI-A2],\"Not Found\",0)*Modellering!$I69,0)","v":0},{"$f":"IFERROR(_xlfn.XLOOKUP($F69,RWS_[[Environmental Profile]:[Environmental Profile]],RWS_[ADPE],\"Not Found\",0)*Modellering!$I69,0)","v":0},{"$f":"IFERROR(_xlfn.XLOOKUP($F69,RWS_[[Environmental Profile]:[Environmental Profile]],RWS_[ADPF],\"Not Found\",0)*Modellering!$I69,0)","v":0},{"$f":"IFERROR(_xlfn.XLOOKUP($F69,RWS_[[Environmental Profile]:[Environmental Profile]],RWS_[GWP1],\"Not Found\",0)*Modellering!$I69,0)","v":0},{"$f":"IFERROR(_xlfn.XLOOKUP($F69,RWS_[[Environmental Profile]:[Environmental Profile]],RWS_[ODP1],\"Not Found\",0)*Modellering!$I69,0)","v":0},{"$f":"IFERROR(_xlfn.XLOOKUP($F69,RWS_[[Environmental Profile]:[Environmental Profile]],RWS_[POCP],\"Not Found\",0)*Modellering!$I69,0)","v":0},{"$f":"IFERROR(_xlfn.XLOOKUP($F69,RWS_[[Environmental Profile]:[Environmental Profile]],RWS_[AP],\"Not Found\",0)*Modellering!$I69,0)","v":0},{"$f":"IFERROR(_xlfn.XLOOKUP($F69,RWS_[[Environmental Profile]:[Environmental Profile]],RWS_[EP],\"Not Found\",0)*Modellering!$I69,0)","v":0},{"$f":"IFERROR(_xlfn.XLOOKUP($F69,RWS_[[Environmental Profile]:[Environmental Profile]],RWS_[HTP],\"Not Found\",0)*Modellering!$I69,0)","v":0},{"$f":"IFERROR(_xlfn.XLOOKUP($F69,RWS_[[Environmental Profile]:[Environmental Profile]],RWS_[FAETP],\"Not Found\",0)*Modellering!$I69,0)","v":0},{"$f":"IFERROR(_xlfn.XLOOKUP($F69,RWS_[[Environmental Profile]:[Environmental Profile]],RWS_[MAETP],\"Not Found\",0)*Modellering!$I69,0)","v":0},{"$f":"IFERROR(_xlfn.XLOOKUP($F69,RWS_[[Environmental Profile]:[Environmental Profile]],RWS_[TETP],\"Not Found\",0)*Modellering!$I69,0)","v":0},{"$f":"IFERROR(_xlfn.XLOOKUP($F69,RWS_[[Environmental Profile]:[Environmental Profile]],RWS_[GWP2],\"Not Found\",0)*Modellering!$I69,0)","v":0},{"$f":"IFERROR(_xlfn.XLOOKUP($F69,RWS_[[Environmental Profile]:[Environmental Profile]],RWS_[GWP-F],\"Not Found\",0)*Modellering!$I69,0)","v":0},{"$f":"IFERROR(_xlfn.XLOOKUP($F69,RWS_[[Environmental Profile]:[Environmental Profile]],RWS_[GWP-B],\"Not Found\",0)*Modellering!$I69,0)","v":0},{"$f":"IFERROR(_xlfn.XLOOKUP($F69,RWS_[[Environmental Profile]:[Environmental Profile]],RWS_[GWP-L],\"Not Found\",0)*Modellering!$I69,0)","v":0},{"$f":"IFERROR(_xlfn.XLOOKUP($F69,RWS_[[Environmental Profile]:[Environmental Profile]],RWS_[ODP2],\"Not Found\",0)*Modellering!$I69,0)","v":0},{"$f":"IFERROR(_xlfn.XLOOKUP($F69,RWS_[[Environmental Profile]:[Environmental Profile]],RWS_[AP2],\"Not Found\",0)*Modellering!$I69,0)","v":0},{"$f":"IFERROR(_xlfn.XLOOKUP($F69,RWS_[[Environmental Profile]:[Environmental Profile]],RWS_[EP-FW],\"Not Found\",0)*Modellering!$I69,0)","v":0},{"$f":"IFERROR(_xlfn.XLOOKUP($F69,RWS_[[Environmental Profile]:[Environmental Profile]],RWS_[EP-M],\"Not Found\",0)*Modellering!$I69,0)","v":0},{"$f":"IFERROR(_xlfn.XLOOKUP($F69,RWS_[[Environmental Profile]:[Environmental Profile]],RWS_[EP-T],\"Not Found\",0)*Modellering!$I69,0)","v":0},{"$f":"IFERROR(_xlfn.XLOOKUP($F69,RWS_[[Environmental Profile]:[Environmental Profile]],RWS_[POCP2],\"Not Found\",0)*Modellering!$I69,0)","v":0},{"$f":"IFERROR(_xlfn.XLOOKUP($F69,RWS_[[Environmental Profile]:[Environmental Profile]],RWS_[ADP-MM],\"Not Found\",0)*Modellering!$I69,0)","v":0},{"$f":"IFERROR(_xlfn.XLOOKUP($F69,RWS_[[Environmental Profile]:[Environmental Profile]],RWS_[ADP-F],\"Not Found\",0)*Modellering!$I69,0)","v":0},{"$f":"IFERROR(_xlfn.XLOOKUP($F69,RWS_[[Environmental Profile]:[Environmental Profile]],RWS_[WDP],\"Not Found\",0)*Modellering!$I69,0)","v":0},{"$f":"IFERROR(_xlfn.XLOOKUP($F69,RWS_[[Environmental Profile]:[Environmental Profile]],RWS_[PM],\"Not Found\",0)*Modellering!$I69,0)","v":0},{"$f":"IFERROR(_xlfn.XLOOKUP($F69,RWS_[[Environmental Profile]:[Environmental Profile]],RWS_[IR],\"Not Found\",0)*Modellering!$I69,0)","v":0},{"$f":"IFERROR(_xlfn.XLOOKUP($F69,RWS_[[Environmental Profile]:[Environmental Profile]],RWS_[ETP-FW],\"Not Found\",0)*Modellering!$I69,0)","v":0},{"$f":"IFERROR(_xlfn.XLOOKUP($F69,RWS_[[Environmental Profile]:[Environmental Profile]],RWS_[HTP-C],\"Not Found\",0)*Modellering!$I69,0)","v":0},{"$f":"IFERROR(_xlfn.XLOOKUP($F69,RWS_[[Environmental Profile]:[Environmental Profile]],RWS_[HTP-NC],\"Not Found\",0)*Modellering!$I69,0)","v":0},{"$f":"IFERROR(_xlfn.XLOOKUP($F69,RWS_[[Environmental Profile]:[Environmental Profile]],RWS_[SQP],\"Not Found\",0)*Modellering!$I69,0)","v":0},{"$f":"IFERROR(_xlfn.XLOOKUP($F69,RWS_[[Environmental Profile]:[Environmental Profile]],RWS_[PERE],\"Not Found\",0)*Modellering!$I69,0)","v":0},{"$f":"IFERROR(_xlfn.XLOOKUP($F69,RWS_[[Environmental Profile]:[Environmental Profile]],RWS_[PERM],\"Not Found\",0)*Modellering!$I69,0)","v":0},{"$f":"IFERROR(_xlfn.XLOOKUP($F69,RWS_[[Environmental Profile]:[Environmental Profile]],RWS_[PERT],\"Not Found\",0)*Modellering!$I69,0)","v":0},{"$f":"IFERROR(_xlfn.XLOOKUP($F69,RWS_[[Environmental Profile]:[Environmental Profile]],RWS_[PENRE],\"Not Found\",0)*Modellering!$I69,0)","v":0},{"$f":"IFERROR(_xlfn.XLOOKUP($F69,RWS_[[Environmental Profile]:[Environmental Profile]],RWS_[PENRM],\"Not Found\",0)*Modellering!$I69,0)","v":0},{"$f":"IFERROR(_xlfn.XLOOKUP($F69,RWS_[[Environmental Profile]:[Environmental Profile]],RWS_[PENRT],\"Not Found\",0)*Modellering!$I69,0)","v":0},{"$f":"IFERROR(_xlfn.XLOOKUP($F69,RWS_[[Environmental Profile]:[Environmental Profile]],RWS_[SM],\"Not Found\",0)*Modellering!$I69,0)","v":0},{"$f":"IFERROR(_xlfn.XLOOKUP($F69,RWS_[[Environmental Profile]:[Environmental Profile]],RWS_[SF-R],\"Not Found\",0)*Modellering!$I69,0)","v":0},{"$f":"IFERROR(_xlfn.XLOOKUP($F69,RWS_[[Environmental Profile]:[Environmental Profile]],RWS_[SF-NR],\"Not Found\",0)*Modellering!$I69,0)","v":0},{"$f":"IFERROR(_xlfn.XLOOKUP($F69,RWS_[[Environmental Profile]:[Environmental Profile]],RWS_[FW],\"Not Found\",0)*Modellering!$I69,0)","v":0},{"$f":"IFERROR(_xlfn.XLOOKUP($F69,RWS_[[Environmental Profile]:[Environmental Profile]],RWS_[HWD],\"Not Found\",0)*Modellering!$I69,0)","v":0},{"$f":"IFERROR(_xlfn.XLOOKUP($F69,RWS_[[Environmental Profile]:[Environmental Profile]],RWS_[NHWD],\"Not Found\",0)*Modellering!$I69,0)","v":0},{"$f":"IFERROR(_xlfn.XLOOKUP($F69,RWS_[[Environmental Profile]:[Environmental Profile]],RWS_[RWD],\"Not Found\",0)*Modellering!$I69,0)","v":0},{"$f":"IFERROR(_xlfn.XLOOKUP($F69,RWS_[[Environmental Profile]:[Environmental Profile]],RWS_[CRU],\"Not Found\",0)*Modellering!$I69,0)","v":0},{"$f":"IFERROR(_xlfn.XLOOKUP($F69,RWS_[[Environmental Profile]:[Environmental Profile]],RWS_[MFR],\"Not Found\",0)*Modellering!$I69,0)","v":0},{"$f":"IFERROR(_xlfn.XLOOKUP($F69,RWS_[[Environmental Profile]:[Environmental Profile]],RWS_[MER],\"Not Found\",0)*Modellering!$I69,0)","v":0},{"$f":"IFERROR(_xlfn.XLOOKUP($F69,RWS_[[Environmental Profile]:[Environmental Profile]],RWS_[EE-E],\"Not Found\",0)*Modellering!$I69,0)","v":0},{"$f":"IFERROR(_xlfn.XLOOKUP($F69,RWS_[[Environmental Profile]:[Environmental Profile]],RWS_[EE-T],\"Not Found\",0)*Modellering!$I69,0)","v":0}]
[null,null,"Gebruiksprofiel","PM Emissies","B1","*RWS Gebruiksprofiel - PM emissie naar lucht","PM Emissies","kg",{"$f":"IF(Invoerblad!$G$67=\"Nee\",PM_NOx!$E$63,IF(Invoerblad!$G$70=\"Nee\",PM_NOx!$E$63,PM_NOx!$E$66))","v":""},null,{"$f":"IFERROR(_xlfn.XLOOKUP($F70,RWS_[[Environmental Profile]:[Environmental Profile]],RWS_[ECI-A1],\"Not Found\",0)*Modellering!$I70,0)","v":0},{"$f":"IFERROR(_xlfn.XLOOKUP($F70,RWS_[[Environmental Profile]:[Environmental Profile]],RWS_[ECI-A2],\"Not Found\",0)*Modellering!$I70,0)","v":0},{"$f":"IFERROR(_xlfn.XLOOKUP($F70,RWS_[[Environmental Profile]:[Environmental Profile]],RWS_[ADPE],\"Not Found\",0)*Modellering!$I70,0)","v":0},{"$f":"IFERROR(_xlfn.XLOOKUP($F70,RWS_[[Environmental Profile]:[Environmental Profile]],RWS_[ADPF],\"Not Found\",0)*Modellering!$I70,0)","v":0},{"$f":"IFERROR(_xlfn.XLOOKUP($F70,RWS_[[Environmental Profile]:[Environmental Profile]],RWS_[GWP1],\"Not Found\",0)*Modellering!$I70,0)","v":0},{"$f":"IFERROR(_xlfn.XLOOKUP($F70,RWS_[[Environmental Profile]:[Environmental Profile]],RWS_[ODP1],\"Not Found\",0)*Modellering!$I70,0)","v":0},{"$f":"IFERROR(_xlfn.XLOOKUP($F70,RWS_[[Environmental Profile]:[Environmental Profile]],RWS_[POCP],\"Not Found\",0)*Modellering!$I70,0)","v":0},{"$f":"IFERROR(_xlfn.XLOOKUP($F70,RWS_[[Environmental Profile]:[Environmental Profile]],RWS_[AP],\"Not Found\",0)*Modellering!$I70,0)","v":0},{"$f":"IFERROR(_xlfn.XLOOKUP($F70,RWS_[[Environmental Profile]:[Environmental Profile]],RWS_[EP],\"Not Found\",0)*Modellering!$I70,0)","v":0},{"$f":"IFERROR(_xlfn.XLOOKUP($F70,RWS_[[Environmental Profile]:[Environmental Profile]],RWS_[HTP],\"Not Found\",0)*Modellering!$I70,0)","v":0},{"$f":"IFERROR(_xlfn.XLOOKUP($F70,RWS_[[Environmental Profile]:[Environmental Profile]],RWS_[FAETP],\"Not Found\",0)*Modellering!$I70,0)","v":0},{"$f":"IFERROR(_xlfn.XLOOKUP($F70,RWS_[[Environmental Profile]:[Environmental Profile]],RWS_[MAETP],\"Not Found\",0)*Modellering!$I70,0)","v":0},{"$f":"IFERROR(_xlfn.XLOOKUP($F70,RWS_[[Environmental Profile]:[Environmental Profile]],RWS_[TETP],\"Not Found\",0)*Modellering!$I70,0)","v":0},{"$f":"IFERROR(_xlfn.XLOOKUP($F70,RWS_[[Environmental Profile]:[Environmental Profile]],RWS_[GWP2],\"Not Found\",0)*Modellering!$I70,0)","v":0},{"$f":"IFERROR(_xlfn.XLOOKUP($F70,RWS_[[Environmental Profile]:[Environmental Profile]],RWS_[GWP-F],\"Not Found\",0)*Modellering!$I70,0)","v":0},{"$f":"IFERROR(_xlfn.XLOOKUP($F70,RWS_[[Environmental Profile]:[Environmental Profile]],RWS_[GWP-B],\"Not Found\",0)*Modellering!$I70,0)","v":0},{"$f":"IFERROR(_xlfn.XLOOKUP($F70,RWS_[[Environmental Profile]:[Environmental Profile]],RWS_[GWP-L],\"Not Found\",0)*Modellering!$I70,0)","v":0},{"$f":"IFERROR(_xlfn.XLOOKUP($F70,RWS_[[Environmental Profile]:[Environmental Profile]],RWS_[ODP2],\"Not Found\",0)*Modellering!$I70,0)","v":0},{"$f":"IFERROR(_xlfn.XLOOKUP($F70,RWS_[[Environmental Profile]:[Environmental Profile]],RWS_[AP2],\"Not Found\",0)*Modellering!$I70,0)","v":0},{"$f":"IFERROR(_xlfn.XLOOKUP($F70,RWS_[[Environmental Profile]:[Environmental Profile]],RWS_[EP-FW],\"Not Found\",0)*Modellering!$I70,0)","v":0},{"$f":"IFERROR(_xlfn.XLOOKUP($F70,RWS_[[Environmental Profile]:[Environmental Profile]],RWS_[EP-M],\"Not Found\",0)*Modellering!$I70,0)","v":0},{"$f":"IFERROR(_xlfn.XLOOKUP($F70,RWS_[[Environmental Profile]:[Environmental Profile]],RWS_[EP-T],\"Not Found\",0)*Modellering!$I70,0)","v":0},{"$f":"IFERROR(_xlfn.XLOOKUP($F70,RWS_[[Environmental Profile]:[Environmental Profile]],RWS_[POCP2],\"Not Found\",0)*Modellering!$I70,0)","v":0},{"$f":"IFERROR(_xlfn.XLOOKUP($F70,RWS_[[Environmental Profile]:[Environmental Profile]],RWS_[ADP-MM],\"Not Found\",0)*Modellering!$I70,0)","v":0},{"$f":"IFERROR(_xlfn.XLOOKUP($F70,RWS_[[Environmental Profile]:[Environmental Profile]],RWS_[ADP-F],\"Not Found\",0)*Modellering!$I70,0)","v":0},{"$f":"IFERROR(_xlfn.XLOOKUP($F70,RWS_[[Environmental Profile]:[Environmental Profile]],RWS_[WDP],\"Not Found\",0)*Modellering!$I70,0)","v":0},{"$f":"IFERROR(_xlfn.XLOOKUP($F70,RWS_[[Environmental Profile]:[Environmental Profile]],RWS_[PM],\"Not Found\",0)*Modellering!$I70,0)","v":0},{"$f":"IFERROR(_xlfn.XLOOKUP($F70,RWS_[[Environmental Profile]:[Environmental Profile]],RWS_[IR],\"Not Found\",0)*Modellering!$I70,0)","v":0},{"$f":"IFERROR(_xlfn.XLOOKUP($F70,RWS_[[Environmental Profile]:[Environmental Profile]],RWS_[ETP-FW],\"Not Found\",0)*Modellering!$I70,0)","v":0},{"$f":"IFERROR(_xlfn.XLOOKUP($F70,RWS_[[Environmental Profile]:[Environmental Profile]],RWS_[HTP-C],\"Not Found\",0)*Modellering!$I70,0)","v":0},{"$f":"IFERROR(_xlfn.XLOOKUP($F70,RWS_[[Environmental Profile]:[Environmental Profile]],RWS_[HTP-NC],\"Not Found\",0)*Modellering!$I70,0)","v":0},{"$f":"IFERROR(_xlfn.XLOOKUP($F70,RWS_[[Environmental Profile]:[Environmental Profile]],RWS_[SQP],\"Not Found\",0)*Modellering!$I70,0)","v":0},{"$f":"IFERROR(_xlfn.XLOOKUP($F70,RWS_[[Environmental Profile]:[Environmental Profile]],RWS_[PERE],\"Not Found\",0)*Modellering!$I70,0)","v":0},{"$f":"IFERROR(_xlfn.XLOOKUP($F70,RWS_[[Environmental Profile]:[Environmental Profile]],RWS_[PERM],\"Not Found\",0)*Modellering!$I70,0)","v":0},{"$f":"IFERROR(_xlfn.XLOOKUP($F70,RWS_[[Environmental Profile]:[Environmental Profile]],RWS_[PERT],\"Not Found\",0)*Modellering!$I70,0)","v":0},{"$f":"IFERROR(_xlfn.XLOOKUP($F70,RWS_[[Environmental Profile]:[Environmental Profile]],RWS_[PENRE],\"Not Found\",0)*Modellering!$I70,0)","v":0},{"$f":"IFERROR(_xlfn.XLOOKUP($F70,RWS_[[Environmental Profile]:[Environmental Profile]],RWS_[PENRM],\"Not Found\",0)*Modellering!$I70,0)","v":0},{"$f":"IFERROR(_xlfn.XLOOKUP($F70,RWS_[[Environmental Profile]:[Environmental Profile]],RWS_[PENRT],\"Not Found\",0)*Modellering!$I70,0)","v":0},{"$f":"IFERROR(_xlfn.XLOOKUP($F70,RWS_[[Environmental Profile]:[Environmental Profile]],RWS_[SM],\"Not Found\",0)*Modellering!$I70,0)","v":0},{"$f":"IFERROR(_xlfn.XLOOKUP($F70,RWS_[[Environmental Profile]:[Environmental Profile]],RWS_[SF-R],\"Not Found\",0)*Modellering!$I70,0)","v":0},{"$f":"IFERROR(_xlfn.XLOOKUP($F70,RWS_[[Environmental Profile]:[Environmental Profile]],RWS_[SF-NR],\"Not Found\",0)*Modellering!$I70,0)","v":0},{"$f":"IFERROR(_xlfn.XLOOKUP($F70,RWS_[[Environmental Profile]:[Environmental Profile]],RWS_[FW],\"Not Found\",0)*Modellering!$I70,0)","v":0},{"$f":"IFERROR(_xlfn.XLOOKUP($F70,RWS_[[Environmental Profile]:[Environmental Profile]],RWS_[HWD],\"Not Found\",0)*Modellering!$I70,0)","v":0},{"$f":"IFERROR(_xlfn.XLOOKUP($F70,RWS_[[Environmental Profile]:[Environmental Profile]],RWS_[NHWD],\"Not Found\",0)*Modellering!$I70,0)","v":0},{"$f":"IFERROR(_xlfn.XLOOKUP($F70,RWS_[[Environmental Profile]:[Environmental Profile]],RWS_[RWD],\"Not Found\",0)*Modellering!$I70,0)","v":0},{"$f":"IFERROR(_xlfn.XLOOKUP($F70,RWS_[[Environmental Profile]:[Environmental Profile]],RWS_[CRU],\"Not Found\",0)*Modellering!$I70,0)","v":0},{"$f":"IFERROR(_xlfn.XLOOKUP($F70,RWS_[[Environmental Profile]:[Environmental Profile]],RWS_[MFR],\"Not Found\",0)*Modellering!$I70,0)","v":0},{"$f":"IFERROR(_xlfn.XLOOKUP($F70,RWS_[[Environmental Profile]:[Environmental Profile]],RWS_[MER],\"Not Found\",0)*Modellering!$I70,0)","v":0},{"$f":"IFERROR(_xlfn.XLOOKUP($F70,RWS_[[Environmental Profile]:[Environmental Profile]],RWS_[EE-E],\"Not Found\",0)*Modellering!$I70,0)","v":0},{"$f":"IFERROR(_xlfn.XLOOKUP($F70,RWS_[[Environmental Profile]:[Environmental Profile]],RWS_[EE-T],\"Not Found\",0)*Modellering!$I70,0)","v":0}]
[null,null,"Kapitaalgoederen","Casco Schip","B1",{"$f":"_xlfn.XLOOKUP(Invoerblad!$D$32,Capital_Short[Lookup Help],Capital_Short[Kapitaalgoederen B1],\"Not Found\",0)","v":"*RWS Kapitaalgoederen - Baggeren Zout (MGO)"},"Kapitaalgoederen - Schip (Zout)","ton",{"$f":"IF(Invoerblad!$D$32=\"Binnenvaart\",(_xlfn.XLOOKUP(Invoerblad!$G$44&Invoerblad!$G$46,Emi_Short[Brandstof]&Emi_Short[MotCel2],Emi_Short[Afkap_Zoet],\"Not Found\",0)),(_xlfn.XLOOKUP(Invoerblad!$G$44&Invoerblad!$G$46,Emi_Short[Brandstof]&Emi_Short[MotCel2],Emi_Short[Afkap_Zout],\"Not Found\",0)))","v":"Not Found"},null,{"$f":"IFERROR(_xlfn.XLOOKUP($F71,RWS_[[Environmental Profile]:[Environmental Profile]],RWS_[ECI-A1],\"Not Found\",0)*Modellering!$I71,0)","v":0},{"$f":"IFERROR(_xlfn.XLOOKUP($F71,RWS_[[Environmental Profile]:[Environmental Profile]],RWS_[ECI-A2],\"Not Found\",0)*Modellering!$I71,0)","v":0},{"$f":"IFERROR(_xlfn.XLOOKUP($F71,RWS_[[Environmental Profile]:[Environmental Profile]],RWS_[ADPE],\"Not Found\",0)*Modellering!$I71,0)","v":0},{"$f":"IFERROR(_xlfn.XLOOKUP($F71,RWS_[[Environmental Profile]:[Environmental Profile]],RWS_[ADPF],\"Not Found\",0)*Modellering!$I71,0)","v":0},{"$f":"IFERROR(_xlfn.XLOOKUP($F71,RWS_[[Environmental Profile]:[Environmental Profile]],RWS_[GWP1],\"Not Found\",0)*Modellering!$I71,0)","v":0},{"$f":"IFERROR(_xlfn.XLOOKUP($F71,RWS_[[Environmental Profile]:[Environmental Profile]],RWS_[ODP1],\"Not Found\",0)*Modellering!$I71,0)","v":0},{"$f":"IFERROR(_xlfn.XLOOKUP($F71,RWS_[[Environmental Profile]:[Environmental Profile]],RWS_[POCP],\"Not Found\",0)*Modellering!$I71,0)","v":0},{"$f":"IFERROR(_xlfn.XLOOKUP($F71,RWS_[[Environmental Profile]:[Environmental Profile]],RWS_[AP],\"Not Found\",0)*Modellering!$I71,0)","v":0},{"$f":"IFERROR(_xlfn.XLOOKUP($F71,RWS_[[Environmental Profile]:[Environmental Profile]],RWS_[EP],\"Not Found\",0)*Modellering!$I71,0)","v":0},{"$f":"IFERROR(_xlfn.XLOOKUP($F71,RWS_[[Environmental Profile]:[Environmental Profile]],RWS_[HTP],\"Not Found\",0)*Modellering!$I71,0)","v":0},{"$f":"IFERROR(_xlfn.XLOOKUP($F71,RWS_[[Environmental Profile]:[Environmental Profile]],RWS_[FAETP],\"Not Found\",0)*Modellering!$I71,0)","v":0},{"$f":"IFERROR(_xlfn.XLOOKUP($F71,RWS_[[Environmental Profile]:[Environmental Profile]],RWS_[MAETP],\"Not Found\",0)*Modellering!$I71,0)","v":0},{"$f":"IFERROR(_xlfn.XLOOKUP($F71,RWS_[[Environmental Profile]:[Environmental Profile]],RWS_[TETP],\"Not Found\",0)*Modellering!$I71,0)","v":0},{"$f":"IFERROR(_xlfn.XLOOKUP($F71,RWS_[[Environmental Profile]:[Environmental Profile]],RWS_[GWP2],\"Not Found\",0)*Modellering!$I71,0)","v":0},{"$f":"IFERROR(_xlfn.XLOOKUP($F71,RWS_[[Environmental Profile]:[Environmental Profile]],RWS_[GWP-F],\"Not Found\",0)*Modellering!$I71,0)","v":0},{"$f":"IFERROR(_xlfn.XLOOKUP($F71,RWS_[[Environmental Profile]:[Environmental Profile]],RWS_[GWP-B],\"Not Found\",0)*Modellering!$I71,0)","v":0},{"$f":"IFERROR(_xlfn.XLOOKUP($F71,RWS_[[Environmental Profile]:[Environmental Profile]],RWS_[GWP-L],\"Not Found\",0)*Modellering!$I71,0)","v":0},{"$f":"IFERROR(_xlfn.XLOOKUP($F71,RWS_[[Environmental Profile]:[Environmental Profile]],RWS_[ODP2],\"Not Found\",0)*Modellering!$I71,0)","v":0},{"$f":"IFERROR(_xlfn.XLOOKUP($F71,RWS_[[Environmental Profile]:[Environmental Profile]],RWS_[AP2],\"Not Found\",0)*Modellering!$I71,0)","v":0},{"$f":"IFERROR(_xlfn.XLOOKUP($F71,RWS_[[Environmental Profile]:[Environmental Profile]],RWS_[EP-FW],\"Not Found\",0)*Modellering!$I71,0)","v":0},{"$f":"IFERROR(_xlfn.XLOOKUP($F71,RWS_[[Environmental Profile]:[Environmental Profile]],RWS_[EP-M],\"Not Found\",0)*Modellering!$I71,0)","v":0},{"$f":"IFERROR(_xlfn.XLOOKUP($F71,RWS_[[Environmental Profile]:[Environmental Profile]],RWS_[EP-T],\"Not Found\",0)*Modellering!$I71,0)","v":0},{"$f":"IFERROR(_xlfn.XLOOKUP($F71,RWS_[[Environmental Profile]:[Environmental Profile]],RWS_[POCP2],\"Not Found\",0)*Modellering!$I71,0)","v":0},{"$f":"IFERROR(_xlfn.XLOOKUP($F71,RWS_[[Environmental Profile]:[Environmental Profile]],RWS_[ADP-MM],\"Not Found\",0)*Modellering!$I71,0)","v":0},{"$f":"IFERROR(_xlfn.XLOOKUP($F71,RWS_[[Environmental Profile]:[Environmental Profile]],RWS_[ADP-F],\"Not Found\",0)*Modellering!$I71,0)","v":0},{"$f":"IFERROR(_xlfn.XLOOKUP($F71,RWS_[[Environmental Profile]:[Environmental Profile]],RWS_[WDP],\"Not Found\",0)*Modellering!$I71,0)","v":0},{"$f":"IFERROR(_xlfn.XLOOKUP($F71,RWS_[[Environmental Profile]:[Environmental Profile]],RWS_[PM],\"Not Found\",0)*Modellering!$I71,0)","v":0},{"$f":"IFERROR(_xlfn.XLOOKUP($F71,RWS_[[Environmental Profile]:[Environmental Profile]],RWS_[IR],\"Not Found\",0)*Modellering!$I71,0)","v":0},{"$f":"IFERROR(_xlfn.XLOOKUP($F71,RWS_[[Environmental Profile]:[Environmental Profile]],RWS_[ETP-FW],\"Not Found\",0)*Modellering!$I71,0)","v":0},{"$f":"IFERROR(_xlfn.XLOOKUP($F71,RWS_[[Environmental Profile]:[Environmental Profile]],RWS_[HTP-C],\"Not Found\",0)*Modellering!$I71,0)","v":0},{"$f":"IFERROR(_xlfn.XLOOKUP($F71,RWS_[[Environmental Profile]:[Environmental Profile]],RWS_[HTP-NC],\"Not Found\",0)*Modellering!$I71,0)","v":0},{"$f":"IFERROR(_xlfn.XLOOKUP($F71,RWS_[[Environmental Profile]:[Environmental Profile]],RWS_[SQP],\"Not Found\",0)*Modellering!$I71,0)","v":0},{"$f":"IFERROR(_xlfn.XLOOKUP($F71,RWS_[[Environmental Profile]:[Environmental Profile]],RWS_[PERE],\"Not Found\",0)*Modellering!$I71,0)","v":0},{"$f":"IFERROR(_xlfn.XLOOKUP($F71,RWS_[[Environmental Profile]:[Environmental Profile]],RWS_[PERM],\"Not Found\",0)*Modellering!$I71,0)","v":0},{"$f":"IFERROR(_xlfn.XLOOKUP($F71,RWS_[[Environmental Profile]:[Environmental Profile]],RWS_[PERT],\"Not Found\",0)*Modellering!$I71,0)","v":0},{"$f":"IFERROR(_xlfn.XLOOKUP($F71,RWS_[[Environmental Profile]:[Environmental Profile]],RWS_[PENRE],\"Not Found\",0)*Modellering!$I71,0)","v":0},{"$f":"IFERROR(_xlfn.XLOOKUP($F71,RWS_[[Environmental Profile]:[Environmental Profile]],RWS_[PENRM],\"Not Found\",0)*Modellering!$I71,0)","v":0},{"$f":"IFERROR(_xlfn.XLOOKUP($F71,RWS_[[Environmental Profile]:[Environmental Profile]],RWS_[PENRT],\"Not Found\",0)*Modellering!$I71,0)","v":0},{"$f":"IFERROR(_xlfn.XLOOKUP($F71,RWS_[[Environmental Profile]:[Environmental Profile]],RWS_[SM],\"Not Found\",0)*Modellering!$I71,0)","v":0},{"$f":"IFERROR(_xlfn.XLOOKUP($F71,RWS_[[Environmental Profile]:[Environmental Profile]],RWS_[SF-R],\"Not Found\",0)*Modellering!$I71,0)","v":0},{"$f":"IFERROR(_xlfn.XLOOKUP($F71,RWS_[[Environmental Profile]:[Environmental Profile]],RWS_[SF-NR],\"Not Found\",0)*Modellering!$I71,0)","v":0},{"$f":"IFERROR(_xlfn.XLOOKUP($F71,RWS_[[Environmental Profile]:[Environmental Profile]],RWS_[FW],\"Not Found\",0)*Modellering!$I71,0)","v":0},{"$f":"IFERROR(_xlfn.XLOOKUP($F71,RWS_[[Environmental Profile]:[Environmental Profile]],RWS_[HWD],\"Not Found\",0)*Modellering!$I71,0)","v":0},{"$f":"IFERROR(_xlfn.XLOOKUP($F71,RWS_[[Environmental Profile]:[Environmental Profile]],RWS_[NHWD],\"Not Found\",0)*Modellering!$I71,0)","v":0},{"$f":"IFERROR(_xlfn.XLOOKUP($F71,RWS_[[Environmental Profile]:[Environmental Profile]],RWS_[RWD],\"Not Found\",0)*Modellering!$I71,0)","v":0},{"$f":"IFERROR(_xlfn.XLOOKUP($F71,RWS_[[Environmental Profile]:[Environmental Profile]],RWS_[CRU],\"Not Found\",0)*Modellering!$I71,0)","v":0},{"$f":"IFERROR(_xlfn.XLOOKUP($F71,RWS_[[Environmental Profile]:[Environmental Profile]],RWS_[MFR],\"Not Found\",0)*Modellering!$I71,0)","v":0},{"$f":"IFERROR(_xlfn.XLOOKUP($F71,RWS_[[Environmental Profile]:[Environmental Profile]],RWS_[MER],\"Not Found\",0)*Modellering!$I71,0)","v":0},{"$f":"IFERROR(_xlfn.XLOOKUP($F71,RWS_[[Environmental Profile]:[Environmental Profile]],RWS_[EE-E],\"Not Found\",0)*Modellering!$I71,0)","v":0},{"$f":"IFERROR(_xlfn.XLOOKUP($F71,RWS_[[Environmental Profile]:[Environmental Profile]],RWS_[EE-T],\"Not Found\",0)*Modellering!$I71,0)","v":0}]
[null,null,"Kapitaalgoederen","Aandrijving (Type Motor)","B1",{"$f":"_xlfn.XLOOKUP(Invoerblad!$G$44&Invoerblad!$G$46,Emi_Short[Brandstof]&Emi_Short[MotCel2],Emi_Short[Kapitaalgoed Motor (B1)],\"Not Found\",0)","v":"Not Found"},"","Not Found",{"$f":"IF(Invoerblad!$D$32=\"Binnenvaart\",(_xlfn.XLOOKUP(Invoerblad!G$44&Invoerblad!G$46,Emi_Short[Brandstof]&Emi_Short[MotCel2],Emi_Short[VM / EA Zoet],\"Not Found\",0)),(_xlfn.XLOOKUP(Invoerblad!G$44&Invoerblad!G$46,Emi_Short[Brandstof]&Emi_Short[MotCel2],Emi_Short[VM / EA Zout],\"\",0)))","v":""},null,{"$f":"IFERROR(_xlfn.XLOOKUP($F72,RWS_[[Environmental Profile]:[Environmental Profile]],RWS_[ECI-A1],\"Not Found\",0)*Modellering!$I72,0)","v":0},{"$f":"IFERROR(_xlfn.XLOOKUP($F72,RWS_[[Environmental Profile]:[Environmental Profile]],RWS_[ECI-A2],\"Not Found\",0)*Modellering!$I72,0)","v":0},{"$f":"IFERROR(_xlfn.XLOOKUP($F72,RWS_[[Environmental Profile]:[Environmental Profile]],RWS_[ADPE],\"Not Found\",0)*Modellering!$I72,0)","v":0},{"$f":"IFERROR(_xlfn.XLOOKUP($F72,RWS_[[Environmental Profile]:[Environmental Profile]],RWS_[ADPF],\"Not Found\",0)*Modellering!$I72,0)","v":0},{"$f":"IFERROR(_xlfn.XLOOKUP($F72,RWS_[[Environmental Profile]:[Environmental Profile]],RWS_[GWP1],\"Not Found\",0)*Modellering!$I72,0)","v":0},{"$f":"IFERROR(_xlfn.XLOOKUP($F72,RWS_[[Environmental Profile]:[Environmental Profile]],RWS_[ODP1],\"Not Found\",0)*Modellering!$I72,0)","v":0},{"$f":"IFERROR(_xlfn.XLOOKUP($F72,RWS_[[Environmental Profile]:[Environmental Profile]],RWS_[POCP],\"Not Found\",0)*Modellering!$I72,0)","v":0},{"$f":"IFERROR(_xlfn.XLOOKUP($F72,RWS_[[Environmental Profile]:[Environmental Profile]],RWS_[AP],\"Not Found\",0)*Modellering!$I72,0)","v":0},{"$f":"IFERROR(_xlfn.XLOOKUP($F72,RWS_[[Environmental Profile]:[Environmental Profile]],RWS_[EP],\"Not Found\",0)*Modellering!$I72,0)","v":0},{"$f":"IFERROR(_xlfn.XLOOKUP($F72,RWS_[[Environmental Profile]:[Environmental Profile]],RWS_[HTP],\"Not Found\",0)*Modellering!$I72,0)","v":0},{"$f":"IFERROR(_xlfn.XLOOKUP($F72,RWS_[[Environmental Profile]:[Environmental Profile]],RWS_[FAETP],\"Not Found\",0)*Modellering!$I72,0)","v":0},{"$f":"IFERROR(_xlfn.XLOOKUP($F72,RWS_[[Environmental Profile]:[Environmental Profile]],RWS_[MAETP],\"Not Found\",0)*Modellering!$I72,0)","v":0},{"$f":"IFERROR(_xlfn.XLOOKUP($F72,RWS_[[Environmental Profile]:[Environmental Profile]],RWS_[TETP],\"Not Found\",0)*Modellering!$I72,0)","v":0},{"$f":"IFERROR(_xlfn.XLOOKUP($F72,RWS_[[Environmental Profile]:[Environmental Profile]],RWS_[GWP2],\"Not Found\",0)*Modellering!$I72,0)","v":0},{"$f":"IFERROR(_xlfn.XLOOKUP($F72,RWS_[[Environmental Profile]:[Environmental Profile]],RWS_[GWP-F],\"Not Found\",0)*Modellering!$I72,0)","v":0},{"$f":"IFERROR(_xlfn.XLOOKUP($F72,RWS_[[Environmental Profile]:[Environmental Profile]],RWS_[GWP-B],\"Not Found\",0)*Modellering!$I72,0)","v":0},{"$f":"IFERROR(_xlfn.XLOOKUP($F72,RWS_[[Environmental Profile]:[Environmental Profile]],RWS_[GWP-L],\"Not Found\",0)*Modellering!$I72,0)","v":0},{"$f":"IFERROR(_xlfn.XLOOKUP($F72,RWS_[[Environmental Profile]:[Environmental Profile]],RWS_[ODP2],\"Not Found\",0)*Modellering!$I72,0)","v":0},{"$f":"IFERROR(_xlfn.XLOOKUP($F72,RWS_[[Environmental Profile]:[Environmental Profile]],RWS_[AP2],\"Not Found\",0)*Modellering!$I72,0)","v":0},{"$f":"IFERROR(_xlfn.XLOOKUP($F72,RWS_[[Environmental Profile]:[Environmental Profile]],RWS_[EP-FW],\"Not Found\",0)*Modellering!$I72,0)","v":0},{"$f":"IFERROR(_xlfn.XLOOKUP($F72,RWS_[[Environmental Profile]:[Environmental Profile]],RWS_[EP-M],\"Not Found\",0)*Modellering!$I72,0)","v":0},{"$f":"IFERROR(_xlfn.XLOOKUP($F72,RWS_[[Environmental Profile]:[Environmental Profile]],RWS_[EP-T],\"Not Found\",0)*Modellering!$I72,0)","v":0},{"$f":"IFERROR(_xlfn.XLOOKUP($F72,RWS_[[Environmental Profile]:[Environmental Profile]],RWS_[POCP2],\"Not Found\",0)*Modellering!$I72,0)","v":0},{"$f":"IFERROR(_xlfn.XLOOKUP($F72,RWS_[[Environmental Profile]:[Environmental Profile]],RWS_[ADP-MM],\"Not Found\",0)*Modellering!$I72,0)","v":0},{"$f":"IFERROR(_xlfn.XLOOKUP($F72,RWS_[[Environmental Profile]:[Environmental Profile]],RWS_[ADP-F],\"Not Found\",0)*Modellering!$I72,0)","v":0},{"$f":"IFERROR(_xlfn.XLOOKUP($F72,RWS_[[Environmental Profile]:[Environmental Profile]],RWS_[WDP],\"Not Found\",0)*Modellering!$I72,0)","v":0},{"$f":"IFERROR(_xlfn.XLOOKUP($F72,RWS_[[Environmental Profile]:[Environmental Profile]],RWS_[PM],\"Not Found\",0)*Modellering!$I72,0)","v":0},{"$f":"IFERROR(_xlfn.XLOOKUP($F72,RWS_[[Environmental Profile]:[Environmental Profile]],RWS_[IR],\"Not Found\",0)*Modellering!$I72,0)","v":0},{"$f":"IFERROR(_xlfn.XLOOKUP($F72,RWS_[[Environmental Profile]:[Environmental Profile]],RWS_[ETP-FW],\"Not Found\",0)*Modellering!$I72,0)","v":0},{"$f":"IFERROR(_xlfn.XLOOKUP($F72,RWS_[[Environmental Profile]:[Environmental Profile]],RWS_[HTP-C],\"Not Found\",0)*Modellering!$I72,0)","v":0},{"$f":"IFERROR(_xlfn.XLOOKUP($F72,RWS_[[Environmental Profile]:[Environmental Profile]],RWS_[HTP-NC],\"Not Found\",0)*Modellering!$I72,0)","v":0},{"$f":"IFERROR(_xlfn.XLOOKUP($F72,RWS_[[Environmental Profile]:[Environmental Profile]],RWS_[SQP],\"Not Found\",0)*Modellering!$I72,0)","v":0},{"$f":"IFERROR(_xlfn.XLOOKUP($F72,RWS_[[Environmental Profile]:[Environmental Profile]],RWS_[PERE],\"Not Found\",0)*Modellering!$I72,0)","v":0},{"$f":"IFERROR(_xlfn.XLOOKUP($F72,RWS_[[Environmental Profile]:[Environmental Profile]],RWS_[PERM],\"Not Found\",0)*Modellering!$I72,0)","v":0},{"$f":"IFERROR(_xlfn.XLOOKUP($F72,RWS_[[Environmental Profile]:[Environmental Profile]],RWS_[PERT],\"Not Found\",0)*Modellering!$I72,0)","v":0},{"$f":"IFERROR(_xlfn.XLOOKUP($F72,RWS_[[Environmental Profile]:[Environmental Profile]],RWS_[PENRE],\"Not Found\",0)*Modellering!$I72,0)","v":0},{"$f":"IFERROR(_xlfn.XLOOKUP($F72,RWS_[[Environmental Profile]:[Environmental Profile]],RWS_[PENRM],\"Not Found\",0)*Modellering!$I72,0)","v":0},{"$f":"IFERROR(_xlfn.XLOOKUP($F72,RWS_[[Environmental Profile]:[Environmental Profile]],RWS_[PENRT],\"Not Found\",0)*Modellering!$I72,0)","v":0},{"$f":"IFERROR(_xlfn.XLOOKUP($F72,RWS_[[Environmental Profile]:[Environmental Profile]],RWS_[SM],\"Not Found\",0)*Modellering!$I72,0)","v":0},{"$f":"IFERROR(_xlfn.XLOOKUP($F72,RWS_[[Environmental Profile]:[Environmental Profile]],RWS_[SF-R],\"Not Found\",0)*Modellering!$I72,0)","v":0},{"$f":"IFERROR(_xlfn.XLOOKUP($F72,RWS_[[Environmental Profile]:[Environmental Profile]],RWS_[SF-NR],\"Not Found\",0)*Modellering!$I72,0)","v":0},{"$f":"IFERROR(_xlfn.XLOOKUP($F72,RWS_[[Environmental Profile]:[Environmental Profile]],RWS_[FW],\"Not Found\",0)*Modellering!$I72,0)","v":0},{"$f":"IFERROR(_xlfn.XLOOKUP($F72,RWS_[[Environmental Profile]:[Environmental Profile]],RWS_[HWD],\"Not Found\",0)*Modellering!$I72,0)","v":0},{"$f":"IFERROR(_xlfn.XLOOKUP($F72,RWS_[[Environmental Profile]:[Environmental Profile]],RWS_[NHWD],\"Not Found\",0)*Modellering!$I72,0)","v":0},{"$f":"IFERROR(_xlfn.XLOOKUP($F72,RWS_[[Environmental Profile]:[Environmental Profile]],RWS_[RWD],\"Not Found\",0)*Modellering!$I72,0)","v":0},{"$f":"IFERROR(_xlfn.XLOOKUP($F72,RWS_[[Environmental Profile]:[Environmental Profile]],RWS_[CRU],\"Not Found\",0)*Modellering!$I72,0)","v":0},{"$f":"IFERROR(_xlfn.XLOOKUP($F72,RWS_[[Environmental Profile]:[Environmental Profile]],RWS_[MFR],\"Not Found\",0)*Modellering!$I72,0)","v":0},{"$f":"IFERROR(_xlfn.XLOOKUP($F72,RWS_[[Environmental Profile]:[Environmental Profile]],RWS_[MER],\"Not Found\",0)*Modellering!$I72,0)","v":0},{"$f":"IFERROR(_xlfn.XLOOKUP($F72,RWS_[[Environmental Profile]:[Environmental Profile]],RWS_[EE-E],\"Not Found\",0)*Modellering!$I72,0)","v":0},{"$f":"IFERROR(_xlfn.XLOOKUP($F72,RWS_[[Environmental Profile]:[Environmental Profile]],RWS_[EE-T],\"Not Found\",0)*Modellering!$I72,0)","v":0}]
[null,null,"Kapitaalgoederen","Accu","B1",{"$f":"IF($F72=\"*RWS Kapitaalgoederen aandrijving elektrisch schip (100 kW) (inlusief EOL en reD)\",\"Accu, Lithium-ion, per kWh accucapaciteit (o.b.v. 5kg per kWh)\",\"Niet van Toepassing\")","v":"Niet van Toepassing"},"","Not Found",{"$f":"_xlfn.XLOOKUP(Invoerblad!$G$44,PM_NOx!$A$47:$A$51,PM_NOx!$B$47:$B$51,0,0)","v":0},null,{"$f":"IFERROR(_xlfn.XLOOKUP($F73,RWS_[[Environmental Profile]:[Environmental Profile]],RWS_[ECI-A1],\"Not Found\",0)*Modellering!$I73,0)","v":0},{"$f":"IFERROR(_xlfn.XLOOKUP($F73,RWS_[[Environmental Profile]:[Environmental Profile]],RWS_[ECI-A2],\"Not Found\",0)*Modellering!$I73,0)","v":0},{"$f":"IFERROR(_xlfn.XLOOKUP($F73,RWS_[[Environmental Profile]:[Environmental Profile]],RWS_[ADPE],\"Not Found\",0)*Modellering!$I73,0)","v":0},{"$f":"IFERROR(_xlfn.XLOOKUP($F73,RWS_[[Environmental Profile]:[Environmental Profile]],RWS_[ADPF],\"Not Found\",0)*Modellering!$I73,0)","v":0},{"$f":"IFERROR(_xlfn.XLOOKUP($F73,RWS_[[Environmental Profile]:[Environmental Profile]],RWS_[GWP1],\"Not Found\",0)*Modellering!$I73,0)","v":0},{"$f":"IFERROR(_xlfn.XLOOKUP($F73,RWS_[[Environmental Profile]:[Environmental Profile]],RWS_[ODP1],\"Not Found\",0)*Modellering!$I73,0)","v":0},{"$f":"IFERROR(_xlfn.XLOOKUP($F73,RWS_[[Environmental Profile]:[Environmental Profile]],RWS_[POCP],\"Not Found\",0)*Modellering!$I73,0)","v":0},{"$f":"IFERROR(_xlfn.XLOOKUP($F73,RWS_[[Environmental Profile]:[Environmental Profile]],RWS_[AP],\"Not Found\",0)*Modellering!$I73,0)","v":0},{"$f":"IFERROR(_xlfn.XLOOKUP($F73,RWS_[[Environmental Profile]:[Environmental Profile]],RWS_[EP],\"Not Found\",0)*Modellering!$I73,0)","v":0},{"$f":"IFERROR(_xlfn.XLOOKUP($F73,RWS_[[Environmental Profile]:[Environmental Profile]],RWS_[HTP],\"Not Found\",0)*Modellering!$I73,0)","v":0},{"$f":"IFERROR(_xlfn.XLOOKUP($F73,RWS_[[Environmental Profile]:[Environmental Profile]],RWS_[FAETP],\"Not Found\",0)*Modellering!$I73,0)","v":0},{"$f":"IFERROR(_xlfn.XLOOKUP($F73,RWS_[[Environmental Profile]:[Environmental Profile]],RWS_[MAETP],\"Not Found\",0)*Modellering!$I73,0)","v":0},{"$f":"IFERROR(_xlfn.XLOOKUP($F73,RWS_[[Environmental Profile]:[Environmental Profile]],RWS_[TETP],\"Not Found\",0)*Modellering!$I73,0)","v":0},{"$f":"IFERROR(_xlfn.XLOOKUP($F73,RWS_[[Environmental Profile]:[Environmental Profile]],RWS_[GWP2],\"Not Found\",0)*Modellering!$I73,0)","v":0},{"$f":"IFERROR(_xlfn.XLOOKUP($F73,RWS_[[Environmental Profile]:[Environmental Profile]],RWS_[GWP-F],\"Not Found\",0)*Modellering!$I73,0)","v":0},{"$f":"IFERROR(_xlfn.XLOOKUP($F73,RWS_[[Environmental Profile]:[Environmental Profile]],RWS_[GWP-B],\"Not Found\",0)*Modellering!$I73,0)","v":0},{"$f":"IFERROR(_xlfn.XLOOKUP($F73,RWS_[[Environmental Profile]:[Environmental Profile]],RWS_[GWP-L],\"Not Found\",0)*Modellering!$I73,0)","v":0},{"$f":"IFERROR(_xlfn.XLOOKUP($F73,RWS_[[Environmental Profile]:[Environmental Profile]],RWS_[ODP2],\"Not Found\",0)*Modellering!$I73,0)","v":0},{"$f":"IFERROR(_xlfn.XLOOKUP($F73,RWS_[[Environmental Profile]:[Environmental Profile]],RWS_[AP2],\"Not Found\",0)*Modellering!$I73,0)","v":0},{"$f":"IFERROR(_xlfn.XLOOKUP($F73,RWS_[[Environmental Profile]:[Environmental Profile]],RWS_[EP-FW],\"Not Found\",0)*Modellering!$I73,0)","v":0},{"$f":"IFERROR(_xlfn.XLOOKUP($F73,RWS_[[Environmental Profile]:[Environmental Profile]],RWS_[EP-M],\"Not Found\",0)*Modellering!$I73,0)","v":0},{"$f":"IFERROR(_xlfn.XLOOKUP($F73,RWS_[[Environmental Profile]:[Environmental Profile]],RWS_[EP-T],\"Not Found\",0)*Modellering!$I73,0)","v":0},{"$f":"IFERROR(_xlfn.XLOOKUP($F73,RWS_[[Environmental Profile]:[Environmental Profile]],RWS_[POCP2],\"Not Found\",0)*Modellering!$I73,0)","v":0},{"$f":"IFERROR(_xlfn.XLOOKUP($F73,RWS_[[Environmental Profile]:[Environmental Profile]],RWS_[ADP-MM],\"Not Found\",0)*Modellering!$I73,0)","v":0},{"$f":"IFERROR(_xlfn.XLOOKUP($F73,RWS_[[Environmental Profile]:[Environmental Profile]],RWS_[ADP-F],\"Not Found\",0)*Modellering!$I73,0)","v":0},{"$f":"IFERROR(_xlfn.XLOOKUP($F73,RWS_[[Environmental Profile]:[Environmental Profile]],RWS_[WDP],\"Not Found\",0)*Modellering!$I73,0)","v":0},{"$f":"IFERROR(_xlfn.XLOOKUP($F73,RWS_[[Environmental Profile]:[Environmental Profile]],RWS_[PM],\"Not Found\",0)*Modellering!$I73,0)","v":0},{"$f":"IFERROR(_xlfn.XLOOKUP($F73,RWS_[[Environmental Profile]:[Environmental Profile]],RWS_[IR],\"Not Found\",0)*Modellering!$I73,0)","v":0},{"$f":"IFERROR(_xlfn.XLOOKUP($F73,RWS_[[Environmental Profile]:[Environmental Profile]],RWS_[ETP-FW],\"Not Found\",0)*Modellering!$I73,0)","v":0},{"$f":"IFERROR(_xlfn.XLOOKUP($F73,RWS_[[Environmental Profile]:[Environmental Profile]],RWS_[HTP-C],\"Not Found\",0)*Modellering!$I73,0)","v":0},{"$f":"IFERROR(_xlfn.XLOOKUP($F73,RWS_[[Environmental Profile]:[Environmental Profile]],RWS_[HTP-NC],\"Not Found\",0)*Modellering!$I73,0)","v":0},{"$f":"IFERROR(_xlfn.XLOOKUP($F73,RWS_[[Environmental Profile]:[Environmental Profile]],RWS_[SQP],\"Not Found\",0)*Modellering!$I73,0)","v":0},{"$f":"IFERROR(_xlfn.XLOOKUP($F73,RWS_[[Environmental Profile]:[Environmental Profile]],RWS_[PERE],\"Not Found\",0)*Modellering!$I73,0)","v":0},{"$f":"IFERROR(_xlfn.XLOOKUP($F73,RWS_[[Environmental Profile]:[Environmental Profile]],RWS_[PERM],\"Not Found\",0)*Modellering!$I73,0)","v":0},{"$f":"IFERROR(_xlfn.XLOOKUP($F73,RWS_[[Environmental Profile]:[Environmental Profile]],RWS_[PERT],\"Not Found\",0)*Modellering!$I73,0)","v":0},{"$f":"IFERROR(_xlfn.XLOOKUP($F73,RWS_[[Environmental Profile]:[Environmental Profile]],RWS_[PENRE],\"Not Found\",0)*Modellering!$I73,0)","v":0},{"$f":"IFERROR(_xlfn.XLOOKUP($F73,RWS_[[Environmental Profile]:[Environmental Profile]],RWS_[PENRM],\"Not Found\",0)*Modellering!$I73,0)","v":0},{"$f":"IFERROR(_xlfn.XLOOKUP($F73,RWS_[[Environmental Profile]:[Environmental Profile]],RWS_[PENRT],\"Not Found\",0)*Modellering!$I73,0)","v":0},{"$f":"IFERROR(_xlfn.XLOOKUP($F73,RWS_[[Environmental Profile]:[Environmental Profile]],RWS_[SM],\"Not Found\",0)*Modellering!$I73,0)","v":0},{"$f":"IFERROR(_xlfn.XLOOKUP($F73,RWS_[[Environmental Profile]:[Environmental Profile]],RWS_[SF-R],\"Not Found\",0)*Modellering!$I73,0)","v":0},{"$f":"IFERROR(_xlfn.XLOOKUP($F73,RWS_[[Environmental Profile]:[Environmental Profile]],RWS_[SF-NR],\"Not Found\",0)*Modellering!$I73,0)","v":0},{"$f":"IFERROR(_xlfn.XLOOKUP($F73,RWS_[[Environmental Profile]:[Environmental Profile]],RWS_[FW],\"Not Found\",0)*Modellering!$I73,0)","v":0},{"$f":"IFERROR(_xlfn.XLOOKUP($F73,RWS_[[Environmental Profile]:[Environmental Profile]],RWS_[HWD],\"Not Found\",0)*Modellering!$I73,0)","v":0},{"$f":"IFERROR(_xlfn.XLOOKUP($F73,RWS_[[Environmental Profile]:[Environmental Profile]],RWS_[NHWD],\"Not Found\",0)*Modellering!$I73,0)","v":0},{"$f":"IFERROR(_xlfn.XLOOKUP($F73,RWS_[[Environmental Profile]:[Environmental Profile]],RWS_[RWD],\"Not Found\",0)*Modellering!$I73,0)","v":0},{"$f":"IFERROR(_xlfn.XLOOKUP($F73,RWS_[[Environmental Profile]:[Environmental Profile]],RWS_[CRU],\"Not Found\",0)*Modellering!$I73,0)","v":0},{"$f":"IFERROR(_xlfn.XLOOKUP($F73,RWS_[[Environmental Profile]:[Environmental Profile]],RWS_[MFR],\"Not Found\",0)*Modellering!$I73,0)","v":0},{"$f":"IFERROR(_xlfn.XLOOKUP($F73,RWS_[[Environmental Profile]:[Environmental Profile]],RWS_[MER],\"Not Found\",0)*Modellering!$I73,0)","v":0},{"$f":"IFERROR(_xlfn.XLOOKUP($F73,RWS_[[Environmental Profile]:[Environmental Profile]],RWS_[EE-E],\"Not Found\",0)*Modellering!$I73,0)","v":0},{"$f":"IFERROR(_xlfn.XLOOKUP($F73,RWS_[[Environmental Profile]:[Environmental Profile]],RWS_[EE-T],\"Not Found\",0)*Modellering!$I73,0)","v":0}]
[null,null,"Kapitaalgoederen","Brandstofcel","B1",{"$f":"IF(Invoerblad!$G$46=\"Brandstofcel\",\"Brandstofcel Waterstof, per kW machinevermogen\",\"Niet van Toepassing\")","v":"Niet van Toepassing"},"","Not Found",{"$f":"_xlfn.XLOOKUP(Invoerblad!$G$44,PM_NOx!$A$47:$A$51,IF(Invoerblad!$D$32=\"Binnenvaart\",PM_NOx!$D$47:$D$51,PM_NOx!$C$47:$C$51),0,0)","v":0},null,{"$f":"IFERROR(_xlfn.XLOOKUP($F74,RWS_[[Environmental Profile]:[Environmental Profile]],RWS_[ECI-A1],\"Not Found\",0)*Modellering!$I74,0)","v":0},{"$f":"IFERROR(_xlfn.XLOOKUP($F74,RWS_[[Environmental Profile]:[Environmental Profile]],RWS_[ECI-A2],\"Not Found\",0)*Modellering!$I74,0)","v":0},{"$f":"IFERROR(_xlfn.XLOOKUP($F74,RWS_[[Environmental Profile]:[Environmental Profile]],RWS_[ADPE],\"Not Found\",0)*Modellering!$I74,0)","v":0},{"$f":"IFERROR(_xlfn.XLOOKUP($F74,RWS_[[Environmental Profile]:[Environmental Profile]],RWS_[ADPF],\"Not Found\",0)*Modellering!$I74,0)","v":0},{"$f":"IFERROR(_xlfn.XLOOKUP($F74,RWS_[[Environmental Profile]:[Environmental Profile]],RWS_[GWP1],\"Not Found\",0)*Modellering!$I74,0)","v":0},{"$f":"IFERROR(_xlfn.XLOOKUP($F74,RWS_[[Environmental Profile]:[Environmental Profile]],RWS_[ODP1],\"Not Found\",0)*Modellering!$I74,0)","v":0},{"$f":"IFERROR(_xlfn.XLOOKUP($F74,RWS_[[Environmental Profile]:[Environmental Profile]],RWS_[POCP],\"Not Found\",0)*Modellering!$I74,0)","v":0},{"$f":"IFERROR(_xlfn.XLOOKUP($F74,RWS_[[Environmental Profile]:[Environmental Profile]],RWS_[AP],\"Not Found\",0)*Modellering!$I74,0)","v":0},{"$f":"IFERROR(_xlfn.XLOOKUP($F74,RWS_[[Environmental Profile]:[Environmental Profile]],RWS_[EP],\"Not Found\",0)*Modellering!$I74,0)","v":0},{"$f":"IFERROR(_xlfn.XLOOKUP($F74,RWS_[[Environmental Profile]:[Environmental Profile]],RWS_[HTP],\"Not Found\",0)*Modellering!$I74,0)","v":0},{"$f":"IFERROR(_xlfn.XLOOKUP($F74,RWS_[[Environmental Profile]:[Environmental Profile]],RWS_[FAETP],\"Not Found\",0)*Modellering!$I74,0)","v":0},{"$f":"IFERROR(_xlfn.XLOOKUP($F74,RWS_[[Environmental Profile]:[Environmental Profile]],RWS_[MAETP],\"Not Found\",0)*Modellering!$I74,0)","v":0},{"$f":"IFERROR(_xlfn.XLOOKUP($F74,RWS_[[Environmental Profile]:[Environmental Profile]],RWS_[TETP],\"Not Found\",0)*Modellering!$I74,0)","v":0},{"$f":"IFERROR(_xlfn.XLOOKUP($F74,RWS_[[Environmental Profile]:[Environmental Profile]],RWS_[GWP2],\"Not Found\",0)*Modellering!$I74,0)","v":0},{"$f":"IFERROR(_xlfn.XLOOKUP($F74,RWS_[[Environmental Profile]:[Environmental Profile]],RWS_[GWP-F],\"Not Found\",0)*Modellering!$I74,0)","v":0},{"$f":"IFERROR(_xlfn.XLOOKUP($F74,RWS_[[Environmental Profile]:[Environmental Profile]],RWS_[GWP-B],\"Not Found\",0)*Modellering!$I74,0)","v":0},{"$f":"IFERROR(_xlfn.XLOOKUP($F74,RWS_[[Environmental Profile]:[Environmental Profile]],RWS_[GWP-L],\"Not Found\",0)*Modellering!$I74,0)","v":0},{"$f":"IFERROR(_xlfn.XLOOKUP($F74,RWS_[[Environmental Profile]:[Environmental Profile]],RWS_[ODP2],\"Not Found\",0)*Modellering!$I74,0)","v":0},{"$f":"IFERROR(_xlfn.XLOOKUP($F74,RWS_[[Environmental Profile]:[Environmental Profile]],RWS_[AP2],\"Not Found\",0)*Modellering!$I74,0)","v":0},{"$f":"IFERROR(_xlfn.XLOOKUP($F74,RWS_[[Environmental Profile]:[Environmental Profile]],RWS_[EP-FW],\"Not Found\",0)*Modellering!$I74,0)","v":0},{"$f":"IFERROR(_xlfn.XLOOKUP($F74,RWS_[[Environmental Profile]:[Environmental Profile]],RWS_[EP-M],\"Not Found\",0)*Modellering!$I74,0)","v":0},{"$f":"IFERROR(_xlfn.XLOOKUP($F74,RWS_[[Environmental Profile]:[Environmental Profile]],RWS_[EP-T],\"Not Found\",0)*Modellering!$I74,0)","v":0},{"$f":"IFERROR(_xlfn.XLOOKUP($F74,RWS_[[Environmental Profile]:[Environmental Profile]],RWS_[POCP2],\"Not Found\",0)*Modellering!$I74,0)","v":0},{"$f":"IFERROR(_xlfn.XLOOKUP($F74,RWS_[[Environmental Profile]:[Environmental Profile]],RWS_[ADP-MM],\"Not Found\",0)*Modellering!$I74,0)","v":0},{"$f":"IFERROR(_xlfn.XLOOKUP($F74,RWS_[[Environmental Profile]:[Environmental Profile]],RWS_[ADP-F],\"Not Found\",0)*Modellering!$I74,0)","v":0},{"$f":"IFERROR(_xlfn.XLOOKUP($F74,RWS_[[Environmental Profile]:[Environmental Profile]],RWS_[WDP],\"Not Found\",0)*Modellering!$I74,0)","v":0},{"$f":"IFERROR(_xlfn.XLOOKUP($F74,RWS_[[Environmental Profile]:[Environmental Profile]],RWS_[PM],\"Not Found\",0)*Modellering!$I74,0)","v":0},{"$f":"IFERROR(_xlfn.XLOOKUP($F74,RWS_[[Environmental Profile]:[Environmental Profile]],RWS_[IR],\"Not Found\",0)*Modellering!$I74,0)","v":0},{"$f":"IFERROR(_xlfn.XLOOKUP($F74,RWS_[[Environmental Profile]:[Environmental Profile]],RWS_[ETP-FW],\"Not Found\",0)*Modellering!$I74,0)","v":0},{"$f":"IFERROR(_xlfn.XLOOKUP($F74,RWS_[[Environmental Profile]:[Environmental Profile]],RWS_[HTP-C],\"Not Found\",0)*Modellering!$I74,0)","v":0},{"$f":"IFERROR(_xlfn.XLOOKUP($F74,RWS_[[Environmental Profile]:[Environmental Profile]],RWS_[HTP-NC],\"Not Found\",0)*Modellering!$I74,0)","v":0},{"$f":"IFERROR(_xlfn.XLOOKUP($F74,RWS_[[Environmental Profile]:[Environmental Profile]],RWS_[SQP],\"Not Found\",0)*Modellering!$I74,0)","v":0},{"$f":"IFERROR(_xlfn.XLOOKUP($F74,RWS_[[Environmental Profile]:[Environmental Profile]],RWS_[PERE],\"Not Found\",0)*Modellering!$I74,0)","v":0},{"$f":"IFERROR(_xlfn.XLOOKUP($F74,RWS_[[Environmental Profile]:[Environmental Profile]],RWS_[PERM],\"Not Found\",0)*Modellering!$I74,0)","v":0},{"$f":"IFERROR(_xlfn.XLOOKUP($F74,RWS_[[Environmental Profile]:[Environmental Profile]],RWS_[PERT],\"Not Found\",0)*Modellering!$I74,0)","v":0},{"$f":"IFERROR(_xlfn.XLOOKUP($F74,RWS_[[Environmental Profile]:[Environmental Profile]],RWS_[PENRE],\"Not Found\",0)*Modellering!$I74,0)","v":0},{"$f":"IFERROR(_xlfn.XLOOKUP($F74,RWS_[[Environmental Profile]:[Environmental Profile]],RWS_[PENRM],\"Not Found\",0)*Modellering!$I74,0)","v":0},{"$f":"IFERROR(_xlfn.XLOOKUP($F74,RWS_[[Environmental Profile]:[Environmental Profile]],RWS_[PENRT],\"Not Found\",0)*Modellering!$I74,0)","v":0},{"$f":"IFERROR(_xlfn.XLOOKUP($F74,RWS_[[Environmental Profile]:[Environmental Profile]],RWS_[SM],\"Not Found\",0)*Modellering!$I74,0)","v":0},{"$f":"IFERROR(_xlfn.XLOOKUP($F74,RWS_[[Environmental Profile]:[Environmental Profile]],RWS_[SF-R],\"Not Found\",0)*Modellering!$I74,0)","v":0},{"$f":"IFERROR(_xlfn.XLOOKUP($F74,RWS_[[Environmental Profile]:[Environmental Profile]],RWS_[SF-NR],\"Not Found\",0)*Modellering!$I74,0)","v":0},{"$f":"IFERROR(_xlfn.XLOOKUP($F74,RWS_[[Environmental Profile]:[Environmental Profile]],RWS_[FW],\"Not Found\",0)*Modellering!$I74,0)","v":0},{"$f":"IFERROR(_xlfn.XLOOKUP($F74,RWS_[[Environmental Profile]:[Environmental Profile]],RWS_[HWD],\"Not Found\",0)*Modellering!$I74,0)","v":0},{"$f":"IFERROR(_xlfn.XLOOKUP($F74,RWS_[[Environmental Profile]:[Environmental Profile]],RWS_[NHWD],\"Not Found\",0)*Modellering!$I74,0)","v":0},{"$f":"IFERROR(_xlfn.XLOOKUP($F74,RWS_[[Environmental Profile]:[Environmental Profile]],RWS_[RWD],\"Not Found\",0)*Modellering!$I74,0)","v":0},{"$f":"IFERROR(_xlfn.XLOOKUP($F74,RWS_[[Environmental Profile]:[Environmental Profile]],RWS_[CRU],\"Not Found\",0)*Modellering!$I74,0)","v":0},{"$f":"IFERROR(_xlfn.XLOOKUP($F74,RWS_[[Environmental Profile]:[Environmental Profile]],RWS_[MFR],\"Not Found\",0)*Modellering!$I74,0)","v":0},{"$f":"IFERROR(_xlfn.XLOOKUP($F74,RWS_[[Environmental Profile]:[Environmental Profile]],RWS_[MER],\"Not Found\",0)*Modellering!$I74,0)","v":0},{"$f":"IFERROR(_xlfn.XLOOKUP($F74,RWS_[[Environmental Profile]:[Environmental Profile]],RWS_[EE-E],\"Not Found\",0)*Modellering!$I74,0)","v":0},{"$f":"IFERROR(_xlfn.XLOOKUP($F74,RWS_[[Environmental Profile]:[Environmental Profile]],RWS_[EE-T],\"Not Found\",0)*Modellering!$I74,0)","v":0}]
[null,null,"AdBlue","Winning AdBlue","A1-A3","*RWS Energiedrager AdBlue (A1-A3) 32,5% Ureum","AdBlue ","kg",{"$f":"Invoerblad!$G$78","v":""},null,{"$f":"IFERROR(_xlfn.XLOOKUP($F75,RWS_[[Environmental Profile]:[Environmental Profile]],RWS_[ECI-A1],\"Not Found\",0)*Modellering!$I75,0)","v":0},{"$f":"IFERROR(_xlfn.XLOOKUP($F75,RWS_[[Environmental Profile]:[Environmental Profile]],RWS_[ECI-A2],\"Not Found\",0)*Modellering!$I75,0)","v":0},{"$f":"IFERROR(_xlfn.XLOOKUP($F75,RWS_[[Environmental Profile]:[Environmental Profile]],RWS_[ADPE],\"Not Found\",0)*Modellering!$I75,0)","v":0},{"$f":"IFERROR(_xlfn.XLOOKUP($F75,RWS_[[Environmental Profile]:[Environmental Profile]],RWS_[ADPF],\"Not Found\",0)*Modellering!$I75,0)","v":0},{"$f":"IFERROR(_xlfn.XLOOKUP($F75,RWS_[[Environmental Profile]:[Environmental Profile]],RWS_[GWP1],\"Not Found\",0)*Modellering!$I75,0)","v":0},{"$f":"IFERROR(_xlfn.XLOOKUP($F75,RWS_[[Environmental Profile]:[Environmental Profile]],RWS_[ODP1],\"Not Found\",0)*Modellering!$I75,0)","v":0},{"$f":"IFERROR(_xlfn.XLOOKUP($F75,RWS_[[Environmental Profile]:[Environmental Profile]],RWS_[POCP],\"Not Found\",0)*Modellering!$I75,0)","v":0},{"$f":"IFERROR(_xlfn.XLOOKUP($F75,RWS_[[Environmental Profile]:[Environmental Profile]],RWS_[AP],\"Not Found\",0)*Modellering!$I75,0)","v":0},{"$f":"IFERROR(_xlfn.XLOOKUP($F75,RWS_[[Environmental Profile]:[Environmental Profile]],RWS_[EP],\"Not Found\",0)*Modellering!$I75,0)","v":0},{"$f":"IFERROR(_xlfn.XLOOKUP($F75,RWS_[[Environmental Profile]:[Environmental Profile]],RWS_[HTP],\"Not Found\",0)*Modellering!$I75,0)","v":0},{"$f":"IFERROR(_xlfn.XLOOKUP($F75,RWS_[[Environmental Profile]:[Environmental Profile]],RWS_[FAETP],\"Not Found\",0)*Modellering!$I75,0)","v":0},{"$f":"IFERROR(_xlfn.XLOOKUP($F75,RWS_[[Environmental Profile]:[Environmental Profile]],RWS_[MAETP],\"Not Found\",0)*Modellering!$I75,0)","v":0},{"$f":"IFERROR(_xlfn.XLOOKUP($F75,RWS_[[Environmental Profile]:[Environmental Profile]],RWS_[TETP],\"Not Found\",0)*Modellering!$I75,0)","v":0},{"$f":"IFERROR(_xlfn.XLOOKUP($F75,RWS_[[Environmental Profile]:[Environmental Profile]],RWS_[GWP2],\"Not Found\",0)*Modellering!$I75,0)","v":0},{"$f":"IFERROR(_xlfn.XLOOKUP($F75,RWS_[[Environmental Profile]:[Environmental Profile]],RWS_[GWP-F],\"Not Found\",0)*Modellering!$I75,0)","v":0},{"$f":"IFERROR(_xlfn.XLOOKUP($F75,RWS_[[Environmental Profile]:[Environmental Profile]],RWS_[GWP-B],\"Not Found\",0)*Modellering!$I75,0)","v":0},{"$f":"IFERROR(_xlfn.XLOOKUP($F75,RWS_[[Environmental Profile]:[Environmental Profile]],RWS_[GWP-L],\"Not Found\",0)*Modellering!$I75,0)","v":0},{"$f":"IFERROR(_xlfn.XLOOKUP($F75,RWS_[[Environmental Profile]:[Environmental Profile]],RWS_[ODP2],\"Not Found\",0)*Modellering!$I75,0)","v":0},{"$f":"IFERROR(_xlfn.XLOOKUP($F75,RWS_[[Environmental Profile]:[Environmental Profile]],RWS_[AP2],\"Not Found\",0)*Modellering!$I75,0)","v":0},{"$f":"IFERROR(_xlfn.XLOOKUP($F75,RWS_[[Environmental Profile]:[Environmental Profile]],RWS_[EP-FW],\"Not Found\",0)*Modellering!$I75,0)","v":0},{"$f":"IFERROR(_xlfn.XLOOKUP($F75,RWS_[[Environmental Profile]:[Environmental Profile]],RWS_[EP-M],\"Not Found\",0)*Modellering!$I75,0)","v":0},{"$f":"IFERROR(_xlfn.XLOOKUP($F75,RWS_[[Environmental Profile]:[Environmental Profile]],RWS_[EP-T],\"Not Found\",0)*Modellering!$I75,0)","v":0},{"$f":"IFERROR(_xlfn.XLOOKUP($F75,RWS_[[Environmental Profile]:[Environmental Profile]],RWS_[POCP2],\"Not Found\",0)*Modellering!$I75,0)","v":0},{"$f":"IFERROR(_xlfn.XLOOKUP($F75,RWS_[[Environmental Profile]:[Environmental Profile]],RWS_[ADP-MM],\"Not Found\",0)*Modellering!$I75,0)","v":0},{"$f":"IFERROR(_xlfn.XLOOKUP($F75,RWS_[[Environmental Profile]:[Environmental Profile]],RWS_[ADP-F],\"Not Found\",0)*Modellering!$I75,0)","v":0},{"$f":"IFERROR(_xlfn.XLOOKUP($F75,RWS_[[Environmental Profile]:[Environmental Profile]],RWS_[WDP],\"Not Found\",0)*Modellering!$I75,0)","v":0},{"$f":"IFERROR(_xlfn.XLOOKUP($F75,RWS_[[Environmental Profile]:[Environmental Profile]],RWS_[PM],\"Not Found\",0)*Modellering!$I75,0)","v":0},{"$f":"IFERROR(_xlfn.XLOOKUP($F75,RWS_[[Environmental Profile]:[Environmental Profile]],RWS_[IR],\"Not Found\",0)*Modellering!$I75,0)","v":0},{"$f":"IFERROR(_xlfn.XLOOKUP($F75,RWS_[[Environmental Profile]:[Environmental Profile]],RWS_[ETP-FW],\"Not Found\",0)*Modellering!$I75,0)","v":0},{"$f":"IFERROR(_xlfn.XLOOKUP($F75,RWS_[[Environmental Profile]:[Environmental Profile]],RWS_[HTP-C],\"Not Found\",0)*Modellering!$I75,0)","v":0},{"$f":"IFERROR(_xlfn.XLOOKUP($F75,RWS_[[Environmental Profile]:[Environmental Profile]],RWS_[HTP-NC],\"Not Found\",0)*Modellering!$I75,0)","v":0},{"$f":"IFERROR(_xlfn.XLOOKUP($F75,RWS_[[Environmental Profile]:[Environmental Profile]],RWS_[SQP],\"Not Found\",0)*Modellering!$I75,0)","v":0},{"$f":"IFERROR(_xlfn.XLOOKUP($F75,RWS_[[Environmental Profile]:[Environmental Profile]],RWS_[PERE],\"Not Found\",0)*Modellering!$I75,0)","v":0},{"$f":"IFERROR(_xlfn.XLOOKUP($F75,RWS_[[Environmental Profile]:[Environmental Profile]],RWS_[PERM],\"Not Found\",0)*Modellering!$I75,0)","v":0},{"$f":"IFERROR(_xlfn.XLOOKUP($F75,RWS_[[Environmental Profile]:[Environmental Profile]],RWS_[PERT],\"Not Found\",0)*Modellering!$I75,0)","v":0},{"$f":"IFERROR(_xlfn.XLOOKUP($F75,RWS_[[Environmental Profile]:[Environmental Profile]],RWS_[PENRE],\"Not Found\",0)*Modellering!$I75,0)","v":0},{"$f":"IFERROR(_xlfn.XLOOKUP($F75,RWS_[[Environmental Profile]:[Environmental Profile]],RWS_[PENRM],\"Not Found\",0)*Modellering!$I75,0)","v":0},{"$f":"IFERROR(_xlfn.XLOOKUP($F75,RWS_[[Environmental Profile]:[Environmental Profile]],RWS_[PENRT],\"Not Found\",0)*Modellering!$I75,0)","v":0},{"$f":"IFERROR(_xlfn.XLOOKUP($F75,RWS_[[Environmental Profile]:[Environmental Profile]],RWS_[SM],\"Not Found\",0)*Modellering!$I75,0)","v":0},{"$f":"IFERROR(_xlfn.XLOOKUP($F75,RWS_[[Environmental Profile]:[Environmental Profile]],RWS_[SF-R],\"Not Found\",0)*Modellering!$I75,0)","v":0},{"$f":"IFERROR(_xlfn.XLOOKUP($F75,RWS_[[Environmental Profile]:[Environmental Profile]],RWS_[SF-NR],\"Not Found\",0)*Modellering!$I75,0)","v":0},{"$f":"IFERROR(_xlfn.XLOOKUP($F75,RWS_[[Environmental Profile]:[Environmental Profile]],RWS_[FW],\"Not Found\",0)*Modellering!$I75,0)","v":0},{"$f":"IFERROR(_xlfn.XLOOKUP($F75,RWS_[[Environmental Profile]:[Environmental Profile]],RWS_[HWD],\"Not Found\",0)*Modellering!$I75,0)","v":0},{"$f":"IFERROR(_xlfn.XLOOKUP($F75,RWS_[[Environmental Profile]:[Environmental Profile]],RWS_[NHWD],\"Not Found\",0)*Modellering!$I75,0)","v":0},{"$f":"IFERROR(_xlfn.XLOOKUP($F75,RWS_[[Environmental Profile]:[Environmental Profile]],RWS_[RWD],\"Not Found\",0)*Modellering!$I75,0)","v":0},{"$f":"IFERROR(_xlfn.XLOOKUP($F75,RWS_[[Environmental Profile]:[Environmental Profile]],RWS_[CRU],\"Not Found\",0)*Modellering!$I75,0)","v":0},{"$f":"IFERROR(_xlfn.XLOOKUP($F75,RWS_[[Environmental Profile]:[Environmental Profile]],RWS_[MFR],\"Not Found\",0)*Modellering!$I75,0)","v":0},{"$f":"IFERROR(_xlfn.XLOOKUP($F75,RWS_[[Environmental Profile]:[Environmental Profile]],RWS_[MER],\"Not Found\",0)*Modellering!$I75,0)","v":0},{"$f":"IFERROR(_xlfn.XLOOKUP($F75,RWS_[[Environmental Profile]:[Environmental Profile]],RWS_[EE-E],\"Not Found\",0)*Modellering!$I75,0)","v":0},{"$f":"IFERROR(_xlfn.XLOOKUP($F75,RWS_[[Environmental Profile]:[Environmental Profile]],RWS_[EE-T],\"Not Found\",0)*Modellering!$I75,0)","v":0}]
[null,null,"AdBlue","Opslag AdBlue","A4","*RWS Energiedrager AdBlue (A4) 32,5% Ureum","Opslag AdBlue","kg",{"$f":"Invoerblad!$G$78","v":""},null,{"$f":"IFERROR(_xlfn.XLOOKUP($F76,RWS_[[Environmental Profile]:[Environmental Profile]],RWS_[ECI-A1],\"Not Found\",0)*Modellering!$I76,0)","v":0},{"$f":"IFERROR(_xlfn.XLOOKUP($F76,RWS_[[Environmental Profile]:[Environmental Profile]],RWS_[ECI-A2],\"Not Found\",0)*Modellering!$I76,0)","v":0},{"$f":"IFERROR(_xlfn.XLOOKUP($F76,RWS_[[Environmental Profile]:[Environmental Profile]],RWS_[ADPE],\"Not Found\",0)*Modellering!$I76,0)","v":0},{"$f":"IFERROR(_xlfn.XLOOKUP($F76,RWS_[[Environmental Profile]:[Environmental Profile]],RWS_[ADPF],\"Not Found\",0)*Modellering!$I76,0)","v":0},{"$f":"IFERROR(_xlfn.XLOOKUP($F76,RWS_[[Environmental Profile]:[Environmental Profile]],RWS_[GWP1],\"Not Found\",0)*Modellering!$I76,0)","v":0},{"$f":"IFERROR(_xlfn.XLOOKUP($F76,RWS_[[Environmental Profile]:[Environmental Profile]],RWS_[ODP1],\"Not Found\",0)*Modellering!$I76,0)","v":0},{"$f":"IFERROR(_xlfn.XLOOKUP($F76,RWS_[[Environmental Profile]:[Environmental Profile]],RWS_[POCP],\"Not Found\",0)*Modellering!$I76,0)","v":0},{"$f":"IFERROR(_xlfn.XLOOKUP($F76,RWS_[[Environmental Profile]:[Environmental Profile]],RWS_[AP],\"Not Found\",0)*Modellering!$I76,0)","v":0},{"$f":"IFERROR(_xlfn.XLOOKUP($F76,RWS_[[Environmental Profile]:[Environmental Profile]],RWS_[EP],\"Not Found\",0)*Modellering!$I76,0)","v":0},{"$f":"IFERROR(_xlfn.XLOOKUP($F76,RWS_[[Environmental Profile]:[Environmental Profile]],RWS_[HTP],\"Not Found\",0)*Modellering!$I76,0)","v":0},{"$f":"IFERROR(_xlfn.XLOOKUP($F76,RWS_[[Environmental Profile]:[Environmental Profile]],RWS_[FAETP],\"Not Found\",0)*Modellering!$I76,0)","v":0},{"$f":"IFERROR(_xlfn.XLOOKUP($F76,RWS_[[Environmental Profile]:[Environmental Profile]],RWS_[MAETP],\"Not Found\",0)*Modellering!$I76,0)","v":0},{"$f":"IFERROR(_xlfn.XLOOKUP($F76,RWS_[[Environmental Profile]:[Environmental Profile]],RWS_[TETP],\"Not Found\",0)*Modellering!$I76,0)","v":0},{"$f":"IFERROR(_xlfn.XLOOKUP($F76,RWS_[[Environmental Profile]:[Environmental Profile]],RWS_[GWP2],\"Not Found\",0)*Modellering!$I76,0)","v":0},{"$f":"IFERROR(_xlfn.XLOOKUP($F76,RWS_[[Environmental Profile]:[Environmental Profile]],RWS_[GWP-F],\"Not Found\",0)*Modellering!$I76,0)","v":0},{"$f":"IFERROR(_xlfn.XLOOKUP($F76,RWS_[[Environmental Profile]:[Environmental Profile]],RWS_[GWP-B],\"Not Found\",0)*Modellering!$I76,0)","v":0},{"$f":"IFERROR(_xlfn.XLOOKUP($F76,RWS_[[Environmental Profile]:[Environmental Profile]],RWS_[GWP-L],\"Not Found\",0)*Modellering!$I76,0)","v":0},{"$f":"IFERROR(_xlfn.XLOOKUP($F76,RWS_[[Environmental Profile]:[Environmental Profile]],RWS_[ODP2],\"Not Found\",0)*Modellering!$I76,0)","v":0},{"$f":"IFERROR(_xlfn.XLOOKUP($F76,RWS_[[Environmental Profile]:[Environmental Profile]],RWS_[AP2],\"Not Found\",0)*Modellering!$I76,0)","v":0},{"$f":"IFERROR(_xlfn.XLOOKUP($F76,RWS_[[Environmental Profile]:[Environmental Profile]],RWS_[EP-FW],\"Not Found\",0)*Modellering!$I76,0)","v":0},{"$f":"IFERROR(_xlfn.XLOOKUP($F76,RWS_[[Environmental Profile]:[Environmental Profile]],RWS_[EP-M],\"Not Found\",0)*Modellering!$I76,0)","v":0},{"$f":"IFERROR(_xlfn.XLOOKUP($F76,RWS_[[Environmental Profile]:[Environmental Profile]],RWS_[EP-T],\"Not Found\",0)*Modellering!$I76,0)","v":0},{"$f":"IFERROR(_xlfn.XLOOKUP($F76,RWS_[[Environmental Profile]:[Environmental Profile]],RWS_[POCP2],\"Not Found\",0)*Modellering!$I76,0)","v":0},{"$f":"IFERROR(_xlfn.XLOOKUP($F76,RWS_[[Environmental Profile]:[Environmental Profile]],RWS_[ADP-MM],\"Not Found\",0)*Modellering!$I76,0)","v":0},{"$f":"IFERROR(_xlfn.XLOOKUP($F76,RWS_[[Environmental Profile]:[Environmental Profile]],RWS_[ADP-F],\"Not Found\",0)*Modellering!$I76,0)","v":0},{"$f":"IFERROR(_xlfn.XLOOKUP($F76,RWS_[[Environmental Profile]:[Environmental Profile]],RWS_[WDP],\"Not Found\",0)*Modellering!$I76,0)","v":0},{"$f":"IFERROR(_xlfn.XLOOKUP($F76,RWS_[[Environmental Profile]:[Environmental Profile]],RWS_[PM],\"Not Found\",0)*Modellering!$I76,0)","v":0},{"$f":"IFERROR(_xlfn.XLOOKUP($F76,RWS_[[Environmental Profile]:[Environmental Profile]],RWS_[IR],\"Not Found\",0)*Modellering!$I76,0)","v":0},{"$f":"IFERROR(_xlfn.XLOOKUP($F76,RWS_[[Environmental Profile]:[Environmental Profile]],RWS_[ETP-FW],\"Not Found\",0)*Modellering!$I76,0)","v":0},{"$f":"IFERROR(_xlfn.XLOOKUP($F76,RWS_[[Environmental Profile]:[Environmental Profile]],RWS_[HTP-C],\"Not Found\",0)*Modellering!$I76,0)","v":0},{"$f":"IFERROR(_xlfn.XLOOKUP($F76,RWS_[[Environmental Profile]:[Environmental Profile]],RWS_[HTP-NC],\"Not Found\",0)*Modellering!$I76,0)","v":0},{"$f":"IFERROR(_xlfn.XLOOKUP($F76,RWS_[[Environmental Profile]:[Environmental Profile]],RWS_[SQP],\"Not Found\",0)*Modellering!$I76,0)","v":0},{"$f":"IFERROR(_xlfn.XLOOKUP($F76,RWS_[[Environmental Profile]:[Environmental Profile]],RWS_[PERE],\"Not Found\",0)*Modellering!$I76,0)","v":0},{"$f":"IFERROR(_xlfn.XLOOKUP($F76,RWS_[[Environmental Profile]:[Environmental Profile]],RWS_[PERM],\"Not Found\",0)*Modellering!$I76,0)","v":0},{"$f":"IFERROR(_xlfn.XLOOKUP($F76,RWS_[[Environmental Profile]:[Environmental Profile]],RWS_[PERT],\"Not Found\",0)*Modellering!$I76,0)","v":0},{"$f":"IFERROR(_xlfn.XLOOKUP($F76,RWS_[[Environmental Profile]:[Environmental Profile]],RWS_[PENRE],\"Not Found\",0)*Modellering!$I76,0)","v":0},{"$f":"IFERROR(_xlfn.XLOOKUP($F76,RWS_[[Environmental Profile]:[Environmental Profile]],RWS_[PENRM],\"Not Found\",0)*Modellering!$I76,0)","v":0},{"$f":"IFERROR(_xlfn.XLOOKUP($F76,RWS_[[Environmental Profile]:[Environmental Profile]],RWS_[PENRT],\"Not Found\",0)*Modellering!$I76,0)","v":0},{"$f":"IFERROR(_xlfn.XLOOKUP($F76,RWS_[[Environmental Profile]:[Environmental Profile]],RWS_[SM],\"Not Found\",0)*Modellering!$I76,0)","v":0},{"$f":"IFERROR(_xlfn.XLOOKUP($F76,RWS_[[Environmental Profile]:[Environmental Profile]],RWS_[SF-R],\"Not Found\",0)*Modellering!$I76,0)","v":0},{"$f":"IFERROR(_xlfn.XLOOKUP($F76,RWS_[[Environmental Profile]:[Environmental Profile]],RWS_[SF-NR],\"Not Found\",0)*Modellering!$I76,0)","v":0},{"$f":"IFERROR(_xlfn.XLOOKUP($F76,RWS_[[Environmental Profile]:[Environmental Profile]],RWS_[FW],\"Not Found\",0)*Modellering!$I76,0)","v":0},{"$f":"IFERROR(_xlfn.XLOOKUP($F76,RWS_[[Environmental Profile]:[Environmental Profile]],RWS_[HWD],\"Not Found\",0)*Modellering!$I76,0)","v":0},{"$f":"IFERROR(_xlfn.XLOOKUP($F76,RWS_[[Environmental Profile]:[Environmental Profile]],RWS_[NHWD],\"Not Found\",0)*Modellering!$I76,0)","v":0},{"$f":"IFERROR(_xlfn.XLOOKUP($F76,RWS_[[Environmental Profile]:[Environmental Profile]],RWS_[RWD],\"Not Found\",0)*Modellering!$I76,0)","v":0},{"$f":"IFERROR(_xlfn.XLOOKUP($F76,RWS_[[Environmental Profile]:[Environmental Profile]],RWS_[CRU],\"Not Found\",0)*Modellering!$I76,0)","v":0},{"$f":"IFERROR(_xlfn.XLOOKUP($F76,RWS_[[Environmental Profile]:[Environmental Profile]],RWS_[MFR],\"Not Found\",0)*Modellering!$I76,0)","v":0},{"$f":"IFERROR(_xlfn.XLOOKUP($F76,RWS_[[Environmental Profile]:[Environmental Profile]],RWS_[MER],\"Not Found\",0)*Modellering!$I76,0)","v":0},{"$f":"IFERROR(_xlfn.XLOOKUP($F76,RWS_[[Environmental Profile]:[Environmental Profile]],RWS_[EE-E],\"Not Found\",0)*Modellering!$I76,0)","v":0},{"$f":"IFERROR(_xlfn.XLOOKUP($F76,RWS_[[Environmental Profile]:[Environmental Profile]],RWS_[EE-T],\"Not Found\",0)*Modellering!$I76,0)","v":0}]
[null,null,"AdBlue","Gebruiksprofiel AdBlue","B1","*RWS Emmissieprofiel AdBlue (B), CO2 naar lucht per kg AdBlue,  32,5% Ureum","AdBlue Emissies","kg",{"$f":"Invoerblad!$G$78","v":""},null,{"$f":"IFERROR(_xlfn.XLOOKUP($F77,RWS_[[Environmental Profile]:[Environmental Profile]],RWS_[ECI-A1],\"Not Found\",0)*Modellering!$I77,0)","v":0},{"$f":"IFERROR(_xlfn.XLOOKUP($F77,RWS_[[Environmental Profile]:[Environmental Profile]],RWS_[ECI-A2],\"Not Found\",0)*Modellering!$I77,0)","v":0},{"$f":"IFERROR(_xlfn.XLOOKUP($F77,RWS_[[Environmental Profile]:[Environmental Profile]],RWS_[ADPE],\"Not Found\",0)*Modellering!$I77,0)","v":0},{"$f":"IFERROR(_xlfn.XLOOKUP($F77,RWS_[[Environmental Profile]:[Environmental Profile]],RWS_[ADPF],\"Not Found\",0)*Modellering!$I77,0)","v":0},{"$f":"IFERROR(_xlfn.XLOOKUP($F77,RWS_[[Environmental Profile]:[Environmental Profile]],RWS_[GWP1],\"Not Found\",0)*Modellering!$I77,0)","v":0},{"$f":"IFERROR(_xlfn.XLOOKUP($F77,RWS_[[Environmental Profile]:[Environmental Profile]],RWS_[ODP1],\"Not Found\",0)*Modellering!$I77,0)","v":0},{"$f":"IFERROR(_xlfn.XLOOKUP($F77,RWS_[[Environmental Profile]:[Environmental Profile]],RWS_[POCP],\"Not Found\",0)*Modellering!$I77,0)","v":0},{"$f":"IFERROR(_xlfn.XLOOKUP($F77,RWS_[[Environmental Profile]:[Environmental Profile]],RWS_[AP],\"Not Found\",0)*Modellering!$I77,0)","v":0},{"$f":"IFERROR(_xlfn.XLOOKUP($F77,RWS_[[Environmental Profile]:[Environmental Profile]],RWS_[EP],\"Not Found\",0)*Modellering!$I77,0)","v":0},{"$f":"IFERROR(_xlfn.XLOOKUP($F77,RWS_[[Environmental Profile]:[Environmental Profile]],RWS_[HTP],\"Not Found\",0)*Modellering!$I77,0)","v":0},{"$f":"IFERROR(_xlfn.XLOOKUP($F77,RWS_[[Environmental Profile]:[Environmental Profile]],RWS_[FAETP],\"Not Found\",0)*Modellering!$I77,0)","v":0},{"$f":"IFERROR(_xlfn.XLOOKUP($F77,RWS_[[Environmental Profile]:[Environmental Profile]],RWS_[MAETP],\"Not Found\",0)*Modellering!$I77,0)","v":0},{"$f":"IFERROR(_xlfn.XLOOKUP($F77,RWS_[[Environmental Profile]:[Environmental Profile]],RWS_[TETP],\"Not Found\",0)*Modellering!$I77,0)","v":0},{"$f":"IFERROR(_xlfn.XLOOKUP($F77,RWS_[[Environmental Profile]:[Environmental Profile]],RWS_[GWP2],\"Not Found\",0)*Modellering!$I77,0)","v":0},{"$f":"IFERROR(_xlfn.XLOOKUP($F77,RWS_[[Environmental Profile]:[Environmental Profile]],RWS_[GWP-F],\"Not Found\",0)*Modellering!$I77,0)","v":0},{"$f":"IFERROR(_xlfn.XLOOKUP($F77,RWS_[[Environmental Profile]:[Environmental Profile]],RWS_[GWP-B],\"Not Found\",0)*Modellering!$I77,0)","v":0},{"$f":"IFERROR(_xlfn.XLOOKUP($F77,RWS_[[Environmental Profile]:[Environmental Profile]],RWS_[GWP-L],\"Not Found\",0)*Modellering!$I77,0)","v":0},{"$f":"IFERROR(_xlfn.XLOOKUP($F77,RWS_[[Environmental Profile]:[Environmental Profile]],RWS_[ODP2],\"Not Found\",0)*Modellering!$I77,0)","v":0},{"$f":"IFERROR(_xlfn.XLOOKUP($F77,RWS_[[Environmental Profile]:[Environmental Profile]],RWS_[AP2],\"Not Found\",0)*Modellering!$I77,0)","v":0},{"$f":"IFERROR(_xlfn.XLOOKUP($F77,RWS_[[Environmental Profile]:[Environmental Profile]],RWS_[EP-FW],\"Not Found\",0)*Modellering!$I77,0)","v":0},{"$f":"IFERROR(_xlfn.XLOOKUP($F77,RWS_[[Environmental Profile]:[Environmental Profile]],RWS_[EP-M],\"Not Found\",0)*Modellering!$I77,0)","v":0},{"$f":"IFERROR(_xlfn.XLOOKUP($F77,RWS_[[Environmental Profile]:[Environmental Profile]],RWS_[EP-T],\"Not Found\",0)*Modellering!$I77,0)","v":0},{"$f":"IFERROR(_xlfn.XLOOKUP($F77,RWS_[[Environmental Profile]:[Environmental Profile]],RWS_[POCP2],\"Not Found\",0)*Modellering!$I77,0)","v":0},{"$f":"IFERROR(_xlfn.XLOOKUP($F77,RWS_[[Environmental Profile]:[Environmental Profile]],RWS_[ADP-MM],\"Not Found\",0)*Modellering!$I77,0)","v":0},{"$f":"IFERROR(_xlfn.XLOOKUP($F77,RWS_[[Environmental Profile]:[Environmental Profile]],RWS_[ADP-F],\"Not Found\",0)*Modellering!$I77,0)","v":0},{"$f":"IFERROR(_xlfn.XLOOKUP($F77,RWS_[[Environmental Profile]:[Environmental Profile]],RWS_[WDP],\"Not Found\",0)*Modellering!$I77,0)","v":0},{"$f":"IFERROR(_xlfn.XLOOKUP($F77,RWS_[[Environmental Profile]:[Environmental Profile]],RWS_[PM],\"Not Found\",0)*Modellering!$I77,0)","v":0},{"$f":"IFERROR(_xlfn.XLOOKUP($F77,RWS_[[Environmental Profile]:[Environmental Profile]],RWS_[IR],\"Not Found\",0)*Modellering!$I77,0)","v":0},{"$f":"IFERROR(_xlfn.XLOOKUP($F77,RWS_[[Environmental Profile]:[Environmental Profile]],RWS_[ETP-FW],\"Not Found\",0)*Modellering!$I77,0)","v":0},{"$f":"IFERROR(_xlfn.XLOOKUP($F77,RWS_[[Environmental Profile]:[Environmental Profile]],RWS_[HTP-C],\"Not Found\",0)*Modellering!$I77,0)","v":0},{"$f":"IFERROR(_xlfn.XLOOKUP($F77,RWS_[[Environmental Profile]:[Environmental Profile]],RWS_[HTP-NC],\"Not Found\",0)*Modellering!$I77,0)","v":0},{"$f":"IFERROR(_xlfn.XLOOKUP($F77,RWS_[[Environmental Profile]:[Environmental Profile]],RWS_[SQP],\"Not Found\",0)*Modellering!$I77,0)","v":0},{"$f":"IFERROR(_xlfn.XLOOKUP($F77,RWS_[[Environmental Profile]:[Environmental Profile]],RWS_[PERE],\"Not Found\",0)*Modellering!$I77,0)","v":0},{"$f":"IFERROR(_xlfn.XLOOKUP($F77,RWS_[[Environmental Profile]:[Environmental Profile]],RWS_[PERM],\"Not Found\",0)*Modellering!$I77,0)","v":0},{"$f":"IFERROR(_xlfn.XLOOKUP($F77,RWS_[[Environmental Profile]:[Environmental Profile]],RWS_[PERT],\"Not Found\",0)*Modellering!$I77,0)","v":0},{"$f":"IFERROR(_xlfn.XLOOKUP($F77,RWS_[[Environmental Profile]:[Environmental Profile]],RWS_[PENRE],\"Not Found\",0)*Modellering!$I77,0)","v":0},{"$f":"IFERROR(_xlfn.XLOOKUP($F77,RWS_[[Environmental Profile]:[Environmental Profile]],RWS_[PENRM],\"Not Found\",0)*Modellering!$I77,0)","v":0},{"$f":"IFERROR(_xlfn.XLOOKUP($F77,RWS_[[Environmental Profile]:[Environmental Profile]],RWS_[PENRT],\"Not Found\",0)*Modellering!$I77,0)","v":0},{"$f":"IFERROR(_xlfn.XLOOKUP($F77,RWS_[[Environmental Profile]:[Environmental Profile]],RWS_[SM],\"Not Found\",0)*Modellering!$I77,0)","v":0},{"$f":"IFERROR(_xlfn.XLOOKUP($F77,RWS_[[Environmental Profile]:[Environmental Profile]],RWS_[SF-R],\"Not Found\",0)*Modellering!$I77,0)","v":0},{"$f":"IFERROR(_xlfn.XLOOKUP($F77,RWS_[[Environmental Profile]:[Environmental Profile]],RWS_[SF-NR],\"Not Found\",0)*Modellering!$I77,0)","v":0},{"$f":"IFERROR(_xlfn.XLOOKUP($F77,RWS_[[Environmental Profile]:[Environmental Profile]],RWS_[FW],\"Not Found\",0)*Modellering!$I77,0)","v":0},{"$f":"IFERROR(_xlfn.XLOOKUP($F77,RWS_[[Environmental Profile]:[Environmental Profile]],RWS_[HWD],\"Not Found\",0)*Modellering!$I77,0)","v":0},{"$f":"IFERROR(_xlfn.XLOOKUP($F77,RWS_[[Environmental Profile]:[Environmental Profile]],RWS_[NHWD],\"Not Found\",0)*Modellering!$I77,0)","v":0},{"$f":"IFERROR(_xlfn.XLOOKUP($F77,RWS_[[Environmental Profile]:[Environmental Profile]],RWS_[RWD],\"Not Found\",0)*Modellering!$I77,0)","v":0},{"$f":"IFERROR(_xlfn.XLOOKUP($F77,RWS_[[Environmental Profile]:[Environmental Profile]],RWS_[CRU],\"Not Found\",0)*Modellering!$I77,0)","v":0},{"$f":"IFERROR(_xlfn.XLOOKUP($F77,RWS_[[Environmental Profile]:[Environmental Profile]],RWS_[MFR],\"Not Found\",0)*Modellering!$I77,0)","v":0},{"$f":"IFERROR(_xlfn.XLOOKUP($F77,RWS_[[Environmental Profile]:[Environmental Profile]],RWS_[MER],\"Not Found\",0)*Modellering!$I77,0)","v":0},{"$f":"IFERROR(_xlfn.XLOOKUP($F77,RWS_[[Environmental Profile]:[Environmental Profile]],RWS_[EE-E],\"Not Found\",0)*Modellering!$I77,0)","v":0},{"$f":"IFERROR(_xlfn.XLOOKUP($F77,RWS_[[Environmental Profile]:[Environmental Profile]],RWS_[EE-T],\"Not Found\",0)*Modellering!$I77,0)","v":0}]
[{"$nulls":10},{"$f":"SUM(K66:K77)","v":0},0,0,0,0,0,0,0,0,0,0,0,0,0,0,0,0,0,0,0,0,0,0,0,0,0,0,0,0,0,0,0,{"$f":"SUM(AQ66:AQ77)","v":0},0,0,0,0,0,0,0,0,0,0,0,0,0,0,0,0,0]
[]
[]
[]
[]
[null,null,"Milieuprofiel Motor 5",{"$f":"Invoerblad!H43","v":"Milieuprofiel 5"}]
[]
[null,null,"Onderdeel","Verdieping","Module","Milieuprofiel","Name Short","Eenheid","Hoeveelheid",null,"ECI-A1","ECI-A2","ADPE","ADPF","GWP1","ODP1","POCP","AP","EP","HTP","FAETP","MAETP","TETP","GWP2","GWP-F","GWP-B","GWP-L","ODP2","AP2","EP-FW","EP-M","EP-T","POCP2","ADP-MM","ADP-F","WDP","PM","IR","ETP-FW","HTP-C","HTP-NC","SQP","PERE","PERM","PERT","PENRE","PENRM","PENRT","SM","SF-R","SF-NR","FW","HWD","NHWD","RWD","CRU","MFR","MER","EE-E","EE-T"]
[null,null,"Energiedragers","Winning Energiedrager","A1-A3",{"$f":"_xlfn.XLOOKUP(Invoerblad!$H$45,Fuel_Short[Brandstof],Fuel_Short[Winning Energiedrager A1-A3],\"Not Found\",0)","v":"Not Found"},{"$f":"_xlfn.XLOOKUP(F86:F97,RWS_[Environmental Profile],RWS_[Result Name],\"\",0)","v":""},{"$f":"_xlfn.XLOOKUP(F86:F97,RWS_[Environmental Profile],RWS_[Fuctional Unit],\"Not Found\",0)","v":"Not Found"},1,null,{"$f":"IFERROR(_xlfn.XLOOKUP($F86,RWS_[[Environmental Profile]:[Environmental Profile]],RWS_[ECI-A1],\"Not Found\",0)*Modellering!$I86,0)","v":0},{"$f":"IFERROR(_xlfn.XLOOKUP($F86,RWS_[[Environmental Profile]:[Environmental Profile]],RWS_[ECI-A2],\"Not Found\",0)*Modellering!$I86,0)","v":0},{"$f":"IFERROR(_xlfn.XLOOKUP($F86,RWS_[[Environmental Profile]:[Environmental Profile]],RWS_[ADPE],\"Not Found\",0)*Modellering!$I86,0)","v":0},{"$f":"IFERROR(_xlfn.XLOOKUP($F86,RWS_[[Environmental Profile]:[Environmental Profile]],RWS_[ADPF],\"Not Found\",0)*Modellering!$I86,0)","v":0},{"$f":"IFERROR(_xlfn.XLOOKUP($F86,RWS_[[Environmental Profile]:[Environmental Profile]],RWS_[GWP1],\"Not Found\",0)*Modellering!$I86,0)","v":0},{"$f":"IFERROR(_xlfn.XLOOKUP($F86,RWS_[[Environmental Profile]:[Environmental Profile]],RWS_[ODP1],\"Not Found\",0)*Modellering!$I86,0)","v":0},{"$f":"IFERROR(_xlfn.XLOOKUP($F86,RWS_[[Environmental Profile]:[Environmental Profile]],RWS_[POCP],\"Not Found\",0)*Modellering!$I86,0)","v":0},{"$f":"IFERROR(_xlfn.XLOOKUP($F86,RWS_[[Environmental Profile]:[Environmental Profile]],RWS_[AP],\"Not Found\",0)*Modellering!$I86,0)","v":0},{"$f":"IFERROR(_xlfn.XLOOKUP($F86,RWS_[[Environmental Profile]:[Environmental Profile]],RWS_[EP],\"Not Found\",0)*Modellering!$I86,0)","v":0},{"$f":"IFERROR(_xlfn.XLOOKUP($F86,RWS_[[Environmental Profile]:[Environmental Profile]],RWS_[HTP],\"Not Found\",0)*Modellering!$I86,0)","v":0},{"$f":"IFERROR(_xlfn.XLOOKUP($F86,RWS_[[Environmental Profile]:[Environmental Profile]],RWS_[FAETP],\"Not Found\",0)*Modellering!$I86,0)","v":0},{"$f":"IFERROR(_xlfn.XLOOKUP($F86,RWS_[[Environmental Profile]:[Environmental Profile]],RWS_[MAETP],\"Not Found\",0)*Modellering!$I86,0)","v":0},{"$f":"IFERROR(_xlfn.XLOOKUP($F86,RWS_[[Environmental Profile]:[Environmental Profile]],RWS_[TETP],\"Not Found\",0)*Modellering!$I86,0)","v":0},{"$f":"IFERROR(_xlfn.XLOOKUP($F86,RWS_[[Environmental Profile]:[Environmental Profile]],RWS_[GWP2],\"Not Found\",0)*Modellering!$I86,0)","v":0},{"$f":"IFERROR(_xlfn.XLOOKUP($F86,RWS_[[Environmental Profile]:[Environmental Profile]],RWS_[GWP-F],\"Not Found\",0)*Modellering!$I86,0)","v":0},{"$f":"IFERROR(_xlfn.XLOOKUP($F86,RWS_[[Environmental Profile]:[Environmental Profile]],RWS_[GWP-B],\"Not Found\",0)*Modellering!$I86,0)","v":0},{"$f":"IFERROR(_xlfn.XLOOKUP($F86,RWS_[[Environmental Profile]:[Environmental Profile]],RWS_[GWP-L],\"Not Found\",0)*Modellering!$I86,0)","v":0},{"$f":"IFERROR(_xlfn.XLOOKUP($F86,RWS_[[Environmental Profile]:[Environmental Profile]],RWS_[ODP2],\"Not Found\",0)*Modellering!$I86,0)","v":0},{"$f":"IFERROR(_xlfn.XLOOKUP($F86,RWS_[[Environmental Profile]:[Environmental Profile]],RWS_[AP2],\"Not Found\",0)*Modellering!$I86,0)","v":0},{"$f":"IFERROR(_xlfn.XLOOKUP($F86,RWS_[[Environmental Profile]:[Environmental Profile]],RWS_[EP-FW],\"Not Found\",0)*Modellering!$I86,0)","v":0},{"$f":"IFERROR(_xlfn.XLOOKUP($F86,RWS_[[Environmental Profile]:[Environmental Profile]],RWS_[EP-M],\"Not Found\",0)*Modellering!$I86,0)","v":0},{"$f":"IFERROR(_xlfn.XLOOKUP($F86,RWS_[[Environmental Profile]:[Environmental Profile]],RWS_[EP-T],\"Not Found\",0)*Modellering!$I86,0)","v":0},{"$f":"IFERROR(_xlfn.XLOOKUP($F86,RWS_[[Environmental Profile]:[Environmental Profile]],RWS_[POCP2],\"Not Found\",0)*Modellering!$I86,0)","v":0},{"$f":"IFERROR(_xlfn.XLOOKUP($F86,RWS_[[Environmental Profile]:[Environmental Profile]],RWS_[ADP-MM],\"Not Found\",0)*Modellering!$I86,0)","v":0},{"$f":"IFERROR(_xlfn.XLOOKUP($F86,RWS_[[Environmental Profile]:[Environmental Profile]],RWS_[ADP-F],\"Not Found\",0)*Modellering!$I86,0)","v":0},{"$f":"IFERROR(_xlfn.XLOOKUP($F86,RWS_[[Environmental Profile]:[Environmental Profile]],RWS_[WDP],\"Not Found\",0)*Modellering!$I86,0)","v":0},{"$f":"IFERROR(_xlfn.XLOOKUP($F86,RWS_[[Environmental Profile]:[Environmental Profile]],RWS_[PM],\"Not Found\",0)*Modellering!$I86,0)","v":0},{"$f":"IFERROR(_xlfn.XLOOKUP($F86,RWS_[[Environmental Profile]:[Environmental Profile]],RWS_[IR],\"Not Found\",0)*Modellering!$I86,0)","v":0},{"$f":"IFERROR(_xlfn.XLOOKUP($F86,RWS_[[Environmental Profile]:[Environmental Profile]],RWS_[ETP-FW],\"Not Found\",0)*Modellering!$I86,0)","v":0},{"$f":"IFERROR(_xlfn.XLOOKUP($F86,RWS_[[Environmental Profile]:[Environmental Profile]],RWS_[HTP-C],\"Not Found\",0)*Modellering!$I86,0)","v":0},{"$f":"IFERROR(_xlfn.XLOOKUP($F86,RWS_[[Environmental Profile]:[Environmental Profile]],RWS_[HTP-NC],\"Not Found\",0)*Modellering!$I86,0)","v":0},{"$f":"IFERROR(_xlfn.XLOOKUP($F86,RWS_[[Environmental Profile]:[Environmental Profile]],RWS_[SQP],\"Not Found\",0)*Modellering!$I86,0)","v":0},{"$f":"IFERROR(_xlfn.XLOOKUP($F86,RWS_[[Environmental Profile]:[Environmental Profile]],RWS_[PERE],\"Not Found\",0)*Modellering!$I86,0)","v":0},{"$f":"IFERROR(_xlfn.XLOOKUP($F86,RWS_[[Environmental Profile]:[Environmental Profile]],RWS_[PERM],\"Not Found\",0)*Modellering!$I86,0)","v":0},{"$f":"IFERROR(_xlfn.XLOOKUP($F86,RWS_[[Environmental Profile]:[Environmental Profile]],RWS_[PERT],\"Not Found\",0)*Modellering!$I86,0)","v":0},{"$f":"IFERROR(_xlfn.XLOOKUP($F86,RWS_[[Environmental Profile]:[Environmental Profile]],RWS_[PENRE],\"Not Found\",0)*Modellering!$I86,0)","v":0},{"$f":"IFERROR(_xlfn.XLOOKUP($F86,RWS_[[Environmental Profile]:[Environmental Profile]],RWS_[PENRM],\"Not Found\",0)*Modellering!$I86,0)","v":0},{"$f":"IFERROR(_xlfn.XLOOKUP($F86,RWS_[[Environmental Profile]:[Environmental Profile]],RWS_[PENRT],\"Not Found\",0)*Modellering!$I86,0)","v":0},{"$f":"IFERROR(_xlfn.XLOOKUP($F86,RWS_[[Environmental Profile]:[Environmental Profile]],RWS_[SM],\"Not Found\",0)*Modellering!$I86,0)","v":0},{"$f":"IFERROR(_xlfn.XLOOKUP($F86,RWS_[[Environmental Profile]:[Environmental Profile]],RWS_[SF-R],\"Not Found\",0)*Modellering!$I86,0)","v":0},{"$f":"IFERROR(_xlfn.XLOOKUP($F86,RWS_[[Environmental Profile]:[Environmental Profile]],RWS_[SF-NR],\"Not Found\",0)*Modellering!$I86,0)","v":0},{"$f":"IFERROR(_xlfn.XLOOKUP($F86,RWS_[[Environmental Profile]:[Environmental Profile]],RWS_[FW],\"Not Found\",0)*Modellering!$I86,0)","v":0},{"$f":"IFERROR(_xlfn.XLOOKUP($F86,RWS_[[Environmental Profile]:[Environmental Profile]],RWS_[HWD],\"Not Found\",0)*Modellering!$I86,0)","v":0},{"$f":"IFERROR(_xlfn.XLOOKUP($F86,RWS_[[Environmental Profile]:[Environmental Profile]],RWS_[NHWD],\"Not Found\",0)*Modellering!$I86,0)","v":0},{"$f":"IFERROR(_xlfn.XLOOKUP($F86,RWS_[[Environmental Profile]:[Environmental Profile]],RWS_[RWD],\"Not Found\",0)*Modellering!$I86,0)","v":0},{"$f":"IFERROR(_xlfn.XLOOKUP($F86,RWS_[[Environmental Profile]:[Environmental Profile]],RWS_[CRU],\"Not Found\",0)*Modellering!$I86,0)","v":0},{"$f":"IFERROR(_xlfn.XLOOKUP($F86,RWS_[[Environmental Profile]:[Environmental Profile]],RWS_[MFR],\"Not Found\",0)*Modellering!$I86,0)","v":0},{"$f":"IFERROR(_xlfn.XLOOKUP($F86,RWS_[[Environmental Profile]:[Environmental Profile]],RWS_[MER],\"Not Found\",0)*Modellering!$I86,0)","v":0},{"$f":"IFERROR(_xlfn.XLOOKUP($F86,RWS_[[Environmental Profile]:[Environmental Profile]],RWS_[EE-E],\"Not Found\",0)*Modellering!$I86,0)","v":0},{"$f":"IFERROR(_xlfn.XLOOKUP($F86,RWS_[[Environmental Profile]:[Environmental Profile]],RWS_[EE-T],\"Not Found\",0)*Modellering!$I86,0)","v":0}]
[null,null,"Energiedragers","Opslag Energiedrager","A4",{"$f":"_xlfn.XLOOKUP(Invoerblad!$H$45,Fuel_Short[Brandstof],Fuel_Short[Opslag Energiedrager A4],\"Not Found\",0)","v":"Not Found"},"","Not Found",1,null,{"$f":"IFERROR(_xlfn.XLOOKUP($F87,RWS_[[Environmental Profile]:[Environmental Profile]],RWS_[ECI-A1],\"Not Found\",0)*Modellering!$I87,0)","v":0},{"$f":"IFERROR(_xlfn.XLOOKUP($F87,RWS_[[Environmental Profile]:[Environmental Profile]],RWS_[ECI-A2],\"Not Found\",0)*Modellering!$I87,0)","v":0},{"$f":"IFERROR(_xlfn.XLOOKUP($F87,RWS_[[Environmental Profile]:[Environmental Profile]],RWS_[ADPE],\"Not Found\",0)*Modellering!$I87,0)","v":0},{"$f":"IFERROR(_xlfn.XLOOKUP($F87,RWS_[[Environmental Profile]:[Environmental Profile]],RWS_[ADPF],\"Not Found\",0)*Modellering!$I87,0)","v":0},{"$f":"IFERROR(_xlfn.XLOOKUP($F87,RWS_[[Environmental Profile]:[Environmental Profile]],RWS_[GWP1],\"Not Found\",0)*Modellering!$I87,0)","v":0},{"$f":"IFERROR(_xlfn.XLOOKUP($F87,RWS_[[Environmental Profile]:[Environmental Profile]],RWS_[ODP1],\"Not Found\",0)*Modellering!$I87,0)","v":0},{"$f":"IFERROR(_xlfn.XLOOKUP($F87,RWS_[[Environmental Profile]:[Environmental Profile]],RWS_[POCP],\"Not Found\",0)*Modellering!$I87,0)","v":0},{"$f":"IFERROR(_xlfn.XLOOKUP($F87,RWS_[[Environmental Profile]:[Environmental Profile]],RWS_[AP],\"Not Found\",0)*Modellering!$I87,0)","v":0},{"$f":"IFERROR(_xlfn.XLOOKUP($F87,RWS_[[Environmental Profile]:[Environmental Profile]],RWS_[EP],\"Not Found\",0)*Modellering!$I87,0)","v":0},{"$f":"IFERROR(_xlfn.XLOOKUP($F87,RWS_[[Environmental Profile]:[Environmental Profile]],RWS_[HTP],\"Not Found\",0)*Modellering!$I87,0)","v":0},{"$f":"IFERROR(_xlfn.XLOOKUP($F87,RWS_[[Environmental Profile]:[Environmental Profile]],RWS_[FAETP],\"Not Found\",0)*Modellering!$I87,0)","v":0},{"$f":"IFERROR(_xlfn.XLOOKUP($F87,RWS_[[Environmental Profile]:[Environmental Profile]],RWS_[MAETP],\"Not Found\",0)*Modellering!$I87,0)","v":0},{"$f":"IFERROR(_xlfn.XLOOKUP($F87,RWS_[[Environmental Profile]:[Environmental Profile]],RWS_[TETP],\"Not Found\",0)*Modellering!$I87,0)","v":0},{"$f":"IFERROR(_xlfn.XLOOKUP($F87,RWS_[[Environmental Profile]:[Environmental Profile]],RWS_[GWP2],\"Not Found\",0)*Modellering!$I87,0)","v":0},{"$f":"IFERROR(_xlfn.XLOOKUP($F87,RWS_[[Environmental Profile]:[Environmental Profile]],RWS_[GWP-F],\"Not Found\",0)*Modellering!$I87,0)","v":0},{"$f":"IFERROR(_xlfn.XLOOKUP($F87,RWS_[[Environmental Profile]:[Environmental Profile]],RWS_[GWP-B],\"Not Found\",0)*Modellering!$I87,0)","v":0},{"$f":"IFERROR(_xlfn.XLOOKUP($F87,RWS_[[Environmental Profile]:[Environmental Profile]],RWS_[GWP-L],\"Not Found\",0)*Modellering!$I87,0)","v":0},{"$f":"IFERROR(_xlfn.XLOOKUP($F87,RWS_[[Environmental Profile]:[Environmental Profile]],RWS_[ODP2],\"Not Found\",0)*Modellering!$I87,0)","v":0},{"$f":"IFERROR(_xlfn.XLOOKUP($F87,RWS_[[Environmental Profile]:[Environmental Profile]],RWS_[AP2],\"Not Found\",0)*Modellering!$I87,0)","v":0},{"$f":"IFERROR(_xlfn.XLOOKUP($F87,RWS_[[Environmental Profile]:[Environmental Profile]],RWS_[EP-FW],\"Not Found\",0)*Modellering!$I87,0)","v":0},{"$f":"IFERROR(_xlfn.XLOOKUP($F87,RWS_[[Environmental Profile]:[Environmental Profile]],RWS_[EP-M],\"Not Found\",0)*Modellering!$I87,0)","v":0},{"$f":"IFERROR(_xlfn.XLOOKUP($F87,RWS_[[Environmental Profile]:[Environmental Profile]],RWS_[EP-T],\"Not Found\",0)*Modellering!$I87,0)","v":0},{"$f":"IFERROR(_xlfn.XLOOKUP($F87,RWS_[[Environmental Profile]:[Environmental Profile]],RWS_[POCP2],\"Not Found\",0)*Modellering!$I87,0)","v":0},{"$f":"IFERROR(_xlfn.XLOOKUP($F87,RWS_[[Environmental Profile]:[Environmental Profile]],RWS_[ADP-MM],\"Not Found\",0)*Modellering!$I87,0)","v":0},{"$f":"IFERROR(_xlfn.XLOOKUP($F87,RWS_[[Environmental Profile]:[Environmental Profile]],RWS_[ADP-F],\"Not Found\",0)*Modellering!$I87,0)","v":0},{"$f":"IFERROR(_xlfn.XLOOKUP($F87,RWS_[[Environmental Profile]:[Environmental Profile]],RWS_[WDP],\"Not Found\",0)*Modellering!$I87,0)","v":0},{"$f":"IFERROR(_xlfn.XLOOKUP($F87,RWS_[[Environmental Profile]:[Environmental Profile]],RWS_[PM],\"Not Found\",0)*Modellering!$I87,0)","v":0},{"$f":"IFERROR(_xlfn.XLOOKUP($F87,RWS_[[Environmental Profile]:[Environmental Profile]],RWS_[IR],\"Not Found\",0)*Modellering!$I87,0)","v":0},{"$f":"IFERROR(_xlfn.XLOOKUP($F87,RWS_[[Environmental Profile]:[Environmental Profile]],RWS_[ETP-FW],\"Not Found\",0)*Modellering!$I87,0)","v":0},{"$f":"IFERROR(_xlfn.XLOOKUP($F87,RWS_[[Environmental Profile]:[Environmental Profile]],RWS_[HTP-C],\"Not Found\",0)*Modellering!$I87,0)","v":0},{"$f":"IFERROR(_xlfn.XLOOKUP($F87,RWS_[[Environmental Profile]:[Environmental Profile]],RWS_[HTP-NC],\"Not Found\",0)*Modellering!$I87,0)","v":0},{"$f":"IFERROR(_xlfn.XLOOKUP($F87,RWS_[[Environmental Profile]:[Environmental Profile]],RWS_[SQP],\"Not Found\",0)*Modellering!$I87,0)","v":0},{"$f":"IFERROR(_xlfn.XLOOKUP($F87,RWS_[[Environmental Profile]:[Environmental Profile]],RWS_[PERE],\"Not Found\",0)*Modellering!$I87,0)","v":0},{"$f":"IFERROR(_xlfn.XLOOKUP($F87,RWS_[[Environmental Profile]:[Environmental Profile]],RWS_[PERM],\"Not Found\",0)*Modellering!$I87,0)","v":0},{"$f":"IFERROR(_xlfn.XLOOKUP($F87,RWS_[[Environmental Profile]:[Environmental Profile]],RWS_[PERT],\"Not Found\",0)*Modellering!$I87,0)","v":0},{"$f":"IFERROR(_xlfn.XLOOKUP($F87,RWS_[[Environmental Profile]:[Environmental Profile]],RWS_[PENRE],\"Not Found\",0)*Modellering!$I87,0)","v":0},{"$f":"IFERROR(_xlfn.XLOOKUP($F87,RWS_[[Environmental Profile]:[Environmental Profile]],RWS_[PENRM],\"Not Found\",0)*Modellering!$I87,0)","v":0},{"$f":"IFERROR(_xlfn.XLOOKUP($F87,RWS_[[Environmental Profile]:[Environmental Profile]],RWS_[PENRT],\"Not Found\",0)*Modellering!$I87,0)","v":0},{"$f":"IFERROR(_xlfn.XLOOKUP($F87,RWS_[[Environmental Profile]:[Environmental Profile]],RWS_[SM],\"Not Found\",0)*Modellering!$I87,0)","v":0},{"$f":"IFERROR(_xlfn.XLOOKUP($F87,RWS_[[Environmental Profile]:[Environmental Profile]],RWS_[SF-R],\"Not Found\",0)*Modellering!$I87,0)","v":0},{"$f":"IFERROR(_xlfn.XLOOKUP($F87,RWS_[[Environmental Profile]:[Environmental Profile]],RWS_[SF-NR],\"Not Found\",0)*Modellering!$I87,0)","v":0},{"$f":"IFERROR(_xlfn.XLOOKUP($F87,RWS_[[Environmental Profile]:[Environmental Profile]],RWS_[FW],\"Not Found\",0)*Modellering!$I87,0)","v":0},{"$f":"IFERROR(_xlfn.XLOOKUP($F87,RWS_[[Environmental Profile]:[Environmental Profile]],RWS_[HWD],\"Not Found\",0)*Modellering!$I87,0)","v":0},{"$f":"IFERROR(_xlfn.XLOOKUP($F87,RWS_[[Environmental Profile]:[Environmental Profile]],RWS_[NHWD],\"Not Found\",0)*Modellering!$I87,0)","v":0},{"$f":"IFERROR(_xlfn.XLOOKUP($F87,RWS_[[Environmental Profile]:[Environmental Profile]],RWS_[RWD],\"Not Found\",0)*Modellering!$I87,0)","v":0},{"$f":"IFERROR(_xlfn.XLOOKUP($F87,RWS_[[Environmental Profile]:[Environmental Profile]],RWS_[CRU],\"Not Found\",0)*Modellering!$I87,0)","v":0},{"$f":"IFERROR(_xlfn.XLOOKUP($F87,RWS_[[Environmental Profile]:[Environmental Profile]],RWS_[MFR],\"Not Found\",0)*Modellering!$I87,0)","v":0},{"$f":"IFERROR(_xlfn.XLOOKUP($F87,RWS_[[Environmental Profile]:[Environmental Profile]],RWS_[MER],\"Not Found\",0)*Modellering!$I87,0)","v":0},{"$f":"IFERROR(_xlfn.XLOOKUP($F87,RWS_[[Environmental Profile]:[Environmental Profile]],RWS_[EE-E],\"Not Found\",0)*Modellering!$I87,0)","v":0},{"$f":"IFERROR(_xlfn.XLOOKUP($F87,RWS_[[Environmental Profile]:[Environmental Profile]],RWS_[EE-T],\"Not Found\",0)*Modellering!$I87,0)","v":0}]
[null,null,"Gebruiksprofiel","Gebruiksprofiel Basis","B1",{"$f":"_xlfn.XLOOKUP(Invoerblad!$H$44&Invoerblad!$H$46,Emi_Short[Brandstof]&Emi_Short[MotCel2],Emi_Short[Gebruiksprofiel Basis B1],\"Not Found\",0)","v":"Not Found"},"","Not Found",1,null,{"$f":"IFERROR(_xlfn.XLOOKUP($F88,RWS_[[Environmental Profile]:[Environmental Profile]],RWS_[ECI-A1],\"Not Found\",0)*Modellering!$I88,0)","v":0},{"$f":"IFERROR(_xlfn.XLOOKUP($F88,RWS_[[Environmental Profile]:[Environmental Profile]],RWS_[ECI-A2],\"Not Found\",0)*Modellering!$I88,0)","v":0},{"$f":"IFERROR(_xlfn.XLOOKUP($F88,RWS_[[Environmental Profile]:[Environmental Profile]],RWS_[ADPE],\"Not Found\",0)*Modellering!$I88,0)","v":0},{"$f":"IFERROR(_xlfn.XLOOKUP($F88,RWS_[[Environmental Profile]:[Environmental Profile]],RWS_[ADPF],\"Not Found\",0)*Modellering!$I88,0)","v":0},{"$f":"IFERROR(_xlfn.XLOOKUP($F88,RWS_[[Environmental Profile]:[Environmental Profile]],RWS_[GWP1],\"Not Found\",0)*Modellering!$I88,0)","v":0},{"$f":"IFERROR(_xlfn.XLOOKUP($F88,RWS_[[Environmental Profile]:[Environmental Profile]],RWS_[ODP1],\"Not Found\",0)*Modellering!$I88,0)","v":0},{"$f":"IFERROR(_xlfn.XLOOKUP($F88,RWS_[[Environmental Profile]:[Environmental Profile]],RWS_[POCP],\"Not Found\",0)*Modellering!$I88,0)","v":0},{"$f":"IFERROR(_xlfn.XLOOKUP($F88,RWS_[[Environmental Profile]:[Environmental Profile]],RWS_[AP],\"Not Found\",0)*Modellering!$I88,0)","v":0},{"$f":"IFERROR(_xlfn.XLOOKUP($F88,RWS_[[Environmental Profile]:[Environmental Profile]],RWS_[EP],\"Not Found\",0)*Modellering!$I88,0)","v":0},{"$f":"IFERROR(_xlfn.XLOOKUP($F88,RWS_[[Environmental Profile]:[Environmental Profile]],RWS_[HTP],\"Not Found\",0)*Modellering!$I88,0)","v":0},{"$f":"IFERROR(_xlfn.XLOOKUP($F88,RWS_[[Environmental Profile]:[Environmental Profile]],RWS_[FAETP],\"Not Found\",0)*Modellering!$I88,0)","v":0},{"$f":"IFERROR(_xlfn.XLOOKUP($F88,RWS_[[Environmental Profile]:[Environmental Profile]],RWS_[MAETP],\"Not Found\",0)*Modellering!$I88,0)","v":0},{"$f":"IFERROR(_xlfn.XLOOKUP($F88,RWS_[[Environmental Profile]:[Environmental Profile]],RWS_[TETP],\"Not Found\",0)*Modellering!$I88,0)","v":0},{"$f":"IFERROR(_xlfn.XLOOKUP($F88,RWS_[[Environmental Profile]:[Environmental Profile]],RWS_[GWP2],\"Not Found\",0)*Modellering!$I88,0)","v":0},{"$f":"IFERROR(_xlfn.XLOOKUP($F88,RWS_[[Environmental Profile]:[Environmental Profile]],RWS_[GWP-F],\"Not Found\",0)*Modellering!$I88,0)","v":0},{"$f":"IFERROR(_xlfn.XLOOKUP($F88,RWS_[[Environmental Profile]:[Environmental Profile]],RWS_[GWP-B],\"Not Found\",0)*Modellering!$I88,0)","v":0},{"$f":"IFERROR(_xlfn.XLOOKUP($F88,RWS_[[Environmental Profile]:[Environmental Profile]],RWS_[GWP-L],\"Not Found\",0)*Modellering!$I88,0)","v":0},{"$f":"IFERROR(_xlfn.XLOOKUP($F88,RWS_[[Environmental Profile]:[Environmental Profile]],RWS_[ODP2],\"Not Found\",0)*Modellering!$I88,0)","v":0},{"$f":"IFERROR(_xlfn.XLOOKUP($F88,RWS_[[Environmental Profile]:[Environmental Profile]],RWS_[AP2],\"Not Found\",0)*Modellering!$I88,0)","v":0},{"$f":"IFERROR(_xlfn.XLOOKUP($F88,RWS_[[Environmental Profile]:[Environmental Profile]],RWS_[EP-FW],\"Not Found\",0)*Modellering!$I88,0)","v":0},{"$f":"IFERROR(_xlfn.XLOOKUP($F88,RWS_[[Environmental Profile]:[Environmental Profile]],RWS_[EP-M],\"Not Found\",0)*Modellering!$I88,0)","v":0},{"$f":"IFERROR(_xlfn.XLOOKUP($F88,RWS_[[Environmental Profile]:[Environmental Profile]],RWS_[EP-T],\"Not Found\",0)*Modellering!$I88,0)","v":0},{"$f":"IFERROR(_xlfn.XLOOKUP($F88,RWS_[[Environmental Profile]:[Environmental Profile]],RWS_[POCP2],\"Not Found\",0)*Modellering!$I88,0)","v":0},{"$f":"IFERROR(_xlfn.XLOOKUP($F88,RWS_[[Environmental Profile]:[Environmental Profile]],RWS_[ADP-MM],\"Not Found\",0)*Modellering!$I88,0)","v":0},{"$f":"IFERROR(_xlfn.XLOOKUP($F88,RWS_[[Environmental Profile]:[Environmental Profile]],RWS_[ADP-F],\"Not Found\",0)*Modellering!$I88,0)","v":0},{"$f":"IFERROR(_xlfn.XLOOKUP($F88,RWS_[[Environmental Profile]:[Environmental Profile]],RWS_[WDP],\"Not Found\",0)*Modellering!$I88,0)","v":0},{"$f":"IFERROR(_xlfn.XLOOKUP($F88,RWS_[[Environmental Profile]:[Environmental Profile]],RWS_[PM],\"Not Found\",0)*Modellering!$I88,0)","v":0},{"$f":"IFERROR(_xlfn.XLOOKUP($F88,RWS_[[Environmental Profile]:[Environmental Profile]],RWS_[IR],\"Not Found\",0)*Modellering!$I88,0)","v":0},{"$f":"IFERROR(_xlfn.XLOOKUP($F88,RWS_[[Environmental Profile]:[Environmental Profile]],RWS_[ETP-FW],\"Not Found\",0)*Modellering!$I88,0)","v":0},{"$f":"IFERROR(_xlfn.XLOOKUP($F88,RWS_[[Environmental Profile]:[Environmental Profile]],RWS_[HTP-C],\"Not Found\",0)*Modellering!$I88,0)","v":0},{"$f":"IFERROR(_xlfn.XLOOKUP($F88,RWS_[[Environmental Profile]:[Environmental Profile]],RWS_[HTP-NC],\"Not Found\",0)*Modellering!$I88,0)","v":0},{"$f":"IFERROR(_xlfn.XLOOKUP($F88,RWS_[[Environmental Profile]:[Environmental Profile]],RWS_[SQP],\"Not Found\",0)*Modellering!$I88,0)","v":0},{"$f":"IFERROR(_xlfn.XLOOKUP($F88,RWS_[[Environmental Profile]:[Environmental Profile]],RWS_[PERE],\"Not Found\",0)*Modellering!$I88,0)","v":0},{"$f":"IFERROR(_xlfn.XLOOKUP($F88,RWS_[[Environmental Profile]:[Environmental Profile]],RWS_[PERM],\"Not Found\",0)*Modellering!$I88,0)","v":0},{"$f":"IFERROR(_xlfn.XLOOKUP($F88,RWS_[[Environmental Profile]:[Environmental Profile]],RWS_[PERT],\"Not Found\",0)*Modellering!$I88,0)","v":0},{"$f":"IFERROR(_xlfn.XLOOKUP($F88,RWS_[[Environmental Profile]:[Environmental Profile]],RWS_[PENRE],\"Not Found\",0)*Modellering!$I88,0)","v":0},{"$f":"IFERROR(_xlfn.XLOOKUP($F88,RWS_[[Environmental Profile]:[Environmental Profile]],RWS_[PENRM],\"Not Found\",0)*Modellering!$I88,0)","v":0},{"$f":"IFERROR(_xlfn.XLOOKUP($F88,RWS_[[Environmental Profile]:[Environmental Profile]],RWS_[PENRT],\"Not Found\",0)*Modellering!$I88,0)","v":0},{"$f":"IFERROR(_xlfn.XLOOKUP($F88,RWS_[[Environmental Profile]:[Environmental Profile]],RWS_[SM],\"Not Found\",0)*Modellering!$I88,0)","v":0},{"$f":"IFERROR(_xlfn.XLOOKUP($F88,RWS_[[Environmental Profile]:[Environmental Profile]],RWS_[SF-R],\"Not Found\",0)*Modellering!$I88,0)","v":0},{"$f":"IFERROR(_xlfn.XLOOKUP($F88,RWS_[[Environmental Profile]:[Environmental Profile]],RWS_[SF-NR],\"Not Found\",0)*Modellering!$I88,0)","v":0},{"$f":"IFERROR(_xlfn.XLOOKUP($F88,RWS_[[Environmental Profile]:[Environmental Profile]],RWS_[FW],\"Not Found\",0)*Modellering!$I88,0)","v":0},{"$f":"IFERROR(_xlfn.XLOOKUP($F88,RWS_[[Environmental Profile]:[Environmental Profile]],RWS_[HWD],\"Not Found\",0)*Modellering!$I88,0)","v":0},{"$f":"IFERROR(_xlfn.XLOOKUP($F88,RWS_[[Environmental Profile]:[Environmental Profile]],RWS_[NHWD],\"Not Found\",0)*Modellering!$I88,0)","v":0},{"$f":"IFERROR(_xlfn.XLOOKUP($F88,RWS_[[Environmental Profile]:[Environmental Profile]],RWS_[RWD],\"Not Found\",0)*Modellering!$I88,0)","v":0},{"$f":"IFERROR(_xlfn.XLOOKUP($F88,RWS_[[Environmental Profile]:[Environmental Profile]],RWS_[CRU],\"Not Found\",0)*Modellering!$I88,0)","v":0},{"$f":"IFERROR(_xlfn.XLOOKUP($F88,RWS_[[Environmental Profile]:[Environmental Profile]],RWS_[MFR],\"Not Found\",0)*Modellering!$I88,0)","v":0},{"$f":"IFERROR(_xlfn.XLOOKUP($F88,RWS_[[Environmental Profile]:[Environmental Profile]],RWS_[MER],\"Not Found\",0)*Modellering!$I88,0)","v":0},{"$f":"IFERROR(_xlfn.XLOOKUP($F88,RWS_[[Environmental Profile]:[Environmental Profile]],RWS_[EE-E],\"Not Found\",0)*Modellering!$I88,0)","v":0},{"$f":"IFERROR(_xlfn.XLOOKUP($F88,RWS_[[Environmental Profile]:[Environmental Profile]],RWS_[EE-T],\"Not Found\",0)*Modellering!$I88,0)","v":0}]
[null,null,"Gebruiksprofiel","NOx Emissies","B1","*RWS Gebruiksprofiel - NOx emissie naar lucht","NOx Emissies","kg",{"$f":"IF(Invoerblad!$H$67=\"Nee\",PM_NOx!$F$62,IF(Invoerblad!$H$70=\"Nee\",PM_NOx!$F$62,PM_NOx!$F$65))","v":""},null,{"$f":"IFERROR(_xlfn.XLOOKUP($F89,RWS_[[Environmental Profile]:[Environmental Profile]],RWS_[ECI-A1],\"Not Found\",0)*Modellering!$I89,0)","v":0},{"$f":"IFERROR(_xlfn.XLOOKUP($F89,RWS_[[Environmental Profile]:[Environmental Profile]],RWS_[ECI-A2],\"Not Found\",0)*Modellering!$I89,0)","v":0},{"$f":"IFERROR(_xlfn.XLOOKUP($F89,RWS_[[Environmental Profile]:[Environmental Profile]],RWS_[ADPE],\"Not Found\",0)*Modellering!$I89,0)","v":0},{"$f":"IFERROR(_xlfn.XLOOKUP($F89,RWS_[[Environmental Profile]:[Environmental Profile]],RWS_[ADPF],\"Not Found\",0)*Modellering!$I89,0)","v":0},{"$f":"IFERROR(_xlfn.XLOOKUP($F89,RWS_[[Environmental Profile]:[Environmental Profile]],RWS_[GWP1],\"Not Found\",0)*Modellering!$I89,0)","v":0},{"$f":"IFERROR(_xlfn.XLOOKUP($F89,RWS_[[Environmental Profile]:[Environmental Profile]],RWS_[ODP1],\"Not Found\",0)*Modellering!$I89,0)","v":0},{"$f":"IFERROR(_xlfn.XLOOKUP($F89,RWS_[[Environmental Profile]:[Environmental Profile]],RWS_[POCP],\"Not Found\",0)*Modellering!$I89,0)","v":0},{"$f":"IFERROR(_xlfn.XLOOKUP($F89,RWS_[[Environmental Profile]:[Environmental Profile]],RWS_[AP],\"Not Found\",0)*Modellering!$I89,0)","v":0},{"$f":"IFERROR(_xlfn.XLOOKUP($F89,RWS_[[Environmental Profile]:[Environmental Profile]],RWS_[EP],\"Not Found\",0)*Modellering!$I89,0)","v":0},{"$f":"IFERROR(_xlfn.XLOOKUP($F89,RWS_[[Environmental Profile]:[Environmental Profile]],RWS_[HTP],\"Not Found\",0)*Modellering!$I89,0)","v":0},{"$f":"IFERROR(_xlfn.XLOOKUP($F89,RWS_[[Environmental Profile]:[Environmental Profile]],RWS_[FAETP],\"Not Found\",0)*Modellering!$I89,0)","v":0},{"$f":"IFERROR(_xlfn.XLOOKUP($F89,RWS_[[Environmental Profile]:[Environmental Profile]],RWS_[MAETP],\"Not Found\",0)*Modellering!$I89,0)","v":0},{"$f":"IFERROR(_xlfn.XLOOKUP($F89,RWS_[[Environmental Profile]:[Environmental Profile]],RWS_[TETP],\"Not Found\",0)*Modellering!$I89,0)","v":0},{"$f":"IFERROR(_xlfn.XLOOKUP($F89,RWS_[[Environmental Profile]:[Environmental Profile]],RWS_[GWP2],\"Not Found\",0)*Modellering!$I89,0)","v":0},{"$f":"IFERROR(_xlfn.XLOOKUP($F89,RWS_[[Environmental Profile]:[Environmental Profile]],RWS_[GWP-F],\"Not Found\",0)*Modellering!$I89,0)","v":0},{"$f":"IFERROR(_xlfn.XLOOKUP($F89,RWS_[[Environmental Profile]:[Environmental Profile]],RWS_[GWP-B],\"Not Found\",0)*Modellering!$I89,0)","v":0},{"$f":"IFERROR(_xlfn.XLOOKUP($F89,RWS_[[Environmental Profile]:[Environmental Profile]],RWS_[GWP-L],\"Not Found\",0)*Modellering!$I89,0)","v":0},{"$f":"IFERROR(_xlfn.XLOOKUP($F89,RWS_[[Environmental Profile]:[Environmental Profile]],RWS_[ODP2],\"Not Found\",0)*Modellering!$I89,0)","v":0},{"$f":"IFERROR(_xlfn.XLOOKUP($F89,RWS_[[Environmental Profile]:[Environmental Profile]],RWS_[AP2],\"Not Found\",0)*Modellering!$I89,0)","v":0},{"$f":"IFERROR(_xlfn.XLOOKUP($F89,RWS_[[Environmental Profile]:[Environmental Profile]],RWS_[EP-FW],\"Not Found\",0)*Modellering!$I89,0)","v":0},{"$f":"IFERROR(_xlfn.XLOOKUP($F89,RWS_[[Environmental Profile]:[Environmental Profile]],RWS_[EP-M],\"Not Found\",0)*Modellering!$I89,0)","v":0},{"$f":"IFERROR(_xlfn.XLOOKUP($F89,RWS_[[Environmental Profile]:[Environmental Profile]],RWS_[EP-T],\"Not Found\",0)*Modellering!$I89,0)","v":0},{"$f":"IFERROR(_xlfn.XLOOKUP($F89,RWS_[[Environmental Profile]:[Environmental Profile]],RWS_[POCP2],\"Not Found\",0)*Modellering!$I89,0)","v":0},{"$f":"IFERROR(_xlfn.XLOOKUP($F89,RWS_[[Environmental Profile]:[Environmental Profile]],RWS_[ADP-MM],\"Not Found\",0)*Modellering!$I89,0)","v":0},{"$f":"IFERROR(_xlfn.XLOOKUP($F89,RWS_[[Environmental Profile]:[Environmental Profile]],RWS_[ADP-F],\"Not Found\",0)*Modellering!$I89,0)","v":0},{"$f":"IFERROR(_xlfn.XLOOKUP($F89,RWS_[[Environmental Profile]:[Environmental Profile]],RWS_[WDP],\"Not Found\",0)*Modellering!$I89,0)","v":0},{"$f":"IFERROR(_xlfn.XLOOKUP($F89,RWS_[[Environmental Profile]:[Environmental Profile]],RWS_[PM],\"Not Found\",0)*Modellering!$I89,0)","v":0},{"$f":"IFERROR(_xlfn.XLOOKUP($F89,RWS_[[Environmental Profile]:[Environmental Profile]],RWS_[IR],\"Not Found\",0)*Modellering!$I89,0)","v":0},{"$f":"IFERROR(_xlfn.XLOOKUP($F89,RWS_[[Environmental Profile]:[Environmental Profile]],RWS_[ETP-FW],\"Not Found\",0)*Modellering!$I89,0)","v":0},{"$f":"IFERROR(_xlfn.XLOOKUP($F89,RWS_[[Environmental Profile]:[Environmental Profile]],RWS_[HTP-C],\"Not Found\",0)*Modellering!$I89,0)","v":0},{"$f":"IFERROR(_xlfn.XLOOKUP($F89,RWS_[[Environmental Profile]:[Environmental Profile]],RWS_[HTP-NC],\"Not Found\",0)*Modellering!$I89,0)","v":0},{"$f":"IFERROR(_xlfn.XLOOKUP($F89,RWS_[[Environmental Profile]:[Environmental Profile]],RWS_[SQP],\"Not Found\",0)*Modellering!$I89,0)","v":0},{"$f":"IFERROR(_xlfn.XLOOKUP($F89,RWS_[[Environmental Profile]:[Environmental Profile]],RWS_[PERE],\"Not Found\",0)*Modellering!$I89,0)","v":0},{"$f":"IFERROR(_xlfn.XLOOKUP($F89,RWS_[[Environmental Profile]:[Environmental Profile]],RWS_[PERM],\"Not Found\",0)*Modellering!$I89,0)","v":0},{"$f":"IFERROR(_xlfn.XLOOKUP($F89,RWS_[[Environmental Profile]:[Environmental Profile]],RWS_[PERT],\"Not Found\",0)*Modellering!$I89,0)","v":0},{"$f":"IFERROR(_xlfn.XLOOKUP($F89,RWS_[[Environmental Profile]:[Environmental Profile]],RWS_[PENRE],\"Not Found\",0)*Modellering!$I89,0)","v":0},{"$f":"IFERROR(_xlfn.XLOOKUP($F89,RWS_[[Environmental Profile]:[Environmental Profile]],RWS_[PENRM],\"Not Found\",0)*Modellering!$I89,0)","v":0},{"$f":"IFERROR(_xlfn.XLOOKUP($F89,RWS_[[Environmental Profile]:[Environmental Profile]],RWS_[PENRT],\"Not Found\",0)*Modellering!$I89,0)","v":0},{"$f":"IFERROR(_xlfn.XLOOKUP($F89,RWS_[[Environmental Profile]:[Environmental Profile]],RWS_[SM],\"Not Found\",0)*Modellering!$I89,0)","v":0},{"$f":"IFERROR(_xlfn.XLOOKUP($F89,RWS_[[Environmental Profile]:[Environmental Profile]],RWS_[SF-R],\"Not Found\",0)*Modellering!$I89,0)","v":0},{"$f":"IFERROR(_xlfn.XLOOKUP($F89,RWS_[[Environmental Profile]:[Environmental Profile]],RWS_[SF-NR],\"Not Found\",0)*Modellering!$I89,0)","v":0},{"$f":"IFERROR(_xlfn.XLOOKUP($F89,RWS_[[Environmental Profile]:[Environmental Profile]],RWS_[FW],\"Not Found\",0)*Modellering!$I89,0)","v":0},{"$f":"IFERROR(_xlfn.XLOOKUP($F89,RWS_[[Environmental Profile]:[Environmental Profile]],RWS_[HWD],\"Not Found\",0)*Modellering!$I89,0)","v":0},{"$f":"IFERROR(_xlfn.XLOOKUP($F89,RWS_[[Environmental Profile]:[Environmental Profile]],RWS_[NHWD],\"Not Found\",0)*Modellering!$I89,0)","v":0},{"$f":"IFERROR(_xlfn.XLOOKUP($F89,RWS_[[Environmental Profile]:[Environmental Profile]],RWS_[RWD],\"Not Found\",0)*Modellering!$I89,0)","v":0},{"$f":"IFERROR(_xlfn.XLOOKUP($F89,RWS_[[Environmental Profile]:[Environmental Profile]],RWS_[CRU],\"Not Found\",0)*Modellering!$I89,0)","v":0},{"$f":"IFERROR(_xlfn.XLOOKUP($F89,RWS_[[Environmental Profile]:[Environmental Profile]],RWS_[MFR],\"Not Found\",0)*Modellering!$I89,0)","v":0},{"$f":"IFERROR(_xlfn.XLOOKUP($F89,RWS_[[Environmental Profile]:[Environmental Profile]],RWS_[MER],\"Not Found\",0)*Modellering!$I89,0)","v":0},{"$f":"IFERROR(_xlfn.XLOOKUP($F89,RWS_[[Environmental Profile]:[Environmental Profile]],RWS_[EE-E],\"Not Found\",0)*Modellering!$I89,0)","v":0},{"$f":"IFERROR(_xlfn.XLOOKUP($F89,RWS_[[Environmental Profile]:[Environmental Profile]],RWS_[EE-T],\"Not Found\",0)*Modellering!$I89,0)","v":0}]
[null,null,"Gebruiksprofiel","PM Emissies","B1","*RWS Gebruiksprofiel - PM emissie naar lucht","PM Emissies","kg",{"$f":"IF(Invoerblad!$H$67=\"Nee\",PM_NOx!$F$63,IF(Invoerblad!$H$70=\"Nee\",PM_NOx!$F$63,PM_NOx!$F$66))","v":""},null,{"$f":"IFERROR(_xlfn.XLOOKUP($F90,RWS_[[Environmental Profile]:[Environmental Profile]],RWS_[ECI-A1],\"Not Found\",0)*Modellering!$I90,0)","v":0},{"$f":"IFERROR(_xlfn.XLOOKUP($F90,RWS_[[Environmental Profile]:[Environmental Profile]],RWS_[ECI-A2],\"Not Found\",0)*Modellering!$I90,0)","v":0},{"$f":"IFERROR(_xlfn.XLOOKUP($F90,RWS_[[Environmental Profile]:[Environmental Profile]],RWS_[ADPE],\"Not Found\",0)*Modellering!$I90,0)","v":0},{"$f":"IFERROR(_xlfn.XLOOKUP($F90,RWS_[[Environmental Profile]:[Environmental Profile]],RWS_[ADPF],\"Not Found\",0)*Modellering!$I90,0)","v":0},{"$f":"IFERROR(_xlfn.XLOOKUP($F90,RWS_[[Environmental Profile]:[Environmental Profile]],RWS_[GWP1],\"Not Found\",0)*Modellering!$I90,0)","v":0},{"$f":"IFERROR(_xlfn.XLOOKUP($F90,RWS_[[Environmental Profile]:[Environmental Profile]],RWS_[ODP1],\"Not Found\",0)*Modellering!$I90,0)","v":0},{"$f":"IFERROR(_xlfn.XLOOKUP($F90,RWS_[[Environmental Profile]:[Environmental Profile]],RWS_[POCP],\"Not Found\",0)*Modellering!$I90,0)","v":0},{"$f":"IFERROR(_xlfn.XLOOKUP($F90,RWS_[[Environmental Profile]:[Environmental Profile]],RWS_[AP],\"Not Found\",0)*Modellering!$I90,0)","v":0},{"$f":"IFERROR(_xlfn.XLOOKUP($F90,RWS_[[Environmental Profile]:[Environmental Profile]],RWS_[EP],\"Not Found\",0)*Modellering!$I90,0)","v":0},{"$f":"IFERROR(_xlfn.XLOOKUP($F90,RWS_[[Environmental Profile]:[Environmental Profile]],RWS_[HTP],\"Not Found\",0)*Modellering!$I90,0)","v":0},{"$f":"IFERROR(_xlfn.XLOOKUP($F90,RWS_[[Environmental Profile]:[Environmental Profile]],RWS_[FAETP],\"Not Found\",0)*Modellering!$I90,0)","v":0},{"$f":"IFERROR(_xlfn.XLOOKUP($F90,RWS_[[Environmental Profile]:[Environmental Profile]],RWS_[MAETP],\"Not Found\",0)*Modellering!$I90,0)","v":0},{"$f":"IFERROR(_xlfn.XLOOKUP($F90,RWS_[[Environmental Profile]:[Environmental Profile]],RWS_[TETP],\"Not Found\",0)*Modellering!$I90,0)","v":0},{"$f":"IFERROR(_xlfn.XLOOKUP($F90,RWS_[[Environmental Profile]:[Environmental Profile]],RWS_[GWP2],\"Not Found\",0)*Modellering!$I90,0)","v":0},{"$f":"IFERROR(_xlfn.XLOOKUP($F90,RWS_[[Environmental Profile]:[Environmental Profile]],RWS_[GWP-F],\"Not Found\",0)*Modellering!$I90,0)","v":0},{"$f":"IFERROR(_xlfn.XLOOKUP($F90,RWS_[[Environmental Profile]:[Environmental Profile]],RWS_[GWP-B],\"Not Found\",0)*Modellering!$I90,0)","v":0},{"$f":"IFERROR(_xlfn.XLOOKUP($F90,RWS_[[Environmental Profile]:[Environmental Profile]],RWS_[GWP-L],\"Not Found\",0)*Modellering!$I90,0)","v":0},{"$f":"IFERROR(_xlfn.XLOOKUP($F90,RWS_[[Environmental Profile]:[Environmental Profile]],RWS_[ODP2],\"Not Found\",0)*Modellering!$I90,0)","v":0},{"$f":"IFERROR(_xlfn.XLOOKUP($F90,RWS_[[Environmental Profile]:[Environmental Profile]],RWS_[AP2],\"Not Found\",0)*Modellering!$I90,0)","v":0},{"$f":"IFERROR(_xlfn.XLOOKUP($F90,RWS_[[Environmental Profile]:[Environmental Profile]],RWS_[EP-FW],\"Not Found\",0)*Modellering!$I90,0)","v":0},{"$f":"IFERROR(_xlfn.XLOOKUP($F90,RWS_[[Environmental Profile]:[Environmental Profile]],RWS_[EP-M],\"Not Found\",0)*Modellering!$I90,0)","v":0},{"$f":"IFERROR(_xlfn.XLOOKUP($F90,RWS_[[Environmental Profile]:[Environmental Profile]],RWS_[EP-T],\"Not Found\",0)*Modellering!$I90,0)","v":0},{"$f":"IFERROR(_xlfn.XLOOKUP($F90,RWS_[[Environmental Profile]:[Environmental Profile]],RWS_[POCP2],\"Not Found\",0)*Modellering!$I90,0)","v":0},{"$f":"IFERROR(_xlfn.XLOOKUP($F90,RWS_[[Environmental Profile]:[Environmental Profile]],RWS_[ADP-MM],\"Not Found\",0)*Modellering!$I90,0)","v":0},{"$f":"IFERROR(_xlfn.XLOOKUP($F90,RWS_[[Environmental Profile]:[Environmental Profile]],RWS_[ADP-F],\"Not Found\",0)*Modellering!$I90,0)","v":0},{"$f":"IFERROR(_xlfn.XLOOKUP($F90,RWS_[[Environmental Profile]:[Environmental Profile]],RWS_[WDP],\"Not Found\",0)*Modellering!$I90,0)","v":0},{"$f":"IFERROR(_xlfn.XLOOKUP($F90,RWS_[[Environmental Profile]:[Environmental Profile]],RWS_[PM],\"Not Found\",0)*Modellering!$I90,0)","v":0},{"$f":"IFERROR(_xlfn.XLOOKUP($F90,RWS_[[Environmental Profile]:[Environmental Profile]],RWS_[IR],\"Not Found\",0)*Modellering!$I90,0)","v":0},{"$f":"IFERROR(_xlfn.XLOOKUP($F90,RWS_[[Environmental Profile]:[Environmental Profile]],RWS_[ETP-FW],\"Not Found\",0)*Modellering!$I90,0)","v":0},{"$f":"IFERROR(_xlfn.XLOOKUP($F90,RWS_[[Environmental Profile]:[Environmental Profile]],RWS_[HTP-C],\"Not Found\",0)*Modellering!$I90,0)","v":0},{"$f":"IFERROR(_xlfn.XLOOKUP($F90,RWS_[[Environmental Profile]:[Environmental Profile]],RWS_[HTP-NC],\"Not Found\",0)*Modellering!$I90,0)","v":0},{"$f":"IFERROR(_xlfn.XLOOKUP($F90,RWS_[[Environmental Profile]:[Environmental Profile]],RWS_[SQP],\"Not Found\",0)*Modellering!$I90,0)","v":0},{"$f":"IFERROR(_xlfn.XLOOKUP($F90,RWS_[[Environmental Profile]:[Environmental Profile]],RWS_[PERE],\"Not Found\",0)*Modellering!$I90,0)","v":0},{"$f":"IFERROR(_xlfn.XLOOKUP($F90,RWS_[[Environmental Profile]:[Environmental Profile]],RWS_[PERM],\"Not Found\",0)*Modellering!$I90,0)","v":0},{"$f":"IFERROR(_xlfn.XLOOKUP($F90,RWS_[[Environmental Profile]:[Environmental Profile]],RWS_[PERT],\"Not Found\",0)*Modellering!$I90,0)","v":0},{"$f":"IFERROR(_xlfn.XLOOKUP($F90,RWS_[[Environmental Profile]:[Environmental Profile]],RWS_[PENRE],\"Not Found\",0)*Modellering!$I90,0)","v":0},{"$f":"IFERROR(_xlfn.XLOOKUP($F90,RWS_[[Environmental Profile]:[Environmental Profile]],RWS_[PENRM],\"Not Found\",0)*Modellering!$I90,0)","v":0},{"$f":"IFERROR(_xlfn.XLOOKUP($F90,RWS_[[Environmental Profile]:[Environmental Profile]],RWS_[PENRT],\"Not Found\",0)*Modellering!$I90,0)","v":0},{"$f":"IFERROR(_xlfn.XLOOKUP($F90,RWS_[[Environmental Profile]:[Environmental Profile]],RWS_[SM],\"Not Found\",0)*Modellering!$I90,0)","v":0},{"$f":"IFERROR(_xlfn.XLOOKUP($F90,RWS_[[Environmental Profile]:[Environmental Profile]],RWS_[SF-R],\"Not Found\",0)*Modellering!$I90,0)","v":0},{"$f":"IFERROR(_xlfn.XLOOKUP($F90,RWS_[[Environmental Profile]:[Environmental Profile]],RWS_[SF-NR],\"Not Found\",0)*Modellering!$I90,0)","v":0},{"$f":"IFERROR(_xlfn.XLOOKUP($F90,RWS_[[Environmental Profile]:[Environmental Profile]],RWS_[FW],\"Not Found\",0)*Modellering!$I90,0)","v":0},{"$f":"IFERROR(_xlfn.XLOOKUP($F90,RWS_[[Environmental Profile]:[Environmental Profile]],RWS_[HWD],\"Not Found\",0)*Modellering!$I90,0)","v":0},{"$f":"IFERROR(_xlfn.XLOOKUP($F90,RWS_[[Environmental Profile]:[Environmental Profile]],RWS_[NHWD],\"Not Found\",0)*Modellering!$I90,0)","v":0},{"$f":"IFERROR(_xlfn.XLOOKUP($F90,RWS_[[Environmental Profile]:[Environmental Profile]],RWS_[RWD],\"Not Found\",0)*Modellering!$I90,0)","v":0},{"$f":"IFERROR(_xlfn.XLOOKUP($F90,RWS_[[Environmental Profile]:[Environmental Profile]],RWS_[CRU],\"Not Found\",0)*Modellering!$I90,0)","v":0},{"$f":"IFERROR(_xlfn.XLOOKUP($F90,RWS_[[Environmental Profile]:[Environmental Profile]],RWS_[MFR],\"Not Found\",0)*Modellering!$I90,0)","v":0},{"$f":"IFERROR(_xlfn.XLOOKUP($F90,RWS_[[Environmental Profile]:[Environmental Profile]],RWS_[MER],\"Not Found\",0)*Modellering!$I90,0)","v":0},{"$f":"IFERROR(_xlfn.XLOOKUP($F90,RWS_[[Environmental Profile]:[Environmental Profile]],RWS_[EE-E],\"Not Found\",0)*Modellering!$I90,0)","v":0},{"$f":"IFERROR(_xlfn.XLOOKUP($F90,RWS_[[Environmental Profile]:[Environmental Profile]],RWS_[EE-T],\"Not Found\",0)*Modellering!$I90,0)","v":0}]
[null,null,"Kapitaalgoederen","Casco Schip","B1",{"$f":"_xlfn.XLOOKUP(Invoerblad!$D$32,Capital_Short[Lookup Help],Capital_Short[Kapitaalgoederen B1],\"Not Found\",0)","v":"*RWS Kapitaalgoederen - Baggeren Zout (MGO)"},"Kapitaalgoederen - Schip (Zout)","ton",{"$f":"IF(Invoerblad!$D$32=\"Binnenvaart\",(_xlfn.XLOOKUP(Invoerblad!$H$44&Invoerblad!$H$46,Emi_Short[Brandstof]&Emi_Short[MotCel2],Emi_Short[Afkap_Zoet],\"Not Found\",0)),(_xlfn.XLOOKUP(Invoerblad!$H$44&Invoerblad!$H$46,Emi_Short[Brandstof]&Emi_Short[MotCel2],Emi_Short[Afkap_Zout],\"Not Found\",0)))","v":"Not Found"},null,{"$f":"IFERROR(_xlfn.XLOOKUP($F91,RWS_[[Environmental Profile]:[Environmental Profile]],RWS_[ECI-A1],\"Not Found\",0)*Modellering!$I91,0)","v":0},{"$f":"IFERROR(_xlfn.XLOOKUP($F91,RWS_[[Environmental Profile]:[Environmental Profile]],RWS_[ECI-A2],\"Not Found\",0)*Modellering!$I91,0)","v":0},{"$f":"IFERROR(_xlfn.XLOOKUP($F91,RWS_[[Environmental Profile]:[Environmental Profile]],RWS_[ADPE],\"Not Found\",0)*Modellering!$I91,0)","v":0},{"$f":"IFERROR(_xlfn.XLOOKUP($F91,RWS_[[Environmental Profile]:[Environmental Profile]],RWS_[ADPF],\"Not Found\",0)*Modellering!$I91,0)","v":0},{"$f":"IFERROR(_xlfn.XLOOKUP($F91,RWS_[[Environmental Profile]:[Environmental Profile]],RWS_[GWP1],\"Not Found\",0)*Modellering!$I91,0)","v":0},{"$f":"IFERROR(_xlfn.XLOOKUP($F91,RWS_[[Environmental Profile]:[Environmental Profile]],RWS_[ODP1],\"Not Found\",0)*Modellering!$I91,0)","v":0},{"$f":"IFERROR(_xlfn.XLOOKUP($F91,RWS_[[Environmental Profile]:[Environmental Profile]],RWS_[POCP],\"Not Found\",0)*Modellering!$I91,0)","v":0},{"$f":"IFERROR(_xlfn.XLOOKUP($F91,RWS_[[Environmental Profile]:[Environmental Profile]],RWS_[AP],\"Not Found\",0)*Modellering!$I91,0)","v":0},{"$f":"IFERROR(_xlfn.XLOOKUP($F91,RWS_[[Environmental Profile]:[Environmental Profile]],RWS_[EP],\"Not Found\",0)*Modellering!$I91,0)","v":0},{"$f":"IFERROR(_xlfn.XLOOKUP($F91,RWS_[[Environmental Profile]:[Environmental Profile]],RWS_[HTP],\"Not Found\",0)*Modellering!$I91,0)","v":0},{"$f":"IFERROR(_xlfn.XLOOKUP($F91,RWS_[[Environmental Profile]:[Environmental Profile]],RWS_[FAETP],\"Not Found\",0)*Modellering!$I91,0)","v":0},{"$f":"IFERROR(_xlfn.XLOOKUP($F91,RWS_[[Environmental Profile]:[Environmental Profile]],RWS_[MAETP],\"Not Found\",0)*Modellering!$I91,0)","v":0},{"$f":"IFERROR(_xlfn.XLOOKUP($F91,RWS_[[Environmental Profile]:[Environmental Profile]],RWS_[TETP],\"Not Found\",0)*Modellering!$I91,0)","v":0},{"$f":"IFERROR(_xlfn.XLOOKUP($F91,RWS_[[Environmental Profile]:[Environmental Profile]],RWS_[GWP2],\"Not Found\",0)*Modellering!$I91,0)","v":0},{"$f":"IFERROR(_xlfn.XLOOKUP($F91,RWS_[[Environmental Profile]:[Environmental Profile]],RWS_[GWP-F],\"Not Found\",0)*Modellering!$I91,0)","v":0},{"$f":"IFERROR(_xlfn.XLOOKUP($F91,RWS_[[Environmental Profile]:[Environmental Profile]],RWS_[GWP-B],\"Not Found\",0)*Modellering!$I91,0)","v":0},{"$f":"IFERROR(_xlfn.XLOOKUP($F91,RWS_[[Environmental Profile]:[Environmental Profile]],RWS_[GWP-L],\"Not Found\",0)*Modellering!$I91,0)","v":0},{"$f":"IFERROR(_xlfn.XLOOKUP($F91,RWS_[[Environmental Profile]:[Environmental Profile]],RWS_[ODP2],\"Not Found\",0)*Modellering!$I91,0)","v":0},{"$f":"IFERROR(_xlfn.XLOOKUP($F91,RWS_[[Environmental Profile]:[Environmental Profile]],RWS_[AP2],\"Not Found\",0)*Modellering!$I91,0)","v":0},{"$f":"IFERROR(_xlfn.XLOOKUP($F91,RWS_[[Environmental Profile]:[Environmental Profile]],RWS_[EP-FW],\"Not Found\",0)*Modellering!$I91,0)","v":0},{"$f":"IFERROR(_xlfn.XLOOKUP($F91,RWS_[[Environmental Profile]:[Environmental Profile]],RWS_[EP-M],\"Not Found\",0)*Modellering!$I91,0)","v":0},{"$f":"IFERROR(_xlfn.XLOOKUP($F91,RWS_[[Environmental Profile]:[Environmental Profile]],RWS_[EP-T],\"Not Found\",0)*Modellering!$I91,0)","v":0},{"$f":"IFERROR(_xlfn.XLOOKUP($F91,RWS_[[Environmental Profile]:[Environmental Profile]],RWS_[POCP2],\"Not Found\",0)*Modellering!$I91,0)","v":0},{"$f":"IFERROR(_xlfn.XLOOKUP($F91,RWS_[[Environmental Profile]:[Environmental Profile]],RWS_[ADP-MM],\"Not Found\",0)*Modellering!$I91,0)","v":0},{"$f":"IFERROR(_xlfn.XLOOKUP($F91,RWS_[[Environmental Profile]:[Environmental Profile]],RWS_[ADP-F],\"Not Found\",0)*Modellering!$I91,0)","v":0},{"$f":"IFERROR(_xlfn.XLOOKUP($F91,RWS_[[Environmental Profile]:[Environmental Profile]],RWS_[WDP],\"Not Found\",0)*Modellering!$I91,0)","v":0},{"$f":"IFERROR(_xlfn.XLOOKUP($F91,RWS_[[Environmental Profile]:[Environmental Profile]],RWS_[PM],\"Not Found\",0)*Modellering!$I91,0)","v":0},{"$f":"IFERROR(_xlfn.XLOOKUP($F91,RWS_[[Environmental Profile]:[Environmental Profile]],RWS_[IR],\"Not Found\",0)*Modellering!$I91,0)","v":0},{"$f":"IFERROR(_xlfn.XLOOKUP($F91,RWS_[[Environmental Profile]:[Environmental Profile]],RWS_[ETP-FW],\"Not Found\",0)*Modellering!$I91,0)","v":0},{"$f":"IFERROR(_xlfn.XLOOKUP($F91,RWS_[[Environmental Profile]:[Environmental Profile]],RWS_[HTP-C],\"Not Found\",0)*Modellering!$I91,0)","v":0},{"$f":"IFERROR(_xlfn.XLOOKUP($F91,RWS_[[Environmental Profile]:[Environmental Profile]],RWS_[HTP-NC],\"Not Found\",0)*Modellering!$I91,0)","v":0},{"$f":"IFERROR(_xlfn.XLOOKUP($F91,RWS_[[Environmental Profile]:[Environmental Profile]],RWS_[SQP],\"Not Found\",0)*Modellering!$I91,0)","v":0},{"$f":"IFERROR(_xlfn.XLOOKUP($F91,RWS_[[Environmental Profile]:[Environmental Profile]],RWS_[PERE],\"Not Found\",0)*Modellering!$I91,0)","v":0},{"$f":"IFERROR(_xlfn.XLOOKUP($F91,RWS_[[Environmental Profile]:[Environmental Profile]],RWS_[PERM],\"Not Found\",0)*Modellering!$I91,0)","v":0},{"$f":"IFERROR(_xlfn.XLOOKUP($F91,RWS_[[Environmental Profile]:[Environmental Profile]],RWS_[PERT],\"Not Found\",0)*Modellering!$I91,0)","v":0},{"$f":"IFERROR(_xlfn.XLOOKUP($F91,RWS_[[Environmental Profile]:[Environmental Profile]],RWS_[PENRE],\"Not Found\",0)*Modellering!$I91,0)","v":0},{"$f":"IFERROR(_xlfn.XLOOKUP($F91,RWS_[[Environmental Profile]:[Environmental Profile]],RWS_[PENRM],\"Not Found\",0)*Modellering!$I91,0)","v":0},{"$f":"IFERROR(_xlfn.XLOOKUP($F91,RWS_[[Environmental Profile]:[Environmental Profile]],RWS_[PENRT],\"Not Found\",0)*Modellering!$I91,0)","v":0},{"$f":"IFERROR(_xlfn.XLOOKUP($F91,RWS_[[Environmental Profile]:[Environmental Profile]],RWS_[SM],\"Not Found\",0)*Modellering!$I91,0)","v":0},{"$f":"IFERROR(_xlfn.XLOOKUP($F91,RWS_[[Environmental Profile]:[Environmental Profile]],RWS_[SF-R],\"Not Found\",0)*Modellering!$I91,0)","v":0},{"$f":"IFERROR(_xlfn.XLOOKUP($F91,RWS_[[Environmental Profile]:[Environmental Profile]],RWS_[SF-NR],\"Not Found\",0)*Modellering!$I91,0)","v":0},{"$f":"IFERROR(_xlfn.XLOOKUP($F91,RWS_[[Environmental Profile]:[Environmental Profile]],RWS_[FW],\"Not Found\",0)*Modellering!$I91,0)","v":0},{"$f":"IFERROR(_xlfn.XLOOKUP($F91,RWS_[[Environmental Profile]:[Environmental Profile]],RWS_[HWD],\"Not Found\",0)*Modellering!$I91,0)","v":0},{"$f":"IFERROR(_xlfn.XLOOKUP($F91,RWS_[[Environmental Profile]:[Environmental Profile]],RWS_[NHWD],\"Not Found\",0)*Modellering!$I91,0)","v":0},{"$f":"IFERROR(_xlfn.XLOOKUP($F91,RWS_[[Environmental Profile]:[Environmental Profile]],RWS_[RWD],\"Not Found\",0)*Modellering!$I91,0)","v":0},{"$f":"IFERROR(_xlfn.XLOOKUP($F91,RWS_[[Environmental Profile]:[Environmental Profile]],RWS_[CRU],\"Not Found\",0)*Modellering!$I91,0)","v":0},{"$f":"IFERROR(_xlfn.XLOOKUP($F91,RWS_[[Environmental Profile]:[Environmental Profile]],RWS_[MFR],\"Not Found\",0)*Modellering!$I91,0)","v":0},{"$f":"IFERROR(_xlfn.XLOOKUP($F91,RWS_[[Environmental Profile]:[Environmental Profile]],RWS_[MER],\"Not Found\",0)*Modellering!$I91,0)","v":0},{"$f":"IFERROR(_xlfn.XLOOKUP($F91,RWS_[[Environmental Profile]:[Environmental Profile]],RWS_[EE-E],\"Not Found\",0)*Modellering!$I91,0)","v":0},{"$f":"IFERROR(_xlfn.XLOOKUP($F91,RWS_[[Environmental Profile]:[Environmental Profile]],RWS_[EE-T],\"Not Found\",0)*Modellering!$I91,0)","v":0}]
[null,null,"Kapitaalgoederen","Aandrijving (Type Motor)","B1",{"$f":"_xlfn.XLOOKUP(Invoerblad!$H$44&Invoerblad!$H$46,Emi_Short[Brandstof]&Emi_Short[MotCel2],Emi_Short[Kapitaalgoed Motor (B1)],\"Not Found\",0)","v":"Not Found"},"","Not Found",{"$f":"IF(Invoerblad!$D$32=\"Binnenvaart\",(_xlfn.XLOOKUP(Invoerblad!H$44&Invoerblad!H$46,Emi_Short[Brandstof]&Emi_Short[MotCel2],Emi_Short[VM / EA Zoet],\"Not Found\",0)),(_xlfn.XLOOKUP(Invoerblad!H$44&Invoerblad!H$46,Emi_Short[Brandstof]&Emi_Short[MotCel2],Emi_Short[VM / EA Zout],\"\",0)))","v":""},null,{"$f":"IFERROR(_xlfn.XLOOKUP($F92,RWS_[[Environmental Profile]:[Environmental Profile]],RWS_[ECI-A1],\"Not Found\",0)*Modellering!$I92,0)","v":0},{"$f":"IFERROR(_xlfn.XLOOKUP($F92,RWS_[[Environmental Profile]:[Environmental Profile]],RWS_[ECI-A2],\"Not Found\",0)*Modellering!$I92,0)","v":0},{"$f":"IFERROR(_xlfn.XLOOKUP($F92,RWS_[[Environmental Profile]:[Environmental Profile]],RWS_[ADPE],\"Not Found\",0)*Modellering!$I92,0)","v":0},{"$f":"IFERROR(_xlfn.XLOOKUP($F92,RWS_[[Environmental Profile]:[Environmental Profile]],RWS_[ADPF],\"Not Found\",0)*Modellering!$I92,0)","v":0},{"$f":"IFERROR(_xlfn.XLOOKUP($F92,RWS_[[Environmental Profile]:[Environmental Profile]],RWS_[GWP1],\"Not Found\",0)*Modellering!$I92,0)","v":0},{"$f":"IFERROR(_xlfn.XLOOKUP($F92,RWS_[[Environmental Profile]:[Environmental Profile]],RWS_[ODP1],\"Not Found\",0)*Modellering!$I92,0)","v":0},{"$f":"IFERROR(_xlfn.XLOOKUP($F92,RWS_[[Environmental Profile]:[Environmental Profile]],RWS_[POCP],\"Not Found\",0)*Modellering!$I92,0)","v":0},{"$f":"IFERROR(_xlfn.XLOOKUP($F92,RWS_[[Environmental Profile]:[Environmental Profile]],RWS_[AP],\"Not Found\",0)*Modellering!$I92,0)","v":0},{"$f":"IFERROR(_xlfn.XLOOKUP($F92,RWS_[[Environmental Profile]:[Environmental Profile]],RWS_[EP],\"Not Found\",0)*Modellering!$I92,0)","v":0},{"$f":"IFERROR(_xlfn.XLOOKUP($F92,RWS_[[Environmental Profile]:[Environmental Profile]],RWS_[HTP],\"Not Found\",0)*Modellering!$I92,0)","v":0},{"$f":"IFERROR(_xlfn.XLOOKUP($F92,RWS_[[Environmental Profile]:[Environmental Profile]],RWS_[FAETP],\"Not Found\",0)*Modellering!$I92,0)","v":0},{"$f":"IFERROR(_xlfn.XLOOKUP($F92,RWS_[[Environmental Profile]:[Environmental Profile]],RWS_[MAETP],\"Not Found\",0)*Modellering!$I92,0)","v":0},{"$f":"IFERROR(_xlfn.XLOOKUP($F92,RWS_[[Environmental Profile]:[Environmental Profile]],RWS_[TETP],\"Not Found\",0)*Modellering!$I92,0)","v":0},{"$f":"IFERROR(_xlfn.XLOOKUP($F92,RWS_[[Environmental Profile]:[Environmental Profile]],RWS_[GWP2],\"Not Found\",0)*Modellering!$I92,0)","v":0},{"$f":"IFERROR(_xlfn.XLOOKUP($F92,RWS_[[Environmental Profile]:[Environmental Profile]],RWS_[GWP-F],\"Not Found\",0)*Modellering!$I92,0)","v":0},{"$f":"IFERROR(_xlfn.XLOOKUP($F92,RWS_[[Environmental Profile]:[Environmental Profile]],RWS_[GWP-B],\"Not Found\",0)*Modellering!$I92,0)","v":0},{"$f":"IFERROR(_xlfn.XLOOKUP($F92,RWS_[[Environmental Profile]:[Environmental Profile]],RWS_[GWP-L],\"Not Found\",0)*Modellering!$I92,0)","v":0},{"$f":"IFERROR(_xlfn.XLOOKUP($F92,RWS_[[Environmental Profile]:[Environmental Profile]],RWS_[ODP2],\"Not Found\",0)*Modellering!$I92,0)","v":0},{"$f":"IFERROR(_xlfn.XLOOKUP($F92,RWS_[[Environmental Profile]:[Environmental Profile]],RWS_[AP2],\"Not Found\",0)*Modellering!$I92,0)","v":0},{"$f":"IFERROR(_xlfn.XLOOKUP($F92,RWS_[[Environmental Profile]:[Environmental Profile]],RWS_[EP-FW],\"Not Found\",0)*Modellering!$I92,0)","v":0},{"$f":"IFERROR(_xlfn.XLOOKUP($F92,RWS_[[Environmental Profile]:[Environmental Profile]],RWS_[EP-M],\"Not Found\",0)*Modellering!$I92,0)","v":0},{"$f":"IFERROR(_xlfn.XLOOKUP($F92,RWS_[[Environmental Profile]:[Environmental Profile]],RWS_[EP-T],\"Not Found\",0)*Modellering!$I92,0)","v":0},{"$f":"IFERROR(_xlfn.XLOOKUP($F92,RWS_[[Environmental Profile]:[Environmental Profile]],RWS_[POCP2],\"Not Found\",0)*Modellering!$I92,0)","v":0},{"$f":"IFERROR(_xlfn.XLOOKUP($F92,RWS_[[Environmental Profile]:[Environmental Profile]],RWS_[ADP-MM],\"Not Found\",0)*Modellering!$I92,0)","v":0},{"$f":"IFERROR(_xlfn.XLOOKUP($F92,RWS_[[Environmental Profile]:[Environmental Profile]],RWS_[ADP-F],\"Not Found\",0)*Modellering!$I92,0)","v":0},{"$f":"IFERROR(_xlfn.XLOOKUP($F92,RWS_[[Environmental Profile]:[Environmental Profile]],RWS_[WDP],\"Not Found\",0)*Modellering!$I92,0)","v":0},{"$f":"IFERROR(_xlfn.XLOOKUP($F92,RWS_[[Environmental Profile]:[Environmental Profile]],RWS_[PM],\"Not Found\",0)*Modellering!$I92,0)","v":0},{"$f":"IFERROR(_xlfn.XLOOKUP($F92,RWS_[[Environmental Profile]:[Environmental Profile]],RWS_[IR],\"Not Found\",0)*Modellering!$I92,0)","v":0},{"$f":"IFERROR(_xlfn.XLOOKUP($F92,RWS_[[Environmental Profile]:[Environmental Profile]],RWS_[ETP-FW],\"Not Found\",0)*Modellering!$I92,0)","v":0},{"$f":"IFERROR(_xlfn.XLOOKUP($F92,RWS_[[Environmental Profile]:[Environmental Profile]],RWS_[HTP-C],\"Not Found\",0)*Modellering!$I92,0)","v":0},{"$f":"IFERROR(_xlfn.XLOOKUP($F92,RWS_[[Environmental Profile]:[Environmental Profile]],RWS_[HTP-NC],\"Not Found\",0)*Modellering!$I92,0)","v":0},{"$f":"IFERROR(_xlfn.XLOOKUP($F92,RWS_[[Environmental Profile]:[Environmental Profile]],RWS_[SQP],\"Not Found\",0)*Modellering!$I92,0)","v":0},{"$f":"IFERROR(_xlfn.XLOOKUP($F92,RWS_[[Environmental Profile]:[Environmental Profile]],RWS_[PERE],\"Not Found\",0)*Modellering!$I92,0)","v":0},{"$f":"IFERROR(_xlfn.XLOOKUP($F92,RWS_[[Environmental Profile]:[Environmental Profile]],RWS_[PERM],\"Not Found\",0)*Modellering!$I92,0)","v":0},{"$f":"IFERROR(_xlfn.XLOOKUP($F92,RWS_[[Environmental Profile]:[Environmental Profile]],RWS_[PERT],\"Not Found\",0)*Modellering!$I92,0)","v":0},{"$f":"IFERROR(_xlfn.XLOOKUP($F92,RWS_[[Environmental Profile]:[Environmental Profile]],RWS_[PENRE],\"Not Found\",0)*Modellering!$I92,0)","v":0},{"$f":"IFERROR(_xlfn.XLOOKUP($F92,RWS_[[Environmental Profile]:[Environmental Profile]],RWS_[PENRM],\"Not Found\",0)*Modellering!$I92,0)","v":0},{"$f":"IFERROR(_xlfn.XLOOKUP($F92,RWS_[[Environmental Profile]:[Environmental Profile]],RWS_[PENRT],\"Not Found\",0)*Modellering!$I92,0)","v":0},{"$f":"IFERROR(_xlfn.XLOOKUP($F92,RWS_[[Environmental Profile]:[Environmental Profile]],RWS_[SM],\"Not Found\",0)*Modellering!$I92,0)","v":0},{"$f":"IFERROR(_xlfn.XLOOKUP($F92,RWS_[[Environmental Profile]:[Environmental Profile]],RWS_[SF-R],\"Not Found\",0)*Modellering!$I92,0)","v":0},{"$f":"IFERROR(_xlfn.XLOOKUP($F92,RWS_[[Environmental Profile]:[Environmental Profile]],RWS_[SF-NR],\"Not Found\",0)*Modellering!$I92,0)","v":0},{"$f":"IFERROR(_xlfn.XLOOKUP($F92,RWS_[[Environmental Profile]:[Environmental Profile]],RWS_[FW],\"Not Found\",0)*Modellering!$I92,0)","v":0},{"$f":"IFERROR(_xlfn.XLOOKUP($F92,RWS_[[Environmental Profile]:[Environmental Profile]],RWS_[HWD],\"Not Found\",0)*Modellering!$I92,0)","v":0},{"$f":"IFERROR(_xlfn.XLOOKUP($F92,RWS_[[Environmental Profile]:[Environmental Profile]],RWS_[NHWD],\"Not Found\",0)*Modellering!$I92,0)","v":0},{"$f":"IFERROR(_xlfn.XLOOKUP($F92,RWS_[[Environmental Profile]:[Environmental Profile]],RWS_[RWD],\"Not Found\",0)*Modellering!$I92,0)","v":0},{"$f":"IFERROR(_xlfn.XLOOKUP($F92,RWS_[[Environmental Profile]:[Environmental Profile]],RWS_[CRU],\"Not Found\",0)*Modellering!$I92,0)","v":0},{"$f":"IFERROR(_xlfn.XLOOKUP($F92,RWS_[[Environmental Profile]:[Environmental Profile]],RWS_[MFR],\"Not Found\",0)*Modellering!$I92,0)","v":0},{"$f":"IFERROR(_xlfn.XLOOKUP($F92,RWS_[[Environmental Profile]:[Environmental Profile]],RWS_[MER],\"Not Found\",0)*Modellering!$I92,0)","v":0},{"$f":"IFERROR(_xlfn.XLOOKUP($F92,RWS_[[Environmental Profile]:[Environmental Profile]],RWS_[EE-E],\"Not Found\",0)*Modellering!$I92,0)","v":0},{"$f":"IFERROR(_xlfn.XLOOKUP($F92,RWS_[[Environmental Profile]:[Environmental Profile]],RWS_[EE-T],\"Not Found\",0)*Modellering!$I92,0)","v":0}]
[null,null,"Kapitaalgoederen","Accu","B1",{"$f":"IF($F92=\"*RWS Kapitaalgoederen aandrijving elektrisch schip (100 kW) (inlusief EOL en reD)\",\"Accu, Lithium-ion, per kWh accucapaciteit (o.b.v. 5kg per kWh)\",\"Niet van Toepassing\")","v":"Niet van Toepassing"},"","Not Found",{"$f":"_xlfn.XLOOKUP(Invoerblad!$H$44,PM_NOx!$A$47:$A$51,PM_NOx!$B$47:$B$51,0,0)","v":0},null,{"$f":"IFERROR(_xlfn.XLOOKUP($F93,RWS_[[Environmental Profile]:[Environmental Profile]],RWS_[ECI-A1],\"Not Found\",0)*Modellering!$I93,0)","v":0},{"$f":"IFERROR(_xlfn.XLOOKUP($F93,RWS_[[Environmental Profile]:[Environmental Profile]],RWS_[ECI-A2],\"Not Found\",0)*Modellering!$I93,0)","v":0},{"$f":"IFERROR(_xlfn.XLOOKUP($F93,RWS_[[Environmental Profile]:[Environmental Profile]],RWS_[ADPE],\"Not Found\",0)*Modellering!$I93,0)","v":0},{"$f":"IFERROR(_xlfn.XLOOKUP($F93,RWS_[[Environmental Profile]:[Environmental Profile]],RWS_[ADPF],\"Not Found\",0)*Modellering!$I93,0)","v":0},{"$f":"IFERROR(_xlfn.XLOOKUP($F93,RWS_[[Environmental Profile]:[Environmental Profile]],RWS_[GWP1],\"Not Found\",0)*Modellering!$I93,0)","v":0},{"$f":"IFERROR(_xlfn.XLOOKUP($F93,RWS_[[Environmental Profile]:[Environmental Profile]],RWS_[ODP1],\"Not Found\",0)*Modellering!$I93,0)","v":0},{"$f":"IFERROR(_xlfn.XLOOKUP($F93,RWS_[[Environmental Profile]:[Environmental Profile]],RWS_[POCP],\"Not Found\",0)*Modellering!$I93,0)","v":0},{"$f":"IFERROR(_xlfn.XLOOKUP($F93,RWS_[[Environmental Profile]:[Environmental Profile]],RWS_[AP],\"Not Found\",0)*Modellering!$I93,0)","v":0},{"$f":"IFERROR(_xlfn.XLOOKUP($F93,RWS_[[Environmental Profile]:[Environmental Profile]],RWS_[EP],\"Not Found\",0)*Modellering!$I93,0)","v":0},{"$f":"IFERROR(_xlfn.XLOOKUP($F93,RWS_[[Environmental Profile]:[Environmental Profile]],RWS_[HTP],\"Not Found\",0)*Modellering!$I93,0)","v":0},{"$f":"IFERROR(_xlfn.XLOOKUP($F93,RWS_[[Environmental Profile]:[Environmental Profile]],RWS_[FAETP],\"Not Found\",0)*Modellering!$I93,0)","v":0},{"$f":"IFERROR(_xlfn.XLOOKUP($F93,RWS_[[Environmental Profile]:[Environmental Profile]],RWS_[MAETP],\"Not Found\",0)*Modellering!$I93,0)","v":0},{"$f":"IFERROR(_xlfn.XLOOKUP($F93,RWS_[[Environmental Profile]:[Environmental Profile]],RWS_[TETP],\"Not Found\",0)*Modellering!$I93,0)","v":0},{"$f":"IFERROR(_xlfn.XLOOKUP($F93,RWS_[[Environmental Profile]:[Environmental Profile]],RWS_[GWP2],\"Not Found\",0)*Modellering!$I93,0)","v":0},{"$f":"IFERROR(_xlfn.XLOOKUP($F93,RWS_[[Environmental Profile]:[Environmental Profile]],RWS_[GWP-F],\"Not Found\",0)*Modellering!$I93,0)","v":0},{"$f":"IFERROR(_xlfn.XLOOKUP($F93,RWS_[[Environmental Profile]:[Environmental Profile]],RWS_[GWP-B],\"Not Found\",0)*Modellering!$I93,0)","v":0},{"$f":"IFERROR(_xlfn.XLOOKUP($F93,RWS_[[Environmental Profile]:[Environmental Profile]],RWS_[GWP-L],\"Not Found\",0)*Modellering!$I93,0)","v":0},{"$f":"IFERROR(_xlfn.XLOOKUP($F93,RWS_[[Environmental Profile]:[Environmental Profile]],RWS_[ODP2],\"Not Found\",0)*Modellering!$I93,0)","v":0},{"$f":"IFERROR(_xlfn.XLOOKUP($F93,RWS_[[Environmental Profile]:[Environmental Profile]],RWS_[AP2],\"Not Found\",0)*Modellering!$I93,0)","v":0},{"$f":"IFERROR(_xlfn.XLOOKUP($F93,RWS_[[Environmental Profile]:[Environmental Profile]],RWS_[EP-FW],\"Not Found\",0)*Modellering!$I93,0)","v":0},{"$f":"IFERROR(_xlfn.XLOOKUP($F93,RWS_[[Environmental Profile]:[Environmental Profile]],RWS_[EP-M],\"Not Found\",0)*Modellering!$I93,0)","v":0},{"$f":"IFERROR(_xlfn.XLOOKUP($F93,RWS_[[Environmental Profile]:[Environmental Profile]],RWS_[EP-T],\"Not Found\",0)*Modellering!$I93,0)","v":0},{"$f":"IFERROR(_xlfn.XLOOKUP($F93,RWS_[[Environmental Profile]:[Environmental Profile]],RWS_[POCP2],\"Not Found\",0)*Modellering!$I93,0)","v":0},{"$f":"IFERROR(_xlfn.XLOOKUP($F93,RWS_[[Environmental Profile]:[Environmental Profile]],RWS_[ADP-MM],\"Not Found\",0)*Modellering!$I93,0)","v":0},{"$f":"IFERROR(_xlfn.XLOOKUP($F93,RWS_[[Environmental Profile]:[Environmental Profile]],RWS_[ADP-F],\"Not Found\",0)*Modellering!$I93,0)","v":0},{"$f":"IFERROR(_xlfn.XLOOKUP($F93,RWS_[[Environmental Profile]:[Environmental Profile]],RWS_[WDP],\"Not Found\",0)*Modellering!$I93,0)","v":0},{"$f":"IFERROR(_xlfn.XLOOKUP($F93,RWS_[[Environmental Profile]:[Environmental Profile]],RWS_[PM],\"Not Found\",0)*Modellering!$I93,0)","v":0},{"$f":"IFERROR(_xlfn.XLOOKUP($F93,RWS_[[Environmental Profile]:[Environmental Profile]],RWS_[IR],\"Not Found\",0)*Modellering!$I93,0)","v":0},{"$f":"IFERROR(_xlfn.XLOOKUP($F93,RWS_[[Environmental Profile]:[Environmental Profile]],RWS_[ETP-FW],\"Not Found\",0)*Modellering!$I93,0)","v":0},{"$f":"IFERROR(_xlfn.XLOOKUP($F93,RWS_[[Environmental Profile]:[Environmental Profile]],RWS_[HTP-C],\"Not Found\",0)*Modellering!$I93,0)","v":0},{"$f":"IFERROR(_xlfn.XLOOKUP($F93,RWS_[[Environmental Profile]:[Environmental Profile]],RWS_[HTP-NC],\"Not Found\",0)*Modellering!$I93,0)","v":0},{"$f":"IFERROR(_xlfn.XLOOKUP($F93,RWS_[[Environmental Profile]:[Environmental Profile]],RWS_[SQP],\"Not Found\",0)*Modellering!$I93,0)","v":0},{"$f":"IFERROR(_xlfn.XLOOKUP($F93,RWS_[[Environmental Profile]:[Environmental Profile]],RWS_[PERE],\"Not Found\",0)*Modellering!$I93,0)","v":0},{"$f":"IFERROR(_xlfn.XLOOKUP($F93,RWS_[[Environmental Profile]:[Environmental Profile]],RWS_[PERM],\"Not Found\",0)*Modellering!$I93,0)","v":0},{"$f":"IFERROR(_xlfn.XLOOKUP($F93,RWS_[[Environmental Profile]:[Environmental Profile]],RWS_[PERT],\"Not Found\",0)*Modellering!$I93,0)","v":0},{"$f":"IFERROR(_xlfn.XLOOKUP($F93,RWS_[[Environmental Profile]:[Environmental Profile]],RWS_[PENRE],\"Not Found\",0)*Modellering!$I93,0)","v":0},{"$f":"IFERROR(_xlfn.XLOOKUP($F93,RWS_[[Environmental Profile]:[Environmental Profile]],RWS_[PENRM],\"Not Found\",0)*Modellering!$I93,0)","v":0},{"$f":"IFERROR(_xlfn.XLOOKUP($F93,RWS_[[Environmental Profile]:[Environmental Profile]],RWS_[PENRT],\"Not Found\",0)*Modellering!$I93,0)","v":0},{"$f":"IFERROR(_xlfn.XLOOKUP($F93,RWS_[[Environmental Profile]:[Environmental Profile]],RWS_[SM],\"Not Found\",0)*Modellering!$I93,0)","v":0},{"$f":"IFERROR(_xlfn.XLOOKUP($F93,RWS_[[Environmental Profile]:[Environmental Profile]],RWS_[SF-R],\"Not Found\",0)*Modellering!$I93,0)","v":0},{"$f":"IFERROR(_xlfn.XLOOKUP($F93,RWS_[[Environmental Profile]:[Environmental Profile]],RWS_[SF-NR],\"Not Found\",0)*Modellering!$I93,0)","v":0},{"$f":"IFERROR(_xlfn.XLOOKUP($F93,RWS_[[Environmental Profile]:[Environmental Profile]],RWS_[FW],\"Not Found\",0)*Modellering!$I93,0)","v":0},{"$f":"IFERROR(_xlfn.XLOOKUP($F93,RWS_[[Environmental Profile]:[Environmental Profile]],RWS_[HWD],\"Not Found\",0)*Modellering!$I93,0)","v":0},{"$f":"IFERROR(_xlfn.XLOOKUP($F93,RWS_[[Environmental Profile]:[Environmental Profile]],RWS_[NHWD],\"Not Found\",0)*Modellering!$I93,0)","v":0},{"$f":"IFERROR(_xlfn.XLOOKUP($F93,RWS_[[Environmental Profile]:[Environmental Profile]],RWS_[RWD],\"Not Found\",0)*Modellering!$I93,0)","v":0},{"$f":"IFERROR(_xlfn.XLOOKUP($F93,RWS_[[Environmental Profile]:[Environmental Profile]],RWS_[CRU],\"Not Found\",0)*Modellering!$I93,0)","v":0},{"$f":"IFERROR(_xlfn.XLOOKUP($F93,RWS_[[Environmental Profile]:[Environmental Profile]],RWS_[MFR],\"Not Found\",0)*Modellering!$I93,0)","v":0},{"$f":"IFERROR(_xlfn.XLOOKUP($F93,RWS_[[Environmental Profile]:[Environmental Profile]],RWS_[MER],\"Not Found\",0)*Modellering!$I93,0)","v":0},{"$f":"IFERROR(_xlfn.XLOOKUP($F93,RWS_[[Environmental Profile]:[Environmental Profile]],RWS_[EE-E],\"Not Found\",0)*Modellering!$I93,0)","v":0},{"$f":"IFERROR(_xlfn.XLOOKUP($F93,RWS_[[Environmental Profile]:[Environmental Profile]],RWS_[EE-T],\"Not Found\",0)*Modellering!$I93,0)","v":0}]
[null,null,"Kapitaalgoederen","Brandstofcel","B1",{"$f":"IF(Invoerblad!$H$46=\"Brandstofcel\",\"Brandstofcel Waterstof, per kW machinevermogen\",\"Niet van Toepassing\")","v":"Niet van Toepassing"},"","Not Found",{"$f":"_xlfn.XLOOKUP(Invoerblad!$H$44,PM_NOx!$A$47:$A$51,IF(Invoerblad!$D$32=\"Binnenvaart\",PM_NOx!$D$47:$D$51,PM_NOx!$C$47:$C$51),0,0)","v":0},null,{"$f":"IFERROR(_xlfn.XLOOKUP($F94,RWS_[[Environmental Profile]:[Environmental Profile]],RWS_[ECI-A1],\"Not Found\",0)*Modellering!$I94,0)","v":0},{"$f":"IFERROR(_xlfn.XLOOKUP($F94,RWS_[[Environmental Profile]:[Environmental Profile]],RWS_[ECI-A2],\"Not Found\",0)*Modellering!$I94,0)","v":0},{"$f":"IFERROR(_xlfn.XLOOKUP($F94,RWS_[[Environmental Profile]:[Environmental Profile]],RWS_[ADPE],\"Not Found\",0)*Modellering!$I94,0)","v":0},{"$f":"IFERROR(_xlfn.XLOOKUP($F94,RWS_[[Environmental Profile]:[Environmental Profile]],RWS_[ADPF],\"Not Found\",0)*Modellering!$I94,0)","v":0},{"$f":"IFERROR(_xlfn.XLOOKUP($F94,RWS_[[Environmental Profile]:[Environmental Profile]],RWS_[GWP1],\"Not Found\",0)*Modellering!$I94,0)","v":0},{"$f":"IFERROR(_xlfn.XLOOKUP($F94,RWS_[[Environmental Profile]:[Environmental Profile]],RWS_[ODP1],\"Not Found\",0)*Modellering!$I94,0)","v":0},{"$f":"IFERROR(_xlfn.XLOOKUP($F94,RWS_[[Environmental Profile]:[Environmental Profile]],RWS_[POCP],\"Not Found\",0)*Modellering!$I94,0)","v":0},{"$f":"IFERROR(_xlfn.XLOOKUP($F94,RWS_[[Environmental Profile]:[Environmental Profile]],RWS_[AP],\"Not Found\",0)*Modellering!$I94,0)","v":0},{"$f":"IFERROR(_xlfn.XLOOKUP($F94,RWS_[[Environmental Profile]:[Environmental Profile]],RWS_[EP],\"Not Found\",0)*Modellering!$I94,0)","v":0},{"$f":"IFERROR(_xlfn.XLOOKUP($F94,RWS_[[Environmental Profile]:[Environmental Profile]],RWS_[HTP],\"Not Found\",0)*Modellering!$I94,0)","v":0},{"$f":"IFERROR(_xlfn.XLOOKUP($F94,RWS_[[Environmental Profile]:[Environmental Profile]],RWS_[FAETP],\"Not Found\",0)*Modellering!$I94,0)","v":0},{"$f":"IFERROR(_xlfn.XLOOKUP($F94,RWS_[[Environmental Profile]:[Environmental Profile]],RWS_[MAETP],\"Not Found\",0)*Modellering!$I94,0)","v":0},{"$f":"IFERROR(_xlfn.XLOOKUP($F94,RWS_[[Environmental Profile]:[Environmental Profile]],RWS_[TETP],\"Not Found\",0)*Modellering!$I94,0)","v":0},{"$f":"IFERROR(_xlfn.XLOOKUP($F94,RWS_[[Environmental Profile]:[Environmental Profile]],RWS_[GWP2],\"Not Found\",0)*Modellering!$I94,0)","v":0},{"$f":"IFERROR(_xlfn.XLOOKUP($F94,RWS_[[Environmental Profile]:[Environmental Profile]],RWS_[GWP-F],\"Not Found\",0)*Modellering!$I94,0)","v":0},{"$f":"IFERROR(_xlfn.XLOOKUP($F94,RWS_[[Environmental Profile]:[Environmental Profile]],RWS_[GWP-B],\"Not Found\",0)*Modellering!$I94,0)","v":0},{"$f":"IFERROR(_xlfn.XLOOKUP($F94,RWS_[[Environmental Profile]:[Environmental Profile]],RWS_[GWP-L],\"Not Found\",0)*Modellering!$I94,0)","v":0},{"$f":"IFERROR(_xlfn.XLOOKUP($F94,RWS_[[Environmental Profile]:[Environmental Profile]],RWS_[ODP2],\"Not Found\",0)*Modellering!$I94,0)","v":0},{"$f":"IFERROR(_xlfn.XLOOKUP($F94,RWS_[[Environmental Profile]:[Environmental Profile]],RWS_[AP2],\"Not Found\",0)*Modellering!$I94,0)","v":0},{"$f":"IFERROR(_xlfn.XLOOKUP($F94,RWS_[[Environmental Profile]:[Environmental Profile]],RWS_[EP-FW],\"Not Found\",0)*Modellering!$I94,0)","v":0},{"$f":"IFERROR(_xlfn.XLOOKUP($F94,RWS_[[Environmental Profile]:[Environmental Profile]],RWS_[EP-M],\"Not Found\",0)*Modellering!$I94,0)","v":0},{"$f":"IFERROR(_xlfn.XLOOKUP($F94,RWS_[[Environmental Profile]:[Environmental Profile]],RWS_[EP-T],\"Not Found\",0)*Modellering!$I94,0)","v":0},{"$f":"IFERROR(_xlfn.XLOOKUP($F94,RWS_[[Environmental Profile]:[Environmental Profile]],RWS_[POCP2],\"Not Found\",0)*Modellering!$I94,0)","v":0},{"$f":"IFERROR(_xlfn.XLOOKUP($F94,RWS_[[Environmental Profile]:[Environmental Profile]],RWS_[ADP-MM],\"Not Found\",0)*Modellering!$I94,0)","v":0},{"$f":"IFERROR(_xlfn.XLOOKUP($F94,RWS_[[Environmental Profile]:[Environmental Profile]],RWS_[ADP-F],\"Not Found\",0)*Modellering!$I94,0)","v":0},{"$f":"IFERROR(_xlfn.XLOOKUP($F94,RWS_[[Environmental Profile]:[Environmental Profile]],RWS_[WDP],\"Not Found\",0)*Modellering!$I94,0)","v":0},{"$f":"IFERROR(_xlfn.XLOOKUP($F94,RWS_[[Environmental Profile]:[Environmental Profile]],RWS_[PM],\"Not Found\",0)*Modellering!$I94,0)","v":0},{"$f":"IFERROR(_xlfn.XLOOKUP($F94,RWS_[[Environmental Profile]:[Environmental Profile]],RWS_[IR],\"Not Found\",0)*Modellering!$I94,0)","v":0},{"$f":"IFERROR(_xlfn.XLOOKUP($F94,RWS_[[Environmental Profile]:[Environmental Profile]],RWS_[ETP-FW],\"Not Found\",0)*Modellering!$I94,0)","v":0},{"$f":"IFERROR(_xlfn.XLOOKUP($F94,RWS_[[Environmental Profile]:[Environmental Profile]],RWS_[HTP-C],\"Not Found\",0)*Modellering!$I94,0)","v":0},{"$f":"IFERROR(_xlfn.XLOOKUP($F94,RWS_[[Environmental Profile]:[Environmental Profile]],RWS_[HTP-NC],\"Not Found\",0)*Modellering!$I94,0)","v":0},{"$f":"IFERROR(_xlfn.XLOOKUP($F94,RWS_[[Environmental Profile]:[Environmental Profile]],RWS_[SQP],\"Not Found\",0)*Modellering!$I94,0)","v":0},{"$f":"IFERROR(_xlfn.XLOOKUP($F94,RWS_[[Environmental Profile]:[Environmental Profile]],RWS_[PERE],\"Not Found\",0)*Modellering!$I94,0)","v":0},{"$f":"IFERROR(_xlfn.XLOOKUP($F94,RWS_[[Environmental Profile]:[Environmental Profile]],RWS_[PERM],\"Not Found\",0)*Modellering!$I94,0)","v":0},{"$f":"IFERROR(_xlfn.XLOOKUP($F94,RWS_[[Environmental Profile]:[Environmental Profile]],RWS_[PERT],\"Not Found\",0)*Modellering!$I94,0)","v":0},{"$f":"IFERROR(_xlfn.XLOOKUP($F94,RWS_[[Environmental Profile]:[Environmental Profile]],RWS_[PENRE],\"Not Found\",0)*Modellering!$I94,0)","v":0},{"$f":"IFERROR(_xlfn.XLOOKUP($F94,RWS_[[Environmental Profile]:[Environmental Profile]],RWS_[PENRM],\"Not Found\",0)*Modellering!$I94,0)","v":0},{"$f":"IFERROR(_xlfn.XLOOKUP($F94,RWS_[[Environmental Profile]:[Environmental Profile]],RWS_[PENRT],\"Not Found\",0)*Modellering!$I94,0)","v":0},{"$f":"IFERROR(_xlfn.XLOOKUP($F94,RWS_[[Environmental Profile]:[Environmental Profile]],RWS_[SM],\"Not Found\",0)*Modellering!$I94,0)","v":0},{"$f":"IFERROR(_xlfn.XLOOKUP($F94,RWS_[[Environmental Profile]:[Environmental Profile]],RWS_[SF-R],\"Not Found\",0)*Modellering!$I94,0)","v":0},{"$f":"IFERROR(_xlfn.XLOOKUP($F94,RWS_[[Environmental Profile]:[Environmental Profile]],RWS_[SF-NR],\"Not Found\",0)*Modellering!$I94,0)","v":0},{"$f":"IFERROR(_xlfn.XLOOKUP($F94,RWS_[[Environmental Profile]:[Environmental Profile]],RWS_[FW],\"Not Found\",0)*Modellering!$I94,0)","v":0},{"$f":"IFERROR(_xlfn.XLOOKUP($F94,RWS_[[Environmental Profile]:[Environmental Profile]],RWS_[HWD],\"Not Found\",0)*Modellering!$I94,0)","v":0},{"$f":"IFERROR(_xlfn.XLOOKUP($F94,RWS_[[Environmental Profile]:[Environmental Profile]],RWS_[NHWD],\"Not Found\",0)*Modellering!$I94,0)","v":0},{"$f":"IFERROR(_xlfn.XLOOKUP($F94,RWS_[[Environmental Profile]:[Environmental Profile]],RWS_[RWD],\"Not Found\",0)*Modellering!$I94,0)","v":0},{"$f":"IFERROR(_xlfn.XLOOKUP($F94,RWS_[[Environmental Profile]:[Environmental Profile]],RWS_[CRU],\"Not Found\",0)*Modellering!$I94,0)","v":0},{"$f":"IFERROR(_xlfn.XLOOKUP($F94,RWS_[[Environmental Profile]:[Environmental Profile]],RWS_[MFR],\"Not Found\",0)*Modellering!$I94,0)","v":0},{"$f":"IFERROR(_xlfn.XLOOKUP($F94,RWS_[[Environmental Profile]:[Environmental Profile]],RWS_[MER],\"Not Found\",0)*Modellering!$I94,0)","v":0},{"$f":"IFERROR(_xlfn.XLOOKUP($F94,RWS_[[Environmental Profile]:[Environmental Profile]],RWS_[EE-E],\"Not Found\",0)*Modellering!$I94,0)","v":0},{"$f":"IFERROR(_xlfn.XLOOKUP($F94,RWS_[[Environmental Profile]:[Environmental Profile]],RWS_[EE-T],\"Not Found\",0)*Modellering!$I94,0)","v":0}]
[null,null,"AdBlue","Winning AdBlue","A1-A3","*RWS Energiedrager AdBlue (A1-A3) 32,5% Ureum","AdBlue ","kg",{"$f":"Invoerblad!$H$78","v":""},null,{"$f":"IFERROR(_xlfn.XLOOKUP($F95,RWS_[[Environmental Profile]:[Environmental Profile]],RWS_[ECI-A1],\"Not Found\",0)*Modellering!$I95,0)","v":0},{"$f":"IFERROR(_xlfn.XLOOKUP($F95,RWS_[[Environmental Profile]:[Environmental Profile]],RWS_[ECI-A2],\"Not Found\",0)*Modellering!$I95,0)","v":0},{"$f":"IFERROR(_xlfn.XLOOKUP($F95,RWS_[[Environmental Profile]:[Environmental Profile]],RWS_[ADPE],\"Not Found\",0)*Modellering!$I95,0)","v":0},{"$f":"IFERROR(_xlfn.XLOOKUP($F95,RWS_[[Environmental Profile]:[Environmental Profile]],RWS_[ADPF],\"Not Found\",0)*Modellering!$I95,0)","v":0},{"$f":"IFERROR(_xlfn.XLOOKUP($F95,RWS_[[Environmental Profile]:[Environmental Profile]],RWS_[GWP1],\"Not Found\",0)*Modellering!$I95,0)","v":0},{"$f":"IFERROR(_xlfn.XLOOKUP($F95,RWS_[[Environmental Profile]:[Environmental Profile]],RWS_[ODP1],\"Not Found\",0)*Modellering!$I95,0)","v":0},{"$f":"IFERROR(_xlfn.XLOOKUP($F95,RWS_[[Environmental Profile]:[Environmental Profile]],RWS_[POCP],\"Not Found\",0)*Modellering!$I95,0)","v":0},{"$f":"IFERROR(_xlfn.XLOOKUP($F95,RWS_[[Environmental Profile]:[Environmental Profile]],RWS_[AP],\"Not Found\",0)*Modellering!$I95,0)","v":0},{"$f":"IFERROR(_xlfn.XLOOKUP($F95,RWS_[[Environmental Profile]:[Environmental Profile]],RWS_[EP],\"Not Found\",0)*Modellering!$I95,0)","v":0},{"$f":"IFERROR(_xlfn.XLOOKUP($F95,RWS_[[Environmental Profile]:[Environmental Profile]],RWS_[HTP],\"Not Found\",0)*Modellering!$I95,0)","v":0},{"$f":"IFERROR(_xlfn.XLOOKUP($F95,RWS_[[Environmental Profile]:[Environmental Profile]],RWS_[FAETP],\"Not Found\",0)*Modellering!$I95,0)","v":0},{"$f":"IFERROR(_xlfn.XLOOKUP($F95,RWS_[[Environmental Profile]:[Environmental Profile]],RWS_[MAETP],\"Not Found\",0)*Modellering!$I95,0)","v":0},{"$f":"IFERROR(_xlfn.XLOOKUP($F95,RWS_[[Environmental Profile]:[Environmental Profile]],RWS_[TETP],\"Not Found\",0)*Modellering!$I95,0)","v":0},{"$f":"IFERROR(_xlfn.XLOOKUP($F95,RWS_[[Environmental Profile]:[Environmental Profile]],RWS_[GWP2],\"Not Found\",0)*Modellering!$I95,0)","v":0},{"$f":"IFERROR(_xlfn.XLOOKUP($F95,RWS_[[Environmental Profile]:[Environmental Profile]],RWS_[GWP-F],\"Not Found\",0)*Modellering!$I95,0)","v":0},{"$f":"IFERROR(_xlfn.XLOOKUP($F95,RWS_[[Environmental Profile]:[Environmental Profile]],RWS_[GWP-B],\"Not Found\",0)*Modellering!$I95,0)","v":0},{"$f":"IFERROR(_xlfn.XLOOKUP($F95,RWS_[[Environmental Profile]:[Environmental Profile]],RWS_[GWP-L],\"Not Found\",0)*Modellering!$I95,0)","v":0},{"$f":"IFERROR(_xlfn.XLOOKUP($F95,RWS_[[Environmental Profile]:[Environmental Profile]],RWS_[ODP2],\"Not Found\",0)*Modellering!$I95,0)","v":0},{"$f":"IFERROR(_xlfn.XLOOKUP($F95,RWS_[[Environmental Profile]:[Environmental Profile]],RWS_[AP2],\"Not Found\",0)*Modellering!$I95,0)","v":0},{"$f":"IFERROR(_xlfn.XLOOKUP($F95,RWS_[[Environmental Profile]:[Environmental Profile]],RWS_[EP-FW],\"Not Found\",0)*Modellering!$I95,0)","v":0},{"$f":"IFERROR(_xlfn.XLOOKUP($F95,RWS_[[Environmental Profile]:[Environmental Profile]],RWS_[EP-M],\"Not Found\",0)*Modellering!$I95,0)","v":0},{"$f":"IFERROR(_xlfn.XLOOKUP($F95,RWS_[[Environmental Profile]:[Environmental Profile]],RWS_[EP-T],\"Not Found\",0)*Modellering!$I95,0)","v":0},{"$f":"IFERROR(_xlfn.XLOOKUP($F95,RWS_[[Environmental Profile]:[Environmental Profile]],RWS_[POCP2],\"Not Found\",0)*Modellering!$I95,0)","v":0},{"$f":"IFERROR(_xlfn.XLOOKUP($F95,RWS_[[Environmental Profile]:[Environmental Profile]],RWS_[ADP-MM],\"Not Found\",0)*Modellering!$I95,0)","v":0},{"$f":"IFERROR(_xlfn.XLOOKUP($F95,RWS_[[Environmental Profile]:[Environmental Profile]],RWS_[ADP-F],\"Not Found\",0)*Modellering!$I95,0)","v":0},{"$f":"IFERROR(_xlfn.XLOOKUP($F95,RWS_[[Environmental Profile]:[Environmental Profile]],RWS_[WDP],\"Not Found\",0)*Modellering!$I95,0)","v":0},{"$f":"IFERROR(_xlfn.XLOOKUP($F95,RWS_[[Environmental Profile]:[Environmental Profile]],RWS_[PM],\"Not Found\",0)*Modellering!$I95,0)","v":0},{"$f":"IFERROR(_xlfn.XLOOKUP($F95,RWS_[[Environmental Profile]:[Environmental Profile]],RWS_[IR],\"Not Found\",0)*Modellering!$I95,0)","v":0},{"$f":"IFERROR(_xlfn.XLOOKUP($F95,RWS_[[Environmental Profile]:[Environmental Profile]],RWS_[ETP-FW],\"Not Found\",0)*Modellering!$I95,0)","v":0},{"$f":"IFERROR(_xlfn.XLOOKUP($F95,RWS_[[Environmental Profile]:[Environmental Profile]],RWS_[HTP-C],\"Not Found\",0)*Modellering!$I95,0)","v":0},{"$f":"IFERROR(_xlfn.XLOOKUP($F95,RWS_[[Environmental Profile]:[Environmental Profile]],RWS_[HTP-NC],\"Not Found\",0)*Modellering!$I95,0)","v":0},{"$f":"IFERROR(_xlfn.XLOOKUP($F95,RWS_[[Environmental Profile]:[Environmental Profile]],RWS_[SQP],\"Not Found\",0)*Modellering!$I95,0)","v":0},{"$f":"IFERROR(_xlfn.XLOOKUP($F95,RWS_[[Environmental Profile]:[Environmental Profile]],RWS_[PERE],\"Not Found\",0)*Modellering!$I95,0)","v":0},{"$f":"IFERROR(_xlfn.XLOOKUP($F95,RWS_[[Environmental Profile]:[Environmental Profile]],RWS_[PERM],\"Not Found\",0)*Modellering!$I95,0)","v":0},{"$f":"IFERROR(_xlfn.XLOOKUP($F95,RWS_[[Environmental Profile]:[Environmental Profile]],RWS_[PERT],\"Not Found\",0)*Modellering!$I95,0)","v":0},{"$f":"IFERROR(_xlfn.XLOOKUP($F95,RWS_[[Environmental Profile]:[Environmental Profile]],RWS_[PENRE],\"Not Found\",0)*Modellering!$I95,0)","v":0},{"$f":"IFERROR(_xlfn.XLOOKUP($F95,RWS_[[Environmental Profile]:[Environmental Profile]],RWS_[PENRM],\"Not Found\",0)*Modellering!$I95,0)","v":0},{"$f":"IFERROR(_xlfn.XLOOKUP($F95,RWS_[[Environmental Profile]:[Environmental Profile]],RWS_[PENRT],\"Not Found\",0)*Modellering!$I95,0)","v":0},{"$f":"IFERROR(_xlfn.XLOOKUP($F95,RWS_[[Environmental Profile]:[Environmental Profile]],RWS_[SM],\"Not Found\",0)*Modellering!$I95,0)","v":0},{"$f":"IFERROR(_xlfn.XLOOKUP($F95,RWS_[[Environmental Profile]:[Environmental Profile]],RWS_[SF-R],\"Not Found\",0)*Modellering!$I95,0)","v":0},{"$f":"IFERROR(_xlfn.XLOOKUP($F95,RWS_[[Environmental Profile]:[Environmental Profile]],RWS_[SF-NR],\"Not Found\",0)*Modellering!$I95,0)","v":0},{"$f":"IFERROR(_xlfn.XLOOKUP($F95,RWS_[[Environmental Profile]:[Environmental Profile]],RWS_[FW],\"Not Found\",0)*Modellering!$I95,0)","v":0},{"$f":"IFERROR(_xlfn.XLOOKUP($F95,RWS_[[Environmental Profile]:[Environmental Profile]],RWS_[HWD],\"Not Found\",0)*Modellering!$I95,0)","v":0},{"$f":"IFERROR(_xlfn.XLOOKUP($F95,RWS_[[Environmental Profile]:[Environmental Profile]],RWS_[NHWD],\"Not Found\",0)*Modellering!$I95,0)","v":0},{"$f":"IFERROR(_xlfn.XLOOKUP($F95,RWS_[[Environmental Profile]:[Environmental Profile]],RWS_[RWD],\"Not Found\",0)*Modellering!$I95,0)","v":0},{"$f":"IFERROR(_xlfn.XLOOKUP($F95,RWS_[[Environmental Profile]:[Environmental Profile]],RWS_[CRU],\"Not Found\",0)*Modellering!$I95,0)","v":0},{"$f":"IFERROR(_xlfn.XLOOKUP($F95,RWS_[[Environmental Profile]:[Environmental Profile]],RWS_[MFR],\"Not Found\",0)*Modellering!$I95,0)","v":0},{"$f":"IFERROR(_xlfn.XLOOKUP($F95,RWS_[[Environmental Profile]:[Environmental Profile]],RWS_[MER],\"Not Found\",0)*Modellering!$I95,0)","v":0},{"$f":"IFERROR(_xlfn.XLOOKUP($F95,RWS_[[Environmental Profile]:[Environmental Profile]],RWS_[EE-E],\"Not Found\",0)*Modellering!$I95,0)","v":0},{"$f":"IFERROR(_xlfn.XLOOKUP($F95,RWS_[[Environmental Profile]:[Environmental Profile]],RWS_[EE-T],\"Not Found\",0)*Modellering!$I95,0)","v":0}]
[null,null,"AdBlue","Opslag AdBlue","A4","*RWS Energiedrager AdBlue (A4) 32,5% Ureum","Opslag AdBlue","kg",{"$f":"Invoerblad!$H$78","v":""},null,{"$f":"IFERROR(_xlfn.XLOOKUP($F96,RWS_[[Environmental Profile]:[Environmental Profile]],RWS_[ECI-A1],\"Not Found\",0)*Modellering!$I96,0)","v":0},{"$f":"IFERROR(_xlfn.XLOOKUP($F96,RWS_[[Environmental Profile]:[Environmental Profile]],RWS_[ECI-A2],\"Not Found\",0)*Modellering!$I96,0)","v":0},{"$f":"IFERROR(_xlfn.XLOOKUP($F96,RWS_[[Environmental Profile]:[Environmental Profile]],RWS_[ADPE],\"Not Found\",0)*Modellering!$I96,0)","v":0},{"$f":"IFERROR(_xlfn.XLOOKUP($F96,RWS_[[Environmental Profile]:[Environmental Profile]],RWS_[ADPF],\"Not Found\",0)*Modellering!$I96,0)","v":0},{"$f":"IFERROR(_xlfn.XLOOKUP($F96,RWS_[[Environmental Profile]:[Environmental Profile]],RWS_[GWP1],\"Not Found\",0)*Modellering!$I96,0)","v":0},{"$f":"IFERROR(_xlfn.XLOOKUP($F96,RWS_[[Environmental Profile]:[Environmental Profile]],RWS_[ODP1],\"Not Found\",0)*Modellering!$I96,0)","v":0},{"$f":"IFERROR(_xlfn.XLOOKUP($F96,RWS_[[Environmental Profile]:[Environmental Profile]],RWS_[POCP],\"Not Found\",0)*Modellering!$I96,0)","v":0},{"$f":"IFERROR(_xlfn.XLOOKUP($F96,RWS_[[Environmental Profile]:[Environmental Profile]],RWS_[AP],\"Not Found\",0)*Modellering!$I96,0)","v":0},{"$f":"IFERROR(_xlfn.XLOOKUP($F96,RWS_[[Environmental Profile]:[Environmental Profile]],RWS_[EP],\"Not Found\",0)*Modellering!$I96,0)","v":0},{"$f":"IFERROR(_xlfn.XLOOKUP($F96,RWS_[[Environmental Profile]:[Environmental Profile]],RWS_[HTP],\"Not Found\",0)*Modellering!$I96,0)","v":0},{"$f":"IFERROR(_xlfn.XLOOKUP($F96,RWS_[[Environmental Profile]:[Environmental Profile]],RWS_[FAETP],\"Not Found\",0)*Modellering!$I96,0)","v":0},{"$f":"IFERROR(_xlfn.XLOOKUP($F96,RWS_[[Environmental Profile]:[Environmental Profile]],RWS_[MAETP],\"Not Found\",0)*Modellering!$I96,0)","v":0},{"$f":"IFERROR(_xlfn.XLOOKUP($F96,RWS_[[Environmental Profile]:[Environmental Profile]],RWS_[TETP],\"Not Found\",0)*Modellering!$I96,0)","v":0},{"$f":"IFERROR(_xlfn.XLOOKUP($F96,RWS_[[Environmental Profile]:[Environmental Profile]],RWS_[GWP2],\"Not Found\",0)*Modellering!$I96,0)","v":0},{"$f":"IFERROR(_xlfn.XLOOKUP($F96,RWS_[[Environmental Profile]:[Environmental Profile]],RWS_[GWP-F],\"Not Found\",0)*Modellering!$I96,0)","v":0},{"$f":"IFERROR(_xlfn.XLOOKUP($F96,RWS_[[Environmental Profile]:[Environmental Profile]],RWS_[GWP-B],\"Not Found\",0)*Modellering!$I96,0)","v":0},{"$f":"IFERROR(_xlfn.XLOOKUP($F96,RWS_[[Environmental Profile]:[Environmental Profile]],RWS_[GWP-L],\"Not Found\",0)*Modellering!$I96,0)","v":0},{"$f":"IFERROR(_xlfn.XLOOKUP($F96,RWS_[[Environmental Profile]:[Environmental Profile]],RWS_[ODP2],\"Not Found\",0)*Modellering!$I96,0)","v":0},{"$f":"IFERROR(_xlfn.XLOOKUP($F96,RWS_[[Environmental Profile]:[Environmental Profile]],RWS_[AP2],\"Not Found\",0)*Modellering!$I96,0)","v":0},{"$f":"IFERROR(_xlfn.XLOOKUP($F96,RWS_[[Environmental Profile]:[Environmental Profile]],RWS_[EP-FW],\"Not Found\",0)*Modellering!$I96,0)","v":0},{"$f":"IFERROR(_xlfn.XLOOKUP($F96,RWS_[[Environmental Profile]:[Environmental Profile]],RWS_[EP-M],\"Not Found\",0)*Modellering!$I96,0)","v":0},{"$f":"IFERROR(_xlfn.XLOOKUP($F96,RWS_[[Environmental Profile]:[Environmental Profile]],RWS_[EP-T],\"Not Found\",0)*Modellering!$I96,0)","v":0},{"$f":"IFERROR(_xlfn.XLOOKUP($F96,RWS_[[Environmental Profile]:[Environmental Profile]],RWS_[POCP2],\"Not Found\",0)*Modellering!$I96,0)","v":0},{"$f":"IFERROR(_xlfn.XLOOKUP($F96,RWS_[[Environmental Profile]:[Environmental Profile]],RWS_[ADP-MM],\"Not Found\",0)*Modellering!$I96,0)","v":0},{"$f":"IFERROR(_xlfn.XLOOKUP($F96,RWS_[[Environmental Profile]:[Environmental Profile]],RWS_[ADP-F],\"Not Found\",0)*Modellering!$I96,0)","v":0},{"$f":"IFERROR(_xlfn.XLOOKUP($F96,RWS_[[Environmental Profile]:[Environmental Profile]],RWS_[WDP],\"Not Found\",0)*Modellering!$I96,0)","v":0},{"$f":"IFERROR(_xlfn.XLOOKUP($F96,RWS_[[Environmental Profile]:[Environmental Profile]],RWS_[PM],\"Not Found\",0)*Modellering!$I96,0)","v":0},{"$f":"IFERROR(_xlfn.XLOOKUP($F96,RWS_[[Environmental Profile]:[Environmental Profile]],RWS_[IR],\"Not Found\",0)*Modellering!$I96,0)","v":0},{"$f":"IFERROR(_xlfn.XLOOKUP($F96,RWS_[[Environmental Profile]:[Environmental Profile]],RWS_[ETP-FW],\"Not Found\",0)*Modellering!$I96,0)","v":0},{"$f":"IFERROR(_xlfn.XLOOKUP($F96,RWS_[[Environmental Profile]:[Environmental Profile]],RWS_[HTP-C],\"Not Found\",0)*Modellering!$I96,0)","v":0},{"$f":"IFERROR(_xlfn.XLOOKUP($F96,RWS_[[Environmental Profile]:[Environmental Profile]],RWS_[HTP-NC],\"Not Found\",0)*Modellering!$I96,0)","v":0},{"$f":"IFERROR(_xlfn.XLOOKUP($F96,RWS_[[Environmental Profile]:[Environmental Profile]],RWS_[SQP],\"Not Found\",0)*Modellering!$I96,0)","v":0},{"$f":"IFERROR(_xlfn.XLOOKUP($F96,RWS_[[Environmental Profile]:[Environmental Profile]],RWS_[PERE],\"Not Found\",0)*Modellering!$I96,0)","v":0},{"$f":"IFERROR(_xlfn.XLOOKUP($F96,RWS_[[Environmental Profile]:[Environmental Profile]],RWS_[PERM],\"Not Found\",0)*Modellering!$I96,0)","v":0},{"$f":"IFERROR(_xlfn.XLOOKUP($F96,RWS_[[Environmental Profile]:[Environmental Profile]],RWS_[PERT],\"Not Found\",0)*Modellering!$I96,0)","v":0},{"$f":"IFERROR(_xlfn.XLOOKUP($F96,RWS_[[Environmental Profile]:[Environmental Profile]],RWS_[PENRE],\"Not Found\",0)*Modellering!$I96,0)","v":0},{"$f":"IFERROR(_xlfn.XLOOKUP($F96,RWS_[[Environmental Profile]:[Environmental Profile]],RWS_[PENRM],\"Not Found\",0)*Modellering!$I96,0)","v":0},{"$f":"IFERROR(_xlfn.XLOOKUP($F96,RWS_[[Environmental Profile]:[Environmental Profile]],RWS_[PENRT],\"Not Found\",0)*Modellering!$I96,0)","v":0},{"$f":"IFERROR(_xlfn.XLOOKUP($F96,RWS_[[Environmental Profile]:[Environmental Profile]],RWS_[SM],\"Not Found\",0)*Modellering!$I96,0)","v":0},{"$f":"IFERROR(_xlfn.XLOOKUP($F96,RWS_[[Environmental Profile]:[Environmental Profile]],RWS_[SF-R],\"Not Found\",0)*Modellering!$I96,0)","v":0},{"$f":"IFERROR(_xlfn.XLOOKUP($F96,RWS_[[Environmental Profile]:[Environmental Profile]],RWS_[SF-NR],\"Not Found\",0)*Modellering!$I96,0)","v":0},{"$f":"IFERROR(_xlfn.XLOOKUP($F96,RWS_[[Environmental Profile]:[Environmental Profile]],RWS_[FW],\"Not Found\",0)*Modellering!$I96,0)","v":0},{"$f":"IFERROR(_xlfn.XLOOKUP($F96,RWS_[[Environmental Profile]:[Environmental Profile]],RWS_[HWD],\"Not Found\",0)*Modellering!$I96,0)","v":0},{"$f":"IFERROR(_xlfn.XLOOKUP($F96,RWS_[[Environmental Profile]:[Environmental Profile]],RWS_[NHWD],\"Not Found\",0)*Modellering!$I96,0)","v":0},{"$f":"IFERROR(_xlfn.XLOOKUP($F96,RWS_[[Environmental Profile]:[Environmental Profile]],RWS_[RWD],\"Not Found\",0)*Modellering!$I96,0)","v":0},{"$f":"IFERROR(_xlfn.XLOOKUP($F96,RWS_[[Environmental Profile]:[Environmental Profile]],RWS_[CRU],\"Not Found\",0)*Modellering!$I96,0)","v":0},{"$f":"IFERROR(_xlfn.XLOOKUP($F96,RWS_[[Environmental Profile]:[Environmental Profile]],RWS_[MFR],\"Not Found\",0)*Modellering!$I96,0)","v":0},{"$f":"IFERROR(_xlfn.XLOOKUP($F96,RWS_[[Environmental Profile]:[Environmental Profile]],RWS_[MER],\"Not Found\",0)*Modellering!$I96,0)","v":0},{"$f":"IFERROR(_xlfn.XLOOKUP($F96,RWS_[[Environmental Profile]:[Environmental Profile]],RWS_[EE-E],\"Not Found\",0)*Modellering!$I96,0)","v":0},{"$f":"IFERROR(_xlfn.XLOOKUP($F96,RWS_[[Environmental Profile]:[Environmental Profile]],RWS_[EE-T],\"Not Found\",0)*Modellering!$I96,0)","v":0}]
[null,null,"AdBlue","Gebruiksprofiel AdBlue","B1","*RWS Emmissieprofiel AdBlue (B), CO2 naar lucht per kg AdBlue,  32,5% Ureum","AdBlue Emissies","kg",{"$f":"Invoerblad!$H$78","v":""},null,{"$f":"IFERROR(_xlfn.XLOOKUP($F97,RWS_[[Environmental Profile]:[Environmental Profile]],RWS_[ECI-A1],\"Not Found\",0)*Modellering!$I97,0)","v":0},{"$f":"IFERROR(_xlfn.XLOOKUP($F97,RWS_[[Environmental Profile]:[Environmental Profile]],RWS_[ECI-A2],\"Not Found\",0)*Modellering!$I97,0)","v":0},{"$f":"IFERROR(_xlfn.XLOOKUP($F97,RWS_[[Environmental Profile]:[Environmental Profile]],RWS_[ADPE],\"Not Found\",0)*Modellering!$I97,0)","v":0},{"$f":"IFERROR(_xlfn.XLOOKUP($F97,RWS_[[Environmental Profile]:[Environmental Profile]],RWS_[ADPF],\"Not Found\",0)*Modellering!$I97,0)","v":0},{"$f":"IFERROR(_xlfn.XLOOKUP($F97,RWS_[[Environmental Profile]:[Environmental Profile]],RWS_[GWP1],\"Not Found\",0)*Modellering!$I97,0)","v":0},{"$f":"IFERROR(_xlfn.XLOOKUP($F97,RWS_[[Environmental Profile]:[Environmental Profile]],RWS_[ODP1],\"Not Found\",0)*Modellering!$I97,0)","v":0},{"$f":"IFERROR(_xlfn.XLOOKUP($F97,RWS_[[Environmental Profile]:[Environmental Profile]],RWS_[POCP],\"Not Found\",0)*Modellering!$I97,0)","v":0},{"$f":"IFERROR(_xlfn.XLOOKUP($F97,RWS_[[Environmental Profile]:[Environmental Profile]],RWS_[AP],\"Not Found\",0)*Modellering!$I97,0)","v":0},{"$f":"IFERROR(_xlfn.XLOOKUP($F97,RWS_[[Environmental Profile]:[Environmental Profile]],RWS_[EP],\"Not Found\",0)*Modellering!$I97,0)","v":0},{"$f":"IFERROR(_xlfn.XLOOKUP($F97,RWS_[[Environmental Profile]:[Environmental Profile]],RWS_[HTP],\"Not Found\",0)*Modellering!$I97,0)","v":0},{"$f":"IFERROR(_xlfn.XLOOKUP($F97,RWS_[[Environmental Profile]:[Environmental Profile]],RWS_[FAETP],\"Not Found\",0)*Modellering!$I97,0)","v":0},{"$f":"IFERROR(_xlfn.XLOOKUP($F97,RWS_[[Environmental Profile]:[Environmental Profile]],RWS_[MAETP],\"Not Found\",0)*Modellering!$I97,0)","v":0},{"$f":"IFERROR(_xlfn.XLOOKUP($F97,RWS_[[Environmental Profile]:[Environmental Profile]],RWS_[TETP],\"Not Found\",0)*Modellering!$I97,0)","v":0},{"$f":"IFERROR(_xlfn.XLOOKUP($F97,RWS_[[Environmental Profile]:[Environmental Profile]],RWS_[GWP2],\"Not Found\",0)*Modellering!$I97,0)","v":0},{"$f":"IFERROR(_xlfn.XLOOKUP($F97,RWS_[[Environmental Profile]:[Environmental Profile]],RWS_[GWP-F],\"Not Found\",0)*Modellering!$I97,0)","v":0},{"$f":"IFERROR(_xlfn.XLOOKUP($F97,RWS_[[Environmental Profile]:[Environmental Profile]],RWS_[GWP-B],\"Not Found\",0)*Modellering!$I97,0)","v":0},{"$f":"IFERROR(_xlfn.XLOOKUP($F97,RWS_[[Environmental Profile]:[Environmental Profile]],RWS_[GWP-L],\"Not Found\",0)*Modellering!$I97,0)","v":0},{"$f":"IFERROR(_xlfn.XLOOKUP($F97,RWS_[[Environmental Profile]:[Environmental Profile]],RWS_[ODP2],\"Not Found\",0)*Modellering!$I97,0)","v":0},{"$f":"IFERROR(_xlfn.XLOOKUP($F97,RWS_[[Environmental Profile]:[Environmental Profile]],RWS_[AP2],\"Not Found\",0)*Modellering!$I97,0)","v":0},{"$f":"IFERROR(_xlfn.XLOOKUP($F97,RWS_[[Environmental Profile]:[Environmental Profile]],RWS_[EP-FW],\"Not Found\",0)*Modellering!$I97,0)","v":0},{"$f":"IFERROR(_xlfn.XLOOKUP($F97,RWS_[[Environmental Profile]:[Environmental Profile]],RWS_[EP-M],\"Not Found\",0)*Modellering!$I97,0)","v":0},{"$f":"IFERROR(_xlfn.XLOOKUP($F97,RWS_[[Environmental Profile]:[Environmental Profile]],RWS_[EP-T],\"Not Found\",0)*Modellering!$I97,0)","v":0},{"$f":"IFERROR(_xlfn.XLOOKUP($F97,RWS_[[Environmental Profile]:[Environmental Profile]],RWS_[POCP2],\"Not Found\",0)*Modellering!$I97,0)","v":0},{"$f":"IFERROR(_xlfn.XLOOKUP($F97,RWS_[[Environmental Profile]:[Environmental Profile]],RWS_[ADP-MM],\"Not Found\",0)*Modellering!$I97,0)","v":0},{"$f":"IFERROR(_xlfn.XLOOKUP($F97,RWS_[[Environmental Profile]:[Environmental Profile]],RWS_[ADP-F],\"Not Found\",0)*Modellering!$I97,0)","v":0},{"$f":"IFERROR(_xlfn.XLOOKUP($F97,RWS_[[Environmental Profile]:[Environmental Profile]],RWS_[WDP],\"Not Found\",0)*Modellering!$I97,0)","v":0},{"$f":"IFERROR(_xlfn.XLOOKUP($F97,RWS_[[Environmental Profile]:[Environmental Profile]],RWS_[PM],\"Not Found\",0)*Modellering!$I97,0)","v":0},{"$f":"IFERROR(_xlfn.XLOOKUP($F97,RWS_[[Environmental Profile]:[Environmental Profile]],RWS_[IR],\"Not Found\",0)*Modellering!$I97,0)","v":0},{"$f":"IFERROR(_xlfn.XLOOKUP($F97,RWS_[[Environmental Profile]:[Environmental Profile]],RWS_[ETP-FW],\"Not Found\",0)*Modellering!$I97,0)","v":0},{"$f":"IFERROR(_xlfn.XLOOKUP($F97,RWS_[[Environmental Profile]:[Environmental Profile]],RWS_[HTP-C],\"Not Found\",0)*Modellering!$I97,0)","v":0},{"$f":"IFERROR(_xlfn.XLOOKUP($F97,RWS_[[Environmental Profile]:[Environmental Profile]],RWS_[HTP-NC],\"Not Found\",0)*Modellering!$I97,0)","v":0},{"$f":"IFERROR(_xlfn.XLOOKUP($F97,RWS_[[Environmental Profile]:[Environmental Profile]],RWS_[SQP],\"Not Found\",0)*Modellering!$I97,0)","v":0},{"$f":"IFERROR(_xlfn.XLOOKUP($F97,RWS_[[Environmental Profile]:[Environmental Profile]],RWS_[PERE],\"Not Found\",0)*Modellering!$I97,0)","v":0},{"$f":"IFERROR(_xlfn.XLOOKUP($F97,RWS_[[Environmental Profile]:[Environmental Profile]],RWS_[PERM],\"Not Found\",0)*Modellering!$I97,0)","v":0},{"$f":"IFERROR(_xlfn.XLOOKUP($F97,RWS_[[Environmental Profile]:[Environmental Profile]],RWS_[PERT],\"Not Found\",0)*Modellering!$I97,0)","v":0},{"$f":"IFERROR(_xlfn.XLOOKUP($F97,RWS_[[Environmental Profile]:[Environmental Profile]],RWS_[PENRE],\"Not Found\",0)*Modellering!$I97,0)","v":0},{"$f":"IFERROR(_xlfn.XLOOKUP($F97,RWS_[[Environmental Profile]:[Environmental Profile]],RWS_[PENRM],\"Not Found\",0)*Modellering!$I97,0)","v":0},{"$f":"IFERROR(_xlfn.XLOOKUP($F97,RWS_[[Environmental Profile]:[Environmental Profile]],RWS_[PENRT],\"Not Found\",0)*Modellering!$I97,0)","v":0},{"$f":"IFERROR(_xlfn.XLOOKUP($F97,RWS_[[Environmental Profile]:[Environmental Profile]],RWS_[SM],\"Not Found\",0)*Modellering!$I97,0)","v":0},{"$f":"IFERROR(_xlfn.XLOOKUP($F97,RWS_[[Environmental Profile]:[Environmental Profile]],RWS_[SF-R],\"Not Found\",0)*Modellering!$I97,0)","v":0},{"$f":"IFERROR(_xlfn.XLOOKUP($F97,RWS_[[Environmental Profile]:[Environmental Profile]],RWS_[SF-NR],\"Not Found\",0)*Modellering!$I97,0)","v":0},{"$f":"IFERROR(_xlfn.XLOOKUP($F97,RWS_[[Environmental Profile]:[Environmental Profile]],RWS_[FW],\"Not Found\",0)*Modellering!$I97,0)","v":0},{"$f":"IFERROR(_xlfn.XLOOKUP($F97,RWS_[[Environmental Profile]:[Environmental Profile]],RWS_[HWD],\"Not Found\",0)*Modellering!$I97,0)","v":0},{"$f":"IFERROR(_xlfn.XLOOKUP($F97,RWS_[[Environmental Profile]:[Environmental Profile]],RWS_[NHWD],\"Not Found\",0)*Modellering!$I97,0)","v":0},{"$f":"IFERROR(_xlfn.XLOOKUP($F97,RWS_[[Environmental Profile]:[Environmental Profile]],RWS_[RWD],\"Not Found\",0)*Modellering!$I97,0)","v":0},{"$f":"IFERROR(_xlfn.XLOOKUP($F97,RWS_[[Environmental Profile]:[Environmental Profile]],RWS_[CRU],\"Not Found\",0)*Modellering!$I97,0)","v":0},{"$f":"IFERROR(_xlfn.XLOOKUP($F97,RWS_[[Environmental Profile]:[Environmental Profile]],RWS_[MFR],\"Not Found\",0)*Modellering!$I97,0)","v":0},{"$f":"IFERROR(_xlfn.XLOOKUP($F97,RWS_[[Environmental Profile]:[Environmental Profile]],RWS_[MER],\"Not Found\",0)*Modellering!$I97,0)","v":0},{"$f":"IFERROR(_xlfn.XLOOKUP($F97,RWS_[[Environmental Profile]:[Environmental Profile]],RWS_[EE-E],\"Not Found\",0)*Modellering!$I97,0)","v":0},{"$f":"IFERROR(_xlfn.XLOOKUP($F97,RWS_[[Environmental Profile]:[Environmental Profile]],RWS_[EE-T],\"Not Found\",0)*Modellering!$I97,0)","v":0}]
[{"$nulls":10},{"$f":"SUM(K86:K97)","v":0},0,0,0,0,0,0,0,0,0,0,0,0,0,0,0,0,0,0,0,0,0,0,0,0,0,0,0,0,0,0,0,{"$f":"SUM(AQ86:AQ97)","v":0},0,0,0,0,0,0,0,0,0,0,0,0,0,0,0,0,0]

{"sheet":"RWS Dataset V1","index":15,"n_rows":76,"n_cols":57,"rows_kept":76,"cut":false,"hidden":true,"merged":[]}
["Environmental Profile","Result Name","Database","Fuctional Unit","Division","Development","Category","ECI-A1","ECI-A2","ADPE","ADPF","GWP1","ODP1","POCP","AP","EP","HTP","FAETP","MAETP","TETP","GWP2","GWP-F","GWP-B","GWP-L","ODP2","AP2","EP-FW","EP-M","EP-T","POCP2","ADP-MM","ADP-F","WDP","PM","IR","ETP-FW","HTP-C","HTP-NC","SQP","PERE","PERM","PERT","PENRE","PENRM","PENRT","SM","SF-R","SF-NR","FW","HWD","NHWD","RWD","CRU","MFR","MER","EE-E","EE-T"]
["*RWS Energiedrager AdBlue (A1-A3) 32,5% Ureum","AdBlue ","Combined","kg","Energiedragers","Export 14-02-2025",{"$f":"\"3\"","v":"3"},{"$f":"SUM('RWS Dataset V1'!$J2:$T2*TRANSPOSE('Weighting Set'!$F$2:$F$12))","v":0.12349733848288001},{"$f":"SUM('RWS Dataset V1'!$U2:$AM2*TRANSPOSE('Weighting Set'!$F$13:$F$31))","v":7.8502684699133671E-2},1.8743587999999998E-5,9.1483369999999994E-3,1.0192564,1.6466496000000001E-7,3.2631958E-4,5.0714997E-3,7.0791677000000002E-4,0.44525392000000003,7.5201926000000004E-3,33.652934000000002,1.4867462E-3,0.45748486999999999,0.45688501999999998,4.3863509000000001E-4,1.6121391E-4,2.0229912999999999E-8,1.8739328000000001E-3,7.1987306000000003E-6,3.2075828E-4,5.2173400999999996E-3,1.5622253000000001E-3,4.4570747000000002E-6,9.7356625000000001,1.0550466000000001,1.7886026E-8,6.4888682000000001E-3,1.3715396,2.0276351E-10,4.5411850000000002E-9,0.90043576000000003,0,0,0.25018858999999999,0,0,9.7354643000000003,0,0,0,2.8317469000000001E-2,4.3433494E-5,4.4036089E-2,4.8954845000000001E-6,0,0,0,0,0]
["*RWS Energiedrager AdBlue (A4) 32,5% Ureum","Opslag AdBlue","Combined","kg","Energiedragers","Export 14-02-2025","3",{"$f":"SUM('RWS Dataset V1'!$J3:$T3*TRANSPOSE('Weighting Set'!$F$2:$F$12))","v":1.2897731400534E-3},{"$f":"SUM('RWS Dataset V1'!$U3:$AM3*TRANSPOSE('Weighting Set'!$F$13:$F$31))","v":2.8761126337437351E-3},2.3107663999999999E-7,1.0012093999999999E-4,1.344971E-2,2.5479717E-9,8.4057282999999996E-6,4.9678685000000002E-5,9.6318004999999995E-6,2.9055013000000001E-3,1.2216734000000001E-4,0.32802653999999998,1.6328099000000001E-5,1.4956338E-2,1.4944183999999999E-2,7.8044144000000008E-6,4.3499914999999999E-6,3.2933721999999999E-10,5.7155718000000002E-5,9.1248893999999998E-8,2.1805885999999999E-5,2.3400931000000001E-4,8.9626843000000005E-5,2.3361374E-8,0.21739226,9.7504266000000004E-4,1.3119724999999999E-9,8.2094038000000001E-5,9.7022169000000005E-2,4.6253514000000003E-12,9.4841204999999997E-11,0.22925060999999999,0,0,2.3510270999999999E-3,0,0,0.21739528999999999,0,0,0,3.0608199E-5,1.3650193E-6,1.9895183E-2,5.0624054000000001E-8,0,0,0,0,0]
["*RWS Energiedrager Ammoniak Grijs (A1-A3) o.b.v Ammonia, anhydrous, liquid {RER w/o RU}| ammonia production, steam reforming, liquid | Cut-off, U","Ammoniak, Grijs","Combined","ton","Energiedragers","Export 14-02-2025","3",{"$f":"SUM('RWS Dataset V1'!$J4:$T4*TRANSPOSE('Weighting Set'!$F$2:$F$12))","v":170.67855200822001},{"$f":"SUM('RWS Dataset V1'!$U4:$AM4*TRANSPOSE('Weighting Set'!$F$13:$F$31))","v":330.75090641121955},1.7622327E-2,20.112787000000001,2437.2748999999999,2.3878022999999999E-4,0.45015397000000001,3.7377357,0.32489269999999998,275.48349000000002,4.2348774999999996,17985.268,1.5400974000000001,2456.0913999999998,2453.6289000000002,2.0181879999999999,0.44426750999999998,1.2111208999999999E-4,3.6695560999999999,1.6971195000000001E-2,0.73089981999999998,8.1797996000000008,3.4890419000000001,9.7247344000000006E-3,36059.741999999998,2340.8126000000002,1.3938729E-5,22.326884,2248.0203999999999,4.2690920000000001E-7,9.3146480000000002E-6,1590.0305000000001,0,0,755.54111,0,0,36058.881000000001,0,0,0,56.802303000000002,0.14279810000000001,71.492816000000005,1.7196228000000001E-2,0,0,0,0,0]
["*RWS Energiedrager Ammoniak Syntethisch (A1-A3)","Ammoniak, Synthetisch","Combined","ton","Energiedragers","Export 14-02-2025","3",{"$f":"SUM('RWS Dataset V1'!$J5:$T5*TRANSPOSE('Weighting Set'!$F$2:$F$12))","v":102.07428632949001},{"$f":"SUM('RWS Dataset V1'!$U5:$AM5*TRANSPOSE('Weighting Set'!$F$13:$F$31))","v":61.4885288899996},4.4506126999999999E-2,1.5179480000000001,261.95143999999999,1.8786639000000001E-5,0.18382292,2.3662231,0.51837436000000003,764.70306000000005,11.409485,32098.31,30.880994000000001,271.34705000000002,271.43804,-0.31720361000000002,0.31660492000000001,1.6107893999999999E-5,2.7596248000000001,0.11754679,0.36631498000000001,3.6872902000000001,1.1199726000000001,3.5935882000000002E-2,3033.6181999999999,495.94432999999998,2.0630173000000001E-5,11.230556999999999,17965.921999999999,1.4032111999999999E-6,3.4795395000000002E-5,4331.5429000000004,51614.290999999997,0,51826.271999999997,2099.7811999999999,0,3168.4915999999998,9.3254812999999999,0,0,11.401605,1.9784797999999999E-2,318.02679999999998,1.0138565E-2,0,37.420684000000001,4.2739476999999999,43.785910999999999,75.302346]
["*RWS Energiedrager Bio-CNG (A1-A3) (Biogas mix 2023)","Bio-CNG","Combined","ton","Energiedragers","Export 14-02-2025","3",{"$f":"SUM('RWS Dataset V1'!$J6:$T6*TRANSPOSE('Weighting Set'!$F$2:$F$12))","v":25.829351665589002},{"$f":"SUM('RWS Dataset V1'!$U6:$AM6*TRANSPOSE('Weighting Set'!$F$13:$F$31))","v":-284.75257924214566},4.1636149999999999E-3,0.29990517999999999,373.89071999999999,6.6380063000000002E-6,0.10466631999999999,0.27186772999999997,2.7118308000000001E-2,57.020350999999998,0.85770573999999999,3084.8148999999999,1.3175489,-2502.7305000000001,39.842050999999998,-2542.4432000000002,5.2917112000000002E-2,1.3294518999999999E-6,0.29463583999999998,2.0405897E-3,4.2630056E-2,0.49632316999999998,0.31307467,2.5989836999999998E-3,540.82365000000004,9.7330725999999999,6.6273604999999997E-6,2.2905126,1009.0439,7.6257898999999998E-8,2.7385051999999999E-6,1385.4164000000001,11.866466000000001,0,370.90370999999999,72.576155,0,545.07743000000005,0.13826552,0,0,0.52112071000000004,5.3263160000000002E-3,12.277113999999999,1.3999699999999999E-3,0,0.48472395000000001,3.8883867000000003E-2,1.3031923000000001,2.2408549999999998]
["*RWS Energiedrager Bio-CNG (A4)","Opslag Brandstof","Combined","ton","Energiedragers","Export 14-02-2025","3",{"$f":"SUM('RWS Dataset V1'!$J7:$T7*TRANSPOSE('Weighting Set'!$F$2:$F$12))","v":1.0409064791008997},{"$f":"SUM('RWS Dataset V1'!$U7:$AM7*TRANSPOSE('Weighting Set'!$F$13:$F$31))","v":0.8156451894999881},5.5457111000000001E-4,1.9890993999999999E-2,3.3552067000000001,3.7631610999999999E-7,2.9986967000000002E-3,3.4802167000000002E-2,2.9426221999999998E-3,6.7623721999999997,0.1502435,483.83499999999998,0.61116000000000004,3.4767184000000002,3.3104499999999999,0.25850833000000001,5.1212944000000003E-3,3.6499832999999998E-7,4.0744000000000002E-2,3.3953333000000003E-4,4.2158721999999999E-3,5.0364111000000003E-2,1.5438940999999999E-2,5.5457111000000001E-4,36.499833000000002,2.215455,2.8860332999999999E-7,0.11374367000000001,305.58148,1.5505356E-8,4.1332343999999998E-7,325.38610999999997,6.3379555999999999,0,6.3379555999999999,38.763388999999997,0,38.763388999999997,7.3848499999999997E-2,0,0,7.3848499999999997E-2,1.5307293999999999E-3,1.7797206000000001,1.06953E-4,0,0.25889416999999998,2.0768122E-2,0.69604332999999996,1.196855]
["*RWS Energiedrager Bio-LNG (A1-A3)","Bio-LNG","Combined","ton","Energiedragers","Export 14-02-2025","3",{"$f":"SUM('RWS Dataset V1'!$J8:$T8*TRANSPOSE('Weighting Set'!$F$2:$F$12))","v":26.012042729707002},{"$f":"SUM('RWS Dataset V1'!$U8:$AM8*TRANSPOSE('Weighting Set'!$F$13:$F$31))","v":-284.62204548854692},4.2653172000000003E-3,0.30355296999999998,374.34334999999999,6.7070185000000001E-6,0.10518337,0.27825006000000002,2.7657952999999999E-2,58.260494999999999,0.88525874000000004,3173.5448999999999,1.4296289,-2502.2561999999998,40.311177000000001,-2542.4211,5.3856301000000002E-2,1.3963886E-6,0.30210784000000002,2.1028562999999998E-3,4.3403200000000003E-2,0.50555939000000005,0.31585066000000001,2.7006859999999999E-3,547.51730999999995,10.139362999999999,6.6802872000000004E-6,2.3113719000000001,1065.0825,7.9101410000000006E-8,2.8140454E-6,1445.0886,13.028777,0,372.06601999999998,79.684933000000001,0,552.18620999999996,0.15180852,0,0,0.53466371000000001,5.6070349000000002E-3,12.603495000000001,1.419584E-3,0,0.53220228999999997,4.2692511000000002E-2,1.4308388999999999,2.4603449999999998]
["*RWS Energiedrager Bio-LNG (A4)","Opslag Brandstof","Combined","ton","Energiedragers","Export 14-02-2025","3",{"$f":"SUM('RWS Dataset V1'!$J9:$T9*TRANSPOSE('Weighting Set'!$F$2:$F$12))","v":3.3647832669417999},{"$f":"SUM('RWS Dataset V1'!$U9:$AM9*TRANSPOSE('Weighting Set'!$F$13:$F$31))","v":7.1950832868399646},2.5235573000000002E-4,0.38012244000000001,46.339711000000001,6.2386654999999999E-6,1.3467491999999999E-2,8.1301012000000006E-2,1.5066481E-2,4.9464259999999998,0.15494746000000001,471.92968999999999,3.3224930999999999E-2,48.284224999999999,48.189306999999999,8.6126753E-2,8.7905876999999997E-3,1.7517208E-6,8.9191964999999998E-2,3.9690751999999998E-4,3.2210615999999997E-2,0.350518,0.15034386,4.0977577999999999E-5,705.93312000000003,2.7711101999999999,1.4686335E-6,0.33971109999999999,124.52127,9.7818574000000004E-9,1.5751153E-7,253.55574999999999,0,0,15.687386,0,0,705.9366,0,0,0,0.10058298,3.3551241000000002E-3,20.662877000000002,2.6911280000000001E-4,0,0,0,0,0]
["*RWS Energiedrager CNG (A1-A3) (Aardgas import mix 2023)","CNG","Combined","ton","Energiedragers","Export 14-02-2025","3",{"$f":"SUM('RWS Dataset V1'!$J10:$T10*TRANSPOSE('Weighting Set'!$F$2:$F$12))","v":39.202605506247203},{"$f":"SUM('RWS Dataset V1'!$U10:$AM10*TRANSPOSE('Weighting Set'!$F$13:$F$31))","v":67.012575068981604},6.7459842000000005E-4,28.956118,418.42685999999998,3.0695070999999999E-4,0.52164155000000001,1.7542019,0.13011671,39.943572000000003,1.6373237,7459.1139999999996,0.29789146999999999,349.04858999999999,348.55721999999997,0.35560561000000002,0.13576754999999999,1.8862999999999999E-4,1.8139168999999999,3.5129850000000002E-3,0.32995562000000001,3.6341789000000002,2.1448361999999999,4.4888953E-4,50489.277000000002,34.479883000000001,5.8648760999999997E-6,2.0687682000000001,1103.5636,1.9540434999999999E-7,1.6588011000000001E-6,358.19558000000001,0,0,122.36031,0,0,50489.375999999997,0,0,0,1.3418146,0.19543889,24.353717,1.3953825000000001E-3,0,0,0,0,0]
["*RWS Energiedrager CNG (A4)","Opslag Brandstof","Combined","ton","Energiedragers","Export 14-02-2025","3",{"$f":"SUM('RWS Dataset V1'!$J11:$T11*TRANSPOSE('Weighting Set'!$F$2:$F$12))","v":12.690535320297798},{"$f":"SUM('RWS Dataset V1'!$U11:$AM11*TRANSPOSE('Weighting Set'!$F$13:$F$31))","v":19.383401386481893},3.0794988000000002E-4,1.3484362999999999,179.19477000000001,8.7857939000000001E-6,2.4951371E-2,0.30920579999999998,6.7629303000000002E-2,15.544954000000001,0.41953216999999998,1906.0192999999999,0.28517903999999999,144.41148000000001,142.72588999999999,1.6374441,4.8137924999999998E-2,4.3696736999999997E-6,0.24532149,5.6013581999999999E-3,6.4422131999999993E-2,0.75833406999999997,0.22889844000000001,1.8958802999999999E-4,2070.27,17.56625,1.0256675E-6,4.7240072,224.97313,3.0183126E-8,6.4620773999999997E-7,415.36452000000003,0,0,269.38483000000002,0,0,2070.2737000000002,0,0,0,1.0025497999999999,5.1334435999999999E-3,4.5089107999999998,4.1733003999999997E-3,0,0,0,0,0]
["*RWS Energiedrager Diesel (ULSD) A1-A3 (markt mix TNO) (o.b.v. Diesel, low-sulfur {Europe without Switzerland}| diesel production, low-sulfur, petroleum refinery operation | Cut-off, U)","Diesel","Combined","ton","Energiedragers","Export 14-02-2025","3",{"$f":"SUM('RWS Dataset V1'!$J12:$T12*TRANSPOSE('Weighting Set'!$F$2:$F$12))","v":96.92313963290799},{"$f":"SUM('RWS Dataset V1'!$U12:$AM12*TRANSPOSE('Weighting Set'!$F$13:$F$31))","v":135.33298117415166},1.5020838E-3,25.191085000000001,581.08191999999997,6.1122053000000004E-4,0.89344182999999999,4.9203210999999998,0.65705670999999999,329.95037000000002,13.896025,62759.277999999998,0.83121305999999995,711.17328999999995,709.91552000000001,1.0909289,0.16684117000000001,3.6979952000000001E-4,3.8227392,4.9505308999999997E-3,0.66861837000000002,5.9716078000000001,4.8736362,4.7333217E-4,53950.824999999997,56.286002000000003,3.5139235E-5,8.9450947000000003,15926.173000000001,2.6861203000000003E-7,4.9947016999999996E-6,1021.9279,0,0,147.71916999999999,0,0,53950.737999999998,0,0,0,2.2595575000000001,0.30420198999999998,16.362404000000002,5.8822303999999997E-3,0,0,0,0,0]
["*RWS Energiedrager FAME well-to-tank (A1-A3) mix 2023","FAME","Combined","ton","Energiedragers","Export 14-02-2025","3",{"$f":"SUM('RWS Dataset V1'!$J13:$T13*TRANSPOSE('Weighting Set'!$F$2:$F$12))","v":93.508340639676007},{"$f":"SUM('RWS Dataset V1'!$U13:$AM13*TRANSPOSE('Weighting Set'!$F$13:$F$31))","v":-187.91133971793892},6.8743386E-3,7.8247986000000003,897.36080000000004,1.1916145E-4,0.39589702999999998,3.9578026999999998,0.74687091999999999,225.63481999999999,15.366425,31029.475999999999,2.7956805999999998,-1913.5017,913.31712000000005,-2835.4555999999998,8.6549677999999997,3.5131176000000001E-5,4.4407899999999998,1.1405383999999999E-2,1.2316533999999999,11.890053999999999,4.2949992000000004,1.1181836E-3,14267.564,-72.142951999999994,2.2300351999999999E-5,5.8151564000000002,5401.1153999999997,2.4044492999999999E-7,4.1588621000000003E-6,3097.8224,99.075999999999993,0,389.15922,489.05599999999998,0,14325.625,2.4874400000000001E-2,0,0,1.429549,6.4865251999999998E-2,175.96686,4.4258683999999996E-3,0,8.5022666999999996E-2,5.1646000000000001E-3,0.17285600000000001,0.29722799999999999]
["*RWS Energiedrager GTL (A1-A3) (o.b.v NMD kaart Well-to-tank GTL (A1-A4) aangepast naar ton)","GTL","Combined","ton","Energiedragers","Export 14-02-2025","3",{"$f":"SUM('RWS Dataset V1'!$J14:$T14*TRANSPOSE('Weighting Set'!$F$2:$F$12))","v":215.64929691268159},{"$f":"SUM('RWS Dataset V1'!$U14:$AM14*TRANSPOSE('Weighting Set'!$F$13:$F$31))","v":259.55080634406806},4.7510126000000001E-4,35.106625000000001,2000.1541,1.7314196E-5,1.4892890000000001,4.6956787000000002,0.16695014999999999,433.17419999999998,120.6648,441354.04,0.31777200999999999,1914.7498000000001,1914.3096,0.22197434999999999,0.21829413,2.6938685E-4,2.2473277,4.7115578000000002E-3,0.37500717,4.1135973999999997,4.8017570999999997,6.5953319999999998E-4,65631.149000000005,34.568666999999998,9.4745130999999993E-6,1.538322,478.91525000000001,3.8062474000000002E-7,2.4318491E-6,236.61114000000001,0,0,58.932707000000001,0,0,65631.350000000006,0,0,0,1.0054860999999999,0.31108639999999999,27.092649999999999,1.1095303E-3,0,0,0,0,0]
["*RWS Energiedrager GTL Opslag en Transport (A4)","Opslag Brandstof","Combined","ton","Energiedragers","Export 14-02-2025","3",{"$f":"SUM('RWS Dataset V1'!$J15:$T15*TRANSPOSE('Weighting Set'!$F$2:$F$12))","v":20.2467130089032},{"$f":"SUM('RWS Dataset V1'!$U15:$AM15*TRANSPOSE('Weighting Set'!$F$13:$F$31))","v":21.099816992996146},7.7422677E-4,0.54163490000000003,88.599870999999993,1.4133454E-5,0.11363023,2.1278071000000001,0.22139386999999999,50.804645000000001,0.82913190000000003,3896.8036000000002,0.19173229999999999,96.350825,96.289170999999996,-1.448618E-2,8.2869685999999998E-2,1.4765754000000001E-6,2.6069675999999999,4.3272451999999998E-4,0.61662927000000001,6.8380988,1.8762534,1.4062868E-4,1177.8055999999999,3.6464240000000001,2.7620103000000001E-6,0.27089753,602.14927,4.4531977999999998E-8,3.7764622999999998E-7,111.97951999999999,0.43804443999999998,0,9.5533818999999998,2.6791111000000001,0,1178.0206000000001,5.104E-3,0,0,0.12090608,5.9397699999999996E-3,3.2741362000000001,1.4897223000000001E-4,0,1.7893333000000001E-2,1.4353778000000001E-3,4.8106666999999999E-2,8.2720000000000002E-2]
["*RWS Energiedrager HFO (A1-A3) (o.b.v Heavy fuel oil {Europe without Switzerland}| heavy fuel oil production, petroleum refinery operation | Cut-off, U)","HFO","Combined","ton","Energiedragers","Export 14-02-2025","3",{"$f":"SUM('RWS Dataset V1'!$J16:$T16*TRANSPOSE('Weighting Set'!$F$2:$F$12))","v":77.899086851189608},{"$f":"SUM('RWS Dataset V1'!$U16:$AM16*TRANSPOSE('Weighting Set'!$F$13:$F$31))","v":118.83651490226723},9.9537806000000008E-4,21.213215999999999,320.73730999999998,5.8184857000000004E-4,0.62344255000000004,3.7320742,0.63412729000000001,346.2491,14.511236999999999,49304.197999999997,0.66647756000000002,666.27977999999996,665.28734999999995,0.82314114000000005,0.16928493,7.6247302000000003E-5,2.4425389000000002,4.6008289999999999E-3,0.5868099,4.9634745000000002,6.7001084000000004,3.3410112000000001E-4,46826.373,56.798363000000002,1.6114221E-5,7.0310854000000003,20279.632000000001,2.2491409999999999E-7,4.5947993E-6,2226.3953000000001,0,0,128.82306,0,0,46826.307000000001,0,0,0,2.2007330999999999,0.21998604999999999,14.659578,3.5459939999999998E-3,0,0,0,0,0]
["*RWS Energiedrager HFO transport en opslag (A4) (o.b.v. Heavy fuel oil {Europe without Switzerland}| market for heavy fuel oil | Cut-off, U zonder HFO productie)","Opslag Brandstof","Combined","ton","Energiedragers","Export 14-02-2025","3",{"$f":"SUM('RWS Dataset V1'!$J17:$T17*TRANSPOSE('Weighting Set'!$F$2:$F$12))","v":4.2359854026798004E-3},{"$f":"SUM('RWS Dataset V1'!$U17:$AM17*TRANSPOSE('Weighting Set'!$F$13:$F$31))","v":6.0341843287028078E-3},8.7181983E-7,2.0302697999999999E-4,2.9215946999999999E-2,4.2305528999999997E-9,2.1113530999999998E-5,2.2004172E-4,4.0307995000000001E-5,1.4969944000000001E-2,2.8539122000000001E-4,0.95890301,9.2073891999999998E-5,3.0327089000000002E-2,3.0050197000000001E-2,2.3540367E-4,4.1488468E-5,5.7487887000000002E-10,2.5984511000000002E-4,1.0421024999999999E-6,7.3121466000000001E-5,8.1481494999999997E-4,2.5033046E-4,1.2345632000000001E-7,0.46153244999999998,2.2421193E-3,2.1880562E-9,1.5932050000000001E-3,0.20631229000000001,3.0698515999999998E-11,2.9171241E-10,0.29996549,0,0,3.9436533000000003E-2,0,0,0.46147757,0,0,0,1.5982419999999999E-4,2.9711189000000002E-6,1.1862213999999999E-2,1.2530231000000001E-6,0,0,0,0,0]
["*RWS Energiedrager HVO (A1-A3) NEA marktmix 2023","HVO","Combined","ton","Energiedragers","Export 14-02-2025","3",{"$f":"SUM('RWS Dataset V1'!$J18:$T18*TRANSPOSE('Weighting Set'!$F$2:$F$12))","v":59.042824441927998},{"$f":"SUM('RWS Dataset V1'!$U18:$AM18*TRANSPOSE('Weighting Set'!$F$13:$F$31))","v":-272.88888031770637},5.4625893E-3,3.3672488,368.62144000000001,5.8041987999999998E-5,0.38467384999999998,3.8283339999999999,0.75041879,156.02823000000001,37.866948999999998,11189.276,15.607462999999999,-2659.3753000000002,385.48178999999999,-3108.5931999999998,63.736133000000002,2.3577454E-5,4.9083109,1.1474618000000001E-2,1.6385399,13.790531,4.0260680000000004,1.5186199E-3,7348.6130000000003,157.01757000000001,2.0127925999999999E-5,3.9886379999999999,17755.13,2.1797515000000001E-7,5.7790933000000001E-6,6086.3307999999997,0,0,1109.6674,0,0,7471.8519999999999,0,0,0,9.3266310000000008,2.9530836000000001E-2,106.21897,2.6695073999999999E-3,0,0,0,0,0]
["*RWS Energiedrager LNG (A1-A3)","LNG","Combined","ton","Energiedragers","Export 14-02-2025","3",{"$f":"SUM('RWS Dataset V1'!$J19:$T19*TRANSPOSE('Weighting Set'!$F$2:$F$12))","v":107.38145257789122},{"$f":"SUM('RWS Dataset V1'!$U19:$AM19*TRANSPOSE('Weighting Set'!$F$13:$F$31))","v":142.96156454887802},5.3808307000000001E-4,29.557435000000002,759.72918000000004,2.7523998000000003E-4,0.80761373999999997,3.4469382999999998,0.17905277,368.96751,37.448371000000002,132900.16,0.37436742000000001,902.56793000000005,901.98188000000005,0.37964911000000001,0.20639099999999999,6.138603E-5,2.0673824999999999,5.8506271000000002E-3,0.4687191,5.1551945000000003,5.9283806999999999,6.6321478999999996E-4,55370.044000000002,60.559989000000002,1.2435538E-5,4.6800838999999996,1601.7805000000001,3.1962397999999998E-7,3.7378283000000002E-6,727.10586000000001,0,0,113.33275999999999,0,0,55370.224000000002,0,0,0,1.8879242000000001,0.25402565999999999,52.265033000000003,2.7196640000000001E-3,0,0,0,0,0]
["*RWS Energiedrager LNG (A4) - LNG (mix 2023)","Opslag Brandstof","Combined","ton","Energiedragers","Export 14-02-2025","3",{"$f":"SUM('RWS Dataset V1'!$J20:$T20*TRANSPOSE('Weighting Set'!$F$2:$F$12))","v":14.687965594053601},{"$f":"SUM('RWS Dataset V1'!$U20:$AM20*TRANSPOSE('Weighting Set'!$F$13:$F$31))","v":17.561512192238645},3.3991646000000001E-4,0.60394099000000001,85.893467999999999,1.2251279999999999E-5,7.3923375E-2,1.4261961000000001,0.15689062000000001,30.771404,0.50758859000000001,2410.4045999999998,9.8308382E-2,90.921576999999999,90.810466000000005,7.0800422000000002E-2,4.0310734000000001E-2,2.2919758000000001E-6,1.7524367000000001,5.0118392999999996E-4,0.43637639,4.8333934999999997,1.3320316000000001,6.2902994000000001E-5,1194.5591999999999,3.5662341999999998,1.7824422000000001E-6,0.39351767999999998,374.87428,2.6851066000000001E-8,2.5499726999999999E-7,73.944063,0,0,17.668261000000001,0,0,1194.5851,0,0,0,0.12969401999999999,5.4742476999999996E-3,2.2212198999999999,2.8828415999999999E-4,0,0,0,0,0]
["*RWS Energiedrager Methanol (e-Methanol) (A1-A3)","E-Methanol","Combined","ton","Energiedragers","Export 14-02-2025","3",{"$f":"SUM('RWS Dataset V1'!$J21:$T21*TRANSPOSE('Weighting Set'!$F$2:$F$12))","v":71.134626322480003},{"$f":"SUM('RWS Dataset V1'!$U21:$AM21*TRANSPOSE('Weighting Set'!$F$13:$F$31))","v":48.424691851279995},2.6530290000000002E-2,0.83382285,176.74884,1.4800436E-5,0.14863768999999999,1.7891054,0.45882603,516.76981999999998,8.6122858999999998,22290.073,26.321548,201.69650999999999,183.33927,18.108865999999999,0.34203209000000001,1.2102478E-5,2.1862701000000002,9.7030137000000002E-2,0.33252948999999998,3.9661482000000001,0.9796165,2.5677215E-2,1819.6864,177.94882999999999,1.9298958000000001E-5,8.0701608999999994,16146.395,1.0862535E-6,2.5889496999999998E-5,7305.4441999999999,45512.911999999997,0,45558.703999999998,1939.3532,0,1944.4244000000001,8.1517593999999995,0,0,4.0513582000000001,1.8230994E-2,277.71963,7.7280001000000001E-3,0,32.592568,3.6830973999999999,37.738387000000003,64.906730999999994]
["*RWS Energiedrager Methanol Bio (A1-A3) (o.b.v. Methanol, from biomass {CH}| methanol production, from synthetic gas | Cut-off, U)","Bio-Methanol","Combined","ton","Energiedragers","Export 14-02-2025","3",{"$f":"SUM('RWS Dataset V1'!$J22:$T22*TRANSPOSE('Weighting Set'!$F$2:$F$12))","v":61.909469755529997},{"$f":"SUM('RWS Dataset V1'!$U22:$AM22*TRANSPOSE('Weighting Set'!$F$13:$F$31))","v":-92.48875436791316},1.3603876000000001E-2,2.5598656000000002,336.88616999999999,6.2744178999999997E-5,0.81992162000000002,2.1060476000000001,0.95931849999999996,251.82571999999999,44.057924,17566.995999999999,3.5145259000000002,-1137.5769,231.3767,-1372.7070000000001,3.8486215000000001,1.6126464E-5,1.8246857999999999,7.4530373999999996E-2,0.58033825000000006,5.1696204999999997,2.6394734,3.0350437000000001E-3,3896.8409000000001,112.87358999999999,2.6748278999999999E-5,22.801324000000001,4596.1153999999997,5.3485466000000002E-7,2.0151853000000001E-5,112390.38,6.1992000000000003,0,50562.535000000003,37.914749999999998,0,3902.0907000000002,7.2231749999999997E-2,0,0,9.0569109999999995,1.9397210000000002E-2,178.40245999999999,1.3454189E-2,0,0.25322624999999999,2.031345E-2,0.68080499999999999,1.1706525000000001]
["*RWS Energiedrager Methanol Grijs (A1-A3) (o.b.v. Methanol {GLO}| methanol production | Cut-off, U)","Methanol","Combined","ton","Energiedragers","Export 14-02-2025","3",{"$f":"SUM('RWS Dataset V1'!$J23:$T23*TRANSPOSE('Weighting Set'!$F$2:$F$12))","v":69.879457653076003},{"$f":"SUM('RWS Dataset V1'!$U23:$AM23*TRANSPOSE('Weighting Set'!$F$13:$F$31))","v":109.83970481381454},6.6778610999999998E-3,16.66892,616.07563000000005,1.8529766999999999E-4,0.52216759999999995,2.0054129000000001,0.21411197000000001,166.84422000000001,54.533788000000001,87341.979000000007,0.38059492,723.50886000000003,722.67208000000005,0.56524094000000003,0.27154028000000002,4.7741275000000001E-5,1.5982034000000001,1.6828349999999999E-2,0.42439280000000001,4.6822575000000004,3.8950456999999998,1.7222596000000001E-3,30631.9,199.17384000000001,9.0151984000000006E-6,5.1938765,1954.4598000000001,2.5168977000000001E-7,3.4227534E-6,719.99048000000005,0,0,157.8896,0,0,30631.991999999998,0,0,0,5.0766945999999997,0.14028768999999999,43.013475999999997,3.2564642000000002E-3,0,0,0,0,0]
["*RWS Energiedrager MGO (A1-A3)","MGO","Combined","ton","Energiedragers","Export 14-02-2025","3",{"$f":"SUM('RWS Dataset V1'!$J24:$T24*TRANSPOSE('Weighting Set'!$F$2:$F$12))","v":96.923139633508001},{"$f":"SUM('RWS Dataset V1'!$U24:$AM24*TRANSPOSE('Weighting Set'!$F$13:$F$31))","v":135.33298117905167},1.5020838E-3,25.191085000000001,581.08191999999997,6.1122053000000004E-4,0.89344182999999999,4.9203210999999998,0.65705670999999999,329.95037000000002,13.896025,62759.277999999998,0.83121307,711.17328999999995,709.91552000000001,1.0909289,0.16684117000000001,3.6979952000000001E-4,3.8227392,4.9505308999999997E-3,0.66861837000000002,5.9716078000000001,4.8736362,4.7333217E-4,53950.824999999997,56.286002000000003,3.5139235E-5,8.9450947999999997,15926.173000000001,2.6861203000000003E-7,4.9947016999999996E-6,1021.9279,0,0,147.71917999999999,0,0,53950.737999999998,0,0,0,2.2595575000000001,0.30420198999999998,16.362403,5.8822305000000002E-3,0,0,0,0,0]
["*RWS Energiedrager MGO oplsag en transport (A4)","Opslag Brandstof","Combined","ton","Energiedragers","Export 14-02-2025","3",{"$f":"SUM('RWS Dataset V1'!$J25:$T25*TRANSPOSE('Weighting Set'!$F$2:$F$12))","v":1.961570865688},{"$f":"SUM('RWS Dataset V1'!$U25:$AM25*TRANSPOSE('Weighting Set'!$F$13:$F$31))","v":3.7495151222138206},1.3205326999999999E-3,0.14392661000000001,19.693204000000001,2.8829892E-6,1.1227967E-2,6.9848263999999993E-2,1.3222107E-2,5.3318066000000002,0.17137875999999999,450.40809999999999,4.4865223000000003E-2,20.182137000000001,20.192876999999999,-1.7977333000000002E-2,7.2365919000000004E-3,4.6192040000000002E-7,7.9764002000000001E-2,2.9378204999999999E-4,2.5719250999999999E-2,0.30466946,0.10409851000000001,7.8195202999999994E-5,286.53039999999999,-1.3220776000000001,1.5589098999999999E-6,0.21127509999999999,166.89899,9.3177774999999997E-9,1.6006095E-7,515.64134999999999,0,0,14.997673000000001,0,0,286.53546,0,0,0,-6.3586674000000003E-3,1.7582938E-3,22.070558999999999,1.5923413000000001E-4,0,0,0,0,0]
["*RWS Energiedrager Opslag en Transport van Diesel/FAME/HVO (A4) (o.b.v. NMD kaart Well-to-tank Diesel (A1-A4) zonder A1-A3 en aangepast naar ton)","Opslag Brandstof","Combined","ton","Energiedragers","Export 14-02-2025","3",{"$f":"SUM('RWS Dataset V1'!$J26:$T26*TRANSPOSE('Weighting Set'!$F$2:$F$12))","v":1.9217281512220004},{"$f":"SUM('RWS Dataset V1'!$U26:$AM26*TRANSPOSE('Weighting Set'!$F$13:$F$31))","v":3.6847178287471429},1.3224526E-3,0.13266258,18.243867000000002,2.9894602E-6,1.135274E-2,7.5876618000000007E-2,1.3368061000000001E-2,5.4048252999999997,0.17500261,470.60867000000002,4.5629814999999997E-2,19.351282000000001,19.311563,2.7725335E-2,1.1993624E-2,4.0489065E-7,8.5923324999999995E-2,3.9510237000000003E-4,2.5844569000000001E-2,0.30577389999999999,0.10481137,7.7190196000000001E-5,293.50810000000001,-1.1707367,1.5676637000000001E-6,0.58852537000000005,168.25894,9.3468593000000007E-9,1.6483713999999999E-7,515.93101000000001,0,0,18.412734,0,0,293.48689000000002,0,0,0,1.2152812000000001E-2,1.7000288E-3,22.111228000000001,4.5481379999999999E-4,0,0,0,0,0]
["*RWS Energiedrager Waterstof, Gas, (A4) grijze mix","Opslag Brandstof","Combined","ton","Energiedragers","Export 14-02-2025","3",{"$f":"SUM('RWS Dataset V1'!$J27:$T27*TRANSPOSE('Weighting Set'!$F$2:$F$12))","v":97.955716602548009},{"$f":"SUM('RWS Dataset V1'!$U27:$AM27*TRANSPOSE('Weighting Set'!$F$13:$F$31))","v":196.01411297856419},2.1251128E-3,12.890992000000001,1448.1059,1.3172275000000001E-4,0.21546102,1.843224,0.34124842999999999,121.46205,3.0956572000000002,12053.362999999999,6.3121125999999999,1469.5219999999999,1469.4783,3.7009762000000002E-2,7.8952006000000005E-2,1.3924563999999999E-4,2.3289523999999999,3.5033160000000001E-2,0.60542437999999998,6.7966367999999999,1.9377084,1.8986143E-3,24339.363000000001,212.67182,7.7446263999999996E-6,35.517758000000001,10656.746999999999,2.0440917E-7,6.3556507000000003E-6,1253.1151,79.555959999999999,0,85.965574000000004,26292.963,0,26539.842000000001,0.49369833000000002,0,0,6.8745438999999999,2.5366507E-2,49.908869000000003,3.4040618000000002E-2,0,1.6560052999999999,9.6200647E-2,6.5168179999999998,11.228111]
["*RWS Energiedrager Waterstof, Gas, (A4) groene mix","Opslag Brandstof","Combined","ton","Energiedragers","Export 14-02-2025","3",{"$f":"SUM('RWS Dataset V1'!$J28:$T28*TRANSPOSE('Weighting Set'!$F$2:$F$12))","v":38.925500448419996},{"$f":"SUM('RWS Dataset V1'!$U28:$AM28*TRANSPOSE('Weighting Set'!$F$13:$F$31))","v":72.343986068072979},1.1167349E-2,2.5063901,361.03037,3.2500786000000001E-5,0.16489108,1.4317245999999999,0.27908144000000001,120.36761,2.4288481000000002,7303.5753999999997,4.4246055000000002,341.06869,178.24555000000001,163.09852000000001,0.43740907000000001,1.6498127000000001E-5,3.1132274,1.8557740999999999E-2,0.40794503999999998,11.225816,1.2126771999999999,1.7135555E-2,1790.0443,91.363090999999997,2.8733858000000001E-5,5.2752081999999998,13534.303,3.7254872E-7,1.2364665E-5,40018.307999999997,14528.837,0,14535.245999999999,1641.8996,0,1888.7789,2.3641097000000002,0,0,2.8854612999999998,5.7583849999999999E-2,75.186223999999996,5.4907484000000003E-3,0,8.1530752999999994,0.50780400000000003,8.0120187000000005,13.823553]
["*RWS Energiedrager Waterstof, Gas, (A4) windmix","Opslag Brandstof","Combined","ton","Energiedragers","Export 14-02-2025","3",{"$f":"SUM('RWS Dataset V1'!$J29:$T29*TRANSPOSE('Weighting Set'!$F$2:$F$12))","v":17.878135830495001},{"$f":"SUM('RWS Dataset V1'!$U29:$AM29*TRANSPOSE('Weighting Set'!$F$13:$F$31))","v":12.73227093999564},6.4358044999999996E-3,0.33282951999999999,55.983801,5.4304525E-6,3.8097495000000002E-2,0.42399641999999998,6.8269644000000004E-2,129.15245999999999,2.1688866999999998,5482.3793999999998,6.6811167999999999,59.240288,59.018816000000001,0.17851188000000001,4.7758734999999997E-2,3.4399192000000001E-6,0.49648520000000002,1.1567819E-2,7.7604434999999999E-2,0.81357718000000001,0.26464378999999999,6.2093060000000004E-3,678.26391000000001,26.507493,4.6364144999999999E-6,1.7245298,3517.3049000000001,2.7267778000000002E-7,6.3897864E-6,927.39832000000001,11482.013000000001,0,11488.422,461.05781999999999,0,707.93708000000004,2.0630948,0,0,0.65103909000000004,4.4913336000000003E-3,76.009995000000004,1.6715263999999999E-3,0,8.2845400999999992,0.94759048000000001,9.6319134000000002,16.564848999999999]
["*RWS Energiedrager Waterstof, Gas, Elektrolyse, grijzemix (A1-A3) (o.b.v. NMD kaart Waterstof, Elektrolyse, groene mix)","Waterstof, Gas, Electrolyse, Grijze Mix","Combined","ton","Energiedragers","Export 14-02-2025","3",{"$f":"SUM('RWS Dataset V1'!$J30:$T30*TRANSPOSE('Weighting Set'!$F$2:$F$12))","v":1830.91519974996},{"$f":"SUM('RWS Dataset V1'!$U30:$AM30*TRANSPOSE('Weighting Set'!$F$13:$F$31))","v":3644.9182113122492},3.6709805999999998E-2,240.90353999999999,27028.809000000001,2.4371387E-3,3.9111644999999999,33.973264,7.0768313999999997,2249.4272999999998,56.274493999999997,221946.83,118.54922000000001,27408.284,27406.705000000002,1.4602583,1.4773007,2.6162150999999999E-3,43.013832000000001,0.91109554000000004,11.140924999999999,123.97136999999999,34.940080000000002,3.5770647000000003E-2,454578.54,4354.4390999999996,1.2363268999999999E-4,671.78318000000002,205026.24,3.793991E-6,1.1856047E-4,19601.223999999998,1496.1980000000001,0,1699.1273000000001,494488.13,0,495962.33,9.2849167000000001,0,0,135.39678000000001,0.45383438999999998,696.36428999999998,0.64349968999999996,0,31.144262999999999,1.8092322999999999,122.5609,211.16552999999999]
["*RWS Energiedrager Waterstof, Gas, Elektrolyse, groene mix (A1-A3) (o.b.v. NMD kaart Waterstof, Elektrolyse, groene mix)","Waterstof, Gas, Electrolyse, Groene Mix","Combined","ton","Energiedragers","Export 14-02-2025","3",{"$f":"SUM('RWS Dataset V1'!$J31:$T31*TRANSPOSE('Weighting Set'!$F$2:$F$12))","v":757.44736767319989},{"$f":"SUM('RWS Dataset V1'!$U31:$AM31*TRANSPOSE('Weighting Set'!$F$13:$F$31))","v":1319.0711571738311},0.32326885999999999,16.261612,3630.8193999999999,3.1062751999999999E-4,3.6087414999999998,37.740287000000002,9.0399280999999991,3384.84,65.294127000000003,193296.23,129.69112000000001,6185.6174000000001,3122.6684,3068.1356000000001,8.2187535,3.0771949999999998E-4,57.763584999999999,0.60124460000000002,7.4269578999999997,207.27034,21.304517000000001,0.3223297,30496.603999999999,2073.0023999999999,5.1837428999999997E-4,103.01571,259144.04,6.9561684000000001E-6,2.3157116999999999E-4,748652.88,273241.83,0,273444.76,30878.98,0,32353.178,44.461486999999998,0,0,60.374656000000002,1.0597414999999999,1171.752,0.10656622,0,153.33376999999999,9.5502000000000002,150.68092999999999,259.97766999999999]
["*RWS Energiedrager Waterstof, Gas, Elektrolyse, wind mix (A1-A3) (o.b.v. NMD kaart Waterstof, Elektrolyse, groene mix)","Waterstof, Gas, Electrolyse, Wind Mix","Combined","ton","Energiedragers","Export 14-02-2025","3",{"$f":"SUM('RWS Dataset V1'!$J32:$T32*TRANSPOSE('Weighting Set'!$F$2:$F$12))","v":324.90717590600008},{"$f":"SUM('RWS Dataset V1'!$U32:$AM32*TRANSPOSE('Weighting Set'!$F$13:$F$31))","v":197.96183142131841},0.11778039,4.7239091000000002,847.36050999999998,6.1976920000000001E-5,0.57551311999999999,7.2820467999999998,1.942957,2394.0598,38.844847999999999,98367.244999999995,125.48904,885.30947000000003,880.38760000000002,4.1214690999999997,0.89065316999999999,6.2135577999999995E-5,8.5508738999999991,0.46978609999999998,1.2142875,11.448793,3.4749832999999999,0.11684123,9587.5020999999997,853.27211,6.5176980000000002E-5,36.238588,70755.735000000001,5.0779093000000004E-6,1.1920246000000001E-4,13475.513000000001,215940.63,0,216143.56,8671.0509999999995,0,10145.249,38.800339999999998,0,0,18.352184000000001,6.1237873999999998E-2,1187.2446,3.4738634999999997E-2,0,155.80620999999999,17.821204000000002,181.14607000000001,311.53282999999999]
["*RWS Energiedrager Waterstof, Gas, SMR grijze mix (A1-A3) (o.b.v. NMD kaart Waterstof, Steam methane reforming (SMR), grijze mix)","Waterstof, Gas, SMR, Grijze Mix","Combined","ton","Energiedragers","Export 14-02-2025","3",{"$f":"SUM('RWS Dataset V1'!$J33:$T33*TRANSPOSE('Weighting Set'!$F$2:$F$12))","v":696.07867036843209},{"$f":"SUM('RWS Dataset V1'!$U33:$AM33*TRANSPOSE('Weighting Set'!$F$13:$F$31))","v":1504.7435797032879},3.8658527000000002E-3,101.84432,12272.423000000001,1.0748239E-3,1.8944704000000001,7.0232061999999997,0.64625222000000004,273.19950999999998,7.6697382999999997,32944.042000000001,5.3179680999999999,12063.813,12062.13,1.1939428999999999,0.53484787,6.9710645000000001E-4,7.5490456000000004,3.1173198999999999E-2,1.4941236,16.574190999999999,8.4050806999999992,2.7887577E-3,178695.44,256.08175,2.7777655E-5,30.083314000000001,10379.203,1.0610744999999999E-6,1.0048529E-5,2070.9445000000001,50.478000000000002,0,488.31637999999998,16682.8,0,180092.01,0.31324999999999997,0,0,9.0686969000000008,0.64958165000000001,109.99312,2.6656387E-2,0,1.0507299999999999,6.1039000000000003E-2,4.1349,7.1242000000000001]
["*RWS Energiedrager Waterstof, Gas, SMR groene mix (A1-A3) (o.b.v. NMD kaart Waterstof, Steam methane reforming (SMR), groene mix)","Waterstof, Gas, SMR, Groene Mix","Combined","ton","Energiedragers","Export 14-02-2025",{"$f":"\"3\"","v":"3"},{"$f":"SUM('RWS Dataset V1'!$J34:$T34*TRANSPOSE('Weighting Set'!$F$2:$F$12))","v":659.86253431887985},{"$f":"SUM('RWS Dataset V1'!$U34:$AM34*TRANSPOSE('Weighting Set'!$F$13:$F$31))","v":1426.2757066924464},1.3533643E-2,94.265460000000004,11483.032999999999,1.0030807E-3,1.8842673999999999,7.1502961999999997,0.71248222000000005,311.50551000000002,7.9740383000000001,31977.441999999999,5.6938681000000004,11347.813,11242.847,104.65594,0.76228772,6.1922354999999999E-4,8.0466656000000008,2.0719598999999998E-2,1.3688236,19.384491000000001,7.9450507000000004,1.2456548E-2,164387.97,179.11175,4.1095255000000003E-5,10.894513999999999,12205.003000000001,1.1677585000000001E-6,1.3864091E-5,26667.333999999999,9218.5,0,9656.3384000000005,1041.78,0,164450.99,1.5000199999999999,0,0,6.5376368999999999,0.67002344999999996,126.03152,8.5415866999999993E-3,0,5.1730999999999998,0.32219999999999999,5.0835999999999997,8.7710000000000008]
["*RWS Energiedrager Waterstof, Vloeibaar (A4), grijze mix","Opslag Brandstof","Combined","ton","Energiedragers","Export 14-02-2025","3",{"$f":"SUM('RWS Dataset V1'!$J35:$T35*TRANSPOSE('Weighting Set'!$F$2:$F$12))","v":21.817008040742799},{"$f":"SUM('RWS Dataset V1'!$U35:$AM35*TRANSPOSE('Weighting Set'!$F$13:$F$31))","v":46.677813867822223},6.3429233000000004E-4,2.8146385999999999,317.92709000000002,2.9966999E-5,5.2361550999999999E-2,0.43054501000000001,8.1015957999999999E-2,28.085971000000001,0.75353979999999998,2817.7606999999998,1.3524075,344.80518000000001,344.78512000000001,1.5105745E-2,2.1320709E-2,3.1830072999999998E-5,0.57248030999999999,8.2033682E-3,0.15425908999999999,1.7224355,0.50879956000000004,4.4893323E-4,5687.5186000000003,49.253577999999997,2.7724985000000002E-6,8.1208016000000001,2496.1401999999998,4.9951892999999999E-8,1.5150307000000001E-6,461.66034999999999,18.038599999999999,0,21.404274000000001,5961.6932999999999,0,6186.4596000000001,0.11194166999999999,0,0,1.5873929,6.808962E-3,26.798869,7.7607225E-3,0,0.37548432999999998,2.1812633000000001E-2,1.47763,2.5458732999999998]
["*RWS Energiedrager Waterstof, Vloeibaar (A4), groene mix","Opslag Brandstof","Combined","ton","Energiedragers","Export 14-02-2025","3",{"$f":"SUM('RWS Dataset V1'!$J36:$T36*TRANSPOSE('Weighting Set'!$F$2:$F$12))","v":9.7055093374380004},{"$f":"SUM('RWS Dataset V1'!$U36:$AM36*TRANSPOSE('Weighting Set'!$F$13:$F$31))","v":18.63672350125934},3.8674209999999998E-3,0.28009566000000002,53.937139999999999,5.9744426000000003E-6,4.8949435999999999E-2,0.47304678999999999,0.10316477,40.896368000000002,0.85530463999999995,2494.5077000000001,1.4781169999999999,88.938508999999996,52.009690999999997,36.987839000000001,0.10259763,3.9981759000000004E-6,0.75030764000000005,4.4677149000000001E-3,0.10948243000000001,2.7267122000000001,0.34440523000000001,3.9037729000000001E-3,574.66296999999997,21.747910999999998,7.5316184999999998E-6,1.2635749000000001,3148.6001999999999,8.8076027000000006E-8,2.8775207000000001E-6,9251.32,3294.2833000000001,0,3297.6489999999999,372.286,0,597.05228999999997,0.53604067,0,0,0.68290428000000003,1.4113954999999999E-2,32.530282,1.2872958E-3,0,1.8486366999999999,0.11514000000000001,1.8166533,3.1343667000000002]
["*RWS Energiedrager Waterstof, Vloeibaar (A4), wind mix","Opslag Brandstof","Combined","ton","Energiedragers","Export 14-02-2025","3",{"$f":"SUM('RWS Dataset V1'!$J37:$T37*TRANSPOSE('Weighting Set'!$F$2:$F$12))","v":4.8253353251640005},{"$f":"SUM('RWS Dataset V1'!$U37:$AM37*TRANSPOSE('Weighting Set'!$F$13:$F$31))","v":5.120302051278216},1.5489786000000001E-3,0.14992047999999999,22.532513000000002,3.1690196E-6,1.472676E-2,0.12939892,2.3092551999999999E-2,29.7178,0.55688824000000003,1423.4628,1.4307065999999999,25.036448,24.976099000000001,4.7190079000000003E-2,1.4247914E-2,1.0373443999999999E-6,0.15698482999999999,2.8828128000000001E-3,3.4580657000000001E-2,0.36583043999999998,0.12944716000000001,1.4263438999999999E-3,322.57673,7.0424866000000002,2.0677393E-6,0.45849044999999999,877.33578,6.5431187000000002E-8,1.5227707000000001E-6,387.80698999999998,2603.4432999999999,0,2606.8090000000002,104.54071999999999,0,329.30700999999999,0.46778823000000003,0,0,0.17626908999999999,2.0757037000000002E-3,32.717064000000001,4.2132147999999998E-4,0,1.8784451,0.21485763999999999,2.1839499,3.7559307999999998]
["*RWS Energiedrager Waterstof, Vloeibaar, Elektrolyse, grijze mix (A1-A3) (o.b.v. NMD kaart Waterstof, Elektrolyse, grijze mix) (AANPASSEN COMPRESSIE NAAR LIQUEFACTIE)","Waterstof, Vloeibaar, Electrolyse, Grijze Mix","Combined","ton","Energiedragers","Export 14-02-2025","3",{"$f":"SUM('RWS Dataset V1'!$J38:$T38*TRANSPOSE('Weighting Set'!$F$2:$F$12))","v":2111.0237863223597},{"$f":"SUM('RWS Dataset V1'!$U38:$AM38*TRANSPOSE('Weighting Set'!$F$13:$F$31))","v":4205.8087778399604},4.2120195999999999E-2,278.09483999999998,31199.489000000001,2.8123356999999998E-3,4.5121365000000004,39.170194000000002,7.9635113999999998,2592.6053000000002,64.894993999999997,255936.23,136.85751999999999,31636.434000000001,31634.855,1.4602591,1.6874766999999999,3.0201471E-3,49.598252000000002,0.98909053999999996,12.823975000000001,143.01857000000001,40.301209999999998,4.1181036999999997E-2,524691.93999999994,4935.7070999999996,1.4210519000000001E-4,774.40818000000002,235156.94,4.3719749999999998E-6,1.3670457E-4,22548.614000000001,1727.72,0,1930.6493,571005.32999999996,0,572479.53,10.721667,0,0,154.69028,0.52345518999999996,771.40368999999998,0.74201969000000001,0,35.963532999999998,2.0891932999999998,141.52600000000001,243.84133]
["*RWS Energiedrager Waterstof, Vloeibaar, Elektrolyse, Groenemix (A1-A3) (o.b.v. NMD kaart Waterstof, Elektrolyse, grijze mix)","Waterstof, Vloeibaar, Electrolyse, Groene Mix","Combined","ton","Energiedragers","Export 14-02-2025","3",{"$f":"SUM('RWS Dataset V1'!$J39:$T39*TRANSPOSE('Weighting Set'!$F$2:$F$12))","v":871.44730699519994},{"$f":"SUM('RWS Dataset V1'!$U39:$AM39*TRANSPOSE('Weighting Set'!$F$13:$F$31))","v":1520.0596553480311},0.37302146000000003,18.691772,4180.8894,3.5676772000000002E-4,4.1629164999999997,43.520127000000002,10.230378,3903.712,75.310327000000001,222852.23,149.72352000000001,7129.7673999999997,3593.1014,3542.6736000000001,9.4721033000000006,3.5443440000000002E-4,66.630385000000004,0.6312932,8.5353078999999994,239.20724000000001,24.555676999999999,0.37208229999999998,34987.474000000002,2301.2404000000001,5.9792918999999997E-4,117.62951,297648.94,8.0234683999999992E-6,2.6720257000000002E-4,864413.88,315523.33,0,315726.26,35657.199999999997,0,37131.398000000001,51.341467000000002,0,0,68.059216000000006,1.2231205000000001,1320.3530000000001,0.12200102,0,177.06066999999999,11.028,173.99733000000001,300.20666999999997]
["*RWS Energiedrager Waterstof, Vloeibaar, Elektrolyse, wind mix (A1-A3) (o.b.v. NMD kaart Waterstof, Elektrolyse, grijze mix)","Waterstof, Vloeibaar, Electrolyse, Wind Mix","Combined","ton","Energiedragers","Export 14-02-2025","3",{"$f":"SUM('RWS Dataset V1'!$J40:$T40*TRANSPOSE('Weighting Set'!$F$2:$F$12))","v":371.97575618179002},{"$f":"SUM('RWS Dataset V1'!$U40:$AM40*TRANSPOSE('Weighting Set'!$F$13:$F$31))","v":225.46963245520078},0.13573566000000001,5.3687224999999996,966.71749,6.9640872999999999E-5,0.66032570999999995,8.3487720999999997,2.0352201000000001,2759.6183000000001,44.768281000000002,113233.91,144.87119999999999,1009.2886999999999,1003.8496,4.5332663000000002,1.0100511999999999,7.0848769E-5,9.8024883999999997,0.47949278000000001,1.3612875,13.084225,3.9671973999999999,0.13479650000000001,10842.893,892.76877999999999,7.4604029999999995E-5,40.519281999999997,80109.388000000006,5.8545671000000003E-6,1.3744589999999999E-4,15475.009,249355.33,0,249558.26,10012.811,0,11487.01,44.804313,0,0,19.534178000000001,7.0108203999999993E-2,1338.2429,3.9058819000000002E-2,0,179.91569000000001,20.578861,209.17665,359.73948999999999]
["*RWS Energiedrager Waterstof, Vloeibaar, SMR grijze mix (A1-A3) (o.b.v. NMD kaart Waterstof, Steam methane reforming (SMR), grijze mix) (LIQUEFACTIE TOEVOEGEN)","Waterstof, Vloeibaar, SMR, Grijze Mix","Combined","ton","Energiedragers","Export 14-02-2025","3",{"$f":"SUM('RWS Dataset V1'!$J41:$T41*TRANSPOSE('Weighting Set'!$F$2:$F$12))","v":976.18725594583202},{"$f":"SUM('RWS Dataset V1'!$U41:$AM41*TRANSPOSE('Weighting Set'!$F$13:$F$31))","v":2065.6345689690165},9.2762426999999995E-3,139.03561999999999,16443.102999999999,1.4500209000000001E-3,2.4954423999999999,12.220136,1.5329322000000001,616.37751000000003,16.290237999999999,66933.441999999995,23.626268,16291.963,16290.28,1.1939438,0.74502387000000003,1.1010385000000001E-3,14.133466,0.10916820000000001,3.1771736000000002,35.621391000000003,13.766211,8.1991476999999993E-3,248808.84,837.34974999999997,4.6250154999999997E-5,132.70831000000001,40509.902999999998,1.6390584999999999E-6,2.8195491E-5,5018.3344999999999,282,0,719.83838000000003,93200,0,256609.21,1.75,0,0,28.362196999999998,0.71920245000000005,185.03252000000001,0.12517639,0,5.87,0.34100000000000003,23.1,39.799999999999997]
["*RWS Energiedrager Waterstof, Vloeibaar, SMR groene mix (A1-A3) (o.b.v. NMD kaart Waterstof, Steam methane reforming (SMR), groene mix)","Waterstof, Vloeibaar, SMR, Groene Mix","Combined","ton","Energiedragers","Export 14-02-2025","3",{"$f":"SUM('RWS Dataset V1'!$J42:$T42*TRANSPOSE('Weighting Set'!$F$2:$F$12))","v":773.86247354587988},{"$f":"SUM('RWS Dataset V1'!$U42:$AM42*TRANSPOSE('Weighting Set'!$F$13:$F$31))","v":1627.2642023011761},6.3286243000000006E-2,96.695620000000005,12033.102999999999,1.0492209000000001E-3,2.4384424,12.930135999999999,1.9029322,830.37751000000003,17.990238000000002,61533.442000000003,25.726268000000001,12291.963,11713.28,579.19394,2.0156375999999998,6.6593844999999997E-4,16.913466,5.0768199E-2,2.4771736,51.321390999999998,11.196211,6.2209147999999999E-2,168878.84,407.34974999999997,1.2065015E-4,25.508313999999999,50709.902999999998,2.2350584999999998E-6,4.9495491000000003E-5,142428.32999999999,51500,0,51937.838000000003,5820,0,169229.21,8.3800000000000008,0,0,14.222197,0.83340245000000002,274.63252,2.3976386999999998E-2,0,28.9,1.8,28.4,49]
["*RWS Emmissieprofiel AdBlue (B), CO2 naar lucht per kg AdBlue,  32,5% Ureum","AdBlue Emissies","Combined","kg","Gebruiksprofiel","Export 14-02-2025","3",{"$f":"SUM('RWS Dataset V1'!$J43:$T43*TRANSPOSE('Weighting Set'!$F$2:$F$12))","v":1.191125E-2},{"$f":"SUM('RWS Dataset V1'!$U43:$AM43*TRANSPOSE('Weighting Set'!$F$13:$F$31))","v":2.7634100000000002E-2},0,0,0.23822499999999999,0,0,0,0,0,0,0,0,0.23822499999999999,0.23822499999999999,0,0,0,0,0,0,0,0,0,0,0,0,0,0,0,0,0,0,0,0,0,0,0,0,0,0,0,0,0,0,0,0,0,0,0]
["*RWS Gebruiksprofiel - NOx emissie naar lucht","NOx Emissies","Combined","kg","Gebruiksprofiel","Export 14-02-2025","3",{"$f":"SUM('RWS Dataset V1'!$J44:$T44*TRANSPOSE('Weighting Set'!$F$2:$F$12))","v":3.278},{"$f":"SUM('RWS Dataset V1'!$U44:$AM44*TRANSPOSE('Weighting Set'!$F$13:$F$31))","v":4.4335674999999997},0,0,0,0,0,0.5,0.13,1.2,0,0,0,0,0,0,0,0,0.74,0,0.38900000000000001,4.26,1,0,0,0,2.1E-7,0,0,0,0,0,0,0,0,0,0,0,0,0,0,0,0,0,0,0,0,0,0,0]
["*RWS Gebruiksprofiel - PM emissie naar lucht","PM Emissies","Combined","kg","Gebruiksprofiel","Export 14-02-2025","3",{"$f":"SUM('RWS Dataset V1'!$J45:$T45*TRANSPOSE('Weighting Set'!$F$2:$F$12))","v":7.3799999999999991E-2},{"$f":"SUM('RWS Dataset V1'!$U45:$AM45*TRANSPOSE('Weighting Set'!$F$13:$F$31))","v":0.38152650000000005},0,0,0,0,0,0,0,0.82,0,0,0,0,0,0,0,0,0,0,0,0,0,0,0,0,6.9400000000000005E-7,0,0,0,0,0,0,0,0,0,0,0,0,0,0,0,0,0,0,0,0,0,0,0]
["*RWS Gebruiksprofiel Ammoniak (Verbrandingsemissies/Brandstofcel emissies) (zonder PM en NOx) (B1)","Energiedrager Emissies","Combined","ton","Gebruiksprofiel","Export 14-02-2025","3",{"$f":"SUM('RWS Dataset V1'!$J46:$T46*TRANSPOSE('Weighting Set'!$F$2:$F$12))","v":0},{"$f":"SUM('RWS Dataset V1'!$U46:$AM46*TRANSPOSE('Weighting Set'!$F$13:$F$31))","v":0},0,0,0,0,0,0,0,0,0,0,0,0,0,0,0,0,0,0,0,0,0,0,0,0,0,0,0,0,0,0,0,0,0,0,0,0,0,0,0,0,0,0,0,0,0,0,0,0]
["*RWS Gebruiksprofiel Bio-LNG/Bio-CNG (verbrandingsemissies) (zonder PM en NOx) (B1)","Energiedrager Emissies","Combined","ton","Gebruiksprofiel","Export 14-02-2025","3",{"$f":"SUM('RWS Dataset V1'!$J47:$T47*TRANSPOSE('Weighting Set'!$F$2:$F$12))","v":59.022072787500001},{"$f":"SUM('RWS Dataset V1'!$U47:$AM47*TRANSPOSE('Weighting Set'!$F$13:$F$31))","v":460.76724442499761},0,0,1131.2,0,0.64462861000000005,0.1376,2.545E-2,4.0612073999999998,0.86287681999999999,0.93576159999999997,3.1283679000000002E-2,3946.58,46.32,3900.26,0,0,0.16422,0,1.0120000000000001E-3,0.14817,1.9335019,0,0,0,3.3000000000000002E-7,0,28.523205999999998,1.2946026999999999E-8,1.9315027000000001E-6,0,0,0,0,0,0,0,0,0,0,0,0,0,0,0,0,0,0,0]
["*RWS Gebruiksprofiel Diesel (ULSD) Verbrandingsemissies (zoner PM en NOx) B1 (o.b.v Transport, freight, inland waterways, barge {RER}| transport, freight, inland waterways, barge | Cut-off, U)","Energiedrager Emissies","Combined","ton","Gebruiksprofiel","Export 14-02-2025","3",{"$f":"SUM('RWS Dataset V1'!$J48:$T48*TRANSPOSE('Weighting Set'!$F$2:$F$12))","v":169.69198265289023},{"$f":"SUM('RWS Dataset V1'!$U48:$AM48*TRANSPOSE('Weighting Set'!$F$13:$F$31))","v":379.28266291974086},0,0,3240.7773999999999,0,0.11124349,0.80374867000000005,0.10757721000000001,36.082622000000001,2.9551214E-6,8.6986240999999996E-5,4.2563199E-7,3243.4223000000002,3243.4223000000002,0,0,0,0.94346538999999996,0,4.7714589999999996E-3,0.69860383000000004,1.1879272000000001,0,0,0,1.6837700000000001E-6,0,17.600111999999999,3.4412167E-9,2.0050584999999999E-7,0,0,0,0,0,0,0,0,0,0,0,0,0,0,0,0,0,0,0]
["*RWS Gebruiksprofiel FAME Verbrandingsemissies (zoner PM en NOx) B1 (o.b.v Transport, freight, inland waterways, barge {RER}| transport, freight, inland waterways, barge | Cut-off, U)","Energiedrager Emissies","Combined","ton","Gebruiksprofiel","Export 14-02-2025","3",{"$f":"SUM('RWS Dataset V1'!$J49:$T49*TRANSPOSE('Weighting Set'!$F$2:$F$12))","v":12.077500302890188},{"$f":"SUM('RWS Dataset V1'!$U49:$AM49*TRANSPOSE('Weighting Set'!$F$13:$F$31))","v":342.43529632774079},0,0,88.487752999999998,0,0.11124349,0.80374867000000005,0.10757721000000001,36.082622000000001,2.9551214E-6,8.6986240999999996E-5,4.2563199E-7,2925.7725999999998,91.132587999999998,2834.64,0,0,0.94346538999999996,0,4.7714589999999996E-3,0.69860383000000004,1.1879272000000001,0,0,0,1.6837700000000001E-6,0,17.600111999999999,3.4412167E-9,2.0050584999999999E-7,0,0,0,0,0,0,0,0,0,0,0,0,0,0,0,0,0,0,0]
["*RWS Gebruiksprofiel GTL (verbrandingsemissies) - pre Tier I (zonder PM en NOx) (B1)","Energiedrager Emissies","Combined","ton","Gebruiksprofiel","Export 14-02-2025","3",{"$f":"SUM('RWS Dataset V1'!$J50:$T50*TRANSPOSE('Weighting Set'!$F$2:$F$12))","v":168.185315565},{"$f":"SUM('RWS Dataset V1'!$U50:$AM50*TRANSPOSE('Weighting Set'!$F$13:$F$31))","v":372.83786166949551},0,0,3169.36,0,0.22733676999999999,5.1999999999999998E-2,2.5100000000000001E-2,91.173610999999994,19.301407999999999,20.912625999999999,0.69972553999999998,3173.6576,3173.6576,0,0,0,6.9500000000000006E-2,0,9.2000000000000003E-4,0.13469999999999999,3.2174387000000002,0,0,0,2.3970000000000001E-7,0,84.148306000000005,2.5035298000000003E-7,1.8463351000000001E-6,0,0,0,0,0,0,0,0,0,0,0,0,0,0,0,0,0,0,0]
["*RWS Gebruiksprofiel HFO (verbrandingsemissies) - (zonder PM en NOx) (B1)","Energiedrager Emissies","Combined","ton","Gebruiksprofiel","Export 14-02-2025","3",{"$f":"SUM('RWS Dataset V1'!$J51:$T51*TRANSPOSE('Weighting Set'!$F$2:$F$12))","v":189.51030379400001},{"$f":"SUM('RWS Dataset V1'!$U51:$AM51*TRANSPOSE('Weighting Set'!$F$13:$F$31))","v":385.56196047605545},0,0,3250.8,0,0.60858097,2.4159999999999999,2.5100000000000001E-2,169.27694,18.595479999999998,74.187619999999995,1.0505682000000001,3255.3,3252.32,2.98,0,0,2.6501999999999999,0,9.2000000000000003E-4,0.13469999999999999,3.5827830999999999,0,0,0,2.1900000000000002E-6,0,240.81713999999999,5.2450992E-7,4.6125896000000001E-6,0,0,0,0,0,0,0,0,0,0,0,0,0,0,0,0,0,0,0]
["*RWS Gebruiksprofiel HVO (verbrandingsemissies) - pre Tier I (zonder PM en NOx) (B1)","Energiedrager Emissies","Combined","ton","Gebruiksprofiel","Export 14-02-2025","3",{"$f":"SUM('RWS Dataset V1'!$J52:$T52*TRANSPOSE('Weighting Set'!$F$2:$F$12))","v":11.974115564999998},{"$f":"SUM('RWS Dataset V1'!$U52:$AM52*TRANSPOSE('Weighting Set'!$F$13:$F$31))","v":370.98412422949554},0,0,45.136000000000003,0,0.22733676999999999,5.1999999999999998E-2,2.5100000000000001E-2,91.173610999999994,19.301407999999999,20.912625999999999,0.69972553999999998,3158.9576000000002,46.32,3112.6376,0,0,6.9500000000000006E-2,0,9.2000000000000003E-4,0.13469999999999999,3.0956866999999999,0,0,0,2.3970000000000001E-7,0,84.148306000000005,2.5035298000000003E-7,1.8463351000000001E-6,0,0,0,0,0,0,0,0,0,0,0,0,0,0,0,0,0,0,0]
["*RWS Gebruiksprofiel LNG/CNG (verbrandingsemissies) (zonder PM en NOx) (B1)","Energiedrager Emissies","Combined","ton","Gebruiksprofiel","Export 14-02-2025","3",{"$f":"SUM('RWS Dataset V1'!$J53:$T53*TRANSPOSE('Weighting Set'!$F$2:$F$12))","v":199.96407278750002},{"$f":"SUM('RWS Dataset V1'!$U53:$AM53*TRANSPOSE('Weighting Set'!$F$13:$F$31))","v":461.59059802499752},0,0,3950.04,0,0.64462861000000005,0.1376,2.545E-2,4.0612073999999998,0.86287681999999999,0.93576159999999997,3.1283679000000002E-2,3946.58,3946.58,0,0,0,0.16422,0,1.0120000000000001E-3,0.14817,2.6083818999999999,0,0,0,3.3000000000000002E-7,0,28.523205999999998,1.2946026999999999E-8,1.9315027000000001E-6,0,0,0,0,0,0,0,0,0,0,0,0,0,0,0,0,0,0,0]
["*RWS Gebruiksprofiel Methanol Biogeen (Verbrandingsemissies/Brandstofcel emissies) (zonder PM en NOx) (B1)","Energiedrager Emissies","Combined","ton","Gebruiksprofiel","Export 14-02-2025","3",{"$f":"SUM('RWS Dataset V1'!$J54:$T54*TRANSPOSE('Weighting Set'!$F$2:$F$12))","v":0},{"$f":"SUM('RWS Dataset V1'!$U54:$AM54*TRANSPOSE('Weighting Set'!$F$13:$F$31))","v":159.04875999999999},0,0,0,0,0,0,0,0,0,0,0,1371.11,0,1371.11,0,0,0,0,0,0,0,0,0,0,0,0,0,0,0,0,0,0,0,0,0,0,0,0,0,0,0,0,0,0,0,0,0,0]
["*RWS Gebruiksprofiel Methanol Fossiel (Verbrandingsemissies/Brandstofcel emissies) (zonder PM en NOx) (B1)","Energiedrager Emissies","Combined","ton","Gebruiksprofiel","Export 14-02-2025","3",{"$f":"SUM('RWS Dataset V1'!$J55:$T55*TRANSPOSE('Weighting Set'!$F$2:$F$12))","v":68.555499999999995},{"$f":"SUM('RWS Dataset V1'!$U55:$AM55*TRANSPOSE('Weighting Set'!$F$13:$F$31))","v":159.04875999999999},0,0,1371.11,0,0,0,0,0,0,0,0,1371.11,1371.11,0,0,0,0,0,0,0,0,0,0,0,0,0,0,0,0,0,0,0,0,0,0,0,0,0,0,0,0,0,0,0,0,0,0,0]
["*RWS Gebruiksprofiel MGO (verbrandingsemissies) - pre Tier I (zonder PM en NOx) (B1)","Energiedrager Emissies","Combined","ton","Gebruiksprofiel","Export 14-02-2025","3",{"$f":"SUM('RWS Dataset V1'!$J56:$T56*TRANSPOSE('Weighting Set'!$F$2:$F$12))","v":189.17131437500001},{"$f":"SUM('RWS Dataset V1'!$U56:$AM56*TRANSPOSE('Weighting Set'!$F$13:$F$31))","v":385.06892877298719},0,0,3226.7359999999999,0,0.34925676999999999,3.1,2.5100000000000001E-2,154.05744999999999,19.310317999999999,62.492626000000001,0.98952554000000004,3231.2575999999999,3227.92,3.3376000000000001,0,0,3.3969,0,9.2000000000000003E-4,0.13469999999999999,3.4234327000000002,0,0,0,2.7543E-6,0,595.41471999999999,3.2849278000000002E-7,1.8554553000000002E-5,0,0,0,0,0,0,0,0,0,0,0,0,0,0,0,0,0,0,0]
["*RWS Gebruiksprofiel Waterstof (Verbrandingsemissies/Brandstofcel emissies) (zonder PM en NOx) (B1)","Energiedrager Emissies","Combined","ton","Gebruiksprofiel","Export 14-02-2025","3",{"$f":"SUM('RWS Dataset V1'!$J57:$T57*TRANSPOSE('Weighting Set'!$F$2:$F$12))","v":0},{"$f":"SUM('RWS Dataset V1'!$U57:$AM57*TRANSPOSE('Weighting Set'!$F$13:$F$31))","v":0},0,0,0,0,0,0,0,0,0,0,0,0,0,0,0,0,0,0,0,0,0,0,0,0,0,0,0,0,0,0,0,0,0,0,0,0,0,0,0,0,0,0,0,0,0,0,0,0]
["*RWS pro&Elektriciteit, hernieuwbaar, van windturbines, mix 2023 (37% zee en 63% land), bij consument, per kWh (o.b.v. zie toelichting in proces), (01-2028)","Elektriciteit, Wind Mix (37% Zee, 63% Land)","Combined","kWh","Gebruiksprofiel","Export 14-02-2025","3",{"$f":"SUM('RWS Dataset V1'!$J58:$T58*TRANSPOSE('Weighting Set'!$F$2:$F$12))","v":5.7330789247000006E-3},{"$f":"SUM('RWS Dataset V1'!$U58:$AM58*TRANSPOSE('Weighting Set'!$F$13:$F$31))","v":3.3505236725120007E-3},2.187E-6,7.8540000000000004E-5,1.4538000000000001E-2,9.3349000000000005E-10,1.03304E-5,1.2993E-4,1.12379E-5,4.4526000000000003E-2,7.2148999999999998E-4,1.8108,2.3608000000000001E-3,1.5101E-2,1.5037999999999999E-2,5.0158000000000003E-5,1.4543E-5,1.06129E-9,1.5244999999999999E-4,1.1823000000000001E-6,1.7904999999999999E-5,1.9919999999999999E-4,5.9953E-5,2.187E-6,0.15290999999999999,4.8107999999999996E-3,1.14824E-9,5.2139999999999999E-4,1.1393,9.4599000000000006E-11,2.2221E-9,0.24354400000000001,4.07,0,4.07,0.16342999999999999,0,0.16342999999999999,7.3130000000000005E-4,0,0,1.4396999999999999E-4,1.08043E-6,1.8391999999999999E-2,5.2621E-7,0,2.9366000000000001E-3,3.3588999999999998E-4,3.4142E-3,5.8716999999999997E-3]
["0494-pro&Elektriciteit, Grijs, bij consument, per kWh (o.b.v. zie toelichting in proces), (01-2028)","Elektriciteit, Grijs","Combined","kWh","Gebruiksprofiel","Export 14-02-2025","3",{"$f":"SUM('RWS Dataset V1'!$J59:$T59*TRANSPOSE('Weighting Set'!$F$2:$F$12))","v":3.4117976440000003E-2},{"$f":"SUM('RWS Dataset V1'!$U59:$AM59*TRANSPOSE('Weighting Set'!$F$13:$F$31))","v":6.8317973999147991E-2},6.5899999999999996E-7,4.5300000000000002E-3,0.50800000000000001,4.5699999999999999E-8,7.3200000000000004E-5,6.3299999999999999E-4,1.08E-4,4.1799999999999997E-2,1.0499999999999999E-3,4.1399999999999997,2.2300000000000002E-3,0.51500000000000001,0.51500000000000001,1.0300000000000001E-10,2.5599999999999999E-5,4.9199999999999997E-8,8.0199999999999998E-4,9.5000000000000005E-6,2.05E-4,2.32E-3,6.5300000000000004E-4,6.5899999999999996E-7,8.5399999999999991,7.0800000000000002E-2,2.2499999999999999E-9,1.2500000000000001E-2,3.67,7.0399999999999997E-11,2.21E-9,0.35899999999999999,2.8199999999999999E-2,0,2.8199999999999999E-2,9.32,0,9.32,1.75E-4,0,0,2.3500000000000001E-3,8.4800000000000001E-6,9.1400000000000006E-3,1.2E-5,0,5.8699999999999996E-4,3.4100000000000002E-5,2.31E-3,3.98E-3]
["0496-pro&Elektriciteit, Hernieuwbaar, bij consument, per kWh (o.b.v. zie toelichting in proces), (01-2028)","Elektriciteit, Hernieuwbaar","Combined","kWh","Gebruiksprofiel","Export 14-02-2025","3",{"$f":"SUM('RWS Dataset V1'!$J60:$T60*TRANSPOSE('Weighting Set'!$F$2:$F$12))","v":1.3885498199999999E-2},{"$f":"SUM('RWS Dataset V1'!$U60:$AM60*TRANSPOSE('Weighting Set'!$F$13:$F$31))","v":2.448093765892E-2},6.0599999999999996E-6,2.9599999999999998E-4,6.7000000000000004E-2,5.62E-9,6.7500000000000001E-5,7.0399999999999998E-4,1.45E-4,6.3200000000000006E-2,1.2199999999999999E-3,3.6,2.4399999999999999E-3,0.115,5.7299999999999997E-2,5.7799999999999997E-2,1.5266136999999999E-4,5.69E-9,1.08E-3,3.6600000000000001E-6,1.35E-4,3.8899999999999998E-3,3.9599999999999998E-4,6.0599999999999996E-6,0.54700000000000004,2.7799999999999998E-2,9.6899999999999994E-9,1.7799999999999999E-3,4.6900000000000004,1.2999999999999999E-10,4.3400000000000003E-9,14.1,5.15,0,5.15,0.58199999999999996,0,0.58199999999999996,8.3799999999999999E-4,0,0,9.3599999999999998E-4,1.9899999999999999E-5,1.8100000000000002E-2,1.88E-6,0,2.8900000000000002E-3,1.8000000000000001E-4,2.8400000000000001E-3,4.8999999999999998E-3]
["0571-pro&Elektriciteit, hernieuwbaar, van windturbines op zee, bij consument, per kWh (o.b.v. zie toelichting in proces), (01-2028)","Elektriciteit, Wind Zee","Combined","kWh","Gebruiksprofiel","Export 14-02-2025","3",{"$f":"SUM('RWS Dataset V1'!$J61:$T61*TRANSPOSE('Weighting Set'!$F$2:$F$12))","v":5.5731240099999996E-3},{"$f":"SUM('RWS Dataset V1'!$U61:$AM61*TRANSPOSE('Weighting Set'!$F$13:$F$31))","v":2.9236630255999999E-3},2.2500000000000001E-6,6.0900000000000003E-5,1.29E-2,6.6699999999999997E-10,9.02E-6,1.2300000000000001E-4,9.7699999999999996E-6,4.4400000000000002E-2,5.8100000000000003E-4,1.71,2.2599999999999999E-3,1.34E-2,1.34E-2,3.9700000000000003E-5,1.0699999999999999E-5,7.5699999999999997E-10,1.4300000000000001E-4,1.0499999999999999E-6,1.5699999999999999E-5,1.74E-4,5.1700000000000003E-5,2.2500000000000001E-6,0.11700000000000001,4.7099999999999998E-3,9.9200000000000009E-10,3.4499999999999998E-4,1.07,8.3700000000000006E-11,1.8E-9,7.4200000000000002E-2,4.07,0,4.07,0.125,0,0.125,8.5099999999999998E-4,0,0,1.3200000000000001E-4,9.7900000000000007E-7,1.9400000000000001E-2,3.58E-7,0,1.7899999999999999E-3,2.7099999999999997E-4,3.2000000000000002E-3,5.4999999999999997E-3]
["0572-pro&Elektriciteit, hernieuwbaar, van windturbines op land, bij consument, per kWh (o.b.v. zie toelichting in proces), (01-2028)","Elektriciteit, Wind Land","Combined","kWh","Gebruiksprofiel","Export 14-02-2025","3",{"$f":"SUM('RWS Dataset V1'!$J62:$T62*TRANSPOSE('Weighting Set'!$F$2:$F$12))","v":5.8270206999999994E-3},{"$f":"SUM('RWS Dataset V1'!$U62:$AM62*TRANSPOSE('Weighting Set'!$F$13:$F$31))","v":3.6012196080000007E-3},2.1500000000000002E-6,8.8900000000000006E-5,1.55E-2,1.09E-9,1.11E-5,1.34E-4,1.2099999999999999E-5,4.4600000000000001E-2,8.0400000000000003E-4,1.87,2.4199999999999998E-3,1.61E-2,1.6E-2,5.63E-5,1.6799999999999998E-5,1.2400000000000001E-9,1.5799999999999999E-4,1.26E-6,1.9199999999999999E-5,2.14E-4,6.4800000000000003E-5,2.1500000000000002E-6,0.17399999999999999,4.8700000000000002E-3,1.2400000000000001E-9,6.2500000000000001E-4,1.18,1.01E-10,2.4699999999999999E-9,0.34300000000000003,4.07,0,4.07,0.186,0,0.186,6.6100000000000002E-4,0,0,1.5100000000000001E-4,1.1400000000000001E-6,1.78E-2,6.2500000000000005E-7,0,3.6099999999999999E-3,3.7399999999999998E-4,3.5400000000000002E-3,6.0899999999999999E-3]
["*RWS Kapitaalgoederen - Baggeren Zoet (Diesel)","Kapitaalgoederen - Schip (Zoet)","Combined","ton","Kapitaalgoederen","Export 14-02-2025","3",{"$f":"SUM('RWS Dataset V1'!$J63:$T63*TRANSPOSE('Weighting Set'!$F$2:$F$12))","v":46.537591046054004},{"$f":"SUM('RWS Dataset V1'!$U63:$AM63*TRANSPOSE('Weighting Set'!$F$13:$F$31))","v":46.687751571047208},3.5445403999999998E-3,1.3447796999999999,177.09846999999999,3.0296452999999998E-5,0.21243043,0.85912506,0.12550507999999999,344.39080999999999,3.8620936000000001,9181.5539000000008,7.4321476000000004,231.21172999999999,229.85981000000001,0.77407972000000003,0.57784473999999997,1.5822165999999999E-5,1.1338499,2.0256105E-2,0.24815034999999999,2.5073989999999999,1.2087196,2.2475392999999999E-3,2736.4659999999999,109.37609999999999,1.7366237000000001E-5,4.7145317000000002,2185.4575,2.5619084E-6,1.1069837999999999E-5,2662.2399,0,0,217.08775,0,0,2736.9893000000002,0,0,0,3.3893450000000001,1.2862292000000001E-2,113.35034,3.1476946000000001E-3,0,0,0,0,0]
["*RWS Kapitaalgoederen - Baggeren Zout (MGO)","Kapitaalgoederen - Schip (Zout)","Combined","ton","Kapitaalgoederen","Export 14-02-2025","3",{"$f":"SUM('RWS Dataset V1'!$J64:$T64*TRANSPOSE('Weighting Set'!$F$2:$F$12))","v":10.524950502395999},{"$f":"SUM('RWS Dataset V1'!$U64:$AM64*TRANSPOSE('Weighting Set'!$F$13:$F$31))","v":10.59941191807272},5.7826366000000001E-3,0.36387497000000002,44.441505999999997,1.9929707999999998E-5,8.0679574000000004E-2,0.22131414999999999,3.4368178999999999E-2,73.003292999999999,0.79774856999999999,2119.4398000000001,1.3504988,54.348970999999999,54.039332999999999,0.17770250000000001,0.13193535000000001,1.3444524E-5,0.25534498,3.9387485999999999E-3,5.2199490000000001E-2,0.53242851999999996,0.31828088999999998,5.9344094000000002E-4,739.84604000000002,21.007128000000002,3.5694258000000001E-6,1.1787000999999999,541.94389000000001,4.6102844E-7,2.1600691E-6,1961.1960999999999,0,0,49.334563000000003,0,0,739.94361000000004,0,0,0,0.66249347000000003,3.9427129999999996E-3,25.658988999999998,7.8998757999999998E-4,0,0,0,0,0]
["*RWS Kapitaalgoederen aandrijving elektrisch schip (100 kW) (inlusief EOL en reD)","Kapitaalgoederen - Motor, Elek.","Combined","p","Kapitaalgoederen","Export 14-02-2025","3",{"$f":"SUM('RWS Dataset V1'!$J65:$T65*TRANSPOSE('Weighting Set'!$F$2:$F$12))","v":391.91116555254001},{"$f":"SUM('RWS Dataset V1'!$U65:$AM65*TRANSPOSE('Weighting Set'!$F$13:$F$31))","v":290.05105175472085},0.46914231000000001,8.2887675999999999,1227.4611,9.3738898000000006E-5,1.1181509000000001,11.350383000000001,1.3322495999999999,2648.8658,211.09085999999999,239354.92,13.996880000000001,1107.8638000000001,1104.0471,1.5372633,2.2794196000000002,3.8586627000000001E-5,8.9128124,0.14950615,2.8311820000000001,14.772066000000001,4.9991325,0.24724931999999999,12899.144,317.23207000000002,1.9961196E-4,67.694801999999996,28282.463,4.5157216000000002E-6,6.0384765999999999E-5,6160.2335000000003,0,0,1474.3683000000001,0,0,12899.421,0,0,0,10.586053,0.43431827000000001,169.59354999999999,7.3964557E-2,0,0,0,0,0]
["*RWS Kapitaalgoederen Transport Binnenvaart (o.b.v. Transport, freight, inland waterways, barge {RER}| transport, freight, inland waterways, barge | Cut-off, U) (inclusief EOL en reD)","Transport Binnevaart","Combined","tkm","Kapitaalgoederen","Export 14-02-2025",{"$f":"\"3\"","v":"3"},{"$f":"SUM('RWS Dataset V1'!$J66:$T66*TRANSPOSE('Weighting Set'!$F$2:$F$12))","v":1.3848897646765999E-3},{"$f":"SUM('RWS Dataset V1'!$U66:$AM66*TRANSPOSE('Weighting Set'!$F$13:$F$31))","v":2.0083623986885163E-3},3.6717064000000002E-7,6.1782203000000001E-5,1.1237986E-2,7.9666513999999996E-10,1.4601822999999999E-5,4.5377005999999999E-5,6.4214492999999997E-6,5.6647245999999997E-3,1.1343943E-4,0.27779573000000002,5.8499689000000002E-5,1.1446545000000001E-2,1.1253525E-2,9.2590741E-5,1.0042882E-4,1.3557358999999999E-10,5.1827377000000002E-5,4.7754853000000005E-7,1.1715064000000001E-5,1.2866118000000001E-4,6.0983037000000003E-5,5.2111062000000002E-8,0.12633440000000001,3.2657691E-3,5.9726373000000003E-10,5.3089863E-4,5.3092729999999998E-2,2.3430316999999999E-11,1.4513566E-10,0.38696951000000002,0,0,1.4691855E-2,0,0,0.12639634,0,0,0,1.1512956E-4,5.0276062999999999E-7,2.7640827E-3,4.1361429000000001E-7,0,0,0,0,0]
["*RWS Kapitaalgoederen Transport Zout (o.b.v. Transport, freight, sea, bulk carrier for dry goods {GLO}| transport, freight, sea, bulk carrier for dry goods | Cut-off, U) (inlcuisef reD)","Transport Zeevaart","Combined","tkm","Kapitaalgoederen","Export 14-02-2025","3",{"$f":"SUM('RWS Dataset V1'!$J67:$T67*TRANSPOSE('Weighting Set'!$F$2:$F$12))","v":1.1519441428522999E-4},{"$f":"SUM('RWS Dataset V1'!$U67:$AM67*TRANSPOSE('Weighting Set'!$F$13:$F$31))","v":8.8661372529878795E-5},5.6758627000000002E-8,2.4158101E-6,3.6105190999999998E-4,2.1273896999999999E-11,1.5281344000000001E-6,1.7004735000000001E-6,2.1507718999999999E-7,8.8978611000000004E-4,1.1776138E-5,3.9942329999999998E-2,8.7240836999999998E-6,4.0504997999999998E-4,4.0076830999999998E-4,-2.0220764E-6,6.3037422000000001E-6,5.4457931000000001E-12,2.0083731999999999E-6,2.8064305E-8,3.9602459E-7,4.0607039000000001E-6,4.1532363000000003E-6,7.6292600000000002E-9,4.6353493999999997E-3,1.6773214000000001E-4,4.4130675000000002E-11,1.1173897999999999E-5,3.8016863E-3,2.7663342E-12,1.4306728E-11,2.0883674E-3,0,0,5.4721407999999997E-4,0,0,4.6398133999999997E-3,0,0,0,5.2450953000000003E-6,2.5373716999999999E-8,2.2110719000000001E-4,7.5006983000000002E-9,0,0,0,0,0]
["*RWS Kapitaalgoederen Verbrandingsmotor (1000 kg o.b.v. Marine engine {GLO}| marine engine construction | Cut-off, U) (inlcusief reD)","Kapitaalgoederen - Motor, Brandstof.","Combined","ton","Kapitaalgoederen","Export 14-02-2025","3",{"$f":"SUM('RWS Dataset V1'!$J68:$T68*TRANSPOSE('Weighting Set'!$F$2:$F$12))","v":1485.6374148020598},{"$f":"SUM('RWS Dataset V1'!$U68:$AM68*TRANSPOSE('Weighting Set'!$F$13:$F$31))","v":776.66812106700013},8.2359300999999996E-2,24.619657,3527.6215999999999,2.4086613E-4,2.4062535999999999,15.080394,2.0540896000000002,13277.255999999999,73.471687000000003,172818.15,120.61485,4016.5583999999999,3852.4477000000002,159.33273,4.7779518999999997,5.2099613000000001E-5,18.570739,0.23977018999999999,3.7250123999999998,39.317332999999998,14.057544999999999,4.2001964000000003E-2,46521.016000000003,1012.8769,2.7282987999999999E-4,113.67461,25841.27,3.4187318E-5,2.7833346999999999E-4,17732.830000000002,0,0,5581.8950999999997,0,0,46521.398000000001,0,0,0,34.646925000000003,0.48253765999999998,1839.4918,7.6692387000000001E-2,0,0,0,0,0]
["Accu, Lithium-ion, per kWh accucapaciteit (o.b.v. 5kg per kWh)","Accu","Combined","kWh","Kapitaalgoederen","Export 14-02-2025","3",{"$f":"SUM('RWS Dataset V1'!$J69:$T69*TRANSPOSE('Weighting Set'!$F$2:$F$12))","v":9.3542133550180004},{"$f":"SUM('RWS Dataset V1'!$U69:$AM69*TRANSPOSE('Weighting Set'!$F$13:$F$31))","v":4.5941082469179451},4.3474743999999997E-3,0.16923669,22.494724999999999,2.0797437999999998E-6,2.600502E-2,0.37131154999999999,2.7106986E-2,64.467201000000003,1.3354515,5669.5487999999996,0.18926029,23.927413999999999,23.87435,1.2924738E-2,4.0139020999999997E-2,7.8305419000000002E-7,0.15176802,1.5158064999999999E-3,2.6899359000000001E-2,0.26293144000000002,9.2381065999999998E-2,5.9792313999999997E-4,343.63128999999998,6.3264512000000002,2.3984923E-6,0.75737522000000002,126.337175,1.8335757999999999E-8,-5.6395566000000001E-7,71.115076000000002,0,0,26.977126999999999,0,0,343.63168000000002,0,0,0,0.20266543000000001,4.2562175999999998E-3,3.8759260000000002,4.9291007999999995E-4,0,0,0,0,0]
["Brandstofcel Waterstof, per kW machinevermogen","Brandstofcel","Combined","p","Kapitaalgoederen","Export 14-02-2025","3",{"$f":"SUM('RWS Dataset V1'!$J70:$T70*TRANSPOSE('Weighting Set'!$F$2:$F$12))","v":12.338505011540798},{"$f":"SUM('RWS Dataset V1'!$U70:$AM70*TRANSPOSE('Weighting Set'!$F$13:$F$31))","v":8.095602542103201},5.7899112999999997E-4,0.20642393000000001,50.261443,2.1384158999999999E-4,2.9947036999999999E-2,0.32332731999999997,2.5227968999999999E-2,88.952468999999994,1.0525496999999999,1645.6641,6.2949341000000006E-2,51.685346000000003,51.627284000000003,2.0817275999999999E-2,3.7245352000000002E-2,1.8281082E-4,0.41602119999999998,1.3001468999999999E-3,4.4226551000000003E-2,0.58428970999999996,0.17199495000000001,4.0306549000000002E-4,372.25439999999998,6.5013680999999997,1.7083979E-6,0.82501716999999997,407.63983999999999,3.8340225E-8,8.4714980000000003E-7,99.746073999999993,0,0,27.845514999999999,0,0,372.25351000000001,0,0,0,0.20532755999999999,1.1769916E-3,3.7989937,5.3583362999999997E-4,0,0,0,0,0]
["*RWS Energiedrager Ammoniak (A4)","Opslag Brandstof","Combined","ton","Energiedragers",null,{"$f":"\"3\"","v":"3"},{"$f":"SUM('RWS Dataset V1'!$J71:$T71*TRANSPOSE('Weighting Set'!$F$2:$F$12))","v":2.0774300449486001},{"$f":"SUM('RWS Dataset V1'!$U71:$AM71*TRANSPOSE('Weighting Set'!$F$13:$F$31))","v":4.5155585870163124},2.3915401000000001E-4,0.20640722,25.934486,3.9489288999999998E-6,1.0327131999999999E-2,6.1682262000000002E-2,1.1694761E-2,3.6802196,0.13461041000000001,382.65100000000001,2.2741998999999999E-2,27.607332,27.563761,3.7534935999999998E-2,6.0356055999999996E-3,8.6926241E-7,6.9316416000000006E-2,2.0727441000000001E-4,2.5755436E-2,0.27823505999999998,0.11267452999999999,3.0048342E-5,402.83839,1.6568152,1.3714396999999999E-6,0.17988336999999999,107.4606,6.5827189999999999E-9,1.1863035E-7,238.47665000000001,0,0,7.4134000999999996,0,0,402.84159,0,0,0,5.7170053999999998E-2,2.1204468000000001E-3,20.186592999999998,1.335606E-4,0,0,0,0,0]
["Niet van Toepassing (Brandstof)","Niet van Toepassing (Brandstof)","Combined","ton","Other","Export 14-02-2025","3",{"$f":"SUM('RWS Dataset V1'!$J72:$T72*TRANSPOSE('Weighting Set'!$F$2:$F$12))","v":0},{"$f":"SUM('RWS Dataset V1'!$U72:$AM72*TRANSPOSE('Weighting Set'!$F$13:$F$31))","v":0},0,0,0,0,0,0,0,0,0,0,0,0,0,0,0,0,0,0,0,0,0,0,0,0,0,0,0,0,0,0,0,0,0,0,0,0,0,0,0,0,0,0,0,0,0,0,0,0]
["Niet van Toepassing (Elektrisch)","Niet van Toepassing (Elektrisch)","Combined","kWh","Other","Export 14-02-2025","3",{"$f":"SUM('RWS Dataset V1'!$J73:$T73*TRANSPOSE('Weighting Set'!$F$2:$F$12))","v":0},{"$f":"SUM('RWS Dataset V1'!$U73:$AM73*TRANSPOSE('Weighting Set'!$F$13:$F$31))","v":0},0,0,0,0,0,0,0,0,0,0,0,0,0,0,0,0,0,0,0,0,0,0,0,0,0,0,0,0,0,0,0,0,0,0,0,0,0,0,0,0,0,0,0,0,0,0,0,0]
["Test Placeholder","Test Placeholder","Combined","ton","Other","Export 14-02-2025","3",{"$f":"SUM('RWS Dataset V1'!$J74:$T74*TRANSPOSE('Weighting Set'!$F$2:$F$12))","v":0},{"$f":"SUM('RWS Dataset V1'!$U74:$AM74*TRANSPOSE('Weighting Set'!$F$13:$F$31))","v":0},0,0,0,0,0,0,0,0,0,0,0,0,0,0,0,0,0,0,0,0,0,0,0,0,0,0,0,0,0,0,0,0,0,0,0,0,0,0,0,0,0,0,0,0,0,0,0,0]
["E-methanol (o.b.v. afgevangen biogene CO2) A1-A3","E-Methanol (Bio)","Combined","ton","Energiedragers",null,{"$f":"\"3\"","v":"3"},{"$f":"SUM('RWS Dataset V1'!$J75:$T75*TRANSPOSE('Weighting Set'!$F$2:$F$12))","v":71.134626322480003},{"$f":"SUM('RWS Dataset V1'!$U75:$AM75*TRANSPOSE('Weighting Set'!$F$13:$F$31))","v":-110.62406814872004},{"$f":"J21","v":2.6530290000000002E-2},{"$f":"K21","v":0.83382285},176.74884,1.4800436E-5,0.14863768999999999,1.7891054,0.45882603,516.76981999999998,8.6122858999999998,22290.073,26.321548,{"$f":"SUM(RWS_[[#This Row],[GWP-F]:[GWP-L]])","v":-1169.3198319099999},183.33927,{"$f":"W21-1371.11","v":-1353.0011339999999},0.34203209000000001,1.2102478E-5,2.1862701000000002,9.7030137000000002E-2,0.33252948999999998,3.9661482000000001,0.9796165,2.5677215E-2,1819.6864,177.94882999999999,1.9298958000000001E-5,8.0701608999999994,16146.395,1.0862535E-6,2.5889496999999998E-5,7305.4441999999999,45512.911999999997,0,45558.703999999998,1939.3532,0,1944.4244000000001,8.1517593999999995,0,0,4.0513582000000001,1.8230994E-2,277.71963,7.7280001000000001E-3,0,32.592568,3.6830973999999999,37.738387000000003,64.906730999999994]
["E-methanol (o.b.v. afgevangen biogene CO2) Verbrandingsemissies","Energiedrager Emissies","Combined","ton","Gebruiksprofiel",null,{"$f":"\"3\"","v":"3"},{"$f":"SUM('RWS Dataset V1'!$J76:$T76*TRANSPOSE('Weighting Set'!$F$2:$F$12))","v":0},{"$f":"SUM('RWS Dataset V1'!$U76:$AM76*TRANSPOSE('Weighting Set'!$F$13:$F$31))","v":159.04875999999999},{"$f":"J54","v":0},0,0,0,0,0,0,0,0,0,0,1371.11,0,1371.11,0,0,0,0,0,0,0,0,0,0,0,0,0,0,0,0,0,0,0,0,0,0,0,0,0,0,0,0,0,0,0,0,0,0]

{"sheet":"Weighting Set","index":16,"n_rows":52,"n_cols":26,"rows_kept":52,"cut":false,"hidden":true,"merged":[]}
["Impact Category","Code","Abbreviation","Set","Weighting Unit","Weighting (€)"]
["001. abiotic depletion, non fuel (AD)",1,"ADPE","A1","kg Sb eq",0.16,{"$nulls":19},"Abbreviation"]
["002. abiotic depletion, fuel (AD)",2,"ADPF","A1","kg Sb eq",0.16,{"$nulls":19},"ECI-A1"]
["004. global warming (GWP)",4,"GWP1","A1","kg CO2 eq",0.05,{"$nulls":19},"ECI-A2"]
["005. ozone layer depletion (ODP)",5,"ODP1","A1","kg CFC-11 eq",30,{"$nulls":19},"ADPE"]
["006. photochemical oxidation (POCP)",6,"POCP","A1","kg C2H4",2,{"$nulls":19},"ADPF"]
["007. acidification (AP)",7,"AP","A1","kg SO2 eq",4,{"$nulls":19},"GWP1"]
["008. eutrophication (EP)",8,"EP","A1","kg PO4--- eq",9,{"$nulls":19},"ODP1"]
["009. human toxicity (HT)",9,"HTP","A1","kg 1,4-DB eq",0.09,{"$nulls":19},"POCP"]
["010. Ecotoxicity, fresh water (FAETP)",10,"FAETP","A1","kg 1,4-DB eq",0.03,{"$nulls":19},"AP"]
["012. Ecotoxcity, marine water (MAETP)",12,"MAETP","A1","kg 1,4-DB eq",1E-4,{"$nulls":19},"EP"]
["014. Ecotoxicity, terrestric (TETP)",14,"TETP","A1","kg 1,4-DB eq",0.06,{"$nulls":19},"HTP"]
["051. Climate change",51,"GWP2","A2","kg CO2 eq",0,{"$nulls":19},"FAETP"]
["052. Climate change - Fossil",52,"GWP-F","A2","kg CO2 eq",0.11600000000000001,{"$nulls":19},"MAETP"]
["053. Climate change - Biogenic",53,"GWP-B","A2","kg CO2 eq",0.11600000000000001,{"$nulls":19},"TETP"]
["054. Climate change - Land use and LU ch",54,"GWP-L","A2","kg CO2 eq",0.11600000000000001,{"$nulls":19},"GWP2"]
["055. Ozone depletion",55,"ODP2","A2","kg CFC11 eq",32,{"$nulls":19},"GWP-F"]
["056. Acidification",56,"AP2","A2","mol H+ eq",0.39,{"$nulls":19},"GWP-B"]
["057. Eutrophication, freshwater",57,"EP-FW","A2","kg P eq",1.96,{"$nulls":19},"GWP-L"]
["058. Eutrophication, marine",58,"EP-M","A2","kg N eq",3.28,{"$nulls":19},"ODP2"]
["059. Eutrophication, terrestrial",59,"EP-T","A2","mol N eq",0.36,{"$nulls":19},"AP2"]
["060. Photochemical ozone formation",60,"POCP2","A2","kg NMVOC eq",1.22,{"$nulls":19},"EP-FW"]
["061. Resource use, minerals and metals",61,"ADP-MM","A2","kg Sb eq",0.3,{"$nulls":19},"EP-M"]
["062. Resource use, fossils",62,"ADP-F","A2","MJ",3.3E-4,{"$nulls":19},"EP-T"]
["063. Water use",63,"WDP","A2","m3 depriv.",5.0600000000000003E-3,{"$nulls":19},"POCP2"]
["064. Particulate matter",64,"PM","A2","disease inc.",549750,{"$nulls":19},"ADP-MM"]
["065. Ionising radiation",65,"IR","A2","kBq U-235 eq",4.9000000000000002E-2,{"$nulls":19},"ADP-F"]
["066. Ecotoxicity, freshwater",66,"ETP-FW","A2","CTUe",1.2999999999999999E-4,{"$nulls":19},"WDP"]
["067. Human toxicity, cancer",67,"HTP-C","A2","CTUh",1096368,{"$nulls":19},"PM"]
["068. Human toxicity, non-cancer",68,"HTP-NC","A2","CTUh",147588,{"$nulls":19},"IR"]
["069. Land use",69,"SQP","A2","Pt",8.7000000000000001E-5,{"$nulls":19},"ETP-FW"]
["111. Energy, primary, renewable, excludi",111,"PERE","PA","MJ",0,{"$nulls":19},"HTP-C"]
["113. Energy, primary, renewable, materia",113,"PERM","PA","MJ",0,{"$nulls":19},"HTP-NC"]
["101. Energy, primary, renewable (MJ)",101,"PERT","PA","MJ",0,{"$nulls":19},"SQP"]
["112. Energy, primary, non-renewable, exc",112,"PENRE","PA","MJ",0,{"$nulls":19},"PERE"]
["114. Energy, primary, non-renewable, mat",114,"PENRM","PA","MJ",0,{"$nulls":19},"PERM"]
["102. Energy, primary, non-renewable (MJ)",102,"PENRT","PA","MJ",0,{"$nulls":19},"PERT"]
["108. Secondary material (kg)",108,"SM","PA","kg",0,{"$nulls":19},"PENRE"]
["109. Secondary fuel, renewable (kg)",109,"SF-R","PA","MJ",0,{"$nulls":19},"PENRM"]
["110. Secondary fuel, non-renewable (kg)",110,"SF-NR","PA","MJ",0,{"$nulls":19},"PENRT"]
["104. Water, fresh water use (m3)",104,"FW","PA","m3",0,{"$nulls":19},"SM"]
["106. Waste, hazardous (kg)",106,"HWD","PA","kg",0,{"$nulls":19},"SF-R"]
["105. Waste, non hazardous (kg)",105,"NHWD","PA","kg",0,{"$nulls":19},"SF-NR"]
["107. Waste, radioactive (kg)",107,"RWD","PA","kg",0,{"$nulls":19},"FW"]
["120. Components for re-use (kg)",120,"CRU","PA","kg",0,{"$nulls":19},"HWD"]
["121. Materials for recycling (kg)",121,"MFR","PA","kg",0,{"$nulls":19},"NHWD"]
["122. Materials for energy recovery (kg)",122,"MER","PA","kg",0,{"$nulls":19},"RWD"]
["123. Exported energy, electric (MJ)",123,"EE-E","PA","MJ",0,{"$nulls":19},"CRU"]
["124. Exported energy, thermal (MJ)",124,"EE-T","PA","MJ",0,{"$nulls":19},"MFR"]
[{"$nulls":25},"MER"]
[{"$nulls":25},"EE-E"]
[{"$nulls":25},"EE-T"]